Workbook

Sheet INSEGNANTI
AF1: g
B2: =ORARIO_GENERALE!D3 -> #REF! | C2: LUN | D2: MAR | E2: MER | F2: GIO | G2: VEN | I2: =ORARIO_GENERALE!E3 -> #REF! | J2: LUN | K2: MAR | L2: MER | M2: GIO | N2: VEN | P2: =ORARIO_GENERALE!L3 -> #REF! | Q2: LUN | R2: MAR | S2: MER | T2: GIO | U2: VEN | W2: =ORARIO_GENERALE!F3 -> #REF! | X2: LUN | Y2: MAR | Z2: MER | AA2: GIO | AB2: VEN | AD2: =ORARIO_GENERALE!M3 -> #REF! | AE2: LUN | AF2: MAR | AG2: MER | AH2: GIO | AI2: VEN | AK2: =ORARIO_GENERALE!G3 -> #REF! | AL2: LUN | AM2: MAR | AN2: MER | AO2: GIO | AP2: VEN | AR2: =ORARIO_GENERALE!H3 -> #REF! | AS2: LUN | AT2: MAR | AU2: MER | AV2: GIO | AW2: VEN | AY2: =ORARIO_GENERALE!I3 -> #REF! | AZ2: LUN | BA2: MAR | BB2: MER | BC2: GIO | BD2: VEN | BF2: =ORARIO_GENERALE!K3 -> #REF! | BG2: LUN | BH2: MAR | BI2: MER | BJ2: GIO | BK2: VEN | BM2: =ORARIO_GENERALE!N3 -> #REF! | BN2: LUN | BO2: MAR | BP2: MER | BQ2: GIO | BR2: VEN | BT2: =ORARIO_GENERALE!O3 -> #REF! | BU2: LUN | BV2: MAR | BW2: MER | BX2: GIO | BY2: VEN | CA2: =ORARIO_GENERALE!P3 -> #REF! | CB2: LUN | CC2: MAR | CD2: MER | CE2: GIO | CF2: VEN | CH2: =ORARIO_GENERALE!Q3 -> #REF! | CI2: LUN | CJ2: MAR | CK2: MER | CL2: GIO | CM2: VEN
B3: 08:30-09:30 | C3: =ORARIO_GENERALE!D4 -> #REF! | D3: =ORARIO_GENERALE!D17 -> #REF! | E3: =ORARIO_GENERALE!D30 -> #REF! | F3: =ORARIO_GENERALE!D43 -> #REF! | G3: =ORARIO_GENERALE!D56 -> #REF! | I3: 08:30-09:30 | J3: =ORARIO_GENERALE!E4 -> #REF! | K3: =ORARIO_GENERALE!E17 -> #REF! | L3: =ORARIO_GENERALE!E30 -> #REF! | M3: =ORARIO_GENERALE!E43 -> #REF! | N3: =ORARIO_GENERALE!E56 -> #REF! | P3: 08:30-09:30 | Q3: =ORARIO_GENERALE!L4 -> #REF! | R3: =ORARIO_GENERALE!L17 -> #REF! | S3: =ORARIO_GENERALE!L30 -> #REF! | T3: =ORARIO_GENERALE!L43 -> #REF! | U3: =ORARIO_GENERALE!L56 -> #REF! | W3: 08:30-09:30 | X3: =ORARIO_GENERALE!F4 -> #REF! | Y3: =ORARIO_GENERALE!F17 -> #REF! | Z3: =ORARIO_GENERALE!F30 -> #REF! | AA3: =ORARIO_GENERALE!F43 -> #REF! | AB3: =ORARIO_GENERALE!F56 -> #REF! | AD3: 08:30-09:30 | AE3: =ORARIO_GENERALE!M4 -> #REF! | AF3: =ORARIO_GENERALE!M17 -> #REF! | AG3: =ORARIO_GENERALE!M30 -> #REF! | AH3: =ORARIO_GENERALE!M43 -> #REF! | AI3: =ORARIO_GENERALE!M56 -> #REF! | AK3: 08:30-09:30 | AL3: =ORARIO_GENERALE!G4 -> #REF! | AM3: =ORARIO_GENERALE!G17 -> #REF! | AN3: =ORARIO_GENERALE!G30 -> #REF! | AO3: =ORARIO_GENERALE!G43 -> #REF! | AP3: =ORARIO_GENERALE!G56 -> #REF! | AR3: 08:30-09:30 | AS3: =ORARIO_GENERALE!H4 -> #REF! | AT3: =ORARIO_GENERALE!H17 -> #REF! | AU3: =ORARIO_GENERALE!H30 -> #REF! | AV3: =ORARIO_GENERALE!H43 -> #REF! | AW3: =ORARIO_GENERALE!H56 -> #REF! | AY3: 08:30-09:30 | AZ3: =ORARIO_GENERALE!I4 -> #REF! | BA3: =ORARIO_GENERALE!I17 -> #REF! | BB3: =ORARIO_GENERALE!I30 -> #REF! | BC3: =ORARIO_GENERALE!I43 -> #REF! | BD3: =ORARIO_GENERALE!I56 -> #REF! | BF3: 08:30-09:30 | BG3: =ORARIO_GENERALE!K4 -> #REF! | BH3: =ORARIO_GENERALE!K17 -> #REF! | BI3: =ORARIO_GENERALE!K30 -> #REF! | BJ3: =ORARIO_GENERALE!K43 -> #REF! | BK3: =ORARIO_GENERALE!K56 -> #REF! | BM3: 08:30-09:30 | BN3: =ORARIO_GENERALE!N4 -> #REF! | BO3: =ORARIO_GENERALE!N17 -> #REF! | BP3: =ORARIO_GENERALE!N30 -> #REF! | BQ3: =ORARIO_GENERALE!N43 -> #REF! | BR3: =ORARIO_GENERALE!N56 -> #REF! | BT3: 08:30-09:30 | BU3: =ORARIO_GENERALE!O4 -> #REF! | BV3: =ORARIO_GENERALE!O17 -> #REF! | BW3: =ORARIO_GENERALE!O30 -> #REF! | BX3: =ORARIO_GENERALE!O43 -> #REF! | BY3: =ORARIO_GENERALE!O56 -> #REF! | CA3: 08:30-09:30 | CB3: =ORARIO_GENERALE!P4 -> #REF! | CC3: =ORARIO_GENERALE!P17 -> #REF! | CD3: =ORARIO_GENERALE!P30 -> #REF! | CE3: =ORARIO_GENERALE!P43 -> #REF! | CF3: =ORARIO_GENERALE!P56 -> #REF! | CH3: 08:30-09:30 | CI3: =ORARIO_GENERALE!Q4 -> #REF! | CJ3: =ORARIO_GENERALE!Q17 -> #REF! | CK3: =ORARIO_GENERALE!Q30 -> #REF! | CL3: =ORARIO_GENERALE!Q43 -> #REF! | CM3: =ORARIO_GENERALE!Q56 -> #REF!
B4: 09:30-10:30 | C4: =ORARIO_GENERALE!D5 -> #REF! | D4: =ORARIO_GENERALE!D18 -> #REF! | E4: =ORARIO_GENERALE!D31 -> #REF! | F4: =ORARIO_GENERALE!D44 -> #REF! | G4: =ORARIO_GENERALE!D57 -> #REF! | I4: 09:30-10:30 | J4: =ORARIO_GENERALE!E5 -> #REF! | K4: =ORARIO_GENERALE!E18 -> #REF! | L4: =ORARIO_GENERALE!E31 -> #REF! | M4: =ORARIO_GENERALE!E44 -> #REF! | N4: =ORARIO_GENERALE!E57 -> #REF! | P4: 09:30-10:30 | Q4: =ORARIO_GENERALE!L5 -> #REF! | R4: =#REF! -> #REF! | S4: =ORARIO_GENERALE!L31 -> #REF! | T4: =ORARIO_GENERALE!L44 -> #REF! | U4: =ORARIO_GENERALE!L57 -> #REF! | W4: 09:30-10:30 | X4: =ORARIO_GENERALE!F5 -> #REF! | Y4: =ORARIO_GENERALE!F18 -> #REF! | Z4: =ORARIO_GENERALE!F31 -> #REF! | AA4: =ORARIO_GENERALE!F44 -> #REF! | AB4: =ORARIO_GENERALE!F57 -> #REF! | AD4: 09:30-10:30 | AE4: =ORARIO_GENERALE!M5 -> #REF! | AF4: =ORARIO_GENERALE!M18 -> #REF! | AG4: =ORARIO_GENERALE!M31 -> #REF! | AH4: =ORARIO_GENERALE!M44 -> #REF! | AI4: =ORARIO_GENERALE!M57 -> #REF! | AK4: 09:30-10:30 | AL4: =ORARIO_GENERALE!G5 -> #REF! | AM4: =ORARIO_GENERALE!G18 -> #REF! | AN4: =ORARIO_GENERALE!G31 -> #REF! | AO4: =ORARIO_GENERALE!G44 -> #REF! | AP4: =ORARIO_GENERALE!G57 -> #REF! | AR4: 09:30-10:30 | AS4: =ORARIO_GENERALE!H5 -> #REF! | AT4: =ORARIO_GENERALE!H18 -> #REF! | AU4: =ORARIO_GENERALE!H31 -> #REF! | AV4: =ORARIO_GENERALE!H44 -> #REF! | AW4: =ORARIO_GENERALE!H57 -> #REF! | AY4: 09:30-10:30 | AZ4: =ORARIO_GENERALE!I5 -> #REF! | BA4: =ORARIO_GENERALE!I18 -> #REF! | BB4: =ORARIO_GENERALE!I31 -> #REF! | BC4: =ORARIO_GENERALE!I44 -> #REF! | BD4: =ORARIO_GENERALE!I57 -> #REF! | BF4: 09:30-10:30 | BG4: =ORARIO_GENERALE!K5 -> #REF! | BH4: =ORARIO_GENERALE!K18 -> #REF! | BI4: =ORARIO_GENERALE!K31 -> #REF! | BJ4: =ORARIO_GENERALE!K44 -> #REF! | BK4: =ORARIO_GENERALE!K57 -> #REF! | BM4: 09:30-10:30 | BN4: =ORARIO_GENERALE!N5 -> #REF! | BO4: =ORARIO_GENERALE!N18 -> #REF! | BP4: =ORARIO_GENERALE!N31 -> #REF! | BQ4: =ORARIO_GENERALE!N44 -> #REF! | BR4: =ORARIO_GENERALE!N57 -> #REF! | BT4: 09:30-10:30 | BU4: =ORARIO_GENERALE!O5 -> #REF! | BV4: =ORARIO_GENERALE!O18 -> #REF! | BW4: =ORARIO_GENERALE!O31 -> #REF! | BX4: =ORARIO_GENERALE!O44 -> #REF! | BY4: =ORARIO_GENERALE!O57 -> #REF! | CA4: 09:30-10:30 | CB4: =ORARIO_GENERALE!P5 -> #REF! | CC4: =ORARIO_GENERALE!P18 -> #REF! | CD4: =ORARIO_GENERALE!P31 -> #REF! | CE4: =ORARIO_GENERALE!P44 -> #REF! | CF4: =ORARIO_GENERALE!P57 -> #REF! | CH4: 09:30-10:30 | CI4: =ORARIO_GENERALE!Q5 -> #REF! | CJ4: =ORARIO_GENERALE!Q18 -> #REF! | CK4: =ORARIO_GENERALE!Q31 -> #REF! | CL4: =ORARIO_GENERALE!Q44 -> #REF! | CM4: =ORARIO_GENERALE!Q57 -> #REF!
B5: 10:30-11:30 | C5: =ORARIO_GENERALE!D6 -> #REF! | D5: =ORARIO_GENERALE!D19 -> #REF! | E5: =ORARIO_GENERALE!D32 -> #REF! | F5: =ORARIO_GENERALE!D45 -> #REF! | G5: =ORARIO_GENERALE!D58 -> #REF! | I5: 10:30-11:30 | J5: =ORARIO_GENERALE!E6 -> #REF! | K5: =ORARIO_GENERALE!E19 -> #REF! | L5: =ORARIO_GENERALE!E32 -> #REF! | M5: =ORARIO_GENERALE!E45 -> #REF! | N5: =ORARIO_GENERALE!E58 -> #REF! | P5: 10:30-11:30 | Q5: =ORARIO_GENERALE!L6 -> #REF! | R5: =#REF! -> #REF! | S5: =ORARIO_GENERALE!L32 -> #REF! | T5: =ORARIO_GENERALE!L45 -> #REF! | U5: =ORARIO_GENERALE!L58 -> #REF! | W5: 10:30-11:30 | X5: =ORARIO_GENERALE!F6 -> #REF! | Y5: =ORARIO_GENERALE!F19 -> #REF! | Z5: =ORARIO_GENERALE!F32 -> #REF! | AA5: =ORARIO_GENERALE!F45 -> #REF! | AB5: =ORARIO_GENERALE!F58 -> #REF! | AD5: 10:30-11:30 | AE5: =ORARIO_GENERALE!M6 -> #REF! | AF5: =ORARIO_GENERALE!M19 -> #REF! | AG5: =ORARIO_GENERALE!M32 -> #REF! | AH5: =ORARIO_GENERALE!M45 -> #REF! | AI5: =ORARIO_GENERALE!M58 -> #REF! | AK5: 10:30-11:30 | AL5: =ORARIO_GENERALE!G6 -> #REF! | AM5: =ORARIO_GENERALE!G19 -> #REF! | AN5: =ORARIO_GENERALE!G32 -> #REF! | AO5: =ORARIO_GENERALE!G45 -> #REF! | AP5: =ORARIO_GENERALE!G58 -> #REF! | AR5: 10:30-11:30 | AS5: =ORARIO_GENERALE!H6 -> #REF! | AT5: =ORARIO_GENERALE!H19 -> #REF! | AU5: =ORARIO_GENERALE!H32 -> #REF! | AV5: =ORARIO_GENERALE!H45 -> #REF! | AW5: =ORARIO_GENERALE!H58 -> #REF! | AY5: 10:30-11:30 | AZ5: =ORARIO_GENERALE!I6 -> #REF! | BA5: =ORARIO_GENERALE!I19 -> #REF! | BB5: =ORARIO_GENERALE!I32 -> #REF! | BC5: =ORARIO_GENERALE!I45 -> #REF! | BD5: =ORARIO_GENERALE!I58 -> #REF! | BF5: 10:30-11:30 | BG5: =ORARIO_GENERALE!K6 -> #REF! | BH5: =ORARIO_GENERALE!K19 -> #REF! | BI5: =ORARIO_GENERALE!K32 -> #REF! | BJ5: =ORARIO_GENERALE!K45 -> #REF! | BK5: =ORARIO_GENERALE!K58 -> #REF! | BM5: 10:30-11:30 | BN5: =ORARIO_GENERALE!N6 -> #REF! | BO5: =ORARIO_GENERALE!N19 -> #REF! | BP5: =ORARIO_GENERALE!N33 -> #REF! | BQ5: =ORARIO_GENERALE!N45 -> #REF! | BR5: =ORARIO_GENERALE!N58 -> #REF! | BT5: 10:30-11:30 | BU5: =ORARIO_GENERALE!O6 -> #REF! | BV5: =ORARIO_GENERALE!O19 -> #REF! | BW5: =ORARIO_GENERALE!O32 -> #REF! | BX5: =ORARIO_GENERALE!O45 -> #REF! | BY5: =ORARIO_GENERALE!O58 -> #REF! | CA5: 10:30-11:30 | CB5: =ORARIO_GENERALE!P6 -> #REF! | CC5: =ORARIO_GENERALE!P19 -> #REF! | CD5: =ORARIO_GENERALE!P32 -> #REF! | CE5: =ORARIO_GENERALE!P45 -> #REF! | CF5: =ORARIO_GENERALE!P58 -> #REF! | CH5: 10:30-11:30 | CI5: =ORARIO_GENERALE!Q6 -> #REF! | CJ5: =ORARIO_GENERALE!Q19 -> #REF! | CK5: =ORARIO_GENERALE!Q32 -> #REF! | CL5: =ORARIO_GENERALE!Q45 -> #REF! | CM5: =ORARIO_GENERALE!Q58 -> #REF!
B6: 11:30-12:30 | C6: =ORARIO_GENERALE!D7 -> #REF! | D6: =ORARIO_GENERALE!D20 -> #REF! | E6: =ORARIO_GENERALE!D33 -> #REF! | F6: =ORARIO_GENERALE!D46 -> #REF! | G6: =ORARIO_GENERALE!D59 -> #REF! | I6: 11:30-12:30 | J6: =ORARIO_GENERALE!E7 -> #REF! | K6: =ORARIO_GENERALE!E20 -> #REF! | L6: =ORARIO_GENERALE!E33 -> #REF! | M6: =ORARIO_GENERALE!E46 -> #REF! | N6: =ORARIO_GENERALE!E59 -> #REF! | P6: 11:30-12:30 | Q6: =ORARIO_GENERALE!L7 -> #REF! | R6: =#REF! -> #REF! | S6: =ORARIO_GENERALE!L33 -> #REF! | T6: =ORARIO_GENERALE!L46 -> #REF! | U6: =ORARIO_GENERALE!L59 -> #REF! | W6: 11:30-12:30 | X6: =ORARIO_GENERALE!F7 -> #REF! | Y6: =ORARIO_GENERALE!F20 -> #REF! | Z6: =ORARIO_GENERALE!F33 -> #REF! | AA6: =ORARIO_GENERALE!F46 -> #REF! | AB6: =ORARIO_GENERALE!F59 -> #REF! | AD6: 11:30-12:30 | AE6: =ORARIO_GENERALE!M7 -> #REF! | AF6: =ORARIO_GENERALE!M20 -> #REF! | AG6: =ORARIO_GENERALE!M33 -> #REF! | AH6: =ORARIO_GENERALE!M46 -> #REF! | AI6: =ORARIO_GENERALE!M59 -> #REF! | AK6: 11:30-12:30 | AL6: =ORARIO_GENERALE!G7 -> #REF! | AM6: =ORARIO_GENERALE!G20 -> #REF! | AN6: =ORARIO_GENERALE!G33 -> #REF! | AO6: =ORARIO_GENERALE!G46 -> #REF! | AP6: =ORARIO_GENERALE!G59 -> #REF! | AR6: 11:30-12:30 | AS6: =ORARIO_GENERALE!H7 -> #REF! | AT6: =ORARIO_GENERALE!H20 -> #REF! | AU6: =ORARIO_GENERALE!H33 -> #REF! | AV6: =ORARIO_GENERALE!H46 -> #REF! | AW6: =ORARIO_GENERALE!H59 -> #REF! | AY6: 11:30-12:30 | AZ6: =ORARIO_GENERALE!I7 -> #REF! | BA6: =ORARIO_GENERALE!I20 -> #REF! | BB6: =ORARIO_GENERALE!I33 -> #REF! | BC6: =ORARIO_GENERALE!I46 -> #REF! | BD6: =ORARIO_GENERALE!I59 -> #REF! | BF6: 11:30-12:30 | BG6: =ORARIO_GENERALE!K7 -> #REF! | BH6: =ORARIO_GENERALE!K20 -> #REF! | BI6: =ORARIO_GENERALE!K33 -> #REF! | BJ6: =ORARIO_GENERALE!K46 -> #REF! | BK6: =ORARIO_GENERALE!K59 -> #REF! | BM6: 11:30-12:30 | BN6: =ORARIO_GENERALE!N7 -> #REF! | BO6: =ORARIO_GENERALE!N20 -> #REF! | BP6: =ORARIO_GENERALE!N34 -> #REF! | BQ6: =ORARIO_GENERALE!N46 -> #REF! | BR6: =ORARIO_GENERALE!N59 -> #REF! | BT6: 11:30-12:30 | BU6: =ORARIO_GENERALE!O7 -> #REF! | BV6: =#REF! -> #REF! | BW6: =ORARIO_GENERALE!O33 -> #REF! | BX6: =ORARIO_GENERALE!O46 -> #REF! | BY6: =ORARIO_GENERALE!O59 -> #REF! | CA6: 11:30-12:30 | CB6: =ORARIO_GENERALE!P7 -> #REF! | CC6: =ORARIO_GENERALE!P20 -> #REF! | CD6: =ORARIO_GENERALE!P33 -> #REF! | CE6: =ORARIO_GENERALE!P46 -> #REF! | CF6: =ORARIO_GENERALE!P59 -> #REF! | CH6: 11:30-12:30 | CI6: =ORARIO_GENERALE!Q7 -> #REF! | CJ6: =ORARIO_GENERALE!Q20 -> #REF! | CK6: =ORARIO_GENERALE!Q33 -> #REF! | CL6: =ORARIO_GENERALE!Q46 -> #REF! | CM6: =ORARIO_GENERALE!Q59 -> #REF!
B7: 12:30-13:30 | C7: =ORARIO_GENERALE!D8 -> #REF! | D7: =ORARIO_GENERALE!D21 -> #REF! | E7: =ORARIO_GENERALE!D34 -> #REF! | F7: =ORARIO_GENERALE!D47 -> #REF! | G7: =ORARIO_GENERALE!D60 -> #REF! | I7: 12:30-13:30 | J7: =ORARIO_GENERALE!E8 -> #REF! | K7: =ORARIO_GENERALE!E21 -> #REF! | L7: =ORARIO_GENERALE!E34 -> #REF! | M7: =ORARIO_GENERALE!E47 -> #REF! | N7: =ORARIO_GENERALE!E60 -> #REF! | P7: 12:30-13:30 | Q7: =ORARIO_GENERALE!L8 -> #REF! | R7: =ORARIO_GENERALE!L18 -> #REF! | S7: =ORARIO_GENERALE!L34 -> #REF! | T7: =ORARIO_GENERALE!L47 -> #REF! | U7: =ORARIO_GENERALE!L60 -> #REF! | W7: 12:30-13:30 | X7: =ORARIO_GENERALE!F8 -> #REF! | Y7: =ORARIO_GENERALE!F21 -> #REF! | Z7: =ORARIO_GENERALE!F34 -> #REF! | AA7: =ORARIO_GENERALE!F47 -> #REF! | AB7: =ORARIO_GENERALE!F60 -> #REF! | AD7: 12:30-13:30 | AE7: =ORARIO_GENERALE!M8 -> #REF! | AF7: =ORARIO_GENERALE!M21 -> #REF! | AG7: =ORARIO_GENERALE!M34 -> #REF! | AH7: =ORARIO_GENERALE!M47 -> #REF! | AI7: =ORARIO_GENERALE!M60 -> #REF! | AK7: 12:30-13:30 | AL7: =ORARIO_GENERALE!G8 -> #REF! | AM7: =ORARIO_GENERALE!G21 -> #REF! | AN7: =ORARIO_GENERALE!G34 -> #REF! | AO7: =ORARIO_GENERALE!G47 -> #REF! | AP7: =ORARIO_GENERALE!G60 -> #REF! | AR7: 12:30-13:30 | AS7: =ORARIO_GENERALE!H8 -> #REF! | AT7: =ORARIO_GENERALE!H21 -> #REF! | AU7: =ORARIO_GENERALE!H34 -> #REF! | AV7: =ORARIO_GENERALE!H47 -> #REF! | AW7: =ORARIO_GENERALE!H60 -> #REF! | AY7: 12:30-13:30 | AZ7: =ORARIO_GENERALE!I8 -> #REF! | BA7: =ORARIO_GENERALE!I21 -> #REF! | BB7: =ORARIO_GENERALE!I34 -> #REF! | BC7: =ORARIO_GENERALE!I47 -> #REF! | BD7: =ORARIO_GENERALE!I60 -> #REF! | BF7: 12:30-13:30 | BG7: =ORARIO_GENERALE!K8 -> #REF! | BH7: =ORARIO_GENERALE!K21 -> #REF! | BI7: =ORARIO_GENERALE!K34 -> #REF! | BJ7: =ORARIO_GENERALE!K47 -> #REF! | BK7: =ORARIO_GENERALE!K60 -> #REF! | BM7: 12:30-13:30 | BN7: =ORARIO_GENERALE!N8 -> #REF! | BO7: =ORARIO_GENERALE!N21 -> #REF! | BP7: =ORARIO_GENERALE!N35 -> #REF! | BQ7: =ORARIO_GENERALE!N47 -> #REF! | BR7: =ORARIO_GENERALE!N60 -> #REF! | BT7: 12:30-13:30 | BU7: =ORARIO_GENERALE!O8 -> #REF! | BV7: =ORARIO_GENERALE!O20 -> #REF! | BW7: =ORARIO_GENERALE!O34 -> #REF! | BX7: =ORARIO_GENERALE!O47 -> #REF! | BY7: =ORARIO_GENERALE!O60 -> #REF! | CA7: 12:30-13:30 | CB7: =ORARIO_GENERALE!P8 -> #REF! | CC7: =ORARIO_GENERALE!P21 -> #REF! | CD7: =ORARIO_GENERALE!P34 -> #REF! | CE7: =ORARIO_GENERALE!P47 -> #REF! | CF7: =ORARIO_GENERALE!P60 -> #REF! | CH7: 12:30-13:30 | CI7: =ORARIO_GENERALE!Q8 -> #REF! | CJ7: =ORARIO_GENERALE!Q21 -> #REF! | CK7: =ORARIO_GENERALE!Q34 -> #REF! | CL7: =ORARIO_GENERALE!Q47 -> #REF! | CM7: =ORARIO_GENERALE!Q60 -> #REF!
B8: 13:30-14:30 | C8: =#REF! -> #REF! | D8: =ORARIO_GENERALE!D22 -> #REF! | E8: =ORARIO_GENERALE!D35 -> #REF! | F8: =ORARIO_GENERALE!D48 -> #REF! | G8: =ORARIO_GENERALE!D61 -> #REF! | I8: 13:30-14:30 | J8: =ORARIO_GENERALE!D9 -> #REF! | K8: =ORARIO_GENERALE!E22 -> #REF! | L8: =ORARIO_GENERALE!E35 -> #REF! | M8: =ORARIO_GENERALE!E48 -> #REF! | N8: =ORARIO_GENERALE!E61 -> #REF! | P8: 13:30-14:30 | Q8: =ORARIO_GENERALE!L9 -> #REF! | R8: =ORARIO_GENERALE!L19 -> #REF! | S8: =ORARIO_GENERALE!L35 -> #REF! | T8: =ORARIO_GENERALE!L48 -> #REF! | U8: =ORARIO_GENERALE!L61 -> #REF! | W8: 13:30-14:30 | X8: =ORARIO_GENERALE!F9 -> #REF! | Y8: =ORARIO_GENERALE!F22 -> #REF! | Z8: =ORARIO_GENERALE!F35 -> #REF! | AA8: =ORARIO_GENERALE!F48 -> #REF! | AB8: =ORARIO_GENERALE!F61 -> #REF! | AD8: 13:30-14:30 | AE8: =ORARIO_GENERALE!M9 -> #REF! | AF8: =ORARIO_GENERALE!M22 -> #REF! | AG8: =ORARIO_GENERALE!M35 -> #REF! | AH8: =ORARIO_GENERALE!M48 -> #REF! | AI8: =ORARIO_GENERALE!M61 -> #REF! | AK8: 13:30-14:30 | AL8: =ORARIO_GENERALE!G9 -> #REF! | AM8: =ORARIO_GENERALE!G22 -> #REF! | AN8: =ORARIO_GENERALE!G35 -> #REF! | AO8: =ORARIO_GENERALE!G48 -> #REF! | AP8: =ORARIO_GENERALE!G61 -> #REF! | AR8: 13:30-14:30 | AS8: =ORARIO_GENERALE!H9 -> #REF! | AT8: =ORARIO_GENERALE!H22 -> #REF! | AU8: =ORARIO_GENERALE!H35 -> #REF! | AV8: =ORARIO_GENERALE!H48 -> #REF! | AW8: =ORARIO_GENERALE!H61 -> #REF! | AY8: 13:30-14:30 | AZ8: =ORARIO_GENERALE!I9 -> #REF! | BA8: =ORARIO_GENERALE!I22 -> #REF! | BB8: =ORARIO_GENERALE!I35 -> #REF! | BC8: =ORARIO_GENERALE!I48 -> #REF! | BD8: =ORARIO_GENERALE!I61 -> #REF! | BF8: 13:30-14:30 | BG8: =ORARIO_GENERALE!K9 -> #REF! | BH8: =ORARIO_GENERALE!K22 -> #REF! | BI8: =ORARIO_GENERALE!K35 -> #REF! | BJ8: =ORARIO_GENERALE!K48 -> #REF! | BK8: =ORARIO_GENERALE!K61 -> #REF! | BM8: 13:30-14:30 | BN8: =ORARIO_GENERALE!N9 -> #REF! | BO8: =ORARIO_GENERALE!N22 -> #REF! | BP8: =ORARIO_GENERALE!N36 -> #REF! | BQ8: =ORARIO_GENERALE!N48 -> #REF! | BR8: =ORARIO_GENERALE!N61 -> #REF! | BT8: 13:30-14:30 | BU8: =ORARIO_GENERALE!O9 -> #REF! | BV8: =ORARIO_GENERALE!O21 -> #REF! | BW8: =ORARIO_GENERALE!O35 -> #REF! | BX8: =ORARIO_GENERALE!O48 -> #REF! | BY8: =ORARIO_GENERALE!O61 -> #REF! | CA8: 13:30-14:30 | CB8: =ORARIO_GENERALE!P9 -> #REF! | CC8: =ORARIO_GENERALE!P22 -> #REF! | CD8: =ORARIO_GENERALE!P35 -> #REF! | CE8: =ORARIO_GENERALE!P48 -> #REF! | CF8: =ORARIO_GENERALE!P61 -> #REF! | CH8: 13:30-14:30 | CI8: =ORARIO_GENERALE!Q9 -> #REF! | CJ8: =ORARIO_GENERALE!Q22 -> #REF! | CK8: =ORARIO_GENERALE!Q35 -> #REF! | CL8: =ORARIO_GENERALE!Q48 -> #REF! | CM8: =ORARIO_GENERALE!Q61 -> #REF!
B9: 14:00-15:00 | C9: =ORARIO_GENERALE!D10 -> #REF! | D9: =ORARIO_GENERALE!D23 -> #REF! | E9: =ORARIO_GENERALE!D36 -> #REF! | F9: =ORARIO_GENERALE!D49 -> #REF! | G9: =ORARIO_GENERALE!D62 -> #REF! | I9: 14:00-15:00 | J9: =ORARIO_GENERALE!E10 -> #REF! | K9: =ORARIO_GENERALE!E23 -> #REF! | L9: =ORARIO_GENERALE!E36 -> #REF! | M9: =ORARIO_GENERALE!E49 -> #REF! | N9: =ORARIO_GENERALE!E62 -> #REF! | P9: 14:00-15:00 | Q9: =ORARIO_GENERALE!L10 -> #REF! | R9: =ORARIO_GENERALE!L20 -> #REF! | S9: =ORARIO_GENERALE!L36 -> #REF! | T9: =ORARIO_GENERALE!L49 -> #REF! | U9: =ORARIO_GENERALE!L62 -> #REF! | W9: 14:00-15:00 | X9: =ORARIO_GENERALE!F10 -> #REF! | Y9: =ORARIO_GENERALE!F23 -> #REF! | Z9: =ORARIO_GENERALE!F36 -> #REF! | AA9: =ORARIO_GENERALE!F49 -> #REF! | AB9: =ORARIO_GENERALE!F62 -> #REF! | AD9: 14:00-15:00 | AE9: =ORARIO_GENERALE!M10 -> #REF! | AF9: =ORARIO_GENERALE!M23 -> #REF! | AG9: =ORARIO_GENERALE!M36 -> #REF! | AH9: =ORARIO_GENERALE!M49 -> #REF! | AI9: =ORARIO_GENERALE!M62 -> #REF! | AK9: 14:00-15:00 | AL9: =ORARIO_GENERALE!G10 -> #REF! | AM9: =ORARIO_GENERALE!G23 -> #REF! | AN9: =ORARIO_GENERALE!G36 -> #REF! | AO9: =ORARIO_GENERALE!G49 -> #REF! | AP9: =ORARIO_GENERALE!G62 -> #REF! | AR9: 14:00-15:00 | AS9: =ORARIO_GENERALE!H10 -> #REF! | AT9: =ORARIO_GENERALE!H23 -> #REF! | AU9: =ORARIO_GENERALE!H36 -> #REF! | AV9: =ORARIO_GENERALE!H49 -> #REF! | AW9: =ORARIO_GENERALE!H62 -> #REF! | AY9: 14:00-15:00 | AZ9: =ORARIO_GENERALE!I10 -> #REF! | BA9: =ORARIO_GENERALE!I23 -> #REF! | BB9: =ORARIO_GENERALE!I36 -> #REF! | BC9: =ORARIO_GENERALE!I49 -> #REF! | BD9: =ORARIO_GENERALE!I62 -> #REF! | BF9: 14:00-15:00 | BG9: =ORARIO_GENERALE!K10 -> #REF! | BH9: =ORARIO_GENERALE!K23 -> #REF! | BI9: =ORARIO_GENERALE!K36 -> #REF! | BJ9: =ORARIO_GENERALE!K49 -> #REF! | BK9: =ORARIO_GENERALE!K62 -> #REF! | BM9: 14:00-15:00 | BN9: =ORARIO_GENERALE!N10 -> #REF! | BO9: =ORARIO_GENERALE!N23 -> #REF! | BP9: =#REF! -> #REF! | BQ9: =ORARIO_GENERALE!N49 -> #REF! | BR9: =ORARIO_GENERALE!N62 -> #REF! | BT9: 14:00-15:00 | BU9: =ORARIO_GENERALE!O10 -> #REF! | BV9: =ORARIO_GENERALE!O22 -> #REF! | BW9: =ORARIO_GENERALE!O36 -> #REF! | BX9: =ORARIO_GENERALE!O49 -> #REF! | BY9: =ORARIO_GENERALE!O62 -> #REF! | CA9: 14:00-15:00 | CB9: =ORARIO_GENERALE!P10 -> #REF! | CC9: =ORARIO_GENERALE!P23 -> #REF! | CD9: =ORARIO_GENERALE!P36 -> #REF! | CE9: =ORARIO_GENERALE!P49 -> #REF! | CF9: =ORARIO_GENERALE!P62 -> #REF! | CH9: 14:00-15:00 | CI9: =ORARIO_GENERALE!Q10 -> #REF! | CJ9: =ORARIO_GENERALE!Q23 -> #REF! | CK9: =ORARIO_GENERALE!Q36 -> #REF! | CL9: =ORARIO_GENERALE!Q49 -> #REF! | CM9: =ORARIO_GENERALE!Q62 -> #REF!
B10: 15:00-16:00 | C10: =ORARIO_GENERALE!D11 -> #REF! | D10: =ORARIO_GENERALE!D24 -> #REF! | E10: =ORARIO_GENERALE!D37 -> #REF! | F10: =ORARIO_GENERALE!D50 -> #REF! | G10: =ORARIO_GENERALE!D63 -> #REF! | I10: 15:00-16:00 | J10: =ORARIO_GENERALE!E11 -> #REF! | K10: =ORARIO_GENERALE!E24 -> #REF! | L10: =ORARIO_GENERALE!E37 -> #REF! | M10: =ORARIO_GENERALE!E50 -> #REF! | N10: =ORARIO_GENERALE!E63 -> #REF! | P10: 15:00-16:00 | Q10: =ORARIO_GENERALE!L11 -> #REF! | R10: =ORARIO_GENERALE!L21 -> #REF! | S10: =ORARIO_GENERALE!L37 -> #REF! | T10: =ORARIO_GENERALE!L50 -> #REF! | U10: =ORARIO_GENERALE!L63 -> #REF! | W10: 15:00-16:00 | X10: =ORARIO_GENERALE!F11 -> #REF! | Y10: =ORARIO_GENERALE!F24 -> #REF! | Z10: =ORARIO_GENERALE!F37 -> #REF! | AA10: =ORARIO_GENERALE!F50 -> #REF! | AB10: =ORARIO_GENERALE!F63 -> #REF! | AD10: 15:00-16:00 | AE10: =ORARIO_GENERALE!M11 -> #REF! | AF10: =ORARIO_GENERALE!M24 -> #REF! | AG10: =ORARIO_GENERALE!M37 -> #REF! | AH10: =ORARIO_GENERALE!M50 -> #REF! | AI10: =ORARIO_GENERALE!M63 -> #REF! | AK10: 15:00-16:00 | AL10: =ORARIO_GENERALE!G11 -> #REF! | AM10: =ORARIO_GENERALE!G24 -> #REF! | AN10: =ORARIO_GENERALE!G37 -> #REF! | AO10: =ORARIO_GENERALE!G50 -> #REF! | AP10: =ORARIO_GENERALE!G63 -> #REF! | AR10: 15:00-16:00 | AS10: =ORARIO_GENERALE!H11 -> #REF! | AT10: =ORARIO_GENERALE!H24 -> #REF! | AU10: =ORARIO_GENERALE!H37 -> #REF! | AV10: =ORARIO_GENERALE!H50 -> #REF! | AW10: =ORARIO_GENERALE!H63 -> #REF! | AY10: 15:00-16:00 | AZ10: =ORARIO_GENERALE!I11 -> #REF! | BA10: =ORARIO_GENERALE!I24 -> #REF! | BB10: =ORARIO_GENERALE!I37 -> #REF! | BC10: =ORARIO_GENERALE!I50 -> #REF! | BD10: =ORARIO_GENERALE!I63 -> #REF! | BF10: 15:00-16:00 | BG10: =ORARIO_GENERALE!K11 -> #REF! | BH10: =ORARIO_GENERALE!K24 -> #REF! | BI10: =ORARIO_GENERALE!K37 -> #REF! | BJ10: =ORARIO_GENERALE!K50 -> #REF! | BK10: =ORARIO_GENERALE!K63 -> #REF! | BM10: 15:00-16:00 | BN10: =ORARIO_GENERALE!N11 -> #REF! | BO10: =ORARIO_GENERALE!N24 -> #REF! | BP10: =ORARIO_GENERALE!N37 -> #REF! | BQ10: =ORARIO_GENERALE!N50 -> #REF! | BR10: =ORARIO_GENERALE!N63 -> #REF! | BT10: 15:00-16:00 | BU10: =ORARIO_GENERALE!O11 -> #REF! | BV10: =ORARIO_GENERALE!O23 -> #REF! | BW10: =ORARIO_GENERALE!O37 -> #REF! | BX10: =ORARIO_GENERALE!O50 -> #REF! | BY10: =ORARIO_GENERALE!O63 -> #REF! | CA10: 15:00-16:00 | CB10: =ORARIO_GENERALE!P11 -> #REF! | CC10: =ORARIO_GENERALE!P24 -> #REF! | CD10: =ORARIO_GENERALE!P37 -> #REF! | CE10: =ORARIO_GENERALE!P50 -> #REF! | CF10: =ORARIO_GENERALE!P63 -> #REF! | CH10: 15:00-16:00 | CI10: =ORARIO_GENERALE!Q11 -> #REF! | CJ10: =ORARIO_GENERALE!Q24 -> #REF! | CK10: =ORARIO_GENERALE!Q37 -> #REF! | CL10: =ORARIO_GENERALE!Q50 -> #REF! | CM10: =ORARIO_GENERALE!Q63 -> #REF!
B11: 16:00-17:00 | C11: =ORARIO_GENERALE!D12 -> #REF! | D11: =ORARIO_GENERALE!D25 -> #REF! | E11: =ORARIO_GENERALE!D38 -> #REF! | F11: =ORARIO_GENERALE!D51 -> #REF! | G11: =ORARIO_GENERALE!D64 -> #REF! | I11: 16:00-17:00 | J11: =ORARIO_GENERALE!E12 -> #REF! | K11: =ORARIO_GENERALE!E25 -> #REF! | L11: =ORARIO_GENERALE!E38 -> #REF! | M11: =ORARIO_GENERALE!E51 -> #REF! | N11: =ORARIO_GENERALE!E64 -> #REF! | P11: 16:00-17:00 | Q11: =ORARIO_GENERALE!L12 -> #REF! | R11: =ORARIO_GENERALE!L22 -> #REF! | S11: =ORARIO_GENERALE!L38 -> #REF! | T11: =ORARIO_GENERALE!L51 -> #REF! | U11: =ORARIO_GENERALE!L64 -> #REF! | W11: 16:00-17:00 | X11: =ORARIO_GENERALE!F12 -> #REF! | Y11: =ORARIO_GENERALE!F25 -> #REF! | Z11: =ORARIO_GENERALE!F38 -> #REF! | AA11: =ORARIO_GENERALE!F51 -> #REF! | AB11: =ORARIO_GENERALE!F64 -> #REF! | AD11: 16:00-17:00 | AE11: =ORARIO_GENERALE!M12 -> #REF! | AF11: =ORARIO_GENERALE!M25 -> #REF! | AG11: =ORARIO_GENERALE!M38 -> #REF! | AH11: =ORARIO_GENERALE!M51 -> #REF! | AI11: =ORARIO_GENERALE!M64 -> #REF! | AK11: 16:00-17:00 | AL11: =ORARIO_GENERALE!G12 -> #REF! | AM11: =ORARIO_GENERALE!G25 -> #REF! | AN11: =ORARIO_GENERALE!G38 -> #REF! | AO11: =ORARIO_GENERALE!G51 -> #REF! | AP11: =ORARIO_GENERALE!G64 -> #REF! | AR11: 16:00-17:00 | AS11: =ORARIO_GENERALE!H12 -> #REF! | AT11: =ORARIO_GENERALE!H25 -> #REF! | AU11: =ORARIO_GENERALE!H38 -> #REF! | AV11: =ORARIO_GENERALE!H51 -> #REF! | AW11: =ORARIO_GENERALE!H64 -> #REF! | AY11: 16:00-17:00 | AZ11: =ORARIO_GENERALE!I12 -> #REF! | BA11: =ORARIO_GENERALE!I25 -> #REF! | BB11: =ORARIO_GENERALE!I38 -> #REF! | BC11: =ORARIO_GENERALE!I51 -> #REF! | BD11: =ORARIO_GENERALE!I64 -> #REF! | BF11: 16:00-17:00 | BG11: =ORARIO_GENERALE!K12 -> #REF! | BH11: =ORARIO_GENERALE!K25 -> #REF! | BI11: =ORARIO_GENERALE!K38 -> #REF! | BJ11: =ORARIO_GENERALE!K51 -> #REF! | BK11: =ORARIO_GENERALE!K64 -> #REF! | BM11: 16:00-17:00 | BN11: =ORARIO_GENERALE!N12 -> #REF! | BO11: =ORARIO_GENERALE!N25 -> #REF! | BP11: =ORARIO_GENERALE!N38 -> #REF! | BQ11: =ORARIO_GENERALE!N51 -> #REF! | BR11: =ORARIO_GENERALE!N64 -> #REF! | BT11: 16:00-17:00 | BU11: =ORARIO_GENERALE!O12 -> #REF! | BV11: =ORARIO_GENERALE!O24 -> #REF! | BW11: =ORARIO_GENERALE!O38 -> #REF! | BX11: =ORARIO_GENERALE!O51 -> #REF! | BY11: =ORARIO_GENERALE!O64 -> #REF! | CA11: 16:00-17:00 | CB11: =ORARIO_GENERALE!P12 -> #REF! | CC11: =ORARIO_GENERALE!P25 -> #REF! | CD11: =ORARIO_GENERALE!P38 -> #REF! | CE11: =ORARIO_GENERALE!P51 -> #REF! | CF11: =ORARIO_GENERALE!P64 -> #REF! | CH11: 16:00-17:00 | CI11: =ORARIO_GENERALE!Q12 -> #REF! | CJ11: =ORARIO_GENERALE!Q25 -> #REF! | CK11: =ORARIO_GENERALE!Q38 -> #REF! | CL11: =ORARIO_GENERALE!Q51 -> #REF! | CM11: =ORARIO_GENERALE!Q64 -> #REF!
B12: 17:00-18-00 | C12: =ORARIO_GENERALE!D13 -> #REF! | D12: =ORARIO_GENERALE!D26 -> #REF! | E12: =ORARIO_GENERALE!D39 -> #REF! | F12: =ORARIO_GENERALE!D52 -> #REF! | G12: =ORARIO_GENERALE!D65 -> #REF! | I12: 17:00-18-00 | J12: =ORARIO_GENERALE!E13 -> #REF! | K12: =ORARIO_GENERALE!E26 -> #REF! | L12: =ORARIO_GENERALE!E39 -> #REF! | M12: =ORARIO_GENERALE!E52 -> #REF! | N12: =ORARIO_GENERALE!E65 -> #REF! | P12: 17:00-18-00 | Q12: =ORARIO_GENERALE!L13 -> #REF! | R12: =ORARIO_GENERALE!L26 -> #REF! | S12: =ORARIO_GENERALE!L39 -> #REF! | T12: =ORARIO_GENERALE!L52 -> #REF! | U12: =ORARIO_GENERALE!L65 -> #REF! | W12: 17:00-18-00 | X12: =ORARIO_GENERALE!F13 -> #REF! | Y12: =ORARIO_GENERALE!F26 -> #REF! | Z12: =ORARIO_GENERALE!F39 -> #REF! | AA12: =ORARIO_GENERALE!F52 -> #REF! | AB12: =ORARIO_GENERALE!F65 -> #REF! | AD12: 17:00-18-00 | AE12: =ORARIO_GENERALE!M13 -> #REF! | AF12: =ORARIO_GENERALE!M26 -> #REF! | AG12: =ORARIO_GENERALE!M39 -> #REF! | AH12: =ORARIO_GENERALE!M52 -> #REF! | AI12: =ORARIO_GENERALE!M65 -> #REF! | AK12: 17:00-18-00 | AL12: =ORARIO_GENERALE!G13 -> #REF! | AM12: =ORARIO_GENERALE!G26 -> #REF! | AN12: =ORARIO_GENERALE!G39 -> #REF! | AO12: =ORARIO_GENERALE!G52 -> #REF! | AP12: =ORARIO_GENERALE!G65 -> #REF! | AR12: 17:00-18-00 | AS12: =ORARIO_GENERALE!H13 -> #REF! | AT12: =ORARIO_GENERALE!H26 -> #REF! | AU12: =ORARIO_GENERALE!H39 -> #REF! | AV12: =ORARIO_GENERALE!H52 -> #REF! | AW12: =ORARIO_GENERALE!H65 -> #REF! | AY12: 17:00-18-00 | AZ12: =ORARIO_GENERALE!I13 -> #REF! | BA12: =ORARIO_GENERALE!I26 -> #REF! | BB12: =ORARIO_GENERALE!I39 -> #REF! | BC12: =ORARIO_GENERALE!I52 -> #REF! | BD12: =ORARIO_GENERALE!I65 -> #REF! | BF12: 17:00-18-00 | BG12: =ORARIO_GENERALE!K13 -> #REF! | BH12: =ORARIO_GENERALE!K26 -> #REF! | BI12: =ORARIO_GENERALE!K39 -> #REF! | BJ12: =ORARIO_GENERALE!K52 -> #REF! | BK12: =ORARIO_GENERALE!K65 -> #REF! | BM12: 17:00-18-00 | BN12: =ORARIO_GENERALE!N13 -> #REF! | BO12: =ORARIO_GENERALE!N26 -> #REF! | BP12: =ORARIO_GENERALE!N39 -> #REF! | BQ12: =ORARIO_GENERALE!N52 -> #REF! | BR12: =ORARIO_GENERALE!N65 -> #REF! | BT12: 17:00-18-00 | BU12: =ORARIO_GENERALE!O13 -> #REF! | BV12: =ORARIO_GENERALE!O25 -> #REF! | BW12: =ORARIO_GENERALE!O39 -> #REF! | BX12: =ORARIO_GENERALE!O52 -> #REF! | BY12: =ORARIO_GENERALE!O65 -> #REF! | CA12: 17:00-18-00 | CB12: =ORARIO_GENERALE!P13 -> #REF! | CC12: =ORARIO_GENERALE!P26 -> #REF! | CD12: =ORARIO_GENERALE!P39 -> #REF! | CE12: =ORARIO_GENERALE!P52 -> #REF! | CF12: =ORARIO_GENERALE!P65 -> #REF! | CH12: 17:00-18-00 | CI12: =ORARIO_GENERALE!Q13 -> #REF! | CJ12: =ORARIO_GENERALE!Q26 -> #REF! | CK12: =ORARIO_GENERALE!Q39 -> #REF! | CL12: =ORARIO_GENERALE!Q52 -> #REF! | CM12: =ORARIO_GENERALE!Q65 -> #REF!
B13: 18:00-19:00 | C13: =ORARIO_GENERALE!D14 -> #REF! | D13: =ORARIO_GENERALE!D27 -> #REF! | E13: =ORARIO_GENERALE!D40 -> #REF! | F13: =ORARIO_GENERALE!D53 -> #REF! | G13: =ORARIO_GENERALE!D66 -> #REF! | I13: 18:00-19:00 | J13: =ORARIO_GENERALE!E14 -> #REF! | K13: =ORARIO_GENERALE!E27 -> #REF! | L13: =ORARIO_GENERALE!E40 -> #REF! | M13: =ORARIO_GENERALE!E53 -> #REF! | N13: =ORARIO_GENERALE!E66 -> #REF! | P13: 18:00-19:00 | Q13: =ORARIO_GENERALE!L14 -> #REF! | R13: =ORARIO_GENERALE!L27 -> #REF! | S13: =ORARIO_GENERALE!L40 -> #REF! | T13: =ORARIO_GENERALE!L53 -> #REF! | U13: =ORARIO_GENERALE!L66 -> #REF! | W13: 18:00-19:00 | X13: =ORARIO_GENERALE!F14 -> #REF! | Y13: =ORARIO_GENERALE!F27 -> #REF! | Z13: =ORARIO_GENERALE!F40 -> #REF! | AA13: =ORARIO_GENERALE!F53 -> #REF! | AB13: =ORARIO_GENERALE!F66 -> #REF! | AD13: 18:00-19:00 | AE13: =ORARIO_GENERALE!M14 -> #REF! | AF13: =ORARIO_GENERALE!M27 -> #REF! | AG13: =ORARIO_GENERALE!M40 -> #REF! | AH13: =ORARIO_GENERALE!M53 -> #REF! | AI13: =ORARIO_GENERALE!M66 -> #REF! | AK13: 18:00-19:00 | AL13: =ORARIO_GENERALE!G14 -> #REF! | AM13: =ORARIO_GENERALE!G27 -> #REF! | AN13: =ORARIO_GENERALE!G40 -> #REF! | AO13: =ORARIO_GENERALE!G53 -> #REF! | AP13: =ORARIO_GENERALE!G66 -> #REF! | AR13: 18:00-19:00 | AS13: =ORARIO_GENERALE!H14 -> #REF! | AT13: =ORARIO_GENERALE!H27 -> #REF! | AU13: =ORARIO_GENERALE!H40 -> #REF! | AV13: =ORARIO_GENERALE!H53 -> #REF! | AW13: =ORARIO_GENERALE!H66 -> #REF! | AY13: 18:00-19:00 | AZ13: =ORARIO_GENERALE!I14 -> #REF! | BA13: =ORARIO_GENERALE!I27 -> #REF! | BB13: =ORARIO_GENERALE!I40 -> #REF! | BC13: =ORARIO_GENERALE!I53 -> #REF! | BD13: =ORARIO_GENERALE!I66 -> #REF! | BF13: 18:00-19:00 | BG13: =ORARIO_GENERALE!K14 -> #REF! | BH13: =ORARIO_GENERALE!K27 -> #REF! | BI13: =ORARIO_GENERALE!K40 -> #REF! | BJ13: =ORARIO_GENERALE!K53 -> #REF! | BK13: =ORARIO_GENERALE!K66 -> #REF! | BM13: 18:00-19:00 | BN13: =ORARIO_GENERALE!N14 -> #REF! | BO13: =ORARIO_GENERALE!N27 -> #REF! | BP13: =ORARIO_GENERALE!N40 -> #REF! | BQ13: =ORARIO_GENERALE!N53 -> #REF! | BR13: =ORARIO_GENERALE!N66 -> #REF! | BT13: 18:00-19:00 | BU13: =ORARIO_GENERALE!O14 -> #REF! | BV13: =ORARIO_GENERALE!O27 -> #REF! | BW13: =ORARIO_GENERALE!O40 -> #REF! | BX13: =ORARIO_GENERALE!O53 -> #REF! | BY13: =ORARIO_GENERALE!O66 -> #REF! | CA13: 18:00-19:00 | CB13: =ORARIO_GENERALE!P14 -> #REF! | CC13: =ORARIO_GENERALE!P27 -> #REF! | CD13: =ORARIO_GENERALE!P40 -> #REF! | CE13: =ORARIO_GENERALE!P53 -> #REF! | CF13: =ORARIO_GENERALE!P66 -> #REF! | CH13: 18:00-19:00 | CI13: =ORARIO_GENERALE!Q14 -> #REF! | CJ13: =ORARIO_GENERALE!Q27 -> #REF! | CK13: =ORARIO_GENERALE!Q40 -> #REF! | CL13: =ORARIO_GENERALE!Q53 -> #REF! | CM13: =ORARIO_GENERALE!Q66 -> #REF!
B14: 19:00-20:00 | C14: =ORARIO_GENERALE!D15 -> #REF! | D14: =ORARIO_GENERALE!D28 -> #REF! | E14: =ORARIO_GENERALE!D41 -> #REF! | F14: =ORARIO_GENERALE!D54 -> #REF! | G14: =ORARIO_GENERALE!D67 -> #REF! | I14: 19:00-20:00 | J14: =ORARIO_GENERALE!E15 -> #REF! | K14: =ORARIO_GENERALE!E28 -> #REF! | L14: =ORARIO_GENERALE!E41 -> #REF! | M14: =ORARIO_GENERALE!E54 -> #REF! | N14: =ORARIO_GENERALE!E67 -> #REF! | P14: 19:00-20:00 | Q14: =ORARIO_GENERALE!L15 -> #REF! | R14: =ORARIO_GENERALE!L28 -> #REF! | S14: =ORARIO_GENERALE!L41 -> #REF! | T14: =ORARIO_GENERALE!L54 -> #REF! | U14: =ORARIO_GENERALE!L67 -> #REF! | W14: 19:00-20:00 | X14: =ORARIO_GENERALE!F15 -> #REF! | Y14: =ORARIO_GENERALE!F28 -> #REF! | Z14: =ORARIO_GENERALE!F41 -> #REF! | AA14: =ORARIO_GENERALE!F54 -> #REF! | AB14: =ORARIO_GENERALE!F67 -> #REF! | AD14: 19:00-20:00 | AE14: =ORARIO_GENERALE!M15 -> #REF! | AF14: =ORARIO_GENERALE!M28 -> #REF! | AG14: =ORARIO_GENERALE!M41 -> #REF! | AH14: =ORARIO_GENERALE!M54 -> #REF! | AI14: =ORARIO_GENERALE!M67 -> #REF! | AK14: 19:00-20:00 | AL14: =ORARIO_GENERALE!G15 -> #REF! | AM14: =ORARIO_GENERALE!G28 -> #REF! | AN14: =ORARIO_GENERALE!G41 -> #REF! | AO14: =ORARIO_GENERALE!G54 -> #REF! | AP14: =ORARIO_GENERALE!G67 -> #REF! | AR14: 19:00-20:00 | AS14: =ORARIO_GENERALE!H15 -> #REF! | AT14: =ORARIO_GENERALE!H28 -> #REF! | AU14: =ORARIO_GENERALE!H41 -> #REF! | AV14: =ORARIO_GENERALE!H54 -> #REF! | AW14: =ORARIO_GENERALE!H67 -> #REF! | AY14: 19:00-20:00 | AZ14: =ORARIO_GENERALE!I15 -> #REF! | BA14: =ORARIO_GENERALE!I28 -> #REF! | BB14: =ORARIO_GENERALE!I41 -> #REF! | BC14: =ORARIO_GENERALE!I54 -> #REF! | BD14: =ORARIO_GENERALE!I67 -> #REF! | BF14: 19:00-20:00 | BG14: =ORARIO_GENERALE!K15 -> #REF! | BH14: =ORARIO_GENERALE!K28 -> #REF! | BI14: =ORARIO_GENERALE!K41 -> #REF! | BJ14: =ORARIO_GENERALE!K54 -> #REF! | BK14: =ORARIO_GENERALE!K67 -> #REF! | BM14: 19:00-20:00 | BN14: =ORARIO_GENERALE!N15 -> #REF! | BO14: =ORARIO_GENERALE!N28 -> #REF! | BP14: =ORARIO_GENERALE!N41 -> #REF! | BQ14: =ORARIO_GENERALE!N54 -> #REF! | BR14: =ORARIO_GENERALE!N67 -> #REF! | BT14: 19:00-20:00 | BU14: =ORARIO_GENERALE!O15 -> #REF! | BV14: =ORARIO_GENERALE!O28 -> #REF! | BW14: =ORARIO_GENERALE!O41 -> #REF! | BX14: =ORARIO_GENERALE!O54 -> #REF! | BY14: =ORARIO_GENERALE!O67 -> #REF! | CA14: 19:00-20:00 | CB14: =ORARIO_GENERALE!P15 -> #REF! | CC14: =ORARIO_GENERALE!P28 -> #REF! | CD14: =ORARIO_GENERALE!P41 -> #REF! | CE14: =ORARIO_GENERALE!P54 -> #REF! | CF14: =ORARIO_GENERALE!P67 -> #REF! | CH14: 19:00-20:00 | CI14: =ORARIO_GENERALE!Q15 -> #REF! | CJ14: =ORARIO_GENERALE!Q28 -> #REF! | CK14: =ORARIO_GENERALE!Q41 -> #REF! | CL14: =ORARIO_GENERALE!Q54 -> #REF! | CM14: =ORARIO_GENERALE!Q67 -> #REF!
B15: 20:00-21:00 | C15: =ORARIO_GENERALE!D16 -> #REF! | D15: =ORARIO_GENERALE!D29 -> #REF! | E15: =ORARIO_GENERALE!D42 -> #REF! | F15: =ORARIO_GENERALE!D55 -> #REF! | G15: =ORARIO_GENERALE!D68 -> #REF! | I15: 20:00-21:00 | J15: =ORARIO_GENERALE!E16 -> #REF! | K15: =ORARIO_GENERALE!E29 -> #REF! | L15: =ORARIO_GENERALE!E42 -> #REF! | M15: =ORARIO_GENERALE!E55 -> #REF! | N15: =ORARIO_GENERALE!E68 -> #REF! | P15: 20:00-21:00 | Q15: =ORARIO_GENERALE!L16 -> #REF! | R15: =ORARIO_GENERALE!L29 -> #REF! | S15: =ORARIO_GENERALE!L42 -> #REF! | T15: =ORARIO_GENERALE!L55 -> #REF! | U15: =ORARIO_GENERALE!L68 -> #REF! | W15: 20:00-21:00 | X15: =ORARIO_GENERALE!F16 -> #REF! | Y15: =ORARIO_GENERALE!F29 -> #REF! | Z15: =ORARIO_GENERALE!F42 -> #REF! | AA15: =ORARIO_GENERALE!F55 -> #REF! | AB15: =ORARIO_GENERALE!F68 -> #REF! | AD15: 20:00-21:00 | AE15: =ORARIO_GENERALE!M16 -> #REF! | AF15: =ORARIO_GENERALE!M29 -> #REF! | AG15: =ORARIO_GENERALE!M42 -> #REF! | AH15: =ORARIO_GENERALE!M55 -> #REF! | AI15: =ORARIO_GENERALE!M68 -> #REF! | AK15: 20:00-21:00 | AL15: =ORARIO_GENERALE!G16 -> #REF! | AM15: =ORARIO_GENERALE!G29 -> #REF! | AN15: =ORARIO_GENERALE!G42 -> #REF! | AO15: =ORARIO_GENERALE!G55 -> #REF! | AP15: =ORARIO_GENERALE!G68 -> #REF! | AR15: 20:00-21:00 | AS15: =ORARIO_GENERALE!H16 -> #REF! | AT15: =ORARIO_GENERALE!H29 -> #REF! | AU15: =ORARIO_GENERALE!H42 -> #REF! | AV15: =ORARIO_GENERALE!H55 -> #REF! | AW15: =ORARIO_GENERALE!H68 -> #REF! | AY15: 20:00-21:00 | AZ15: =ORARIO_GENERALE!I16 -> #REF! | BA15: =ORARIO_GENERALE!I29 -> #REF! | BB15: =ORARIO_GENERALE!I42 -> #REF! | BC15: =ORARIO_GENERALE!I55 -> #REF! | BD15: =ORARIO_GENERALE!I68 -> #REF! | BF15: 20:00-21:00 | BG15: =ORARIO_GENERALE!K16 -> #REF! | BH15: =ORARIO_GENERALE!K29 -> #REF! | BI15: =ORARIO_GENERALE!K42 -> #REF! | BJ15: =ORARIO_GENERALE!K55 -> #REF! | BK15: =ORARIO_GENERALE!K68 -> #REF! | BM15: 20:00-21:00 | BN15: =ORARIO_GENERALE!N16 -> #REF! | BO15: =ORARIO_GENERALE!N29 -> #REF! | BP15: =ORARIO_GENERALE!N42 -> #REF! | BQ15: =ORARIO_GENERALE!N55 -> #REF! | BR15: =ORARIO_GENERALE!N68 -> #REF! | BT15: 20:00-21:00 | BU15: =ORARIO_GENERALE!O16 -> #REF! | BV15: =ORARIO_GENERALE!O29 -> #REF! | BW15: =ORARIO_GENERALE!O42 -> #REF! | BX15: =ORARIO_GENERALE!O55 -> #REF! | BY15: =ORARIO_GENERALE!O68 -> #REF! | CA15: 20:00-21:00 | CB15: =ORARIO_GENERALE!P16 -> #REF! | CC15: =ORARIO_GENERALE!P29 -> #REF! | CD15: =ORARIO_GENERALE!P42 -> #REF! | CE15: =ORARIO_GENERALE!P55 -> #REF! | CF15: =ORARIO_GENERALE!P68 -> #REF! | CH15: 20:00-21:00 | CI15: =ORARIO_GENERALE!Q16 -> #REF! | CJ15: =ORARIO_GENERALE!Q29 -> #REF! | CK15: =ORARIO_GENERALE!Q42 -> #REF! | CL15: =ORARIO_GENERALE!Q55 -> #REF! | CM15: =ORARIO_GENERALE!Q68 -> #REF!

Sheet PIANO AULE
G1: PIANO AULE SEDE DI RHO A.S. 2021-2022
B2: LUN | C2: =ORARIO_GENERALE!C4 -> #REF! | D2: =IFERROR(RIGHT(ORARIO_GENERALE!D4,LEN(ORARIO_GENERALE!D4)-SEARCH(" ",ORARIO_GENERALE!D4)),"") | E2: =IFERROR(RIGHT(ORARIO_GENERALE!E4,LEN(ORARIO_GENERALE!E4)-SEARCH(" ",ORARIO_GENERALE!E4)),"") | F2: =IFERROR(RIGHT(ORARIO_GENERALE!F4,LEN(ORARIO_GENERALE!F4)-SEARCH(" ",ORARIO_GENERALE!F4)),"") | G2: =IFERROR(RIGHT(ORARIO_GENERALE!G4,LEN(ORARIO_GENERALE!G4)-SEARCH(" ",ORARIO_GENERALE!G4)),"") | H2: =IFERROR(RIGHT(ORARIO_GENERALE!H4,LEN(ORARIO_GENERALE!H4)-SEARCH(" ",ORARIO_GENERALE!H4)),"") | I2: =IFERROR(RIGHT(ORARIO_GENERALE!I4,LEN(ORARIO_GENERALE!I4)-SEARCH(" ",ORARIO_GENERALE!I4)),"") | J2: =ORARIO_GENERALE!J4 -> #REF! | Q2: MAR
C3: =ORARIO_GENERALE!C5 -> #REF! | D3: =IFERROR(RIGHT(ORARIO_GENERALE!D5,LEN(ORARIO_GENERALE!D5)+SEARCH(" ",ORARIO_GENERALE!D5)),"") | E3: =IFERROR(RIGHT(ORARIO_GENERALE!E5,LEN(ORARIO_GENERALE!E5)+SEARCH(" ",ORARIO_GENERALE!E5)),"") | F3: =IFERROR(RIGHT(ORARIO_GENERALE!F5,LEN(ORARIO_GENERALE!F5)+SEARCH(" ",ORARIO_GENERALE!F5)),"") | G3: =IFERROR(RIGHT(ORARIO_GENERALE!G5,LEN(ORARIO_GENERALE!G5)+SEARCH(" ",ORARIO_GENERALE!G5)),"") | H3: =IFERROR(RIGHT(ORARIO_GENERALE!H5,LEN(ORARIO_GENERALE!H5)+SEARCH(" ",ORARIO_GENERALE!H5)),"") | I3: =IFERROR(RIGHT(ORARIO_GENERALE!I5,LEN(ORARIO_GENERALE!I5)+SEARCH(" ",ORARIO_GENERALE!I5)),"") | J3: =ORARIO_GENERALE!J5 -> #REF! | K3: =IFERROR(RIGHT(ORARIO_GENERALE!K5,LEN(ORARIO_GENERALE!K5)+SEARCH(" ",ORARIO_GENERALE!K5)),"") | L3: =IFERROR(RIGHT(ORARIO_GENERALE!L5,LEN(ORARIO_GENERALE!L5)+SEARCH(" ",ORARIO_GENERALE!L5)),"") | M3: =IFERROR(RIGHT(ORARIO_GENERALE!M5,LEN(ORARIO_GENERALE!M5)+SEARCH(" ",ORARIO_GENERALE!M5)),"") | N3: =IFERROR(RIGHT(ORARIO_GENERALE!N5,LEN(ORARIO_GENERALE!N5)+SEARCH(" ",ORARIO_GENERALE!N5)),"") | O3: =IFERROR(RIGHT(ORARIO_GENERALE!O5,LEN(ORARIO_GENERALE!O5)+SEARCH(" ",ORARIO_GENERALE!O5)),"") | P3: =IFERROR(RIGHT(ORARIO_GENERALE!P5,LEN(ORARIO_GENERALE!P5)+SEARCH(" ",ORARIO_GENERALE!P5)),"")
C4: =ORARIO_GENERALE!C6 -> #REF! | D4: =IFERROR(RIGHT(ORARIO_GENERALE!D6,LEN(ORARIO_GENERALE!D6)+SEARCH(" ",ORARIO_GENERALE!D6)),"") | E4: =IFERROR(RIGHT(ORARIO_GENERALE!E6,LEN(ORARIO_GENERALE!E6)+SEARCH(" ",ORARIO_GENERALE!E6)),"") | F4: =IFERROR(RIGHT(ORARIO_GENERALE!F6,LEN(ORARIO_GENERALE!F6)+SEARCH(" ",ORARIO_GENERALE!F6)),"") | G4: =IFERROR(RIGHT(ORARIO_GENERALE!G6,LEN(ORARIO_GENERALE!G6)+SEARCH(" ",ORARIO_GENERALE!G6)),"") | H4: =IFERROR(RIGHT(ORARIO_GENERALE!H6,LEN(ORARIO_GENERALE!H6)+SEARCH(" ",ORARIO_GENERALE!H6)),"") | I4: =IFERROR(RIGHT(ORARIO_GENERALE!I6,LEN(ORARIO_GENERALE!I6)+SEARCH(" ",ORARIO_GENERALE!I6)),"") | J4: =ORARIO_GENERALE!J6 -> #REF! | K4: =IFERROR(RIGHT(ORARIO_GENERALE!K6,LEN(ORARIO_GENERALE!K6)+SEARCH(" ",ORARIO_GENERALE!K6)),"") | L4: =IFERROR(RIGHT(ORARIO_GENERALE!L6,LEN(ORARIO_GENERALE!L6)+SEARCH(" ",ORARIO_GENERALE!L6)),"") | M4: =IFERROR(RIGHT(ORARIO_GENERALE!M6,LEN(ORARIO_GENERALE!M6)+SEARCH(" ",ORARIO_GENERALE!M6)),"") | N4: =IFERROR(RIGHT(ORARIO_GENERALE!N6,LEN(ORARIO_GENERALE!N6)+SEARCH(" ",ORARIO_GENERALE!N6)),"") | O4: =IFERROR(RIGHT(ORARIO_GENERALE!O6,LEN(ORARIO_GENERALE!O6)+SEARCH(" ",ORARIO_GENERALE!O6)),"") | P4: =IFERROR(RIGHT(ORARIO_GENERALE!P6,LEN(ORARIO_GENERALE!P6)+SEARCH(" ",ORARIO_GENERALE!P6)),"")
C5: =ORARIO_GENERALE!C7 -> #REF! | D5: =IFERROR(RIGHT(ORARIO_GENERALE!D7,LEN(ORARIO_GENERALE!D7)+SEARCH(" ",ORARIO_GENERALE!D7)),"") | E5: =IFERROR(RIGHT(ORARIO_GENERALE!E7,LEN(ORARIO_GENERALE!E7)+SEARCH(" ",ORARIO_GENERALE!E7)),"") | F5: =IFERROR(RIGHT(ORARIO_GENERALE!F7,LEN(ORARIO_GENERALE!F7)+SEARCH(" ",ORARIO_GENERALE!F7)),"") | G5: =IFERROR(RIGHT(ORARIO_GENERALE!G7,LEN(ORARIO_GENERALE!G7)+SEARCH(" ",ORARIO_GENERALE!G7)),"") | H5: =IFERROR(RIGHT(ORARIO_GENERALE!H7,LEN(ORARIO_GENERALE!H7)+SEARCH(" ",ORARIO_GENERALE!H7)),"") | I5: =IFERROR(RIGHT(ORARIO_GENERALE!I7,LEN(ORARIO_GENERALE!I7)+SEARCH(" ",ORARIO_GENERALE!I7)),"") | J5: =ORARIO_GENERALE!J7 -> #REF! | K5: =IFERROR(RIGHT(ORARIO_GENERALE!K7,LEN(ORARIO_GENERALE!K7)+SEARCH(" ",ORARIO_GENERALE!K7)),"") | L5: =IFERROR(RIGHT(ORARIO_GENERALE!L7,LEN(ORARIO_GENERALE!L7)+SEARCH(" ",ORARIO_GENERALE!L7)),"") | M5: =IFERROR(RIGHT(ORARIO_GENERALE!M7,LEN(ORARIO_GENERALE!M7)+SEARCH(" ",ORARIO_GENERALE!M7)),"") | N5: =IFERROR(RIGHT(ORARIO_GENERALE!N7,LEN(ORARIO_GENERALE!N7)+SEARCH(" ",ORARIO_GENERALE!N7)),"") | O5: =IFERROR(RIGHT(ORARIO_GENERALE!O7,LEN(ORARIO_GENERALE!O7)+SEARCH(" ",ORARIO_GENERALE!O7)),"") | P5: =IFERROR(RIGHT(ORARIO_GENERALE!P7,LEN(ORARIO_GENERALE!P7)+SEARCH(" ",ORARIO_GENERALE!P7)),"")
C6: =ORARIO_GENERALE!C8 -> #REF! | D6: =IFERROR(RIGHT(ORARIO_GENERALE!D8,LEN(ORARIO_GENERALE!D8)+SEARCH(" ",ORARIO_GENERALE!D8)),"") | E6: =IFERROR(RIGHT(ORARIO_GENERALE!E8,LEN(ORARIO_GENERALE!E8)+SEARCH(" ",ORARIO_GENERALE!E8)),"") | F6: =IFERROR(RIGHT(ORARIO_GENERALE!F8,LEN(ORARIO_GENERALE!F8)+SEARCH(" ",ORARIO_GENERALE!F8)),"") | G6: =IFERROR(RIGHT(ORARIO_GENERALE!G8,LEN(ORARIO_GENERALE!G8)+SEARCH(" ",ORARIO_GENERALE!G8)),"") | H6: =IFERROR(RIGHT(ORARIO_GENERALE!H8,LEN(ORARIO_GENERALE!H8)+SEARCH(" ",ORARIO_GENERALE!H8)),"") | I6: =IFERROR(RIGHT(ORARIO_GENERALE!I8,LEN(ORARIO_GENERALE!I8)+SEARCH(" ",ORARIO_GENERALE!I8)),"") | J6: =ORARIO_GENERALE!J8 -> #REF! | K6: =IFERROR(RIGHT(ORARIO_GENERALE!K8,LEN(ORARIO_GENERALE!K8)+SEARCH(" ",ORARIO_GENERALE!K8)),"") | L6: =IFERROR(RIGHT(ORARIO_GENERALE!L8,LEN(ORARIO_GENERALE!L8)+SEARCH(" ",ORARIO_GENERALE!L8)),"") | M6: =IFERROR(RIGHT(ORARIO_GENERALE!M8,LEN(ORARIO_GENERALE!M8)+SEARCH(" ",ORARIO_GENERALE!M8)),"") | N6: =IFERROR(RIGHT(ORARIO_GENERALE!N8,LEN(ORARIO_GENERALE!N8)+SEARCH(" ",ORARIO_GENERALE!N8)),"") | O6: =IFERROR(RIGHT(ORARIO_GENERALE!O8,LEN(ORARIO_GENERALE!O8)+SEARCH(" ",ORARIO_GENERALE!O8)),"") | P6: =IFERROR(RIGHT(ORARIO_GENERALE!P8,LEN(ORARIO_GENERALE!P8)+SEARCH(" ",ORARIO_GENERALE!P8)),"")
C7: =ORARIO_GENERALE!C9 -> #REF! | D7: =IFERROR(RIGHT(#REF!,LEN(#REF!)+SEARCH(" ",#REF!)),"") | E7: =IFERROR(RIGHT(ORARIO_GENERALE!D9,LEN(ORARIO_GENERALE!D9)+SEARCH(" ",ORARIO_GENERALE!D9)),"") | F7: =IFERROR(RIGHT(ORARIO_GENERALE!F9,LEN(ORARIO_GENERALE!F9)+SEARCH(" ",ORARIO_GENERALE!F9)),"") | G7: =IFERROR(RIGHT(ORARIO_GENERALE!G9,LEN(ORARIO_GENERALE!G9)+SEARCH(" ",ORARIO_GENERALE!G9)),"") | H7: =IFERROR(RIGHT(ORARIO_GENERALE!H9,LEN(ORARIO_GENERALE!H9)+SEARCH(" ",ORARIO_GENERALE!H9)),"") | I7: =IFERROR(RIGHT(ORARIO_GENERALE!I9,LEN(ORARIO_GENERALE!I9)+SEARCH(" ",ORARIO_GENERALE!I9)),"") | J7: =ORARIO_GENERALE!J9 -> #REF! | K7: =IFERROR(RIGHT(ORARIO_GENERALE!K9,LEN(ORARIO_GENERALE!K9)+SEARCH(" ",ORARIO_GENERALE!K9)),"") | L7: =IFERROR(RIGHT(ORARIO_GENERALE!L9,LEN(ORARIO_GENERALE!L9)+SEARCH(" ",ORARIO_GENERALE!L9)),"") | M7: =IFERROR(RIGHT(ORARIO_GENERALE!M9,LEN(ORARIO_GENERALE!M9)+SEARCH(" ",ORARIO_GENERALE!M9)),"") | N7: =IFERROR(RIGHT(ORARIO_GENERALE!N9,LEN(ORARIO_GENERALE!N9)+SEARCH(" ",ORARIO_GENERALE!N9)),"") | O7: =IFERROR(RIGHT(ORARIO_GENERALE!O9,LEN(ORARIO_GENERALE!O9)+SEARCH(" ",ORARIO_GENERALE!O9)),"") | P7: =IFERROR(RIGHT(ORARIO_GENERALE!P9,LEN(ORARIO_GENERALE!P9)+SEARCH(" ",ORARIO_GENERALE!P9)),"")
C8: =ORARIO_GENERALE!C10 -> #REF! | D8: =IFERROR(RIGHT(ORARIO_GENERALE!D10,LEN(ORARIO_GENERALE!D10)+SEARCH(" ",ORARIO_GENERALE!D10)),"") | E8: =IFERROR(RIGHT(ORARIO_GENERALE!E10,LEN(ORARIO_GENERALE!E10)+SEARCH(" ",ORARIO_GENERALE!E10)),"") | F8: =IFERROR(RIGHT(ORARIO_GENERALE!F10,LEN(ORARIO_GENERALE!F10)+SEARCH(" ",ORARIO_GENERALE!F10)),"") | G8: =IFERROR(RIGHT(ORARIO_GENERALE!G10,LEN(ORARIO_GENERALE!G10)+SEARCH(" ",ORARIO_GENERALE!G10)),"") | H8: =IFERROR(RIGHT(ORARIO_GENERALE!H10,LEN(ORARIO_GENERALE!H10)+SEARCH(" ",ORARIO_GENERALE!H10)),"") | I8: =IFERROR(RIGHT(ORARIO_GENERALE!I10,LEN(ORARIO_GENERALE!I10)+SEARCH(" ",ORARIO_GENERALE!I10)),"") | J8: =ORARIO_GENERALE!J10 -> #REF! | K8: =IFERROR(RIGHT(ORARIO_GENERALE!K10,LEN(ORARIO_GENERALE!K10)+SEARCH(" ",ORARIO_GENERALE!K10)),"") | L8: =IFERROR(RIGHT(ORARIO_GENERALE!L10,LEN(ORARIO_GENERALE!L10)+SEARCH(" ",ORARIO_GENERALE!L10)),"") | M8: =IFERROR(RIGHT(ORARIO_GENERALE!M10,LEN(ORARIO_GENERALE!M10)+SEARCH(" ",ORARIO_GENERALE!M10)),"") | N8: =IFERROR(RIGHT(ORARIO_GENERALE!N10,LEN(ORARIO_GENERALE!N10)+SEARCH(" ",ORARIO_GENERALE!N10)),"") | O8: =IFERROR(RIGHT(ORARIO_GENERALE!O10,LEN(ORARIO_GENERALE!O10)+SEARCH(" ",ORARIO_GENERALE!O10)),"") | P8: =IFERROR(RIGHT(ORARIO_GENERALE!P10,LEN(ORARIO_GENERALE!P10)+SEARCH(" ",ORARIO_GENERALE!P10)),"")
C9: =ORARIO_GENERALE!C11 -> #REF! | D9: =IFERROR(RIGHT(ORARIO_GENERALE!D11,LEN(ORARIO_GENERALE!D11)+SEARCH(" ",ORARIO_GENERALE!D11)),"") | E9: =IFERROR(RIGHT(ORARIO_GENERALE!E11,LEN(ORARIO_GENERALE!E11)+SEARCH(" ",ORARIO_GENERALE!E11)),"") | F9: =IFERROR(RIGHT(ORARIO_GENERALE!F11,LEN(ORARIO_GENERALE!F11)+SEARCH(" ",ORARIO_GENERALE!F11)),"") | G9: =IFERROR(RIGHT(ORARIO_GENERALE!G11,LEN(ORARIO_GENERALE!G11)+SEARCH(" ",ORARIO_GENERALE!G11)),"") | H9: =IFERROR(RIGHT(ORARIO_GENERALE!H11,LEN(ORARIO_GENERALE!H11)+SEARCH(" ",ORARIO_GENERALE!H11)),"") | I9: =IFERROR(RIGHT(ORARIO_GENERALE!I11,LEN(ORARIO_GENERALE!I11)+SEARCH(" ",ORARIO_GENERALE!I11)),"") | J9: =ORARIO_GENERALE!J11 -> #REF! | K9: =IFERROR(RIGHT(ORARIO_GENERALE!K11,LEN(ORARIO_GENERALE!K11)+SEARCH(" ",ORARIO_GENERALE!K11)),"") | L9: =IFERROR(RIGHT(ORARIO_GENERALE!L11,LEN(ORARIO_GENERALE!L11)+SEARCH(" ",ORARIO_GENERALE!L11)),"") | M9: =IFERROR(RIGHT(ORARIO_GENERALE!M11,LEN(ORARIO_GENERALE!M11)+SEARCH(" ",ORARIO_GENERALE!M11)),"") | N9: =IFERROR(RIGHT(ORARIO_GENERALE!N11,LEN(ORARIO_GENERALE!N11)+SEARCH(" ",ORARIO_GENERALE!N11)),"") | O9: =IFERROR(RIGHT(ORARIO_GENERALE!O11,LEN(ORARIO_GENERALE!O11)+SEARCH(" ",ORARIO_GENERALE!O11)),"") | P9: =IFERROR(RIGHT(ORARIO_GENERALE!P11,LEN(ORARIO_GENERALE!P11)+SEARCH(" ",ORARIO_GENERALE!P11)),"")
C10: =ORARIO_GENERALE!C12 -> #REF! | D10: =IFERROR(RIGHT(ORARIO_GENERALE!D12,LEN(ORARIO_GENERALE!D12)+SEARCH(" ",ORARIO_GENERALE!D12)),"") | E10: =IFERROR(RIGHT(ORARIO_GENERALE!E12,LEN(ORARIO_GENERALE!E12)+SEARCH(" ",ORARIO_GENERALE!E12)),"") | F10: =IFERROR(RIGHT(ORARIO_GENERALE!F12,LEN(ORARIO_GENERALE!F12)+SEARCH(" ",ORARIO_GENERALE!F12)),"") | G10: =IFERROR(RIGHT(ORARIO_GENERALE!G12,LEN(ORARIO_GENERALE!G12)+SEARCH(" ",ORARIO_GENERALE!G12)),"") | H10: =IFERROR(RIGHT(ORARIO_GENERALE!H12,LEN(ORARIO_GENERALE!H12)+SEARCH(" ",ORARIO_GENERALE!H12)),"") | I10: =IFERROR(RIGHT(ORARIO_GENERALE!I12,LEN(ORARIO_GENERALE!I12)+SEARCH(" ",ORARIO_GENERALE!I12)),"") | J10: =ORARIO_GENERALE!J12 -> #REF! | K10: =IFERROR(RIGHT(ORARIO_GENERALE!K12,LEN(ORARIO_GENERALE!K12)+SEARCH(" ",ORARIO_GENERALE!K12)),"") | L10: =IFERROR(RIGHT(ORARIO_GENERALE!L12,LEN(ORARIO_GENERALE!L12)+SEARCH(" ",ORARIO_GENERALE!L12)),"") | M10: =IFERROR(RIGHT(ORARIO_GENERALE!M12,LEN(ORARIO_GENERALE!M12)+SEARCH(" ",ORARIO_GENERALE!M12)),"") | N10: =IFERROR(RIGHT(ORARIO_GENERALE!N12,LEN(ORARIO_GENERALE!N12)+SEARCH(" ",ORARIO_GENERALE!N12)),"") | O10: =IFERROR(RIGHT(ORARIO_GENERALE!O12,LEN(ORARIO_GENERALE!O12)+SEARCH(" ",ORARIO_GENERALE!O12)),"") | P10: =IFERROR(RIGHT(ORARIO_GENERALE!P12,LEN(ORARIO_GENERALE!P12)+SEARCH(" ",ORARIO_GENERALE!P12)),"")
C11: =ORARIO_GENERALE!C13 -> #REF! | D11: =IFERROR(RIGHT(ORARIO_GENERALE!D13,LEN(ORARIO_GENERALE!D13)+SEARCH(" ",ORARIO_GENERALE!D13)),"") | E11: =IFERROR(RIGHT(ORARIO_GENERALE!E13,LEN(ORARIO_GENERALE!E13)+SEARCH(" ",ORARIO_GENERALE!E13)),"") | F11: =IFERROR(RIGHT(ORARIO_GENERALE!F13,LEN(ORARIO_GENERALE!F13)+SEARCH(" ",ORARIO_GENERALE!F13)),"") | G11: =IFERROR(RIGHT(ORARIO_GENERALE!G13,LEN(ORARIO_GENERALE!G13)+SEARCH(" ",ORARIO_GENERALE!G13)),"") | H11: =IFERROR(RIGHT(ORARIO_GENERALE!H13,LEN(ORARIO_GENERALE!H13)+SEARCH(" ",ORARIO_GENERALE!H13)),"") | I11: =IFERROR(RIGHT(ORARIO_GENERALE!I13,LEN(ORARIO_GENERALE!I13)+SEARCH(" ",ORARIO_GENERALE!I13)),"") | J11: =ORARIO_GENERALE!J13 -> #REF! | K11: =IFERROR(RIGHT(ORARIO_GENERALE!K13,LEN(ORARIO_GENERALE!K13)+SEARCH(" ",ORARIO_GENERALE!K13)),"") | L11: =IFERROR(RIGHT(ORARIO_GENERALE!L13,LEN(ORARIO_GENERALE!L13)+SEARCH(" ",ORARIO_GENERALE!L13)),"") | M11: =IFERROR(RIGHT(ORARIO_GENERALE!M13,LEN(ORARIO_GENERALE!M13)+SEARCH(" ",ORARIO_GENERALE!M13)),"") | N11: =IFERROR(RIGHT(ORARIO_GENERALE!N13,LEN(ORARIO_GENERALE!N13)+SEARCH(" ",ORARIO_GENERALE!N13)),"") | O11: =IFERROR(RIGHT(ORARIO_GENERALE!O13,LEN(ORARIO_GENERALE!O13)+SEARCH(" ",ORARIO_GENERALE!O13)),"") | P11: =IFERROR(RIGHT(ORARIO_GENERALE!P13,LEN(ORARIO_GENERALE!P13)+SEARCH(" ",ORARIO_GENERALE!P13)),"")
C12: =ORARIO_GENERALE!C14 -> #REF! | D12: =IFERROR(RIGHT(ORARIO_GENERALE!D14,LEN(ORARIO_GENERALE!D14)+SEARCH(" ",ORARIO_GENERALE!D14)),"") | E12: =IFERROR(RIGHT(ORARIO_GENERALE!E14,LEN(ORARIO_GENERALE!E14)+SEARCH(" ",ORARIO_GENERALE!E14)),"") | F12: =IFERROR(RIGHT(ORARIO_GENERALE!F14,LEN(ORARIO_GENERALE!F14)+SEARCH(" ",ORARIO_GENERALE!F14)),"") | G12: =IFERROR(RIGHT(ORARIO_GENERALE!G14,LEN(ORARIO_GENERALE!G14)+SEARCH(" ",ORARIO_GENERALE!G14)),"") | H12: =IFERROR(RIGHT(ORARIO_GENERALE!H14,LEN(ORARIO_GENERALE!H14)+SEARCH(" ",ORARIO_GENERALE!H14)),"") | I12: =IFERROR(RIGHT(ORARIO_GENERALE!I14,LEN(ORARIO_GENERALE!I14)+SEARCH(" ",ORARIO_GENERALE!I14)),"") | J12: =ORARIO_GENERALE!J14 -> #REF! | K12: =IFERROR(RIGHT(ORARIO_GENERALE!K14,LEN(ORARIO_GENERALE!K14)+SEARCH(" ",ORARIO_GENERALE!K14)),"") | L12: =IFERROR(RIGHT(ORARIO_GENERALE!L14,LEN(ORARIO_GENERALE!L14)+SEARCH(" ",ORARIO_GENERALE!L14)),"") | M12: =IFERROR(RIGHT(ORARIO_GENERALE!M14,LEN(ORARIO_GENERALE!M14)+SEARCH(" ",ORARIO_GENERALE!M14)),"") | N12: =IFERROR(RIGHT(ORARIO_GENERALE!N14,LEN(ORARIO_GENERALE!N14)+SEARCH(" ",ORARIO_GENERALE!N14)),"") | O12: =IFERROR(RIGHT(ORARIO_GENERALE!O14,LEN(ORARIO_GENERALE!O14)+SEARCH(" ",ORARIO_GENERALE!O14)),"") | P12: =IFERROR(RIGHT(ORARIO_GENERALE!P14,LEN(ORARIO_GENERALE!P14)+SEARCH(" ",ORARIO_GENERALE!P14)),"")
C13: =ORARIO_GENERALE!C15 -> #REF! | D13: =IFERROR(RIGHT(ORARIO_GENERALE!D15,LEN(ORARIO_GENERALE!D15)+SEARCH(" ",ORARIO_GENERALE!D15)),"") | E13: =IFERROR(RIGHT(ORARIO_GENERALE!E15,LEN(ORARIO_GENERALE!E15)+SEARCH(" ",ORARIO_GENERALE!E15)),"") | F13: =IFERROR(RIGHT(ORARIO_GENERALE!F15,LEN(ORARIO_GENERALE!F15)+SEARCH(" ",ORARIO_GENERALE!F15)),"") | G13: =IFERROR(RIGHT(ORARIO_GENERALE!G15,LEN(ORARIO_GENERALE!G15)+SEARCH(" ",ORARIO_GENERALE!G15)),"") | H13: =IFERROR(RIGHT(ORARIO_GENERALE!H15,LEN(ORARIO_GENERALE!H15)+SEARCH(" ",ORARIO_GENERALE!H15)),"") | I13: =IFERROR(RIGHT(ORARIO_GENERALE!I15,LEN(ORARIO_GENERALE!I15)+SEARCH(" ",ORARIO_GENERALE!I15)),"") | J13: =ORARIO_GENERALE!J15 -> #REF! | K13: =IFERROR(RIGHT(ORARIO_GENERALE!K15,LEN(ORARIO_GENERALE!K15)+SEARCH(" ",ORARIO_GENERALE!K15)),"") | L13: =IFERROR(RIGHT(ORARIO_GENERALE!L15,LEN(ORARIO_GENERALE!L15)+SEARCH(" ",ORARIO_GENERALE!L15)),"") | M13: =IFERROR(RIGHT(ORARIO_GENERALE!M15,LEN(ORARIO_GENERALE!M15)+SEARCH(" ",ORARIO_GENERALE!M15)),"") | N13: =IFERROR(RIGHT(ORARIO_GENERALE!N15,LEN(ORARIO_GENERALE!N15)+SEARCH(" ",ORARIO_GENERALE!N15)),"") | O13: =IFERROR(RIGHT(ORARIO_GENERALE!O15,LEN(ORARIO_GENERALE!O15)+SEARCH(" ",ORARIO_GENERALE!O15)),"") | P13: =IFERROR(RIGHT(ORARIO_GENERALE!P15,LEN(ORARIO_GENERALE!P15)+SEARCH(" ",ORARIO_GENERALE!P15)),"")
C14: =ORARIO_GENERALE!C16 -> #REF! | D14: =IFERROR(RIGHT(ORARIO_GENERALE!D16,LEN(ORARIO_GENERALE!D16)+SEARCH(" ",ORARIO_GENERALE!D16)),"") | E14: =IFERROR(RIGHT(ORARIO_GENERALE!E16,LEN(ORARIO_GENERALE!E16)+SEARCH(" ",ORARIO_GENERALE!E16)),"") | F14: =IFERROR(RIGHT(ORARIO_GENERALE!F16,LEN(ORARIO_GENERALE!F16)+SEARCH(" ",ORARIO_GENERALE!F16)),"") | G14: =IFERROR(RIGHT(ORARIO_GENERALE!G16,LEN(ORARIO_GENERALE!G16)+SEARCH(" ",ORARIO_GENERALE!G16)),"") | H14: =IFERROR(RIGHT(ORARIO_GENERALE!H16,LEN(ORARIO_GENERALE!H16)+SEARCH(" ",ORARIO_GENERALE!H16)),"") | I14: =IFERROR(RIGHT(ORARIO_GENERALE!I16,LEN(ORARIO_GENERALE!I16)+SEARCH(" ",ORARIO_GENERALE!I16)),"") | J14: =ORARIO_GENERALE!J16 -> #REF! | K14: =IFERROR(RIGHT(ORARIO_GENERALE!K16,LEN(ORARIO_GENERALE!K16)+SEARCH(" ",ORARIO_GENERALE!K16)),"") | L14: =IFERROR(RIGHT(ORARIO_GENERALE!L16,LEN(ORARIO_GENERALE!L16)+SEARCH(" ",ORARIO_GENERALE!L16)),"") | M14: =IFERROR(RIGHT(ORARIO_GENERALE!M16,LEN(ORARIO_GENERALE!M16)+SEARCH(" ",ORARIO_GENERALE!M16)),"") | N14: =IFERROR(RIGHT(ORARIO_GENERALE!N16,LEN(ORARIO_GENERALE!N16)+SEARCH(" ",ORARIO_GENERALE!N16)),"") | O14: =IFERROR(RIGHT(ORARIO_GENERALE!O16,LEN(ORARIO_GENERALE!O16)+SEARCH(" ",ORARIO_GENERALE!O16)),"") | P14: =IFERROR(RIGHT(ORARIO_GENERALE!P16,LEN(ORARIO_GENERALE!P16)+SEARCH(" ",ORARIO_GENERALE!P16)),"")
B15: MAR | C15: =ORARIO_GENERALE!C17 -> #REF! | D15: =IFERROR(RIGHT(ORARIO_GENERALE!D17,LEN(ORARIO_GENERALE!D17)+SEARCH(" ",ORARIO_GENERALE!D17)),"") | E15: =IFERROR(RIGHT(ORARIO_GENERALE!E17,LEN(ORARIO_GENERALE!E17)+SEARCH(" ",ORARIO_GENERALE!E17)),"") | F15: =IFERROR(RIGHT(ORARIO_GENERALE!F17,LEN(ORARIO_GENERALE!F17)+SEARCH(" ",ORARIO_GENERALE!F17)),"") | G15: =IFERROR(RIGHT(ORARIO_GENERALE!G17,LEN(ORARIO_GENERALE!G17)+SEARCH(" ",ORARIO_GENERALE!G17)),"") | H15: =IFERROR(RIGHT(ORARIO_GENERALE!H17,LEN(ORARIO_GENERALE!H17)+SEARCH(" ",ORARIO_GENERALE!H17)),"") | I15: =IFERROR(RIGHT(ORARIO_GENERALE!I17,LEN(ORARIO_GENERALE!I17)+SEARCH(" ",ORARIO_GENERALE!I17)),"") | J15: =ORARIO_GENERALE!J17 -> #REF! | K15: =IFERROR(RIGHT(ORARIO_GENERALE!K17,LEN(ORARIO_GENERALE!K17)+SEARCH(" ",ORARIO_GENERALE!K17)),"") | L15: =IFERROR(RIGHT(ORARIO_GENERALE!L17,LEN(ORARIO_GENERALE!L17)+SEARCH(" ",ORARIO_GENERALE!L17)),"") | M15: =IFERROR(RIGHT(ORARIO_GENERALE!M17,LEN(ORARIO_GENERALE!M17)+SEARCH(" ",ORARIO_GENERALE!M17)),"") | N15: =IFERROR(RIGHT(ORARIO_GENERALE!N17,LEN(ORARIO_GENERALE!N17)+SEARCH(" ",ORARIO_GENERALE!N17)),"") | O15: =IFERROR(RIGHT(ORARIO_GENERALE!O17,LEN(ORARIO_GENERALE!O17)+SEARCH(" ",ORARIO_GENERALE!O17)),"") | P15: =IFERROR(RIGHT(ORARIO_GENERALE!P17,LEN(ORARIO_GENERALE!P17)+SEARCH(" ",ORARIO_GENERALE!P17)),"") | Q15: =IFERROR(RIGHT(ORARIO_GENERALE!Q17,LEN(ORARIO_GENERALE!Q17)-SEARCH(" ",ORARIO_GENERALE!Q17)),"")
C16: =ORARIO_GENERALE!C18 -> #REF! | D16: =IFERROR(RIGHT(ORARIO_GENERALE!D18,LEN(ORARIO_GENERALE!D18)+SEARCH(" ",ORARIO_GENERALE!D18)),"") | E16: =IFERROR(RIGHT(ORARIO_GENERALE!E18,LEN(ORARIO_GENERALE!E18)+SEARCH(" ",ORARIO_GENERALE!E18)),"") | F16: =IFERROR(RIGHT(ORARIO_GENERALE!F18,LEN(ORARIO_GENERALE!F18)+SEARCH(" ",ORARIO_GENERALE!F18)),"") | G16: =IFERROR(RIGHT(ORARIO_GENERALE!G18,LEN(ORARIO_GENERALE!G18)+SEARCH(" ",ORARIO_GENERALE!G18)),"") | H16: =IFERROR(RIGHT(ORARIO_GENERALE!H18,LEN(ORARIO_GENERALE!H18)+SEARCH(" ",ORARIO_GENERALE!H18)),"") | I16: =IFERROR(RIGHT(ORARIO_GENERALE!I18,LEN(ORARIO_GENERALE!I18)+SEARCH(" ",ORARIO_GENERALE!I18)),"") | J16: =ORARIO_GENERALE!J18 -> #REF! | K16: =IFERROR(RIGHT(ORARIO_GENERALE!K18,LEN(ORARIO_GENERALE!K18)+SEARCH(" ",ORARIO_GENERALE!K18)),"") | L16: =IFERROR(RIGHT(#REF!,LEN(#REF!)+SEARCH(" ",#REF!)),"") | M16: =IFERROR(RIGHT(ORARIO_GENERALE!M18,LEN(ORARIO_GENERALE!M18)+SEARCH(" ",ORARIO_GENERALE!M18)),"") | N16: =IFERROR(RIGHT(ORARIO_GENERALE!N18,LEN(ORARIO_GENERALE!N18)+SEARCH(" ",ORARIO_GENERALE!N18)),"") | O16: =IFERROR(RIGHT(ORARIO_GENERALE!O18,LEN(ORARIO_GENERALE!O18)+SEARCH(" ",ORARIO_GENERALE!O18)),"") | P16: =IFERROR(RIGHT(ORARIO_GENERALE!P18,LEN(ORARIO_GENERALE!P18)+SEARCH(" ",ORARIO_GENERALE!P18)),"") | Q16: =IFERROR(RIGHT(ORARIO_GENERALE!Q18,LEN(ORARIO_GENERALE!Q18)-SEARCH(" ",ORARIO_GENERALE!Q18)),"") | R16: =IFERROR(RIGHT(ORARIO_GENERALE!R18,LEN(ORARIO_GENERALE!R18)-SEARCH(" ",ORARIO_GENERALE!R18)),"")
C17: =ORARIO_GENERALE!C19 -> #REF! | D17: =IFERROR(RIGHT(ORARIO_GENERALE!D19,LEN(ORARIO_GENERALE!D19)+SEARCH(" ",ORARIO_GENERALE!D19)),"") | E17: =IFERROR(RIGHT(ORARIO_GENERALE!E19,LEN(ORARIO_GENERALE!E19)+SEARCH(" ",ORARIO_GENERALE!E19)),"") | F17: =IFERROR(RIGHT(ORARIO_GENERALE!F19,LEN(ORARIO_GENERALE!F19)+SEARCH(" ",ORARIO_GENERALE!F19)),"") | G17: =IFERROR(RIGHT(ORARIO_GENERALE!G19,LEN(ORARIO_GENERALE!G19)+SEARCH(" ",ORARIO_GENERALE!G19)),"") | H17: =IFERROR(RIGHT(ORARIO_GENERALE!H19,LEN(ORARIO_GENERALE!H19)+SEARCH(" ",ORARIO_GENERALE!H19)),"") | I17: =IFERROR(RIGHT(ORARIO_GENERALE!I19,LEN(ORARIO_GENERALE!I19)+SEARCH(" ",ORARIO_GENERALE!I19)),"") | J17: =ORARIO_GENERALE!J19 -> #REF! | K17: =IFERROR(RIGHT(ORARIO_GENERALE!K19,LEN(ORARIO_GENERALE!K19)+SEARCH(" ",ORARIO_GENERALE!K19)),"") | L17: =IFERROR(RIGHT(#REF!,LEN(#REF!)+SEARCH(" ",#REF!)),"") | M17: =IFERROR(RIGHT(ORARIO_GENERALE!M19,LEN(ORARIO_GENERALE!M19)+SEARCH(" ",ORARIO_GENERALE!M19)),"") | N17: =IFERROR(RIGHT(ORARIO_GENERALE!N19,LEN(ORARIO_GENERALE!N19)+SEARCH(" ",ORARIO_GENERALE!N19)),"") | O17: =IFERROR(RIGHT(ORARIO_GENERALE!O19,LEN(ORARIO_GENERALE!O19)+SEARCH(" ",ORARIO_GENERALE!O19)),"") | P17: =IFERROR(RIGHT(ORARIO_GENERALE!P19,LEN(ORARIO_GENERALE!P19)+SEARCH(" ",ORARIO_GENERALE!P19)),"") | Q17: =IFERROR(RIGHT(ORARIO_GENERALE!Q19,LEN(ORARIO_GENERALE!Q19)-SEARCH(" ",ORARIO_GENERALE!Q19)),"") | R17: =IFERROR(RIGHT(ORARIO_GENERALE!R19,LEN(ORARIO_GENERALE!R19)-SEARCH(" ",ORARIO_GENERALE!R19)),"")
C18: =ORARIO_GENERALE!C20 -> #REF! | D18: =IFERROR(RIGHT(ORARIO_GENERALE!D20,LEN(ORARIO_GENERALE!D20)+SEARCH(" ",ORARIO_GENERALE!D20)),"") | E18: =IFERROR(RIGHT(ORARIO_GENERALE!E20,LEN(ORARIO_GENERALE!E20)+SEARCH(" ",ORARIO_GENERALE!E20)),"") | F18: =IFERROR(RIGHT(ORARIO_GENERALE!F20,LEN(ORARIO_GENERALE!F20)+SEARCH(" ",ORARIO_GENERALE!F20)),"") | G18: =IFERROR(RIGHT(ORARIO_GENERALE!G20,LEN(ORARIO_GENERALE!G20)+SEARCH(" ",ORARIO_GENERALE!G20)),"") | H18: =IFERROR(RIGHT(ORARIO_GENERALE!H20,LEN(ORARIO_GENERALE!H20)+SEARCH(" ",ORARIO_GENERALE!H20)),"") | I18: =IFERROR(RIGHT(ORARIO_GENERALE!I20,LEN(ORARIO_GENERALE!I20)+SEARCH(" ",ORARIO_GENERALE!I20)),"") | J18: =ORARIO_GENERALE!J20 -> #REF! | K18: =IFERROR(RIGHT(ORARIO_GENERALE!K20,LEN(ORARIO_GENERALE!K20)+SEARCH(" ",ORARIO_GENERALE!K20)),"") | L18: =IFERROR(RIGHT(#REF!,LEN(#REF!)+SEARCH(" ",#REF!)),"") | M18: =IFERROR(RIGHT(ORARIO_GENERALE!M20,LEN(ORARIO_GENERALE!M20)+SEARCH(" ",ORARIO_GENERALE!M20)),"") | N18: =IFERROR(RIGHT(ORARIO_GENERALE!N20,LEN(ORARIO_GENERALE!N20)+SEARCH(" ",ORARIO_GENERALE!N20)),"") | O18: =IFERROR(RIGHT(#REF!,LEN(#REF!)+SEARCH(" ",#REF!)),"") | P18: =IFERROR(RIGHT(ORARIO_GENERALE!P20,LEN(ORARIO_GENERALE!P20)+SEARCH(" ",ORARIO_GENERALE!P20)),"") | Q18: =IFERROR(RIGHT(ORARIO_GENERALE!Q20,LEN(ORARIO_GENERALE!Q20)-SEARCH(" ",ORARIO_GENERALE!Q20)),"") | R18: =IFERROR(RIGHT(ORARIO_GENERALE!R20,LEN(ORARIO_GENERALE!R20)-SEARCH(" ",ORARIO_GENERALE!R20)),"")
C19: =ORARIO_GENERALE!C21 -> #REF! | D19: =IFERROR(RIGHT(ORARIO_GENERALE!D21,LEN(ORARIO_GENERALE!D21)+SEARCH(" ",ORARIO_GENERALE!D21)),"") | E19: =IFERROR(RIGHT(ORARIO_GENERALE!E21,LEN(ORARIO_GENERALE!E21)+SEARCH(" ",ORARIO_GENERALE!E21)),"") | F19: =IFERROR(RIGHT(ORARIO_GENERALE!F21,LEN(ORARIO_GENERALE!F21)+SEARCH(" ",ORARIO_GENERALE!F21)),"") | G19: =IFERROR(RIGHT(ORARIO_GENERALE!G21,LEN(ORARIO_GENERALE!G21)+SEARCH(" ",ORARIO_GENERALE!G21)),"") | H19: =IFERROR(RIGHT(ORARIO_GENERALE!H21,LEN(ORARIO_GENERALE!H21)+SEARCH(" ",ORARIO_GENERALE!H21)),"") | I19: =IFERROR(RIGHT(ORARIO_GENERALE!I21,LEN(ORARIO_GENERALE!I21)+SEARCH(" ",ORARIO_GENERALE!I21)),"") | J19: =ORARIO_GENERALE!J21 -> #REF! | K19: =IFERROR(RIGHT(ORARIO_GENERALE!K21,LEN(ORARIO_GENERALE!K21)+SEARCH(" ",ORARIO_GENERALE!K21)),"") | L19: =IFERROR(RIGHT(ORARIO_GENERALE!L18,LEN(ORARIO_GENERALE!L18)+SEARCH(" ",ORARIO_GENERALE!L18)),"") | M19: =IFERROR(RIGHT(ORARIO_GENERALE!M21,LEN(ORARIO_GENERALE!M21)+SEARCH(" ",ORARIO_GENERALE!M21)),"") | N19: =IFERROR(RIGHT(ORARIO_GENERALE!N21,LEN(ORARIO_GENERALE!N21)+SEARCH(" ",ORARIO_GENERALE!N21)),"") | O19: =IFERROR(RIGHT(ORARIO_GENERALE!O20,LEN(ORARIO_GENERALE!O20)+SEARCH(" ",ORARIO_GENERALE!O20)),"") | P19: =IFERROR(RIGHT(ORARIO_GENERALE!P21,LEN(ORARIO_GENERALE!P21)+SEARCH(" ",ORARIO_GENERALE!P21)),"") | Q19: =IFERROR(RIGHT(ORARIO_GENERALE!Q21,LEN(ORARIO_GENERALE!Q21)-SEARCH(" ",ORARIO_GENERALE!Q21)),"") | R19: =IFERROR(RIGHT(ORARIO_GENERALE!R21,LEN(ORARIO_GENERALE!R21)-SEARCH(" ",ORARIO_GENERALE!R21)),"")
