Workbook

Sheet INSEGNANTI
AF1: g
B2: =ORARIO_GENERALE!D3 -> #REF! | C2: LUN | D2: MAR | E2: MER | F2: GIO | G2: VEN | I2: =ORARIO_GENERALE!E3 -> #REF! | J2: LUN | K2: MAR | L2: MER | M2: GIO | N2: VEN | P2: =ORARIO_GENERALE!L3 -> #REF! | Q2: LUN | R2: MAR | S2: MER | T2: GIO | U2: VEN | W2: =ORARIO_GENERALE!F3 -> #REF! | X2: LUN | Y2: MAR | Z2: MER | AA2: GIO | AB2: VEN | AD2: =ORARIO_GENERALE!M3 -> #REF! | AE2: LUN | AF2: MAR | AG2: MER | AH2: GIO | AI2: VEN | AK2: =ORARIO_GENERALE!G3 -> #REF! | AL2: LUN | AM2: MAR | AN2: MER | AO2: GIO | AP2: VEN | AR2: =ORARIO_GENERALE!H3 -> #REF! | AS2: LUN | AT2: MAR | AU2: MER | AV2: GIO | AW2: VEN | AY2: =ORARIO_GENERALE!I3 -> #REF! | AZ2: LUN | BA2: MAR | BB2: MER | BC2: GIO | BD2: VEN | BF2: =ORARIO_GENERALE!K3 -> #REF! | BG2: LUN | BH2: MAR | BI2: MER | BJ2: GIO | BK2: VEN | BM2: =ORARIO_GENERALE!N3 -> #REF! | BN2: LUN | BO2: MAR | BP2: MER | BQ2: GIO | BR2: VEN | BT2: =ORARIO_GENERALE!O3 -> #REF! | BU2: LUN | BV2: MAR | BW2: MER | BX2: GIO | BY2: VEN | CA2: =ORARIO_GENERALE!P3 -> #REF! | CB2: LUN | CC2: MAR | CD2: MER | CE2: GIO | CF2: VEN | CH2: =ORARIO_GENERALE!Q3 -> #REF! | CI2: LUN | CJ2: MAR | CK2: MER | CL2: GIO | CM2: VEN
B3: 08:30-09:30 | C3: =ORARIO_GENERALE!D4 -> #REF! | D3: =ORARIO_GENERALE!D17 -> #REF! | E3: =ORARIO_GENERALE!D30 -> #REF! | F3: =ORARIO_GENERALE!D43 -> #REF! | G3: =ORARIO_GENERALE!D56 -> #REF! | I3: 08:30-09:30 | J3: =ORARIO_GENERALE!E4 -> #REF! | K3: =ORARIO_GENERALE!E17 -> #REF! | L3: =ORARIO_GENERALE!E30 -> #REF! | M3: =ORARIO_GENERALE!E43 -> #REF! | N3: =ORARIO_GENERALE!E56 -> #REF! | P3: 08:30-09:30 | Q3: =ORARIO_GENERALE!L4 -> #REF! | R3: =ORARIO_GENERALE!L17 -> #REF! | S3: =ORARIO_GENERALE!L30 -> #REF! | T3: =ORARIO_GENERALE!L43 -> #REF! | U3: =ORARIO_GENERALE!L56 -> #REF! | W3: 08:30-09:30 | X3: =ORARIO_GENERALE!F4 -> #REF! | Y3: =ORARIO_GENERALE!F17 -> #REF! | Z3: =ORARIO_GENERALE!F30 -> #REF! | AA3: =ORARIO_GENERALE!F43 -> #REF! | AB3: =ORARIO_GENERALE!F56 -> #REF! | AD3: 08:30-09:30 | AE3: =ORARIO_GENERALE!M4 -> #REF! | AF3: =ORARIO_GENERALE!M17 -> #REF! | AG3: =ORARIO_GENERALE!M30 -> #REF! | AH3: =ORARIO_GENERALE!M43 -> #REF! | AI3: =ORARIO_GENERALE!M56 -> #REF! | AK3: 08:30-09:30 | AL3: =ORARIO_GENERALE!G4 -> #REF! | AM3: =ORARIO_GENERALE!G17 -> #REF! | AN3: =ORARIO_GENERALE!G30 -> #REF! | AO3: =ORARIO_GENERALE!G43 -> #REF! | AP3: =ORARIO_GENERALE!G56 -> #REF! | AR3: 08:30-09:30 | AS3: =ORARIO_GENERALE!H4 -> #REF! | AT3: =ORARIO_GENERALE!H17 -> #REF! | AU3: =ORARIO_GENERALE!H30 -> #REF! | AV3: =ORARIO_GENERALE!H43 -> #REF! | AW3: =ORARIO_GENERALE!H56 -> #REF! | AY3: 08:30-09:30 | AZ3: =ORARIO_GENERALE!I4 -> #REF! | BA3: =ORARIO_GENERALE!I17 -> #REF! | BB3: =ORARIO_GENERALE!I30 -> #REF! | BC3: =ORARIO_GENERALE!I43 -> #REF! | BD3: =ORARIO_GENERALE!I56 -> #REF! | BF3: 08:30-09:30 | BG3: =ORARIO_GENERALE!K4 -> #REF! | BH3: =ORARIO_GENERALE!K17 -> #REF! | BI3: =ORARIO_GENERALE!K30 -> #REF! | BJ3: =ORARIO_GENERALE!K43 -> #REF! | BK3: =ORARIO_GENERALE!K56 -> #REF! | BM3: 08:30-09:30 | BN3: =ORARIO_GENERALE!N4 -> #REF! | BO3: =ORARIO_GENERALE!N17 -> #REF! | BP3: =ORARIO_GENERALE!N30 -> #REF! | BQ3: =ORARIO_GENERALE!N43 -> #REF! | BR3: =ORARIO_GENERALE!N56 -> #REF! | BT3: 08:30-09:30 | BU3: =ORARIO_GENERALE!O4 -> #REF! | BV3: =ORARIO_GENERALE!O17 -> #REF! | BW3: =ORARIO_GENERALE!O30 -> #REF! | BX3: =ORARIO_GENERALE!O43 -> #REF! | BY3: =ORARIO_GENERALE!O56 -> #REF! | CA3: 08:30-09:30 | CB3: =ORARIO_GENERALE!P4 -> #REF! | CC3: =ORARIO_GENERALE!P17 -> #REF! | CD3: =ORARIO_GENERALE!P30 -> #REF! | CE3: =ORARIO_GENERALE!P43 -> #REF! | CF3: =ORARIO_GENERALE!P56 -> #REF! | CH3: 08:30-09:30 | CI3: =ORARIO_GENERALE!Q4 -> #REF! | CJ3: =ORARIO_GENERALE!Q17 -> #REF! | CK3: =ORARIO_GENERALE!Q30 -> #REF! | CL3: =ORARIO_GENERALE!Q43 -> #REF! | CM3: =ORARIO_GENERALE!Q56 -> #REF!
B4: 09:30-10:30 | C4: =ORARIO_GENERALE!D5 -> #REF! | D4: =ORARIO_GENERALE!D18 -> #REF! | E4: =ORARIO_GENERALE!D31 -> #REF! | F4: =ORARIO_GENERALE!D44 -> #REF! | G4: =ORARIO_GENERALE!D57 -> #REF! | I4: 09:30-10:30 | J4: =ORARIO_GENERALE!E5 -> #REF! | K4: =ORARIO_GENERALE!E18 -> #REF! | L4: =ORARIO_GENERALE!E31 -> #REF! | M4: =ORARIO_GENERALE!E44 -> #REF! | N4: =ORARIO_GENERALE!E57 -> #REF! | P4: 09:30-10:30 | Q4: =ORARIO_GENERALE!L5 -> #REF! | R4: =#REF! -> #REF! | S4: =ORARIO_GENERALE!L31 -> #REF! | T4: =ORARIO_GENERALE!L44 -> #REF! | U4: =ORARIO_GENERALE!L57 -> #REF! | W4: 09:30-10:30 | X4: =ORARIO_GENERALE!F5 -> #REF! | Y4: =ORARIO_GENERALE!F18 -> #REF! | Z4: =ORARIO_GENERALE!F31 -> #REF! | AA4: =ORARIO_GENERALE!F44 -> #REF! | AB4: =ORARIO_GENERALE!F57 -> #REF! | AD4: 09:30-10:30 | AE4: =ORARIO_GENERALE!M5 -> #REF! | AF4: =ORARIO_GENERALE!M18 -> #REF! | AG4: =ORARIO_GENERALE!M31 -> #REF! | AH4: =ORARIO_GENERALE!M44 -> #REF! | AI4: =ORARIO_GENERALE!M57 -> #REF! | AK4: 09:30-10:30 | AL4: =ORARIO_GENERALE!G5 -> #REF! | AM4: =ORARIO_GENERALE!G18 -> #REF! | AN4: =ORARIO_GENERALE!G31 -> #REF! | AO4: =ORARIO_GENERALE!G44 -> #REF! | AP4: =ORARIO_GENERALE!G57 -> #REF! | AR4: 09:30-10:30 | AS4: =ORARIO_GENERALE!H5 -> #REF! | AT4: =ORARIO_GENERALE!H18 -> #REF! | AU4: =ORARIO_GENERALE!H31 -> #REF! | AV4: =ORARIO_GENERALE!H44 -> #REF! | AW4: =ORARIO_GENERALE!H57 -> #REF! | AY4: 09:30-10:30 | AZ4: =ORARIO_GENERALE!I5 -> #REF! | BA4: =ORARIO_GENERALE!I18 -> #REF! | BB4: =ORARIO_GENERALE!I31 -> #REF! | BC4: =ORARIO_GENERALE!I44 -> #REF! | BD4: =ORARIO_GENERALE!I57 -> #REF! | BF4: 09:30-10:30 | BG4: =ORARIO_GENERALE!K5 -> #REF! | BH4: =ORARIO_GENERALE!K18 -> #REF! | BI4: =ORARIO_GENERALE!K31 -> #REF! | BJ4: =ORARIO_GENERALE!K44 -> #REF! | BK4: =ORARIO_GENERALE!K57 -> #REF! | BM4: 09:30-10:30 | BN4: =ORARIO_GENERALE!N5 -> #REF! | BO4: =ORARIO_GENERALE!N18 -> #REF! | BP4: =ORARIO_GENERALE!N31 -> #REF! | BQ4: =ORARIO_GENERALE!N44 -> #REF! | BR4: =ORARIO_GENERALE!N57 -> #REF! | BT4: 09:30-10:30 | BU4: =ORARIO_GENERALE!O5 -> #REF! | BV4: =ORARIO_GENERALE!O18 -> #REF! | BW4: =ORARIO_GENERALE!O31 -> #REF! | BX4: =ORARIO_GENERALE!O44 -> #REF! | BY4: =ORARIO_GENERALE!O57 -> #REF! | CA4: 09:30-10:30 | CB4: =ORARIO_GENERALE!P5 -> #REF! | CC4: =ORARIO_GENERALE!P18 -> #REF! | CD4: =ORARIO_GENERALE!P31 -> #REF! | CE4: =ORARIO_GENERALE!P44 -> #REF! | CF4: =ORARIO_GENERALE!P57 -> #REF! | CH4: 09:30-10:30 | CI4: =ORARIO_GENERALE!Q5 -> #REF! | CJ4: =ORARIO_GENERALE!Q18 -> #REF! | CK4: =ORARIO_GENERALE!Q31 -> #REF! | CL4: =ORARIO_GENERALE!Q44 -> #REF! | CM4: =ORARIO_GENERALE!Q57 -> #REF!
B5: 10:30-11:30 | C5: =ORARIO_GENERALE!D6 -> #REF! | D5: =ORARIO_GENERALE!D19 -> #REF! | E5: =ORARIO_GENERALE!D32 -> #REF! | F5: =ORARIO_GENERALE!D45 -> #REF! | G5: =ORARIO_GENERALE!D58 -> #REF! | I5: 10:30-11:30 | J5: =ORARIO_GENERALE!E6 -> #REF! | K5: =ORARIO_GENERALE!E19 -> #REF! | L5: =ORARIO_GENERALE!E32 -> #REF! | M5: =ORARIO_GENERALE!E45 -> #REF! | N5: =ORARIO_GENERALE!E58 -> #REF! | P5: 10:30-11:30 | Q5: =ORARIO_GENERALE!L6 -> #REF! | R5: =#REF! -> #REF! | S5: =ORARIO_GENERALE!L32 -> #REF! | T5: =ORARIO_GENERALE!L45 -> #REF! | U5: =ORARIO_GENERALE!L58 -> #REF! | W5: 10:30-11:30 | X5: =ORARIO_GENERALE!F6 -> #REF! | Y5: =ORARIO_GENERALE!F19 -> #REF! | Z5: =ORARIO_GENERALE!F32 -> #REF! | AA5: =ORARIO_GENERALE!F45 -> #REF! | AB5: =ORARIO_GENERALE!F58 -> #REF! | AD5: 10:30-11:30 | AE5: =ORARIO_GENERALE!M6 -> #REF! | AF5: =ORARIO_GENERALE!M19 -> #REF! | AG5: =ORARIO_GENERALE!M32 -> #REF! | AH5: =ORARIO_GENERALE!M45 -> #REF! | AI5: =ORARIO_GENERALE!M58 -> #REF! | AK5: 10:30-11:30 | AL5: =ORARIO_GENERALE!G6 -> #REF! | AM5: =ORARIO_GENERALE!G19 -> #REF! | AN5: =ORARIO_GENERALE!G32 -> #REF! | AO5: =ORARIO_GENERALE!G45 -> #REF! | AP5: =ORARIO_GENERALE!G58 -> #REF! | AR5: 10:30-11:30 | AS5: =ORARIO_GENERALE!H6 -> #REF! | AT5: =ORARIO_GENERALE!H19 -> #REF! | AU5: =ORARIO_GENERALE!H32 -> #REF! | AV5: =ORARIO_GENERALE!H45 -> #REF! | AW5: =ORARIO_GENERALE!H58 -> #REF! | AY5: 10:30-11:30 | AZ5: =ORARIO_GENERALE!I6 -> #REF! | BA5: =ORARIO_GENERALE!I19 -> #REF! | BB5: =ORARIO_GENERALE!I32 -> #REF! | BC5: =ORARIO_GENERALE!I45 -> #REF! | BD5: =ORARIO_GENERALE!I58 -> #REF! | BF5: 10:30-11:30 | BG5: =ORARIO_GENERALE!K6 -> #REF! | BH5: =ORARIO_GENERALE!K19 -> #REF! | BI5: =ORARIO_GENERALE!K32 -> #REF! | BJ5: =ORARIO_GENERALE!K45 -> #REF! | BK5: =ORARIO_GENERALE!K58 -> #REF! | BM5: 10:30-11:30 | BN5: =ORARIO_GENERALE!N6 -> #REF! | BO5: =ORARIO_GENERALE!N19 -> #REF! | BP5: =ORARIO_GENERALE!N33 -> #REF! | BQ5: =ORARIO_GENERALE!N45 -> #REF! | BR5: =ORARIO_GENERALE!N58 -> #REF! | BT5: 10:30-11:30 | BU5: =ORARIO_GENERALE!O6 -> #REF! | BV5: =ORARIO_GENERALE!O19 -> #REF! | BW5: =ORARIO_GENERALE!O32 -> #REF! | BX5: =ORARIO_GENERALE!O45 -> #REF! | BY5: =ORARIO_GENERALE!O58 -> #REF! | CA5: 10:30-11:30 | CB5: =ORARIO_GENERALE!P6 -> #REF! | CC5: =ORARIO_GENERALE!P19 -> #REF! | CD5: =ORARIO_GENERALE!P32 -> #REF! | CE5: =ORARIO_GENERALE!P45 -> #REF! | CF5: =ORARIO_GENERALE!P58 -> #REF! | CH5: 10:30-11:30 | CI5: =ORARIO_GENERALE!Q6 -> #REF! | CJ5: =ORARIO_GENERALE!Q19 -> #REF! | CK5: =ORARIO_GENERALE!Q32 -> #REF! | CL5: =ORARIO_GENERALE!Q45 -> #REF! | CM5: =ORARIO_GENERALE!Q58 -> #REF!
B6: 11:30-12:30 | C6: =ORARIO_GENERALE!D7 -> #REF! | D6: =ORARIO_GENERALE!D20 -> #REF! | E6: =ORARIO_GENERALE!D33 -> #REF! | F6: =ORARIO_GENERALE!D46 -> #REF! | G6: =ORARIO_GENERALE!D59 -> #REF! | I6: 11:30-12:30 | J6: =ORARIO_GENERALE!E7 -> #REF! | K6: =ORARIO_GENERALE!E20 -> #REF! | L6: =ORARIO_GENERALE!E33 -> #REF! | M6: =ORARIO_GENERALE!E46 -> #REF! | N6: =ORARIO_GENERALE!E59 -> #REF! | P6: 11:30-12:30 | Q6: =ORARIO_GENERALE!L7 -> #REF! | R6: =#REF! -> #REF! | S6: =ORARIO_GENERALE!L33 -> #REF! | T6: =ORARIO_GENERALE!L46 -> #REF! | U6: =ORARIO_GENERALE!L59 -> #REF! | W6: 11:30-12:30 | X6: =ORARIO_GENERALE!F7 -> #REF! | Y6: =ORARIO_GENERALE!F20 -> #REF! | Z6: =ORARIO_GENERALE!F33 -> #REF! | AA6: =ORARIO_GENERALE!F46 -> #REF! | AB6: =ORARIO_GENERALE!F59 -> #REF! | AD6: 11:30-12:30 | AE6: =ORARIO_GENERALE!M7 -> #REF! | AF6: =ORARIO_GENERALE!M20 -> #REF! | AG6: =ORARIO_GENERALE!M33 -> #REF! | AH6: =ORARIO_GENERALE!M46 -> #REF! | AI6: =ORARIO_GENERALE!M59 -> #REF! | AK6: 11:30-12:30 | AL6: =ORARIO_GENERALE!G7 -> #REF! | AM6: =ORARIO_GENERALE!G20 -> #REF! | AN6: =ORARIO_GENERALE!G33 -> #REF! | AO6: =ORARIO_GENERALE!G46 -> #REF! | AP6: =ORARIO_GENERALE!G59 -> #REF! | AR6: 11:30-12:30 | AS6: =ORARIO_GENERALE!H7 -> #REF! | AT6: =ORARIO_GENERALE!H20 -> #REF! | AU6: =ORARIO_GENERALE!H33 -> #REF! | AV6: =ORARIO_GENERALE!H46 -> #REF! | AW6: =ORARIO_GENERALE!H59 -> #REF! | AY6: 11:30-12:30 | AZ6: =ORARIO_GENERALE!I7 -> #REF! | BA6: =ORARIO_GENERALE!I20 -> #REF! | BB6: =ORARIO_GENERALE!I33 -> #REF! | BC6: =ORARIO_GENERALE!I46 -> #REF! | BD6: =ORARIO_GENERALE!I59 -> #REF! | BF6: 11:30-12:30 | BG6: =ORARIO_GENERALE!K7 -> #REF! | BH6: =ORARIO_GENERALE!K20 -> #REF! | BI6: =ORARIO_GENERALE!K33 -> #REF! | BJ6: =ORARIO_GENERALE!K46 -> #REF! | BK6: =ORARIO_GENERALE!K59 -> #REF! | BM6: 11:30-12:30 | BN6: =ORARIO_GENERALE!N7 -> #REF! | BO6: =ORARIO_GENERALE!N20 -> #REF! | BP6: =ORARIO_GENERALE!N34 -> #REF! | BQ6: =ORARIO_GENERALE!N46 -> #REF! | BR6: =ORARIO_GENERALE!N59 -> #REF! | BT6: 11:30-12:30 | BU6: =ORARIO_GENERALE!O7 -> #REF! | BV6: =#REF! -> #REF! | BW6: =ORARIO_GENERALE!O33 -> #REF! | BX6: =ORARIO_GENERALE!O46 -> #REF! | BY6: =ORARIO_GENERALE!O59 -> #REF! | CA6: 11:30-12:30 | CB6: =ORARIO_GENERALE!P7 -> #REF! | CC6: =ORARIO_GENERALE!P20 -> #REF! | CD6: =ORARIO_GENERALE!P33 -> #REF! | CE6: =ORARIO_GENERALE!P46 -> #REF! | CF6: =ORARIO_GENERALE!P59 -> #REF! | CH6: 11:30-12:30 | CI6: =ORARIO_GENERALE!Q7 -> #REF! | CJ6: =ORARIO_GENERALE!Q20 -> #REF! | CK6: =ORARIO_GENERALE!Q33 -> #REF! | CL6: =ORARIO_GENERALE!Q46 -> #REF! | CM6: =ORARIO_GENERALE!Q59 -> #REF!
B7: 12:30-13:30 | C7: =ORARIO_GENERALE!D8 -> #REF! | D7: =ORARIO_GENERALE!D21 -> #REF! | E7: =ORARIO_GENERALE!D34 -> #REF! | F7: =ORARIO_GENERALE!D47 -> #REF! | G7: =ORARIO_GENERALE!D60 -> #REF! | I7: 12:30-13:30 | J7: =ORARIO_GENERALE!E8 -> #REF! | K7: =ORARIO_GENERALE!E21 -> #REF! | L7: =ORARIO_GENERALE!E34 -> #REF! | M7: =ORARIO_GENERALE!E47 -> #REF! | N7: =ORARIO_GENERALE!E60 -> #REF! | P7: 12:30-13:30 | Q7: =ORARIO_GENERALE!L8 -> #REF! | R7: =ORARIO_GENERALE!L18 -> #REF! | S7: =ORARIO_GENERALE!L34 -> #REF! | T7: =ORARIO_GENERALE!L47 -> #REF! | U7: =ORARIO_GENERALE!L60 -> #REF! | W7: 12:30-13:30 | X7: =ORARIO_GENERALE!F8 -> #REF! | Y7: =ORARIO_GENERALE!F21 -> #REF! | Z7: =ORARIO_GENERALE!F34 -> #REF! | AA7: =ORARIO_GENERALE!F47 -> #REF! | AB7: =ORARIO_GENERALE!F60 -> #REF! | AD7: 12:30-13:30 | AE7: =ORARIO_GENERALE!M8 -> #REF! | AF7: =ORARIO_GENERALE!M21 -> #REF! | AG7: =ORARIO_GENERALE!M34 -> #REF! | AH7: =ORARIO_GENERALE!M47 -> #REF! | AI7: =ORARIO_GENERALE!M60 -> #REF! | AK7: 12:30-13:30 | AL7: =ORARIO_GENERALE!G8 -> #REF! | AM7: =ORARIO_GENERALE!G21 -> #REF! | AN7: =ORARIO_GENERALE!G34 -> #REF! | AO7: =ORARIO_GENERALE!G47 -> #REF! | AP7: =ORARIO_GENERALE!G60 -> #REF! | AR7: 12:30-13:30 | AS7: =ORARIO_GENERALE!H8 -> #REF! | AT7: =ORARIO_GENERALE!H21 -> #REF! | AU7: =ORARIO_GENERALE!H34 -> #REF! | AV7: =ORARIO_GENERALE!H47 -> #REF! | AW7: =ORARIO_GENERALE!H60 -> #REF! | AY7: 12:30-13:30 | AZ7: =ORARIO_GENERALE!I8 -> #REF! | BA7: =ORARIO_GENERALE!I21 -> #REF! | BB7: =ORARIO_GENERALE!I34 -> #REF! | BC7: =ORARIO_GENERALE!I47 -> #REF! | BD7: =ORARIO_GENERALE!I60 -> #REF! | BF7: 12:30-13:30 | BG7: =ORARIO_GENERALE!K8 -> #REF! | BH7: =ORARIO_GENERALE!K21 -> #REF! | BI7: =ORARIO_GENERALE!K34 -> #REF! | BJ7: =ORARIO_GENERALE!K47 -> #REF! | BK7: =ORARIO_GENERALE!K60 -> #REF! | BM7: 12:30-13:30 | BN7: =ORARIO_GENERALE!N8 -> #REF! | BO7: =ORARIO_GENERALE!N21 -> #REF! | BP7: =ORARIO_GENERALE!N35 -> #REF! | BQ7: =ORARIO_GENERALE!N47 -> #REF! | BR7: =ORARIO_GENERALE!N60 -> #REF! | BT7: 12:30-13:30 | BU7: =ORARIO_GENERALE!O8 -> #REF! | BV7: =ORARIO_GENERALE!O20 -> #REF! | BW7: =ORARIO_GENERALE!O34 -> #REF! | BX7: =ORARIO_GENERALE!O47 -> #REF! | BY7: =ORARIO_GENERALE!O60 -> #REF! | CA7: 12:30-13:30 | CB7: =ORARIO_GENERALE!P8 -> #REF! | CC7: =ORARIO_GENERALE!P21 -> #REF! | CD7: =ORARIO_GENERALE!P34 -> #REF! | CE7: =ORARIO_GENERALE!P47 -> #REF! | CF7: =ORARIO_GENERALE!P60 -> #REF! | CH7: 12:30-13:30 | CI7: =ORARIO_GENERALE!Q8 -> #REF! | CJ7: =ORARIO_GENERALE!Q21 -> #REF! | CK7: =ORARIO_GENERALE!Q34 -> #REF! | CL7: =ORARIO_GENERALE!Q47 -> #REF! | CM7: =ORARIO_GENERALE!Q60 -> #REF!
B8: 13:30-14:30 | C8: =#REF! -> #REF! | D8: =ORARIO_GENERALE!D22 -> #REF! | E8: =ORARIO_GENERALE!D35 -> #REF! | F8: =ORARIO_GENERALE!D48 -> #REF! | G8: =ORARIO_GENERALE!D61 -> #REF! | I8: 13:30-14:30 | J8: =ORARIO_GENERALE!D9 -> #REF! | K8: =ORARIO_GENERALE!E22 -> #REF! | L8: =ORARIO_GENERALE!E35 -> #REF! | M8: =ORARIO_GENERALE!E48 -> #REF! | N8: =ORARIO_GENERALE!E61 -> #REF! | P8: 13:30-14:30 | Q8: =ORARIO_GENERALE!L9 -> #REF! | R8: =ORARIO_GENERALE!L19 -> #REF! | S8: =ORARIO_GENERALE!L35 -> #REF! | T8: =ORARIO_GENERALE!L48 -> #REF! | U8: =ORARIO_GENERALE!L61 -> #REF! | W8: 13:30-14:30 | X8: =ORARIO_GENERALE!F9 -> #REF! | Y8: =ORARIO_GENERALE!F22 -> #REF! | Z8: =ORARIO_GENERALE!F35 -> #REF! | AA8: =ORARIO_GENERALE!F48 -> #REF! | AB8: =ORARIO_GENERALE!F61 -> #REF! | AD8: 13:30-14:30 | AE8: =ORARIO_GENERALE!M9 -> #REF! | AF8: =ORARIO_GENERALE!M22 -> #REF! | AG8: =ORARIO_GENERALE!M35 -> #REF! | AH8: =ORARIO_GENERALE!M48 -> #REF! | AI8: =ORARIO_GENERALE!M61 -> #REF! | AK8: 13:30-14:30 | AL8: =ORARIO_GENERALE!G9 -> #REF! | AM8: =ORARIO_GENERALE!G22 -> #REF! | AN8: =ORARIO_GENERALE!G35 -> #REF! | AO8: =ORARIO_GENERALE!G48 -> #REF! | AP8: =ORARIO_GENERALE!G61 -> #REF! | AR8: 13:30-14:30 | AS8: =ORARIO_GENERALE!H9 -> #REF! | AT8: =ORARIO_GENERALE!H22 -> #REF! | AU8: =ORARIO_GENERALE!H35 -> #REF! | AV8: =ORARIO_GENERALE!H48 -> #REF! | AW8: =ORARIO_GENERALE!H61 -> #REF! | AY8: 13:30-14:30 | AZ8: =ORARIO_GENERALE!I9 -> #REF! | BA8: =ORARIO_GENERALE!I22 -> #REF! | BB8: =ORARIO_GENERALE!I35 -> #REF! | BC8: =ORARIO_GENERALE!I48 -> #REF! | BD8: =ORARIO_GENERALE!I61 -> #REF! | BF8: 13:30-14:30 | BG8: =ORARIO_GENERALE!K9 -> #REF! | BH8: =ORARIO_GENERALE!K22 -> #REF! | BI8: =ORARIO_GENERALE!K35 -> #REF! | BJ8: =ORARIO_GENERALE!K48 -> #REF! | BK8: =ORARIO_GENERALE!K61 -> #REF! | BM8: 13:30-14:30 | BN8: =ORARIO_GENERALE!N9 -> #REF! | BO8: =ORARIO_GENERALE!N22 -> #REF! | BP8: =ORARIO_GENERALE!N36 -> #REF! | BQ8: =ORARIO_GENERALE!N48 -> #REF! | BR8: =ORARIO_GENERALE!N61 -> #REF! | BT8: 13:30-14:30 | BU8: =ORARIO_GENERALE!O9 -> #REF! | BV8: =ORARIO_GENERALE!O21 -> #REF! | BW8: =ORARIO_GENERALE!O35 -> #REF! | BX8: =ORARIO_GENERALE!O48 -> #REF! | BY8: =ORARIO_GENERALE!O61 -> #REF! | CA8: 13:30-14:30 | CB8: =ORARIO_GENERALE!P9 -> #REF! | CC8: =ORARIO_GENERALE!P22 -> #REF! | CD8: =ORARIO_GENERALE!P35 -> #REF! | CE8: =ORARIO_GENERALE!P48 -> #REF! | CF8: =ORARIO_GENERALE!P61 -> #REF! | CH8: 13:30-14:30 | CI8: =ORARIO_GENERALE!Q9 -> #REF! | CJ8: =ORARIO_GENERALE!Q22 -> #REF! | CK8: =ORARIO_GENERALE!Q35 -> #REF! | CL8: =ORARIO_GENERALE!Q48 -> #REF! | CM8: =ORARIO_GENERALE!Q61 -> #REF!
B9: 14:00-15:00 | C9: =ORARIO_GENERALE!D10 -> #REF! | D9: =ORARIO_GENERALE!D23 -> #REF! | E9: =ORARIO_GENERALE!D36 -> #REF! | F9: =ORARIO_GENERALE!D49 -> #REF! | G9: =ORARIO_GENERALE!D62 -> #REF! | I9: 14:00-15:00 | J9: =ORARIO_GENERALE!E10 -> #REF! | K9: =ORARIO_GENERALE!E23 -> #REF! | L9: =ORARIO_GENERALE!E36 -> #REF! | M9: =ORARIO_GENERALE!E49 -> #REF! | N9: =ORARIO_GENERALE!E62 -> #REF! | P9: 14:00-15:00 | Q9: =ORARIO_GENERALE!L10 -> #REF! | R9: =ORARIO_GENERALE!L20 -> #REF! | S9: =ORARIO_GENERALE!L36 -> #REF! | T9: =ORARIO_GENERALE!L49 -> #REF! | U9: =ORARIO_GENERALE!L62 -> #REF! | W9: 14:00-15:00 | X9: =ORARIO_GENERALE!F10 -> #REF! | Y9: =ORARIO_GENERALE!F23 -> #REF! | Z9: =ORARIO_GENERALE!F36 -> #REF! | AA9: =ORARIO_GENERALE!F49 -> #REF! | AB9: =ORARIO_GENERALE!F62 -> #REF! | AD9: 14:00-15:00 | AE9: =ORARIO_GENERALE!M10 -> #REF! | AF9: =ORARIO_GENERALE!M23 -> #REF! | AG9: =ORARIO_GENERALE!M36 -> #REF! | AH9: =ORARIO_GENERALE!M49 -> #REF! | AI9: =ORARIO_GENERALE!M62 -> #REF! | AK9: 14:00-15:00 | AL9: =ORARIO_GENERALE!G10 -> #REF! | AM9: =ORARIO_GENERALE!G23 -> #REF! | AN9: =ORARIO_GENERALE!G36 -> #REF! | AO9: =ORARIO_GENERALE!G49 -> #REF! | AP9: =ORARIO_GENERALE!G62 -> #REF! | AR9: 14:00-15:00 | AS9: =ORARIO_GENERALE!H10 -> #REF! | AT9: =ORARIO_GENERALE!H23 -> #REF! | AU9: =ORARIO_GENERALE!H36 -> #REF! | AV9: =ORARIO_GENERALE!H49 -> #REF! | AW9: =ORARIO_GENERALE!H62 -> #REF! | AY9: 14:00-15:00 | AZ9: =ORARIO_GENERALE!I10 -> #REF! | BA9: =ORARIO_GENERALE!I23 -> #REF! | BB9: =ORARIO_GENERALE!I36 -> #REF! | BC9: =ORARIO_GENERALE!I49 -> #REF! | BD9: =ORARIO_GENERALE!I62 -> #REF! | BF9: 14:00-15:00 | BG9: =ORARIO_GENERALE!K10 -> #REF! | BH9: =ORARIO_GENERALE!K23 -> #REF! | BI9: =ORARIO_GENERALE!K36 -> #REF! | BJ9: =ORARIO_GENERALE!K49 -> #REF! | BK9: =ORARIO_GENERALE!K62 -> #REF! | BM9: 14:00-15:00 | BN9: =ORARIO_GENERALE!N10 -> #REF! | BO9: =ORARIO_GENERALE!N23 -> #REF! | BP9: =#REF! -> #REF! | BQ9: =ORARIO_GENERALE!N49 -> #REF! | BR9: =ORARIO_GENERALE!N62 -> #REF! | BT9: 14:00-15:00 | BU9: =ORARIO_GENERALE!O10 -> #REF! | BV9: =ORARIO_GENERALE!O22 -> #REF! | BW9: =ORARIO_GENERALE!O36 -> #REF! | BX9: =ORARIO_GENERALE!O49 -> #REF! | BY9: =ORARIO_GENERALE!O62 -> #REF! | CA9: 14:00-15:00 | CB9: =ORARIO_GENERALE!P10 -> #REF! | CC9: =ORARIO_GENERALE!P23 -> #REF! | CD9: =ORARIO_GENERALE!P36 -> #REF! | CE9: =ORARIO_GENERALE!P49 -> #REF! | CF9: =ORARIO_GENERALE!P62 -> #REF! | CH9: 14:00-15:00 | CI9: =ORARIO_GENERALE!Q10 -> #REF! | CJ9: =ORARIO_GENERALE!Q23 -> #REF! | CK9: =ORARIO_GENERALE!Q36 -> #REF! | CL9: =ORARIO_GENERALE!Q49 -> #REF! | CM9: =ORARIO_GENERALE!Q62 -> #REF!
B10: 15:00-16:00 | C10: =ORARIO_GENERALE!D11 -> #REF! | D10: =ORARIO_GENERALE!D24 -> #REF! | E10: =ORARIO_GENERALE!D37 -> #REF! | F10: =ORARIO_GENERALE!D50 -> #REF! | G10: =ORARIO_GENERALE!D63 -> #REF! | I10: 15:00-16:00 | J10: =ORARIO_GENERALE!E11 -> #REF! | K10: =ORARIO_GENERALE!E24 -> #REF! | L10: =ORARIO_GENERALE!E37 -> #REF! | M10: =ORARIO_GENERALE!E50 -> #REF! | N10: =ORARIO_GENERALE!E63 -> #REF! | P10: 15:00-16:00 | Q10: =ORARIO_GENERALE!L11 -> #REF! | R10: =ORARIO_GENERALE!L21 -> #REF! | S10: =ORARIO_GENERALE!L37 -> #REF! | T10: =ORARIO_GENERALE!L50 -> #REF! | U10: =ORARIO_GENERALE!L63 -> #REF! | W10: 15:00-16:00 | X10: =ORARIO_GENERALE!F11 -> #REF! | Y10: =ORARIO_GENERALE!F24 -> #REF! | Z10: =ORARIO_GENERALE!F37 -> #REF! | AA10: =ORARIO_GENERALE!F50 -> #REF! | AB10: =ORARIO_GENERALE!F63 -> #REF! | AD10: 15:00-16:00 | AE10: =ORARIO_GENERALE!M11 -> #REF! | AF10: =ORARIO_GENERALE!M24 -> #REF! | AG10: =ORARIO_GENERALE!M37 -> #REF! | AH10: =ORARIO_GENERALE!M50 -> #REF! | AI10: =ORARIO_GENERALE!M63 -> #REF! | AK10: 15:00-16:00 | AL10: =ORARIO_GENERALE!G11 -> #REF! | AM10: =ORARIO_GENERALE!G24 -> #REF! | AN10: =ORARIO_GENERALE!G37 -> #REF! | AO10: =ORARIO_GENERALE!G50 -> #REF! | AP10: =ORARIO_GENERALE!G63 -> #REF! | AR10: 15:00-16:00 | AS10: =ORARIO_GENERALE!H11 -> #REF! | AT10: =ORARIO_GENERALE!H24 -> #REF! | AU10: =ORARIO_GENERALE!H37 -> #REF! | AV10: =ORARIO_GENERALE!H50 -> #REF! | AW10: =ORARIO_GENERALE!H63 -> #REF! | AY10: 15:00-16:00 | AZ10: =ORARIO_GENERALE!I11 -> #REF! | BA10: =ORARIO_GENERALE!I24 -> #REF! | BB10: =ORARIO_GENERALE!I37 -> #REF! | BC10: =ORARIO_GENERALE!I50 -> #REF! | BD10: =ORARIO_GENERALE!I63 -> #REF! | BF10: 15:00-16:00 | BG10: =ORARIO_GENERALE!K11 -> #REF! | BH10: =ORARIO_GENERALE!K24 -> #REF! | BI10: =ORARIO_GENERALE!K37 -> #REF! | BJ10: =ORARIO_GENERALE!K50 -> #REF! | BK10: =ORARIO_GENERALE!K63 -> #REF! | BM10: 15:00-16:00 | BN10: =ORARIO_GENERALE!N11 -> #REF! | BO10: =ORARIO_GENERALE!N24 -> #REF! | BP10: =ORARIO_GENERALE!N37 -> #REF! | BQ10: =ORARIO_GENERALE!N50 -> #REF! | BR10: =ORARIO_GENERALE!N63 -> #REF! | BT10: 15:00-16:00 | BU10: =ORARIO_GENERALE!O11 -> #REF! | BV10: =ORARIO_GENERALE!O23 -> #REF! | BW10: =ORARIO_GENERALE!O37 -> #REF! | BX10: =ORARIO_GENERALE!O50 -> #REF! | BY10: =ORARIO_GENERALE!O63 -> #REF! | CA10: 15:00-16:00 | CB10: =ORARIO_GENERALE!P11 -> #REF! | CC10: =ORARIO_GENERALE!P24 -> #REF! | CD10: =ORARIO_GENERALE!P37 -> #REF! | CE10: =ORARIO_GENERALE!P50 -> #REF! | CF10: =ORARIO_GENERALE!P63 -> #REF! | CH10: 15:00-16:00 | CI10: =ORARIO_GENERALE!Q11 -> #REF! | CJ10: =ORARIO_GENERALE!Q24 -> #REF! | CK10: =ORARIO_GENERALE!Q37 -> #REF! | CL10: =ORARIO_GENERALE!Q50 -> #REF! | CM10: =ORARIO_GENERALE!Q63 -> #REF!
B11: 16:00-17:00 | C11: =ORARIO_GENERALE!D12 -> #REF! | D11: =ORARIO_GENERALE!D25 -> #REF! | E11: =ORARIO_GENERALE!D38 -> #REF! | F11: =ORARIO_GENERALE!D51 -> #REF! | G11: =ORARIO_GENERALE!D64 -> #REF! | I11: 16:00-17:00 | J11: =ORARIO_GENERALE!E12 -> #REF! | K11: =ORARIO_GENERALE!E25 -> #REF! | L11: =ORARIO_GENERALE!E38 -> #REF! | M11: =ORARIO_GENERALE!E51 -> #REF! | N11: =ORARIO_GENERALE!E64 -> #REF! | P11: 16:00-17:00 | Q11: =ORARIO_GENERALE!L12 -> #REF! | R11: =ORARIO_GENERALE!L22 -> #REF! | S11: =ORARIO_GENERALE!L38 -> #REF! | T11: =ORARIO_GENERALE!L51 -> #REF! | U11: =ORARIO_GENERALE!L64 -> #REF! | W11: 16:00-17:00 | X11: =ORARIO_GENERALE!F12 -> #REF! | Y11: =ORARIO_GENERALE!F25 -> #REF! | Z11: =ORARIO_GENERALE!F38 -> #REF! | AA11: =ORARIO_GENERALE!F51 -> #REF! | AB11: =ORARIO_GENERALE!F64 -> #REF! | AD11: 16:00-17:00 | AE11: =ORARIO_GENERALE!M12 -> #REF! | AF11: =ORARIO_GENERALE!M25 -> #REF! | AG11: =ORARIO_GENERALE!M38 -> #REF! | AH11: =ORARIO_GENERALE!M51 -> #REF! | AI11: =ORARIO_GENERALE!M64 -> #REF! | AK11: 16:00-17:00 | AL11: =ORARIO_GENERALE!G12 -> #REF! | AM11: =ORARIO_GENERALE!G25 -> #REF! | AN11: =ORARIO_GENERALE!G38 -> #REF! | AO11: =ORARIO_GENERALE!G51 -> #REF! | AP11: =ORARIO_GENERALE!G64 -> #REF! | AR11: 16:00-17:00 | AS11: =ORARIO_GENERALE!H12 -> #REF! | AT11: =ORARIO_GENERALE!H25 -> #REF! | AU11: =ORARIO_GENERALE!H38 -> #REF! | AV11: =ORARIO_GENERALE!H51 -> #REF! | AW11: =ORARIO_GENERALE!H64 -> #REF! | AY11: 16:00-17:00 | AZ11: =ORARIO_GENERALE!I12 -> #REF! | BA11: =ORARIO_GENERALE!I25 -> #REF! | BB11: =ORARIO_GENERALE!I38 -> #REF! | BC11: =ORARIO_GENERALE!I51 -> #REF! | BD11: =ORARIO_GENERALE!I64 -> #REF! | BF11: 16:00-17:00 | BG11: =ORARIO_GENERALE!K12 -> #REF! | BH11: =ORARIO_GENERALE!K25 -> #REF! | BI11: =ORARIO_GENERALE!K38 -> #REF! | BJ11: =ORARIO_GENERALE!K51 -> #REF! | BK11: =ORARIO_GENERALE!K64 -> #REF! | BM11: 16:00-17:00 | BN11: =ORARIO_GENERALE!N12 -> #REF! | BO11: =ORARIO_GENERALE!N25 -> #REF! | BP11: =ORARIO_GENERALE!N38 -> #REF! | BQ11: =ORARIO_GENERALE!N51 -> #REF! | BR11: =ORARIO_GENERALE!N64 -> #REF! | BT11: 16:00-17:00 | BU11: =ORARIO_GENERALE!O12 -> #REF! | BV11: =ORARIO_GENERALE!O24 -> #REF! | BW11: =ORARIO_GENERALE!O38 -> #REF! | BX11: =ORARIO_GENERALE!O51 -> #REF! | BY11: =ORARIO_GENERALE!O64 -> #REF! | CA11: 16:00-17:00 | CB11: =ORARIO_GENERALE!P12 -> #REF! | CC11: =ORARIO_GENERALE!P25 -> #REF! | CD11: =ORARIO_GENERALE!P38 -> #REF! | CE11: =ORARIO_GENERALE!P51 -> #REF! | CF11: =ORARIO_GENERALE!P64 -> #REF! | CH11: 16:00-17:00 | CI11: =ORARIO_GENERALE!Q12 -> #REF! | CJ11: =ORARIO_GENERALE!Q25 -> #REF! | CK11: =ORARIO_GENERALE!Q38 -> #REF! | CL11: =ORARIO_GENERALE!Q51 -> #REF! | CM11: =ORARIO_GENERALE!Q64 -> #REF!
B12: 17:00-18-00 | C12: =ORARIO_GENERALE!D13 -> #REF! | D12: =ORARIO_GENERALE!D26 -> #REF! | E12: =ORARIO_GENERALE!D39 -> #REF! | F12: =ORARIO_GENERALE!D52 -> #REF! | G12: =ORARIO_GENERALE!D65 -> #REF! | I12: 17:00-18-00 | J12: =ORARIO_GENERALE!E13 -> #REF! | K12: =ORARIO_GENERALE!E26 -> #REF! | L12: =ORARIO_GENERALE!E39 -> #REF! | M12: =ORARIO_GENERALE!E52 -> #REF! | N12: =ORARIO_GENERALE!E65 -> #REF! | P12: 17:00-18-00 | Q12: =ORARIO_GENERALE!L13 -> #REF! | R12: =ORARIO_GENERALE!L26 -> #REF! | S12: =ORARIO_GENERALE!L39 -> #REF! | T12: =ORARIO_GENERALE!L52 -> #REF! | U12: =ORARIO_GENERALE!L65 -> #REF! | W12: 17:00-18-00 | X12: =ORARIO_GENERALE!F13 -> #REF! | Y12: =ORARIO_GENERALE!F26 -> #REF! | Z12: =ORARIO_GENERALE!F39 -> #REF! | AA12: =ORARIO_GENERALE!F52 -> #REF! | AB12: =ORARIO_GENERALE!F65 -> #REF! | AD12: 17:00-18-00 | AE12: =ORARIO_GENERALE!M13 -> #REF! | AF12: =ORARIO_GENERALE!M26 -> #REF! | AG12: =ORARIO_GENERALE!M39 -> #REF! | AH12: =ORARIO_GENERALE!M52 -> #REF! | AI12: =ORARIO_GENERALE!M65 -> #REF! | AK12: 17:00-18-00 | AL12: =ORARIO_GENERALE!G13 -> #REF! | AM12: =ORARIO_GENERALE!G26 -> #REF! | AN12: =ORARIO_GENERALE!G39 -> #REF! | AO12: =ORARIO_GENERALE!G52 -> #REF! | AP12: =ORARIO_GENERALE!G65 -> #REF! | AR12: 17:00-18-00 | AS12: =ORARIO_GENERALE!H13 -> #REF! | AT12: =ORARIO_GENERALE!H26 -> #REF! | AU12: =ORARIO_GENERALE!H39 -> #REF! | AV12: =ORARIO_GENERALE!H52 -> #REF! | AW12: =ORARIO_GENERALE!H65 -> #REF! | AY12: 17:00-18-00 | AZ12: =ORARIO_GENERALE!I13 -> #REF! | BA12: =ORARIO_GENERALE!I26 -> #REF! | BB12: =ORARIO_GENERALE!I39 -> #REF! | BC12: =ORARIO_GENERALE!I52 -> #REF! | BD12: =ORARIO_GENERALE!I65 -> #REF! | BF12: 17:00-18-00 | BG12: =ORARIO_GENERALE!K13 -> #REF! | BH12: =ORARIO_GENERALE!K26 -> #REF! | BI12: =ORARIO_GENERALE!K39 -> #REF! | BJ12: =ORARIO_GENERALE!K52 -> #REF! | BK12: =ORARIO_GENERALE!K65 -> #REF! | BM12: 17:00-18-00 | BN12: =ORARIO_GENERALE!N13 -> #REF! | BO12: =ORARIO_GENERALE!N26 -> #REF! | BP12: =ORARIO_GENERALE!N39 -> #REF! | BQ12: =ORARIO_GENERALE!N52 -> #REF! | BR12: =ORARIO_GENERALE!N65 -> #REF! | BT12: 17:00-18-00 | BU12: =ORARIO_GENERALE!O13 -> #REF! | BV12: =ORARIO_GENERALE!O25 -> #REF! | BW12: =ORARIO_GENERALE!O39 -> #REF! | BX12: =ORARIO_GENERALE!O52 -> #REF! | BY12: =ORARIO_GENERALE!O65 -> #REF! | CA12: 17:00-18-00 | CB12: =ORARIO_GENERALE!P13 -> #REF! | CC12: =ORARIO_GENERALE!P26 -> #REF! | CD12: =ORARIO_GENERALE!P39 -> #REF! | CE12: =ORARIO_GENERALE!P52 -> #REF! | CF12: =ORARIO_GENERALE!P65 -> #REF! | CH12: 17:00-18-00 | CI12: =ORARIO_GENERALE!Q13 -> #REF! | CJ12: =ORARIO_GENERALE!Q26 -> #REF! | CK12: =ORARIO_GENERALE!Q39 -> #REF! | CL12: =ORARIO_GENERALE!Q52 -> #REF! | CM12: =ORARIO_GENERALE!Q65 -> #REF!
B13: 18:00-19:00 | C13: =ORARIO_GENERALE!D14 -> #REF! | D13: =ORARIO_GENERALE!D27 -> #REF! | E13: =ORARIO_GENERALE!D40 -> #REF! | F13: =ORARIO_GENERALE!D53 -> #REF! | G13: =ORARIO_GENERALE!D66 -> #REF! | I13: 18:00-19:00 | J13: =ORARIO_GENERALE!E14 -> #REF! | K13: =ORARIO_GENERALE!E27 -> #REF! | L13: =ORARIO_GENERALE!E40 -> #REF! | M13: =ORARIO_GENERALE!E53 -> #REF! | N13: =ORARIO_GENERALE!E66 -> #REF! | P13: 18:00-19:00 | Q13: =ORARIO_GENERALE!L14 -> #REF! | R13: =ORARIO_GENERALE!L27 -> #REF! | S13: =ORARIO_GENERALE!L40 -> #REF! | T13: =ORARIO_GENERALE!L53 -> #REF! | U13: =ORARIO_GENERALE!L66 -> #REF! | W13: 18:00-19:00 | X13: =ORARIO_GENERALE!F14 -> #REF! | Y13: =ORARIO_GENERALE!F27 -> #REF! | Z13: =ORARIO_GENERALE!F40 -> #REF! | AA13: =ORARIO_GENERALE!F53 -> #REF! | AB13: =ORARIO_GENERALE!F66 -> #REF! | AD13: 18:00-19:00 | AE13: =ORARIO_GENERALE!M14 -> #REF! | AF13: =ORARIO_GENERALE!M27 -> #REF! | AG13: =ORARIO_GENERALE!M40 -> #REF! | AH13: =ORARIO_GENERALE!M53 -> #REF! | AI13: =ORARIO_GENERALE!M66 -> #REF! | AK13: 18:00-19:00 | AL13: =ORARIO_GENERALE!G14 -> #REF! | AM13: =ORARIO_GENERALE!G27 -> #REF! | AN13: =ORARIO_GENERALE!G40 -> #REF! | AO13: =ORARIO_GENERALE!G53 -> #REF! | AP13: =ORARIO_GENERALE!G66 -> #REF! | AR13: 18:00-19:00 | AS13: =ORARIO_GENERALE!H14 -> #REF! | AT13: =ORARIO_GENERALE!H27 -> #REF! | AU13: =ORARIO_GENERALE!H40 -> #REF! | AV13: =ORARIO_GENERALE!H53 -> #REF! | AW13: =ORARIO_GENERALE!H66 -> #REF! | AY13: 18:00-19:00 | AZ13: =ORARIO_GENERALE!I14 -> #REF! | BA13: =ORARIO_GENERALE!I27 -> #REF! | BB13: =ORARIO_GENERALE!I40 -> #REF! | BC13: =ORARIO_GENERALE!I53 -> #REF! | BD13: =ORARIO_GENERALE!I66 -> #REF! | BF13: 18:00-19:00 | BG13: =ORARIO_GENERALE!K14 -> #REF! | BH13: =ORARIO_GENERALE!K27 -> #REF! | BI13: =ORARIO_GENERALE!K40 -> #REF! | BJ13: =ORARIO_GENERALE!K53 -> #REF! | BK13: =ORARIO_GENERALE!K66 -> #REF! | BM13: 18:00-19:00 | BN13: =ORARIO_GENERALE!N14 -> #REF! | BO13: =ORARIO_GENERALE!N27 -> #REF! | BP13: =ORARIO_GENERALE!N40 -> #REF! | BQ13: =ORARIO_GENERALE!N53 -> #REF! | BR13: =ORARIO_GENERALE!N66 -> #REF! | BT13: 18:00-19:00 | BU13: =ORARIO_GENERALE!O14 -> #REF! | BV13: =ORARIO_GENERALE!O27 -> #REF! | BW13: =ORARIO_GENERALE!O40 -> #REF! | BX13: =ORARIO_GENERALE!O53 -> #REF! | BY13: =ORARIO_GENERALE!O66 -> #REF! | CA13: 18:00-19:00 | CB13: =ORARIO_GENERALE!P14 -> #REF! | CC13: =ORARIO_GENERALE!P27 -> #REF! | CD13: =ORARIO_GENERALE!P40 -> #REF! | CE13: =ORARIO_GENERALE!P53 -> #REF! | CF13: =ORARIO_GENERALE!P66 -> #REF! | CH13: 18:00-19:00 | CI13: =ORARIO_GENERALE!Q14 -> #REF! | CJ13: =ORARIO_GENERALE!Q27 -> #REF! | CK13: =ORARIO_GENERALE!Q40 -> #REF! | CL13: =ORARIO_GENERALE!Q53 -> #REF! | CM13: =ORARIO_GENERALE!Q66 -> #REF!
B14: 19:00-20:00 | C14: =ORARIO_GENERALE!D15 -> #REF! | D14: =ORARIO_GENERALE!D28 -> #REF! | E14: =ORARIO_GENERALE!D41 -> #REF! | F14: =ORARIO_GENERALE!D54 -> #REF! | G14: =ORARIO_GENERALE!D67 -> #REF! | I14: 19:00-20:00 | J14: =ORARIO_GENERALE!E15 -> #REF! | K14: =ORARIO_GENERALE!E28 -> #REF! | L14: =ORARIO_GENERALE!E41 -> #REF! | M14: =ORARIO_GENERALE!E54 -> #REF! | N14: =ORARIO_GENERALE!E67 -> #REF! | P14: 19:00-20:00 | Q14: =ORARIO_GENERALE!L15 -> #REF! | R14: =ORARIO_GENERALE!L28 -> #REF! | S14: =ORARIO_GENERALE!L41 -> #REF! | T14: =ORARIO_GENERALE!L54 -> #REF! | U14: =ORARIO_GENERALE!L67 -> #REF! | W14: 19:00-20:00 | X14: =ORARIO_GENERALE!F15 -> #REF! | Y14: =ORARIO_GENERALE!F28 -> #REF! | Z14: =ORARIO_GENERALE!F41 -> #REF! | AA14: =ORARIO_GENERALE!F54 -> #REF! | AB14: =ORARIO_GENERALE!F67 -> #REF! | AD14: 19:00-20:00 | AE14: =ORARIO_GENERALE!M15 -> #REF! | AF14: =ORARIO_GENERALE!M28 -> #REF! | AG14: =ORARIO_GENERALE!M41 -> #REF! | AH14: =ORARIO_GENERALE!M54 -> #REF! | AI14: =ORARIO_GENERALE!M67 -> #REF! | AK14: 19:00-20:00 | AL14: =ORARIO_GENERALE!G15 -> #REF! | AM14: =ORARIO_GENERALE!G28 -> #REF! | AN14: =ORARIO_GENERALE!G41 -> #REF! | AO14: =ORARIO_GENERALE!G54 -> #REF! | AP14: =ORARIO_GENERALE!G67 -> #REF! | AR14: 19:00-20:00 | AS14: =ORARIO_GENERALE!H15 -> #REF! | AT14: =ORARIO_GENERALE!H28 -> #REF! | AU14: =ORARIO_GENERALE!H41 -> #REF! | AV14: =ORARIO_GENERALE!H54 -> #REF! | AW14: =ORARIO_GENERALE!H67 -> #REF! | AY14: 19:00-20:00 | AZ14: =ORARIO_GENERALE!I15 -> #REF! | BA14: =ORARIO_GENERALE!I28 -> #REF! | BB14: =ORARIO_GENERALE!I41 -> #REF! | BC14: =ORARIO_GENERALE!I54 -> #REF! | BD14: =ORARIO_GENERALE!I67 -> #REF! | BF14: 19:00-20:00 | BG14: =ORARIO_GENERALE!K15 -> #REF! | BH14: =ORARIO_GENERALE!K28 -> #REF! | BI14: =ORARIO_GENERALE!K41 -> #REF! | BJ14: =ORARIO_GENERALE!K54 -> #REF! | BK14: =ORARIO_GENERALE!K67 -> #REF! | BM14: 19:00-20:00 | BN14: =ORARIO_GENERALE!N15 -> #REF! | BO14: =ORARIO_GENERALE!N28 -> #REF! | BP14: =ORARIO_GENERALE!N41 -> #REF! | BQ14: =ORARIO_GENERALE!N54 -> #REF! | BR14: =ORARIO_GENERALE!N67 -> #REF! | BT14: 19:00-20:00 | BU14: =ORARIO_GENERALE!O15 -> #REF! | BV14: =ORARIO_GENERALE!O28 -> #REF! | BW14: =ORARIO_GENERALE!O41 -> #REF! | BX14: =ORARIO_GENERALE!O54 -> #REF! | BY14: =ORARIO_GENERALE!O67 -> #REF! | CA14: 19:00-20:00 | CB14: =ORARIO_GENERALE!P15 -> #REF! | CC14: =ORARIO_GENERALE!P28 -> #REF! | CD14: =ORARIO_GENERALE!P41 -> #REF! | CE14: =ORARIO_GENERALE!P54 -> #REF! | CF14: =ORARIO_GENERALE!P67 -> #REF! | CH14: 19:00-20:00 | CI14: =ORARIO_GENERALE!Q15 -> #REF! | CJ14: =ORARIO_GENERALE!Q28 -> #REF! | CK14: =ORARIO_GENERALE!Q41 -> #REF! | CL14: =ORARIO_GENERALE!Q54 -> #REF! | CM14: =ORARIO_GENERALE!Q67 -> #REF!
B15: 20:00-21:00 | C15: =ORARIO_GENERALE!D16 -> #REF! | D15: =ORARIO_GENERALE!D29 -> #REF! | E15: =ORARIO_GENERALE!D42 -> #REF! | F15: =ORARIO_GENERALE!D55 -> #REF! | G15: =ORARIO_GENERALE!D68 -> #REF! | I15: 20:00-21:00 | J15: =ORARIO_GENERALE!E16 -> #REF! | K15: =ORARIO_GENERALE!E29 -> #REF! | L15: =ORARIO_GENERALE!E42 -> #REF! | M15: =ORARIO_GENERALE!E55 -> #REF! | N15: =ORARIO_GENERALE!E68 -> #REF! | P15: 20:00-21:00 | Q15: =ORARIO_GENERALE!L16 -> #REF! | R15: =ORARIO_GENERALE!L29 -> #REF! | S15: =ORARIO_GENERALE!L42 -> #REF! | T15: =ORARIO_GENERALE!L55 -> #REF! | U15: =ORARIO_GENERALE!L68 -> #REF! | W15: 20:00-21:00 | X15: =ORARIO_GENERALE!F16 -> #REF! | Y15: =ORARIO_GENERALE!F29 -> #REF! | Z15: =ORARIO_GENERALE!F42 -> #REF! | AA15: =ORARIO_GENERALE!F55 -> #REF! | AB15: =ORARIO_GENERALE!F68 -> #REF! | AD15: 20:00-21:00 | AE15: =ORARIO_GENERALE!M16 -> #REF! | AF15: =ORARIO_GENERALE!M29 -> #REF! | AG15: =ORARIO_GENERALE!M42 -> #REF! | AH15: =ORARIO_GENERALE!M55 -> #REF! | AI15: =ORARIO_GENERALE!M68 -> #REF! | AK15: 20:00-21:00 | AL15: =ORARIO_GENERALE!G16 -> #REF! | AM15: =ORARIO_GENERALE!G29 -> #REF! | AN15: =ORARIO_GENERALE!G42 -> #REF! | AO15: =ORARIO_GENERALE!G55 -> #REF! | AP15: =ORARIO_GENERALE!G68 -> #REF! | AR15: 20:00-21:00 | AS15: =ORARIO_GENERALE!H16 -> #REF! | AT15: =ORARIO_GENERALE!H29 -> #REF! | AU15: =ORARIO_GENERALE!H42 -> #REF! | AV15: =ORARIO_GENERALE!H55 -> #REF! | AW15: =ORARIO_GENERALE!H68 -> #REF! | AY15: 20:00-21:00 | AZ15: =ORARIO_GENERALE!I16 -> #REF! | BA15: =ORARIO_GENERALE!I29 -> #REF! | BB15: =ORARIO_GENERALE!I42 -> #REF! | BC15: =ORARIO_GENERALE!I55 -> #REF! | BD15: =ORARIO_GENERALE!I68 -> #REF! | BF15: 20:00-21:00 | BG15: =ORARIO_GENERALE!K16 -> #REF! | BH15: =ORARIO_GENERALE!K29 -> #REF! | BI15: =ORARIO_GENERALE!K42 -> #REF! | BJ15: =ORARIO_GENERALE!K55 -> #REF! | BK15: =ORARIO_GENERALE!K68 -> #REF! | BM15: 20:00-21:00 | BN15: =ORARIO_GENERALE!N16 -> #REF! | BO15: =ORARIO_GENERALE!N29 -> #REF! | BP15: =ORARIO_GENERALE!N42 -> #REF! | BQ15: =ORARIO_GENERALE!N55 -> #REF! | BR15: =ORARIO_GENERALE!N68 -> #REF! | BT15: 20:00-21:00 | BU15: =ORARIO_GENERALE!O16 -> #REF! | BV15: =ORARIO_GENERALE!O29 -> #REF! | BW15: =ORARIO_GENERALE!O42 -> #REF! | BX15: =ORARIO_GENERALE!O55 -> #REF! | BY15: =ORARIO_GENERALE!O68 -> #REF! | CA15: 20:00-21:00 | CB15: =ORARIO_GENERALE!P16 -> #REF! | CC15: =ORARIO_GENERALE!P29 -> #REF! | CD15: =ORARIO_GENERALE!P42 -> #REF! | CE15: =ORARIO_GENERALE!P55 -> #REF! | CF15: =ORARIO_GENERALE!P68 -> #REF! | CH15: 20:00-21:00 | CI15: =ORARIO_GENERALE!Q16 -> #REF! | CJ15: =ORARIO_GENERALE!Q29 -> #REF! | CK15: =ORARIO_GENERALE!Q42 -> #REF! | CL15: =ORARIO_GENERALE!Q55 -> #REF! | CM15: =ORARIO_GENERALE!Q68 -> #REF!

Sheet PIANO AULE
G1: PIANO AULE SEDE DI RHO A.S. 2021-2022
B2: LUN | C2: =ORARIO_GENERALE!C4 -> #REF! | D2: =IFERROR(RIGHT(ORARIO_GENERALE!D4,LEN(ORARIO_GENERALE!D4)-SEARCH(" ",ORARIO_GENERALE!D4)),"") | E2: =IFERROR(RIGHT(ORARIO_GENERALE!E4,LEN(ORARIO_GENERALE!E4)-SEARCH(" ",ORARIO_GENERALE!E4)),"") | F2: =IFERROR(RIGHT(ORARIO_GENERALE!F4,LEN(ORARIO_GENERALE!F4)-SEARCH(" ",ORARIO_GENERALE!F4)),"") | G2: =IFERROR(RIGHT(ORARIO_GENERALE!G4,LEN(ORARIO_GENERALE!G4)-SEARCH(" ",ORARIO_GENERALE!G4)),"") | H2: =IFERROR(RIGHT(ORARIO_GENERALE!H4,LEN(ORARIO_GENERALE!H4)-SEARCH(" ",ORARIO_GENERALE!H4)),"") | I2: =IFERROR(RIGHT(ORARIO_GENERALE!I4,LEN(ORARIO_GENERALE!I4)-SEARCH(" ",ORARIO_GENERALE!I4)),"") | J2: =ORARIO_GENERALE!J4 -> #REF! | Q2: MAR
C3: =ORARIO_GENERALE!C5 -> #REF! | D3: =IFERROR(RIGHT(ORARIO_GENERALE!D5,LEN(ORARIO_GENERALE!D5)+SEARCH(" ",ORARIO_GENERALE!D5)),"") | E3: =IFERROR(RIGHT(ORARIO_GENERALE!E5,LEN(ORARIO_GENERALE!E5)+SEARCH(" ",ORARIO_GENERALE!E5)),"") | F3: =IFERROR(RIGHT(ORARIO_GENERALE!F5,LEN(ORARIO_GENERALE!F5)+SEARCH(" ",ORARIO_GENERALE!F5)),"") | G3: =IFERROR(RIGHT(ORARIO_GENERALE!G5,LEN(ORARIO_GENERALE!G5)+SEARCH(" ",ORARIO_GENERALE!G5)),"") | H3: =IFERROR(RIGHT(ORARIO_GENERALE!H5,LEN(ORARIO_GENERALE!H5)+SEARCH(" ",ORARIO_GENERALE!H5)),"") | I3: =IFERROR(RIGHT(ORARIO_GENERALE!I5,LEN(ORARIO_GENERALE!I5)+SEARCH(" ",ORARIO_GENERALE!I5)),"") | J3: =ORARIO_GENERALE!J5 -> #REF! | K3: =IFERROR(RIGHT(ORARIO_GENERALE!K5,LEN(ORARIO_GENERALE!K5)+SEARCH(" ",ORARIO_GENERALE!K5)),"") | L3: =IFERROR(RIGHT(ORARIO_GENERALE!L5,LEN(ORARIO_GENERALE!L5)+SEARCH(" ",ORARIO_GENERALE!L5)),"") | M3: =IFERROR(RIGHT(ORARIO_GENERALE!M5,LEN(ORARIO_GENERALE!M5)+SEARCH(" ",ORARIO_GENERALE!M5)),"") | N3: =IFERROR(RIGHT(ORARIO_GENERALE!N5,LEN(ORARIO_GENERALE!N5)+SEARCH(" ",ORARIO_GENERALE!N5)),"") | O3: =IFERROR(RIGHT(ORARIO_GENERALE!O5,LEN(ORARIO_GENERALE!O5)+SEARCH(" ",ORARIO_GENERALE!O5)),"") | P3: =IFERROR(RIGHT(ORARIO_GENERALE!P5,LEN(ORARIO_GENERALE!P5)+SEARCH(" ",ORARIO_GENERALE!P5)),"")
C4: =ORARIO_GENERALE!C6 -> #REF! | D4: =IFERROR(RIGHT(ORARIO_GENERALE!D6,LEN(ORARIO_GENERALE!D6)+SEARCH(" ",ORARIO_GENERALE!D6)),"") | E4: =IFERROR(RIGHT(ORARIO_GENERALE!E6,LEN(ORARIO_GENERALE!E6)+SEARCH(" ",ORARIO_GENERALE!E6)),"") | F4: =IFERROR(RIGHT(ORARIO_GENERALE!F6,LEN(ORARIO_GENERALE!F6)+SEARCH(" ",ORARIO_GENERALE!F6)),"") | G4: =IFERROR(RIGHT(ORARIO_GENERALE!G6,LEN(ORARIO_GENERALE!G6)+SEARCH(" ",ORARIO_GENERALE!G6)),"") | H4: =IFERROR(RIGHT(ORARIO_GENERALE!H6,LEN(ORARIO_GENERALE!H6)+SEARCH(" ",ORARIO_GENERALE!H6)),"") | I4: =IFERROR(RIGHT(ORARIO_GENERALE!I6,LEN(ORARIO_GENERALE!I6)+SEARCH(" ",ORARIO_GENERALE!I6)),"") | J4: =ORARIO_GENERALE!J6 -> #REF! | K4: =IFERROR(RIGHT(ORARIO_GENERALE!K6,LEN(ORARIO_GENERALE!K6)+SEARCH(" ",ORARIO_GENERALE!K6)),"") | L4: =IFERROR(RIGHT(ORARIO_GENERALE!L6,LEN(ORARIO_GENERALE!L6)+SEARCH(" ",ORARIO_GENERALE!L6)),"") | M4: =IFERROR(RIGHT(ORARIO_GENERALE!M6,LEN(ORARIO_GENERALE!M6)+SEARCH(" ",ORARIO_GENERALE!M6)),"") | N4: =IFERROR(RIGHT(ORARIO_GENERALE!N6,LEN(ORARIO_GENERALE!N6)+SEARCH(" ",ORARIO_GENERALE!N6)),"") | O4: =IFERROR(RIGHT(ORARIO_GENERALE!O6,LEN(ORARIO_GENERALE!O6)+SEARCH(" ",ORARIO_GENERALE!O6)),"") | P4: =IFERROR(RIGHT(ORARIO_GENERALE!P6,LEN(ORARIO_GENERALE!P6)+SEARCH(" ",ORARIO_GENERALE!P6)),"")
C5: =ORARIO_GENERALE!C7 -> #REF! | D5: =IFERROR(RIGHT(ORARIO_GENERALE!D7,LEN(ORARIO_GENERALE!D7)+SEARCH(" ",ORARIO_GENERALE!D7)),"") | E5: =IFERROR(RIGHT(ORARIO_GENERALE!E7,LEN(ORARIO_GENERALE!E7)+SEARCH(" ",ORARIO_GENERALE!E7)),"") | F5: =IFERROR(RIGHT(ORARIO_GENERALE!F7,LEN(ORARIO_GENERALE!F7)+SEARCH(" ",ORARIO_GENERALE!F7)),"") | G5: =IFERROR(RIGHT(ORARIO_GENERALE!G7,LEN(ORARIO_GENERALE!G7)+SEARCH(" ",ORARIO_GENERALE!G7)),"") | H5: =IFERROR(RIGHT(ORARIO_GENERALE!H7,LEN(ORARIO_GENERALE!H7)+SEARCH(" ",ORARIO_GENERALE!H7)),"") | I5: =IFERROR(RIGHT(ORARIO_GENERALE!I7,LEN(ORARIO_GENERALE!I7)+SEARCH(" ",ORARIO_GENERALE!I7)),"") | J5: =ORARIO_GENERALE!J7 -> #REF! | K5: =IFERROR(RIGHT(ORARIO_GENERALE!K7,LEN(ORARIO_GENERALE!K7)+SEARCH(" ",ORARIO_GENERALE!K7)),"") | L5: =IFERROR(RIGHT(ORARIO_GENERALE!L7,LEN(ORARIO_GENERALE!L7)+SEARCH(" ",ORARIO_GENERALE!L7)),"") | M5: =IFERROR(RIGHT(ORARIO_GENERALE!M7,LEN(ORARIO_GENERALE!M7)+SEARCH(" ",ORARIO_GENERALE!M7)),"") | N5: =IFERROR(RIGHT(ORARIO_GENERALE!N7,LEN(ORARIO_GENERALE!N7)+SEARCH(" ",ORARIO_GENERALE!N7)),"") | O5: =IFERROR(RIGHT(ORARIO_GENERALE!O7,LEN(ORARIO_GENERALE!O7)+SEARCH(" ",ORARIO_GENERALE!O7)),"") | P5: =IFERROR(RIGHT(ORARIO_GENERALE!P7,LEN(ORARIO_GENERALE!P7)+SEARCH(" ",ORARIO_GENERALE!P7)),"")
C6: =ORARIO_GENERALE!C8 -> #REF! | D6: =IFERROR(RIGHT(ORARIO_GENERALE!D8,LEN(ORARIO_GENERALE!D8)+SEARCH(" ",ORARIO_GENERALE!D8)),"") | E6: =IFERROR(RIGHT(ORARIO_GENERALE!E8,LEN(ORARIO_GENERALE!E8)+SEARCH(" ",ORARIO_GENERALE!E8)),"") | F6: =IFERROR(RIGHT(ORARIO_GENERALE!F8,LEN(ORARIO_GENERALE!F8)+SEARCH(" ",ORARIO_GENERALE!F8)),"") | G6: =IFERROR(RIGHT(ORARIO_GENERALE!G8,LEN(ORARIO_GENERALE!G8)+SEARCH(" ",ORARIO_GENERALE!G8)),"") | H6: =IFERROR(RIGHT(ORARIO_GENERALE!H8,LEN(ORARIO_GENERALE!H8)+SEARCH(" ",ORARIO_GENERALE!H8)),"") | I6: =IFERROR(RIGHT(ORARIO_GENERALE!I8,LEN(ORARIO_GENERALE!I8)+SEARCH(" ",ORARIO_GENERALE!I8)),"") | J6: =ORARIO_GENERALE!J8 -> #REF! | K6: =IFERROR(RIGHT(ORARIO_GENERALE!K8,LEN(ORARIO_GENERALE!K8)+SEARCH(" ",ORARIO_GENERALE!K8)),"") | L6: =IFERROR(RIGHT(ORARIO_GENERALE!L8,LEN(ORARIO_GENERALE!L8)+SEARCH(" ",ORARIO_GENERALE!L8)),"") | M6: =IFERROR(RIGHT(ORARIO_GENERALE!M8,LEN(ORARIO_GENERALE!M8)+SEARCH(" ",ORARIO_GENERALE!M8)),"") | N6: =IFERROR(RIGHT(ORARIO_GENERALE!N8,LEN(ORARIO_GENERALE!N8)+SEARCH(" ",ORARIO_GENERALE!N8)),"") | O6: =IFERROR(RIGHT(ORARIO_GENERALE!O8,LEN(ORARIO_GENERALE!O8)+SEARCH(" ",ORARIO_GENERALE!O8)),"") | P6: =IFERROR(RIGHT(ORARIO_GENERALE!P8,LEN(ORARIO_GENERALE!P8)+SEARCH(" ",ORARIO_GENERALE!P8)),"")
C7: =ORARIO_GENERALE!C9 -> #REF! | D7: =IFERROR(RIGHT(#REF!,LEN(#REF!)+SEARCH(" ",#REF!)),"") | E7: =IFERROR(RIGHT(ORARIO_GENERALE!D9,LEN(ORARIO_GENERALE!D9)+SEARCH(" ",ORARIO_GENERALE!D9)),"") | F7: =IFERROR(RIGHT(ORARIO_GENERALE!F9,LEN(ORARIO_GENERALE!F9)+SEARCH(" ",ORARIO_GENERALE!F9)),"") | G7: =IFERROR(RIGHT(ORARIO_GENERALE!G9,LEN(ORARIO_GENERALE!G9)+SEARCH(" ",ORARIO_GENERALE!G9)),"") | H7: =IFERROR(RIGHT(ORARIO_GENERALE!H9,LEN(ORARIO_GENERALE!H9)+SEARCH(" ",ORARIO_GENERALE!H9)),"") | I7: =IFERROR(RIGHT(ORARIO_GENERALE!I9,LEN(ORARIO_GENERALE!I9)+SEARCH(" ",ORARIO_GENERALE!I9)),"") | J7: =ORARIO_GENERALE!J9 -> #REF! | K7: =IFERROR(RIGHT(ORARIO_GENERALE!K9,LEN(ORARIO_GENERALE!K9)+SEARCH(" ",ORARIO_GENERALE!K9)),"") | L7: =IFERROR(RIGHT(ORARIO_GENERALE!L9,LEN(ORARIO_GENERALE!L9)+SEARCH(" ",ORARIO_GENERALE!L9)),"") | M7: =IFERROR(RIGHT(ORARIO_GENERALE!M9,LEN(ORARIO_GENERALE!M9)+SEARCH(" ",ORARIO_GENERALE!M9)),"") | N7: =IFERROR(RIGHT(ORARIO_GENERALE!N9,LEN(ORARIO_GENERALE!N9)+SEARCH(" ",ORARIO_GENERALE!N9)),"") | O7: =IFERROR(RIGHT(ORARIO_GENERALE!O9,LEN(ORARIO_GENERALE!O9)+SEARCH(" ",ORARIO_GENERALE!O9)),"") | P7: =IFERROR(RIGHT(ORARIO_GENERALE!P9,LEN(ORARIO_GENERALE!P9)+SEARCH(" ",ORARIO_GENERALE!P9)),"")
C8: =ORARIO_GENERALE!C10 -> #REF! | D8: =IFERROR(RIGHT(ORARIO_GENERALE!D10,LEN(ORARIO_GENERALE!D10)+SEARCH(" ",ORARIO_GENERALE!D10)),"") | E8: =IFERROR(RIGHT(ORARIO_GENERALE!E10,LEN(ORARIO_GENERALE!E10)+SEARCH(" ",ORARIO_GENERALE!E10)),"") | F8: =IFERROR(RIGHT(ORARIO_GENERALE!F10,LEN(ORARIO_GENERALE!F10)+SEARCH(" ",ORARIO_GENERALE!F10)),"") | G8: =IFERROR(RIGHT(ORARIO_GENERALE!G10,LEN(ORARIO_GENERALE!G10)+SEARCH(" ",ORARIO_GENERALE!G10)),"") | H8: =IFERROR(RIGHT(ORARIO_GENERALE!H10,LEN(ORARIO_GENERALE!H10)+SEARCH(" ",ORARIO_GENERALE!H10)),"") | I8: =IFERROR(RIGHT(ORARIO_GENERALE!I10,LEN(ORARIO_GENERALE!I10)+SEARCH(" ",ORARIO_GENERALE!I10)),"") | J8: =ORARIO_GENERALE!J10 -> #REF! | K8: =IFERROR(RIGHT(ORARIO_GENERALE!K10,LEN(ORARIO_GENERALE!K10)+SEARCH(" ",ORARIO_GENERALE!K10)),"") | L8: =IFERROR(RIGHT(ORARIO_GENERALE!L10,LEN(ORARIO_GENERALE!L10)+SEARCH(" ",ORARIO_GENERALE!L10)),"") | M8: =IFERROR(RIGHT(ORARIO_GENERALE!M10,LEN(ORARIO_GENERALE!M10)+SEARCH(" ",ORARIO_GENERALE!M10)),"") | N8: =IFERROR(RIGHT(ORARIO_GENERALE!N10,LEN(ORARIO_GENERALE!N10)+SEARCH(" ",ORARIO_GENERALE!N10)),"") | O8: =IFERROR(RIGHT(ORARIO_GENERALE!O10,LEN(ORARIO_GENERALE!O10)+SEARCH(" ",ORARIO_GENERALE!O10)),"") | P8: =IFERROR(RIGHT(ORARIO_GENERALE!P10,LEN(ORARIO_GENERALE!P10)+SEARCH(" ",ORARIO_GENERALE!P10)),"")
C9: =ORARIO_GENERALE!C11 -> #REF! | D9: =IFERROR(RIGHT(ORARIO_GENERALE!D11,LEN(ORARIO_GENERALE!D11)+SEARCH(" ",ORARIO_GENERALE!D11)),"") | E9: =IFERROR(RIGHT(ORARIO_GENERALE!E11,LEN(ORARIO_GENERALE!E11)+SEARCH(" ",ORARIO_GENERALE!E11)),"") | F9: =IFERROR(RIGHT(ORARIO_GENERALE!F11,LEN(ORARIO_GENERALE!F11)+SEARCH(" ",ORARIO_GENERALE!F11)),"") | G9: =IFERROR(RIGHT(ORARIO_GENERALE!G11,LEN(ORARIO_GENERALE!G11)+SEARCH(" ",ORARIO_GENERALE!G11)),"") | H9: =IFERROR(RIGHT(ORARIO_GENERALE!H11,LEN(ORARIO_GENERALE!H11)+SEARCH(" ",ORARIO_GENERALE!H11)),"") | I9: =IFERROR(RIGHT(ORARIO_GENERALE!I11,LEN(ORARIO_GENERALE!I11)+SEARCH(" ",ORARIO_GENERALE!I11)),"") | J9: =ORARIO_GENERALE!J11 -> #REF! | K9: =IFERROR(RIGHT(ORARIO_GENERALE!K11,LEN(ORARIO_GENERALE!K11)+SEARCH(" ",ORARIO_GENERALE!K11)),"") | L9: =IFERROR(RIGHT(ORARIO_GENERALE!L11,LEN(ORARIO_GENERALE!L11)+SEARCH(" ",ORARIO_GENERALE!L11)),"") | M9: =IFERROR(RIGHT(ORARIO_GENERALE!M11,LEN(ORARIO_GENERALE!M11)+SEARCH(" ",ORARIO_GENERALE!M11)),"") | N9: =IFERROR(RIGHT(ORARIO_GENERALE!N11,LEN(ORARIO_GENERALE!N11)+SEARCH(" ",ORARIO_GENERALE!N11)),"") | O9: =IFERROR(RIGHT(ORARIO_GENERALE!O11,LEN(ORARIO_GENERALE!O11)+SEARCH(" ",ORARIO_GENERALE!O11)),"") | P9: =IFERROR(RIGHT(ORARIO_GENERALE!P11,LEN(ORARIO_GENERALE!P11)+SEARCH(" ",ORARIO_GENERALE!P11)),"")
C10: =ORARIO_GENERALE!C12 -> #REF! | D10: =IFERROR(RIGHT(ORARIO_GENERALE!D12,LEN(ORARIO_GENERALE!D12)+SEARCH(" ",ORARIO_GENERALE!D12)),"") | E10: =IFERROR(RIGHT(ORARIO_GENERALE!E12,LEN(ORARIO_GENERALE!E12)+SEARCH(" ",ORARIO_GENERALE!E12)),"") | F10: =IFERROR(RIGHT(ORARIO_GENERALE!F12,LEN(ORARIO_GENERALE!F12)+SEARCH(" ",ORARIO_GENERALE!F12)),"") | G10: =IFERROR(RIGHT(ORARIO_GENERALE!G12,LEN(ORARIO_GENERALE!G12)+SEARCH(" ",ORARIO_GENERALE!G12)),"") | H10: =IFERROR(RIGHT(ORARIO_GENERALE!H12,LEN(ORARIO_GENERALE!H12)+SEARCH(" ",ORARIO_GENERALE!H12)),"") | I10: =IFERROR(RIGHT(ORARIO_GENERALE!I12,LEN(ORARIO_GENERALE!I12)+SEARCH(" ",ORARIO_GENERALE!I12)),"") | J10: =ORARIO_GENERALE!J12 -> #REF! | K10: =IFERROR(RIGHT(ORARIO_GENERALE!K12,LEN(ORARIO_GENERALE!K12)+SEARCH(" ",ORARIO_GENERALE!K12)),"") | L10: =IFERROR(RIGHT(ORARIO_GENERALE!L12,LEN(ORARIO_GENERALE!L12)+SEARCH(" ",ORARIO_GENERALE!L12)),"") | M10: =IFERROR(RIGHT(ORARIO_GENERALE!M12,LEN(ORARIO_GENERALE!M12)+SEARCH(" ",ORARIO_GENERALE!M12)),"") | N10: =IFERROR(RIGHT(ORARIO_GENERALE!N12,LEN(ORARIO_GENERALE!N12)+SEARCH(" ",ORARIO_GENERALE!N12)),"") | O10: =IFERROR(RIGHT(ORARIO_GENERALE!O12,LEN(ORARIO_GENERALE!O12)+SEARCH(" ",ORARIO_GENERALE!O12)),"") | P10: =IFERROR(RIGHT(ORARIO_GENERALE!P12,LEN(ORARIO_GENERALE!P12)+SEARCH(" ",ORARIO_GENERALE!P12)),"")
C11: =ORARIO_GENERALE!C13 -> #REF! | D11: =IFERROR(RIGHT(ORARIO_GENERALE!D13,LEN(ORARIO_GENERALE!D13)+SEARCH(" ",ORARIO_GENERALE!D13)),"") | E11: =IFERROR(RIGHT(ORARIO_GENERALE!E13,LEN(ORARIO_GENERALE!E13)+SEARCH(" ",ORARIO_GENERALE!E13)),"") | F11: =IFERROR(RIGHT(ORARIO_GENERALE!F13,LEN(ORARIO_GENERALE!F13)+SEARCH(" ",ORARIO_GENERALE!F13)),"") | G11: =IFERROR(RIGHT(ORARIO_GENERALE!G13,LEN(ORARIO_GENERALE!G13)+SEARCH(" ",ORARIO_GENERALE!G13)),"") | H11: =IFERROR(RIGHT(ORARIO_GENERALE!H13,LEN(ORARIO_GENERALE!H13)+SEARCH(" ",ORARIO_GENERALE!H13)),"") | I11: =IFERROR(RIGHT(ORARIO_GENERALE!I13,LEN(ORARIO_GENERALE!I13)+SEARCH(" ",ORARIO_GENERALE!I13)),"") | J11: =ORARIO_GENERALE!J13 -> #REF! | K11: =IFERROR(RIGHT(ORARIO_GENERALE!K13,LEN(ORARIO_GENERALE!K13)+SEARCH(" ",ORARIO_GENERALE!K13)),"") | L11: =IFERROR(RIGHT(ORARIO_GENERALE!L13,LEN(ORARIO_GENERALE!L13)+SEARCH(" ",ORARIO_GENERALE!L13)),"") | M11: =IFERROR(RIGHT(ORARIO_GENERALE!M13,LEN(ORARIO_GENERALE!M13)+SEARCH(" ",ORARIO_GENERALE!M13)),"") | N11: =IFERROR(RIGHT(ORARIO_GENERALE!N13,LEN(ORARIO_GENERALE!N13)+SEARCH(" ",ORARIO_GENERALE!N13)),"") | O11: =IFERROR(RIGHT(ORARIO_GENERALE!O13,LEN(ORARIO_GENERALE!O13)+SEARCH(" ",ORARIO_GENERALE!O13)),"") | P11: =IFERROR(RIGHT(ORARIO_GENERALE!P13,LEN(ORARIO_GENERALE!P13)+SEARCH(" ",ORARIO_GENERALE!P13)),"")
C12: =ORARIO_GENERALE!C14 -> #REF! | D12: =IFERROR(RIGHT(ORARIO_GENERALE!D14,LEN(ORARIO_GENERALE!D14)+SEARCH(" ",ORARIO_GENERALE!D14)),"") | E12: =IFERROR(RIGHT(ORARIO_GENERALE!E14,LEN(ORARIO_GENERALE!E14)+SEARCH(" ",ORARIO_GENERALE!E14)),"") | F12: =IFERROR(RIGHT(ORARIO_GENERALE!F14,LEN(ORARIO_GENERALE!F14)+SEARCH(" ",ORARIO_GENERALE!F14)),"") | G12: =IFERROR(RIGHT(ORARIO_GENERALE!G14,LEN(ORARIO_GENERALE!G14)+SEARCH(" ",ORARIO_GENERALE!G14)),"") | H12: =IFERROR(RIGHT(ORARIO_GENERALE!H14,LEN(ORARIO_GENERALE!H14)+SEARCH(" ",ORARIO_GENERALE!H14)),"") | I12: =IFERROR(RIGHT(ORARIO_GENERALE!I14,LEN(ORARIO_GENERALE!I14)+SEARCH(" ",ORARIO_GENERALE!I14)),"") | J12: =ORARIO_GENERALE!J14 -> #REF! | K12: =IFERROR(RIGHT(ORARIO_GENERALE!K14,LEN(ORARIO_GENERALE!K14)+SEARCH(" ",ORARIO_GENERALE!K14)),"") | L12: =IFERROR(RIGHT(ORARIO_GENERALE!L14,LEN(ORARIO_GENERALE!L14)+SEARCH(" ",ORARIO_GENERALE!L14)),"") | M12: =IFERROR(RIGHT(ORARIO_GENERALE!M14,LEN(ORARIO_GENERALE!M14)+SEARCH(" ",ORARIO_GENERALE!M14)),"") | N12: =IFERROR(RIGHT(ORARIO_GENERALE!N14,LEN(ORARIO_GENERALE!N14)+SEARCH(" ",ORARIO_GENERALE!N14)),"") | O12: =IFERROR(RIGHT(ORARIO_GENERALE!O14,LEN(ORARIO_GENERALE!O14)+SEARCH(" ",ORARIO_GENERALE!O14)),"") | P12: =IFERROR(RIGHT(ORARIO_GENERALE!P14,LEN(ORARIO_GENERALE!P14)+SEARCH(" ",ORARIO_GENERALE!P14)),"")
C13: =ORARIO_GENERALE!C15 -> #REF! | D13: =IFERROR(RIGHT(ORARIO_GENERALE!D15,LEN(ORARIO_GENERALE!D15)+SEARCH(" ",ORARIO_GENERALE!D15)),"") | E13: =IFERROR(RIGHT(ORARIO_GENERALE!E15,LEN(ORARIO_GENERALE!E15)+SEARCH(" ",ORARIO_GENERALE!E15)),"") | F13: =IFERROR(RIGHT(ORARIO_GENERALE!F15,LEN(ORARIO_GENERALE!F15)+SEARCH(" ",ORARIO_GENERALE!F15)),"") | G13: =IFERROR(RIGHT(ORARIO_GENERALE!G15,LEN(ORARIO_GENERALE!G15)+SEARCH(" ",ORARIO_GENERALE!G15)),"") | H13: =IFERROR(RIGHT(ORARIO_GENERALE!H15,LEN(ORARIO_GENERALE!H15)+SEARCH(" ",ORARIO_GENERALE!H15)),"") | I13: =IFERROR(RIGHT(ORARIO_GENERALE!I15,LEN(ORARIO_GENERALE!I15)+SEARCH(" ",ORARIO_GENERALE!I15)),"") | J13: =ORARIO_GENERALE!J15 -> #REF! | K13: =IFERROR(RIGHT(ORARIO_GENERALE!K15,LEN(ORARIO_GENERALE!K15)+SEARCH(" ",ORARIO_GENERALE!K15)),"") | L13: =IFERROR(RIGHT(ORARIO_GENERALE!L15,LEN(ORARIO_GENERALE!L15)+SEARCH(" ",ORARIO_GENERALE!L15)),"") | M13: =IFERROR(RIGHT(ORARIO_GENERALE!M15,LEN(ORARIO_GENERALE!M15)+SEARCH(" ",ORARIO_GENERALE!M15)),"") | N13: =IFERROR(RIGHT(ORARIO_GENERALE!N15,LEN(ORARIO_GENERALE!N15)+SEARCH(" ",ORARIO_GENERALE!N15)),"") | O13: =IFERROR(RIGHT(ORARIO_GENERALE!O15,LEN(ORARIO_GENERALE!O15)+SEARCH(" ",ORARIO_GENERALE!O15)),"") | P13: =IFERROR(RIGHT(ORARIO_GENERALE!P15,LEN(ORARIO_GENERALE!P15)+SEARCH(" ",ORARIO_GENERALE!P15)),"")
C14: =ORARIO_GENERALE!C16 -> #REF! | D14: =IFERROR(RIGHT(ORARIO_GENERALE!D16,LEN(ORARIO_GENERALE!D16)+SEARCH(" ",ORARIO_GENERALE!D16)),"") | E14: =IFERROR(RIGHT(ORARIO_GENERALE!E16,LEN(ORARIO_GENERALE!E16)+SEARCH(" ",ORARIO_GENERALE!E16)),"") | F14: =IFERROR(RIGHT(ORARIO_GENERALE!F16,LEN(ORARIO_GENERALE!F16)+SEARCH(" ",ORARIO_GENERALE!F16)),"") | G14: =IFERROR(RIGHT(ORARIO_GENERALE!G16,LEN(ORARIO_GENERALE!G16)+SEARCH(" ",ORARIO_GENERALE!G16)),"") | H14: =IFERROR(RIGHT(ORARIO_GENERALE!H16,LEN(ORARIO_GENERALE!H16)+SEARCH(" ",ORARIO_GENERALE!H16)),"") | I14: =IFERROR(RIGHT(ORARIO_GENERALE!I16,LEN(ORARIO_GENERALE!I16)+SEARCH(" ",ORARIO_GENERALE!I16)),"") | J14: =ORARIO_GENERALE!J16 -> #REF! | K14: =IFERROR(RIGHT(ORARIO_GENERALE!K16,LEN(ORARIO_GENERALE!K16)+SEARCH(" ",ORARIO_GENERALE!K16)),"") | L14: =IFERROR(RIGHT(ORARIO_GENERALE!L16,LEN(ORARIO_GENERALE!L16)+SEARCH(" ",ORARIO_GENERALE!L16)),"") | M14: =IFERROR(RIGHT(ORARIO_GENERALE!M16,LEN(ORARIO_GENERALE!M16)+SEARCH(" ",ORARIO_GENERALE!M16)),"") | N14: =IFERROR(RIGHT(ORARIO_GENERALE!N16,LEN(ORARIO_GENERALE!N16)+SEARCH(" ",ORARIO_GENERALE!N16)),"") | O14: =IFERROR(RIGHT(ORARIO_GENERALE!O16,LEN(ORARIO_GENERALE!O16)+SEARCH(" ",ORARIO_GENERALE!O16)),"") | P14: =IFERROR(RIGHT(ORARIO_GENERALE!P16,LEN(ORARIO_GENERALE!P16)+SEARCH(" ",ORARIO_GENERALE!P16)),"")
B15: MAR | C15: =ORARIO_GENERALE!C17 -> #REF! | D15: =IFERROR(RIGHT(ORARIO_GENERALE!D17,LEN(ORARIO_GENERALE!D17)+SEARCH(" ",ORARIO_GENERALE!D17)),"") | E15: =IFERROR(RIGHT(ORARIO_GENERALE!E17,LEN(ORARIO_GENERALE!E17)+SEARCH(" ",ORARIO_GENERALE!E17)),"") | F15: =IFERROR(RIGHT(ORARIO_GENERALE!F17,LEN(ORARIO_GENERALE!F17)+SEARCH(" ",ORARIO_GENERALE!F17)),"") | G15: =IFERROR(RIGHT(ORARIO_GENERALE!G17,LEN(ORARIO_GENERALE!G17)+SEARCH(" ",ORARIO_GENERALE!G17)),"") | H15: =IFERROR(RIGHT(ORARIO_GENERALE!H17,LEN(ORARIO_GENERALE!H17)+SEARCH(" ",ORARIO_GENERALE!H17)),"") | I15: =IFERROR(RIGHT(ORARIO_GENERALE!I17,LEN(ORARIO_GENERALE!I17)+SEARCH(" ",ORARIO_GENERALE!I17)),"") | J15: =ORARIO_GENERALE!J17 -> #REF! | K15: =IFERROR(RIGHT(ORARIO_GENERALE!K17,LEN(ORARIO_GENERALE!K17)+SEARCH(" ",ORARIO_GENERALE!K17)),"") | L15: =IFERROR(RIGHT(ORARIO_GENERALE!L17,LEN(ORARIO_GENERALE!L17)+SEARCH(" ",ORARIO_GENERALE!L17)),"") | M15: =IFERROR(RIGHT(ORARIO_GENERALE!M17,LEN(ORARIO_GENERALE!M17)+SEARCH(" ",ORARIO_GENERALE!M17)),"") | N15: =IFERROR(RIGHT(ORARIO_GENERALE!N17,LEN(ORARIO_GENERALE!N17)+SEARCH(" ",ORARIO_GENERALE!N17)),"") | O15: =IFERROR(RIGHT(ORARIO_GENERALE!O17,LEN(ORARIO_GENERALE!O17)+SEARCH(" ",ORARIO_GENERALE!O17)),"") | P15: =IFERROR(RIGHT(ORARIO_GENERALE!P17,LEN(ORARIO_GENERALE!P17)+SEARCH(" ",ORARIO_GENERALE!P17)),"") | Q15: =IFERROR(RIGHT(ORARIO_GENERALE!Q17,LEN(ORARIO_GENERALE!Q17)-SEARCH(" ",ORARIO_GENERALE!Q17)),"")
C16: =ORARIO_GENERALE!C18 -> #REF! | D16: =IFERROR(RIGHT(ORARIO_GENERALE!D18,LEN(ORARIO_GENERALE!D18)+SEARCH(" ",ORARIO_GENERALE!D18)),"") | E16: =IFERROR(RIGHT(ORARIO_GENERALE!E18,LEN(ORARIO_GENERALE!E18)+SEARCH(" ",ORARIO_GENERALE!E18)),"") | F16: =IFERROR(RIGHT(ORARIO_GENERALE!F18,LEN(ORARIO_GENERALE!F18)+SEARCH(" ",ORARIO_GENERALE!F18)),"") | G16: =IFERROR(RIGHT(ORARIO_GENERALE!G18,LEN(ORARIO_GENERALE!G18)+SEARCH(" ",ORARIO_GENERALE!G18)),"") | H16: =IFERROR(RIGHT(ORARIO_GENERALE!H18,LEN(ORARIO_GENERALE!H18)+SEARCH(" ",ORARIO_GENERALE!H18)),"") | I16: =IFERROR(RIGHT(ORARIO_GENERALE!I18,LEN(ORARIO_GENERALE!I18)+SEARCH(" ",ORARIO_GENERALE!I18)),"") | J16: =ORARIO_GENERALE!J18 -> #REF! | K16: =IFERROR(RIGHT(ORARIO_GENERALE!K18,LEN(ORARIO_GENERALE!K18)+SEARCH(" ",ORARIO_GENERALE!K18)),"") | L16: =IFERROR(RIGHT(#REF!,LEN(#REF!)+SEARCH(" ",#REF!)),"") | M16: =IFERROR(RIGHT(ORARIO_GENERALE!M18,LEN(ORARIO_GENERALE!M18)+SEARCH(" ",ORARIO_GENERALE!M18)),"") | N16: =IFERROR(RIGHT(ORARIO_GENERALE!N18,LEN(ORARIO_GENERALE!N18)+SEARCH(" ",ORARIO_GENERALE!N18)),"") | O16: =IFERROR(RIGHT(ORARIO_GENERALE!O18,LEN(ORARIO_GENERALE!O18)+SEARCH(" ",ORARIO_GENERALE!O18)),"") | P16: =IFERROR(RIGHT(ORARIO_GENERALE!P18,LEN(ORARIO_GENERALE!P18)+SEARCH(" ",ORARIO_GENERALE!P18)),"") | Q16: =IFERROR(RIGHT(ORARIO_GENERALE!Q18,LEN(ORARIO_GENERALE!Q18)-SEARCH(" ",ORARIO_GENERALE!Q18)),"") | R16: =IFERROR(RIGHT(ORARIO_GENERALE!R18,LEN(ORARIO_GENERALE!R18)-SEARCH(" ",ORARIO_GENERALE!R18)),"")
C17: =ORARIO_GENERALE!C19 -> #REF! | D17: =IFERROR(RIGHT(ORARIO_GENERALE!D19,LEN(ORARIO_GENERALE!D19)+SEARCH(" ",ORARIO_GENERALE!D19)),"") | E17: =IFERROR(RIGHT(ORARIO_GENERALE!E19,LEN(ORARIO_GENERALE!E19)+SEARCH(" ",ORARIO_GENERALE!E19)),"") | F17: =IFERROR(RIGHT(ORARIO_GENERALE!F19,LEN(ORARIO_GENERALE!F19)+SEARCH(" ",ORARIO_GENERALE!F19)),"") | G17: =IFERROR(RIGHT(ORARIO_GENERALE!G19,LEN(ORARIO_GENERALE!G19)+SEARCH(" ",ORARIO_GENERALE!G19)),"") | H17: =IFERROR(RIGHT(ORARIO_GENERALE!H19,LEN(ORARIO_GENERALE!H19)+SEARCH(" ",ORARIO_GENERALE!H19)),"") | I17: =IFERROR(RIGHT(ORARIO_GENERALE!I19,LEN(ORARIO_GENERALE!I19)+SEARCH(" ",ORARIO_GENERALE!I19)),"") | J17: =ORARIO_GENERALE!J19 -> #REF! | K17: =IFERROR(RIGHT(ORARIO_GENERALE!K19,LEN(ORARIO_GENERALE!K19)+SEARCH(" ",ORARIO_GENERALE!K19)),"") | L17: =IFERROR(RIGHT(#REF!,LEN(#REF!)+SEARCH(" ",#REF!)),"") | M17: =IFERROR(RIGHT(ORARIO_GENERALE!M19,LEN(ORARIO_GENERALE!M19)+SEARCH(" ",ORARIO_GENERALE!M19)),"") | N17: =IFERROR(RIGHT(ORARIO_GENERALE!N19,LEN(ORARIO_GENERALE!N19)+SEARCH(" ",ORARIO_GENERALE!N19)),"") | O17: =IFERROR(RIGHT(ORARIO_GENERALE!O19,LEN(ORARIO_GENERALE!O19)+SEARCH(" ",ORARIO_GENERALE!O19)),"") | P17: =IFERROR(RIGHT(ORARIO_GENERALE!P19,LEN(ORARIO_GENERALE!P19)+SEARCH(" ",ORARIO_GENERALE!P19)),"") | Q17: =IFERROR(RIGHT(ORARIO_GENERALE!Q19,LEN(ORARIO_GENERALE!Q19)-SEARCH(" ",ORARIO_GENERALE!Q19)),"") | R17: =IFERROR(RIGHT(ORARIO_GENERALE!R19,LEN(ORARIO_GENERALE!R19)-SEARCH(" ",ORARIO_GENERALE!R19)),"")
C18: =ORARIO_GENERALE!C20 -> #REF! | D18: =IFERROR(RIGHT(ORARIO_GENERALE!D20,LEN(ORARIO_GENERALE!D20)+SEARCH(" ",ORARIO_GENERALE!D20)),"") | E18: =IFERROR(RIGHT(ORARIO_GENERALE!E20,LEN(ORARIO_GENERALE!E20)+SEARCH(" ",ORARIO_GENERALE!E20)),"") | F18: =IFERROR(RIGHT(ORARIO_GENERALE!F20,LEN(ORARIO_GENERALE!F20)+SEARCH(" ",ORARIO_GENERALE!F20)),"") | G18: =IFERROR(RIGHT(ORARIO_GENERALE!G20,LEN(ORARIO_GENERALE!G20)+SEARCH(" ",ORARIO_GENERALE!G20)),"") | H18: =IFERROR(RIGHT(ORARIO_GENERALE!H20,LEN(ORARIO_GENERALE!H20)+SEARCH(" ",ORARIO_GENERALE!H20)),"") | I18: =IFERROR(RIGHT(ORARIO_GENERALE!I20,LEN(ORARIO_GENERALE!I20)+SEARCH(" ",ORARIO_GENERALE!I20)),"") | J18: =ORARIO_GENERALE!J20 -> #REF! | K18: =IFERROR(RIGHT(ORARIO_GENERALE!K20,LEN(ORARIO_GENERALE!K20)+SEARCH(" ",ORARIO_GENERALE!K20)),"") | L18: =IFERROR(RIGHT(#REF!,LEN(#REF!)+SEARCH(" ",#REF!)),"") | M18: =IFERROR(RIGHT(ORARIO_GENERALE!M20,LEN(ORARIO_GENERALE!M20)+SEARCH(" ",ORARIO_GENERALE!M20)),"") | N18: =IFERROR(RIGHT(ORARIO_GENERALE!N20,LEN(ORARIO_GENERALE!N20)+SEARCH(" ",ORARIO_GENERALE!N20)),"") | O18: =IFERROR(RIGHT(#REF!,LEN(#REF!)+SEARCH(" ",#REF!)),"") | P18: =IFERROR(RIGHT(ORARIO_GENERALE!P20,LEN(ORARIO_GENERALE!P20)+SEARCH(" ",ORARIO_GENERALE!P20)),"") | Q18: =IFERROR(RIGHT(ORARIO_GENERALE!Q20,LEN(ORARIO_GENERALE!Q20)-SEARCH(" ",ORARIO_GENERALE!Q20)),"") | R18: =IFERROR(RIGHT(ORARIO_GENERALE!R20,LEN(ORARIO_GENERALE!R20)-SEARCH(" ",ORARIO_GENERALE!R20)),"")
C19: =ORARIO_GENERALE!C21 -> #REF! | D19: =IFERROR(RIGHT(ORARIO_GENERALE!D21,LEN(ORARIO_GENERALE!D21)+SEARCH(" ",ORARIO_GENERALE!D21)),"") | E19: =IFERROR(RIGHT(ORARIO_GENERALE!E21,LEN(ORARIO_GENERALE!E21)+SEARCH(" ",ORARIO_GENERALE!E21)),"") | F19: =IFERROR(RIGHT(ORARIO_GENERALE!F21,LEN(ORARIO_GENERALE!F21)+SEARCH(" ",ORARIO_GENERALE!F21)),"") | G19: =IFERROR(RIGHT(ORARIO_GENERALE!G21,LEN(ORARIO_GENERALE!G21)+SEARCH(" ",ORARIO_GENERALE!G21)),"") | H19: =IFERROR(RIGHT(ORARIO_GENERALE!H21,LEN(ORARIO_GENERALE!H21)+SEARCH(" ",ORARIO_GENERALE!H21)),"") | I19: =IFERROR(RIGHT(ORARIO_GENERALE!I21,LEN(ORARIO_GENERALE!I21)+SEARCH(" ",ORARIO_GENERALE!I21)),"") | J19: =ORARIO_GENERALE!J21 -> #REF! | K19: =IFERROR(RIGHT(ORARIO_GENERALE!K21,LEN(ORARIO_GENERALE!K21)+SEARCH(" ",ORARIO_GENERALE!K21)),"") | L19: =IFERROR(RIGHT(ORARIO_GENERALE!L18,LEN(ORARIO_GENERALE!L18)+SEARCH(" ",ORARIO_GENERALE!L18)),"") | M19: =IFERROR(RIGHT(ORARIO_GENERALE!M21,LEN(ORARIO_GENERALE!M21)+SEARCH(" ",ORARIO_GENERALE!M21)),"") | N19: =IFERROR(RIGHT(ORARIO_GENERALE!N21,LEN(ORARIO_GENERALE!N21)+SEARCH(" ",ORARIO_GENERALE!N21)),"") | O19: =IFERROR(RIGHT(ORARIO_GENERALE!O20,LEN(ORARIO_GENERALE!O20)+SEARCH(" ",ORARIO_GENERALE!O20)),"") | P19: =IFERROR(RIGHT(ORARIO_GENERALE!P21,LEN(ORARIO_GENERALE!P21)+SEARCH(" ",ORARIO_GENERALE!P21)),"") | Q19: =IFERROR(RIGHT(ORARIO_GENERALE!Q21,LEN(ORARIO_GENERALE!Q21)-SEARCH(" ",ORARIO_GENERALE!Q21)),"") | R19: =IFERROR(RIGHT(ORARIO_GENERALE!R21,LEN(ORARIO_GENERALE!R21)-SEARCH(" ",ORARIO_GENERALE!R21)),"")
C20: =ORARIO_GENERALE!C22 -> #REF! | D20: =IFERROR(RIGHT(ORARIO_GENERALE!D22,LEN(ORARIO_GENERALE!D22)+SEARCH(" ",ORARIO_GENERALE!D22)),"") | E20: =IFERROR(RIGHT(ORARIO_GENERALE!E22,LEN(ORARIO_GENERALE!E22)+SEARCH(" ",ORARIO_GENERALE!E22)),"") | F20: =IFERROR(RIGHT(ORARIO_GENERALE!F22,LEN(ORARIO_GENERALE!F22)+SEARCH(" ",ORARIO_GENERALE!F22)),"") | G20: =IFERROR(RIGHT(ORARIO_GENERALE!G22,LEN(ORARIO_GENERALE!G22)+SEARCH(" ",ORARIO_GENERALE!G22)),"") | H20: =IFERROR(RIGHT(ORARIO_GENERALE!H22,LEN(ORARIO_GENERALE!H22)+SEARCH(" ",ORARIO_GENERALE!H22)),"") | I20: =IFERROR(RIGHT(ORARIO_GENERALE!I22,LEN(ORARIO_GENERALE!I22)+SEARCH(" ",ORARIO_GENERALE!I22)),"") | J20: =ORARIO_GENERALE!J22 -> #REF! | K20: =IFERROR(RIGHT(ORARIO_GENERALE!K22,LEN(ORARIO_GENERALE!K22)+SEARCH(" ",ORARIO_GENERALE!K22)),"") | L20: =IFERROR(RIGHT(ORARIO_GENERALE!L19,LEN(ORARIO_GENERALE!L19)+SEARCH(" ",ORARIO_GENERALE!L19)),"") | M20: =IFERROR(RIGHT(ORARIO_GENERALE!M22,LEN(ORARIO_GENERALE!M22)+SEARCH(" ",ORARIO_GENERALE!M22)),"") | N20: =IFERROR(RIGHT(ORARIO_GENERALE!N22,LEN(ORARIO_GENERALE!N22)+SEARCH(" ",ORARIO_GENERALE!N22)),"") | O20: =IFERROR(RIGHT(ORARIO_GENERALE!O21,LEN(ORARIO_GENERALE!O21)+SEARCH(" ",ORARIO_GENERALE!O21)),"") | P20: =IFERROR(RIGHT(ORARIO_GENERALE!P22,LEN(ORARIO_GENERALE!P22)+SEARCH(" ",ORARIO_GENERALE!P22)),"") | Q20: =IFERROR(RIGHT(ORARIO_GENERALE!Q22,LEN(ORARIO_GENERALE!Q22)-SEARCH(" ",ORARIO_GENERALE!Q22)),"") | R20: =IFERROR(RIGHT(ORARIO_GENERALE!R22,LEN(ORARIO_GENERALE!R22)-SEARCH(" ",ORARIO_GENERALE!R22)),"")
C21: =ORARIO_GENERALE!C23 -> #REF! | D21: =IFERROR(RIGHT(ORARIO_GENERALE!D23,LEN(ORARIO_GENERALE!D23)+SEARCH(" ",ORARIO_GENERALE!D23)),"") | E21: =IFERROR(RIGHT(ORARIO_GENERALE!E23,LEN(ORARIO_GENERALE!E23)+SEARCH(" ",ORARIO_GENERALE!E23)),"") | F21: =IFERROR(RIGHT(ORARIO_GENERALE!F23,LEN(ORARIO_GENERALE!F23)+SEARCH(" ",ORARIO_GENERALE!F23)),"") | G21: =IFERROR(RIGHT(ORARIO_GENERALE!G23,LEN(ORARIO_GENERALE!G23)+SEARCH(" ",ORARIO_GENERALE!G23)),"") | H21: =IFERROR(RIGHT(ORARIO_GENERALE!H23,LEN(ORARIO_GENERALE!H23)+SEARCH(" ",ORARIO_GENERALE!H23)),"") | I21: =IFERROR(RIGHT(ORARIO_GENERALE!I23,LEN(ORARIO_GENERALE!I23)+SEARCH(" ",ORARIO_GENERALE!I23)),"") | J21: =ORARIO_GENERALE!J23 -> #REF! | K21: =IFERROR(RIGHT(ORARIO_GENERALE!K23,LEN(ORARIO_GENERALE!K23)+SEARCH(" ",ORARIO_GENERALE!K23)),"") | L21: =IFERROR(RIGHT(ORARIO_GENERALE!L20,LEN(ORARIO_GENERALE!L20)+SEARCH(" ",ORARIO_GENERALE!L20)),"") | M21: =IFERROR(RIGHT(ORARIO_GENERALE!M23,LEN(ORARIO_GENERALE!M23)+SEARCH(" ",ORARIO_GENERALE!M23)),"") | N21: =IFERROR(RIGHT(ORARIO_GENERALE!N23,LEN(ORARIO_GENERALE!N23)+SEARCH(" ",ORARIO_GENERALE!N23)),"") | O21: =IFERROR(RIGHT(ORARIO_GENERALE!O22,LEN(ORARIO_GENERALE!O22)+SEARCH(" ",ORARIO_GENERALE!O22)),"") | P21: =IFERROR(RIGHT(ORARIO_GENERALE!P23,LEN(ORARIO_GENERALE!P23)+SEARCH(" ",ORARIO_GENERALE!P23)),"") | Q21: =IFERROR(RIGHT(ORARIO_GENERALE!Q23,LEN(ORARIO_GENERALE!Q23)-SEARCH(" ",ORARIO_GENERALE!Q23)),"") | R21: =IFERROR(RIGHT(ORARIO_GENERALE!R23,LEN(ORARIO_GENERALE!R23)-SEARCH(" ",ORARIO_GENERALE!R23)),"")
C22: =ORARIO_GENERALE!C24 -> #REF! | D22: =IFERROR(RIGHT(ORARIO_GENERALE!D24,LEN(ORARIO_GENERALE!D24)+SEARCH(" ",ORARIO_GENERALE!D24)),"") | E22: =IFERROR(RIGHT(ORARIO_GENERALE!E24,LEN(ORARIO_GENERALE!E24)+SEARCH(" ",ORARIO_GENERALE!E24)),"") | F22: =IFERROR(RIGHT(ORARIO_GENERALE!F24,LEN(ORARIO_GENERALE!F24)+SEARCH(" ",ORARIO_GENERALE!F24)),"") | G22: =IFERROR(RIGHT(ORARIO_GENERALE!G24,LEN(ORARIO_GENERALE!G24)+SEARCH(" ",ORARIO_GENERALE!G24)),"") | H22: =IFERROR(RIGHT(ORARIO_GENERALE!H24,LEN(ORARIO_GENERALE!H24)+SEARCH(" ",ORARIO_GENERALE!H24)),"") | I22: =IFERROR(RIGHT(ORARIO_GENERALE!I24,LEN(ORARIO_GENERALE!I24)+SEARCH(" ",ORARIO_GENERALE!I24)),"") | J22: =ORARIO_GENERALE!J24 -> #REF! | K22: =IFERROR(RIGHT(ORARIO_GENERALE!K24,LEN(ORARIO_GENERALE!K24)+SEARCH(" ",ORARIO_GENERALE!K24)),"") | L22: =IFERROR(RIGHT(ORARIO_GENERALE!L21,LEN(ORARIO_GENERALE!L21)+SEARCH(" ",ORARIO_GENERALE!L21)),"") | M22: =IFERROR(RIGHT(ORARIO_GENERALE!M24,LEN(ORARIO_GENERALE!M24)+SEARCH(" ",ORARIO_GENERALE!M24)),"") | N22: =IFERROR(RIGHT(ORARIO_GENERALE!N24,LEN(ORARIO_GENERALE!N24)+SEARCH(" ",ORARIO_GENERALE!N24)),"") | O22: =IFERROR(RIGHT(ORARIO_GENERALE!O23,LEN(ORARIO_GENERALE!O23)+SEARCH(" ",ORARIO_GENERALE!O23)),"") | P22: =IFERROR(RIGHT(ORARIO_GENERALE!P24,LEN(ORARIO_GENERALE!P24)+SEARCH(" ",ORARIO_GENERALE!P24)),"") | Q22: =IFERROR(RIGHT(ORARIO_GENERALE!Q24,LEN(ORARIO_GENERALE!Q24)-SEARCH(" ",ORARIO_GENERALE!Q24)),"") | R22: =IFERROR(RIGHT(ORARIO_GENERALE!R24,LEN(ORARIO_GENERALE!R24)-SEARCH(" ",ORARIO_GENERALE!R24)),"")
C23: =ORARIO_GENERALE!C25 -> #REF! | D23: =IFERROR(RIGHT(ORARIO_GENERALE!D25,LEN(ORARIO_GENERALE!D25)+SEARCH(" ",ORARIO_GENERALE!D25)),"") | E23: =IFERROR(RIGHT(ORARIO_GENERALE!E25,LEN(ORARIO_GENERALE!E25)+SEARCH(" ",ORARIO_GENERALE!E25)),"") | F23: =IFERROR(RIGHT(ORARIO_GENERALE!F25,LEN(ORARIO_GENERALE!F25)+SEARCH(" ",ORARIO_GENERALE!F25)),"") | G23: =IFERROR(RIGHT(ORARIO_GENERALE!G25,LEN(ORARIO_GENERALE!G25)+SEARCH(" ",ORARIO_GENERALE!G25)),"") | H23: =IFERROR(RIGHT(ORARIO_GENERALE!H25,LEN(ORARIO_GENERALE!H25)+SEARCH(" ",ORARIO_GENERALE!H25)),"") | I23: =IFERROR(RIGHT(ORARIO_GENERALE!I25,LEN(ORARIO_GENERALE!I25)+SEARCH(" ",ORARIO_GENERALE!I25)),"") | J23: =ORARIO_GENERALE!J25 -> #REF! | K23: =IFERROR(RIGHT(ORARIO_GENERALE!K25,LEN(ORARIO_GENERALE!K25)+SEARCH(" ",ORARIO_GENERALE!K25)),"") | L23: =IFERROR(RIGHT(ORARIO_GENERALE!L22,LEN(ORARIO_GENERALE!L22)+SEARCH(" ",ORARIO_GENERALE!L22)),"") | M23: =IFERROR(RIGHT(ORARIO_GENERALE!M25,LEN(ORARIO_GENERALE!M25)+SEARCH(" ",ORARIO_GENERALE!M25)),"") | N23: =IFERROR(RIGHT(ORARIO_GENERALE!N25,LEN(ORARIO_GENERALE!N25)+SEARCH(" ",ORARIO_GENERALE!N25)),"") | O23: =IFERROR(RIGHT(ORARIO_GENERALE!O24,LEN(ORARIO_GENERALE!O24)+SEARCH(" ",ORARIO_GENERALE!O24)),"") | P23: =IFERROR(RIGHT(ORARIO_GENERALE!P25,LEN(ORARIO_GENERALE!P25)+SEARCH(" ",ORARIO_GENERALE!P25)),"") | Q23: =IFERROR(RIGHT(ORARIO_GENERALE!Q25,LEN(ORARIO_GENERALE!Q25)-SEARCH(" ",ORARIO_GENERALE!Q25)),"") | R23: =IFERROR(RIGHT(ORARIO_GENERALE!R25,LEN(ORARIO_GENERALE!R25)-SEARCH(" ",ORARIO_GENERALE!R25)),"")
C24: =ORARIO_GENERALE!C26 -> #REF! | D24: =IFERROR(RIGHT(ORARIO_GENERALE!D26,LEN(ORARIO_GENERALE!D26)+SEARCH(" ",ORARIO_GENERALE!D26)),"") | E24: =IFERROR(RIGHT(ORARIO_GENERALE!E26,LEN(ORARIO_GENERALE!E26)+SEARCH(" ",ORARIO_GENERALE!E26)),"") | F24: =IFERROR(RIGHT(ORARIO_GENERALE!F26,LEN(ORARIO_GENERALE!F26)+SEARCH(" ",ORARIO_GENERALE!F26)),"") | G24: =IFERROR(RIGHT(ORARIO_GENERALE!G26,LEN(ORARIO_GENERALE!G26)+SEARCH(" ",ORARIO_GENERALE!G26)),"") | H24: =IFERROR(RIGHT(ORARIO_GENERALE!H26,LEN(ORARIO_GENERALE!H26)+SEARCH(" ",ORARIO_GENERALE!H26)),"") | I24: =IFERROR(RIGHT(ORARIO_GENERALE!I26,LEN(ORARIO_GENERALE!I26)+SEARCH(" ",ORARIO_GENERALE!I26)),"") | J24: =ORARIO_GENERALE!J26 -> #REF! | K24: =IFERROR(RIGHT(ORARIO_GENERALE!K26,LEN(ORARIO_GENERALE!K26)+SEARCH(" ",ORARIO_GENERALE!K26)),"") | L24: =IFERROR(RIGHT(ORARIO_GENERALE!L26,LEN(ORARIO_GENERALE!L26)+SEARCH(" ",ORARIO_GENERALE!L26)),"") | M24: =IFERROR(RIGHT(ORARIO_GENERALE!M26,LEN(ORARIO_GENERALE!M26)+SEARCH(" ",ORARIO_GENERALE!M26)),"") | N24: =IFERROR(RIGHT(ORARIO_GENERALE!N26,LEN(ORARIO_GENERALE!N26)+SEARCH(" ",ORARIO_GENERALE!N26)),"") | O24: =IFERROR(RIGHT(ORARIO_GENERALE!O25,LEN(ORARIO_GENERALE!O25)+SEARCH(" ",ORARIO_GENERALE!O25)),"") | P24: =IFERROR(RIGHT(ORARIO_GENERALE!P26,LEN(ORARIO_GENERALE!P26)+SEARCH(" ",ORARIO_GENERALE!P26)),"") | Q24: =IFERROR(RIGHT(ORARIO_GENERALE!Q26,LEN(ORARIO_GENERALE!Q26)-SEARCH(" ",ORARIO_GENERALE!Q26)),"") | R24: =IFERROR(RIGHT(ORARIO_GENERALE!R26,LEN(ORARIO_GENERALE!R26)-SEARCH(" ",ORARIO_GENERALE!R26)),"")
C25: =ORARIO_GENERALE!C27 -> #REF! | D25: =IFERROR(RIGHT(ORARIO_GENERALE!D27,LEN(ORARIO_GENERALE!D27)+SEARCH(" ",ORARIO_GENERALE!D27)),"") | E25: =IFERROR(RIGHT(ORARIO_GENERALE!E27,LEN(ORARIO_GENERALE!E27)+SEARCH(" ",ORARIO_GENERALE!E27)),"") | F25: =IFERROR(RIGHT(ORARIO_GENERALE!F27,LEN(ORARIO_GENERALE!F27)+SEARCH(" ",ORARIO_GENERALE!F27)),"") | G25: =IFERROR(RIGHT(ORARIO_GENERALE!G27,LEN(ORARIO_GENERALE!G27)+SEARCH(" ",ORARIO_GENERALE!G27)),"") | H25: =IFERROR(RIGHT(ORARIO_GENERALE!H27,LEN(ORARIO_GENERALE!H27)+SEARCH(" ",ORARIO_GENERALE!H27)),"") | I25: =IFERROR(RIGHT(ORARIO_GENERALE!I27,LEN(ORARIO_GENERALE!I27)+SEARCH(" ",ORARIO_GENERALE!I27)),"") | J25: =ORARIO_GENERALE!J27 -> #REF! | K25: =IFERROR(RIGHT(ORARIO_GENERALE!K27,LEN(ORARIO_GENERALE!K27)+SEARCH(" ",ORARIO_GENERALE!K27)),"") | L25: =IFERROR(RIGHT(ORARIO_GENERALE!L27,LEN(ORARIO_GENERALE!L27)+SEARCH(" ",ORARIO_GENERALE!L27)),"") | M25: =IFERROR(RIGHT(ORARIO_GENERALE!M27,LEN(ORARIO_GENERALE!M27)+SEARCH(" ",ORARIO_GENERALE!M27)),"") | N25: =IFERROR(RIGHT(ORARIO_GENERALE!N27,LEN(ORARIO_GENERALE!N27)+SEARCH(" ",ORARIO_GENERALE!N27)),"") | O25: =IFERROR(RIGHT(ORARIO_GENERALE!O27,LEN(ORARIO_GENERALE!O27)+SEARCH(" ",ORARIO_GENERALE!O27)),"") | P25: =IFERROR(RIGHT(ORARIO_GENERALE!P27,LEN(ORARIO_GENERALE!P27)+SEARCH(" ",ORARIO_GENERALE!P27)),"") | Q25: =IFERROR(RIGHT(ORARIO_GENERALE!Q27,LEN(ORARIO_GENERALE!Q27)-SEARCH(" ",ORARIO_GENERALE!Q27)),"") | R25: =IFERROR(RIGHT(ORARIO_GENERALE!R27,LEN(ORARIO_GENERALE!R27)-SEARCH(" ",ORARIO_GENERALE!R27)),"")
C26: =ORARIO_GENERALE!C28 -> #REF! | D26: =IFERROR(RIGHT(ORARIO_GENERALE!D28,LEN(ORARIO_GENERALE!D28)+SEARCH(" ",ORARIO_GENERALE!D28)),"") | E26: =IFERROR(RIGHT(ORARIO_GENERALE!E28,LEN(ORARIO_GENERALE!E28)+SEARCH(" ",ORARIO_GENERALE!E28)),"") | F26: =IFERROR(RIGHT(ORARIO_GENERALE!F28,LEN(ORARIO_GENERALE!F28)+SEARCH(" ",ORARIO_GENERALE!F28)),"") | G26: =IFERROR(RIGHT(ORARIO_GENERALE!G28,LEN(ORARIO_GENERALE!G28)+SEARCH(" ",ORARIO_GENERALE!G28)),"") | H26: =IFERROR(RIGHT(ORARIO_GENERALE!H28,LEN(ORARIO_GENERALE!H28)+SEARCH(" ",ORARIO_GENERALE!H28)),"") | I26: =IFERROR(RIGHT(ORARIO_GENERALE!I28,LEN(ORARIO_GENERALE!I28)+SEARCH(" ",ORARIO_GENERALE!I28)),"") | J26: =ORARIO_GENERALE!J28 -> #REF! | K26: =IFERROR(RIGHT(ORARIO_GENERALE!K28,LEN(ORARIO_GENERALE!K28)+SEARCH(" ",ORARIO_GENERALE!K28)),"") | L26: =IFERROR(RIGHT(ORARIO_GENERALE!L28,LEN(ORARIO_GENERALE!L28)+SEARCH(" ",ORARIO_GENERALE!L28)),"") | M26: =IFERROR(RIGHT(ORARIO_GENERALE!M28,LEN(ORARIO_GENERALE!M28)+SEARCH(" ",ORARIO_GENERALE!M28)),"") | N26: =IFERROR(RIGHT(ORARIO_GENERALE!N28,LEN(ORARIO_GENERALE!N28)+SEARCH(" ",ORARIO_GENERALE!N28)),"") | O26: =IFERROR(RIGHT(ORARIO_GENERALE!O28,LEN(ORARIO_GENERALE!O28)+SEARCH(" ",ORARIO_GENERALE!O28)),"") | P26: =IFERROR(RIGHT(ORARIO_GENERALE!P28,LEN(ORARIO_GENERALE!P28)+SEARCH(" ",ORARIO_GENERALE!P28)),"") | Q26: =IFERROR(RIGHT(ORARIO_GENERALE!Q28,LEN(ORARIO_GENERALE!Q28)-SEARCH(" ",ORARIO_GENERALE!Q28)),"") | R26: =IFERROR(RIGHT(ORARIO_GENERALE!R28,LEN(ORARIO_GENERALE!R28)-SEARCH(" ",ORARIO_GENERALE!R28)),"")
C27: =ORARIO_GENERALE!C29 -> #REF! | D27: =IFERROR(RIGHT(ORARIO_GENERALE!D29,LEN(ORARIO_GENERALE!D29)+SEARCH(" ",ORARIO_GENERALE!D29)),"") | E27: =IFERROR(RIGHT(ORARIO_GENERALE!E29,LEN(ORARIO_GENERALE!E29)+SEARCH(" ",ORARIO_GENERALE!E29)),"") | F27: =IFERROR(RIGHT(ORARIO_GENERALE!F29,LEN(ORARIO_GENERALE!F29)+SEARCH(" ",ORARIO_GENERALE!F29)),"") | G27: =IFERROR(RIGHT(ORARIO_GENERALE!G29,LEN(ORARIO_GENERALE!G29)+SEARCH(" ",ORARIO_GENERALE!G29)),"") | H27: =IFERROR(RIGHT(ORARIO_GENERALE!H29,LEN(ORARIO_GENERALE!H29)+SEARCH(" ",ORARIO_GENERALE!H29)),"") | I27: =IFERROR(RIGHT(ORARIO_GENERALE!I29,LEN(ORARIO_GENERALE!I29)+SEARCH(" ",ORARIO_GENERALE!I29)),"") | J27: =ORARIO_GENERALE!J29 -> #REF! | K27: =IFERROR(RIGHT(ORARIO_GENERALE!K29,LEN(ORARIO_GENERALE!K29)+SEARCH(" ",ORARIO_GENERALE!K29)),"") | L27: =IFERROR(RIGHT(ORARIO_GENERALE!L29,LEN(ORARIO_GENERALE!L29)+SEARCH(" ",ORARIO_GENERALE!L29)),"") | M27: =IFERROR(RIGHT(ORARIO_GENERALE!M29,LEN(ORARIO_GENERALE!M29)+SEARCH(" ",ORARIO_GENERALE!M29)),"") | N27: =IFERROR(RIGHT(ORARIO_GENERALE!N29,LEN(ORARIO_GENERALE!N29)+SEARCH(" ",ORARIO_GENERALE!N29)),"") | O27: =IFERROR(RIGHT(ORARIO_GENERALE!O29,LEN(ORARIO_GENERALE!O29)+SEARCH(" ",ORARIO_GENERALE!O29)),"") | P27: =IFERROR(RIGHT(ORARIO_GENERALE!P29,LEN(ORARIO_GENERALE!P29)+SEARCH(" ",ORARIO_GENERALE!P29)),"") | Q27: =IFERROR(RIGHT(ORARIO_GENERALE!Q29,LEN(ORARIO_GENERALE!Q29)-SEARCH(" ",ORARIO_GENERALE!Q29)),"") | R27: =IFERROR(RIGHT(ORARIO_GENERALE!R29,LEN(ORARIO_GENERALE!R29)-SEARCH(" ",ORARIO_GENERALE!R29)),"")
B28: MER | C28: =ORARIO_GENERALE!C30 -> #REF! | D28: =IFERROR(RIGHT(ORARIO_GENERALE!D30,LEN(ORARIO_GENERALE!D30)+SEARCH(" ",ORARIO_GENERALE!D30)),"") | E28: =IFERROR(RIGHT(ORARIO_GENERALE!E30,LEN(ORARIO_GENERALE!E30)+SEARCH(" ",ORARIO_GENERALE!E30)),"") | F28: =IFERROR(RIGHT(ORARIO_GENERALE!F30,LEN(ORARIO_GENERALE!F30)+SEARCH(" ",ORARIO_GENERALE!F30)),"") | G28: =IFERROR(RIGHT(ORARIO_GENERALE!G30,LEN(ORARIO_GENERALE!G30)+SEARCH(" ",ORARIO_GENERALE!G30)),"") | H28: =IFERROR(RIGHT(ORARIO_GENERALE!H30,LEN(ORARIO_GENERALE!H30)+SEARCH(" ",ORARIO_GENERALE!H30)),"") | I28: =IFERROR(RIGHT(ORARIO_GENERALE!I30,LEN(ORARIO_GENERALE!I30)+SEARCH(" ",ORARIO_GENERALE!I30)),"") | J28: =ORARIO_GENERALE!J30 -> #REF! | K28: =IFERROR(RIGHT(ORARIO_GENERALE!K30,LEN(ORARIO_GENERALE!K30)+SEARCH(" ",ORARIO_GENERALE!K30)),"") | L28: =IFERROR(RIGHT(ORARIO_GENERALE!L30,LEN(ORARIO_GENERALE!L30)+SEARCH(" ",ORARIO_GENERALE!L30)),"") | M28: =IFERROR(RIGHT(ORARIO_GENERALE!M30,LEN(ORARIO_GENERALE!M30)+SEARCH(" ",ORARIO_GENERALE!M30)),"") | N28: =IFERROR(RIGHT(ORARIO_GENERALE!N30,LEN(ORARIO_GENERALE!N30)+SEARCH(" ",ORARIO_GENERALE!N30)),"") | O28: =IFERROR(RIGHT(ORARIO_GENERALE!O30,LEN(ORARIO_GENERALE!O30)+SEARCH(" ",ORARIO_GENERALE!O30)),"") | P28: =IFERROR(RIGHT(ORARIO_GENERALE!P30,LEN(ORARIO_GENERALE!P30)+SEARCH(" ",ORARIO_GENERALE!P30)),"") | Q28: =IFERROR(RIGHT(ORARIO_GENERALE!Q30,LEN(ORARIO_GENERALE!Q30)-SEARCH(" ",ORARIO_GENERALE!Q30)),"") | R28: =IFERROR(RIGHT(ORARIO_GENERALE!R30,LEN(ORARIO_GENERALE!R30)-SEARCH(" ",ORARIO_GENERALE!R30)),"")
C29: =ORARIO_GENERALE!C31 -> #REF! | D29: =IFERROR(RIGHT(ORARIO_GENERALE!D31,LEN(ORARIO_GENERALE!D31)+SEARCH(" ",ORARIO_GENERALE!D31)),"") | E29: =IFERROR(RIGHT(ORARIO_GENERALE!E31,LEN(ORARIO_GENERALE!E31)+SEARCH(" ",ORARIO_GENERALE!E31)),"") | F29: =IFERROR(RIGHT(ORARIO_GENERALE!F31,LEN(ORARIO_GENERALE!F31)+SEARCH(" ",ORARIO_GENERALE!F31)),"") | G29: =IFERROR(RIGHT(ORARIO_GENERALE!G31,LEN(ORARIO_GENERALE!G31)+SEARCH(" ",ORARIO_GENERALE!G31)),"") | H29: =IFERROR(RIGHT(ORARIO_GENERALE!H31,LEN(ORARIO_GENERALE!H31)+SEARCH(" ",ORARIO_GENERALE!H31)),"") | I29: =IFERROR(RIGHT(ORARIO_GENERALE!I31,LEN(ORARIO_GENERALE!I31)+SEARCH(" ",ORARIO_GENERALE!I31)),"") | J29: =ORARIO_GENERALE!J31 -> #REF! | K29: =IFERROR(RIGHT(ORARIO_GENERALE!K31,LEN(ORARIO_GENERALE!K31)+SEARCH(" ",ORARIO_GENERALE!K31)),"") | L29: =IFERROR(RIGHT(ORARIO_GENERALE!L31,LEN(ORARIO_GENERALE!L31)+SEARCH(" ",ORARIO_GENERALE!L31)),"") | M29: =IFERROR(RIGHT(ORARIO_GENERALE!M31,LEN(ORARIO_GENERALE!M31)+SEARCH(" ",ORARIO_GENERALE!M31)),"") | N29: =IFERROR(RIGHT(ORARIO_GENERALE!N31,LEN(ORARIO_GENERALE!N31)+SEARCH(" ",ORARIO_GENERALE!N31)),"") | O29: =IFERROR(RIGHT(ORARIO_GENERALE!O31,LEN(ORARIO_GENERALE!O31)+SEARCH(" ",ORARIO_GENERALE!O31)),"") | P29: =IFERROR(RIGHT(ORARIO_GENERALE!P31,LEN(ORARIO_GENERALE!P31)+SEARCH(" ",ORARIO_GENERALE!P31)),"") | Q29: =IFERROR(RIGHT(ORARIO_GENERALE!Q31,LEN(ORARIO_GENERALE!Q31)-SEARCH(" ",ORARIO_GENERALE!Q31)),"") | R29: =IFERROR(RIGHT(ORARIO_GENERALE!R31,LEN(ORARIO_GENERALE!R31)-SEARCH(" ",ORARIO_GENERALE!R31)),"")
C30: =ORARIO_GENERALE!C32 -> #REF! | D30: =IFERROR(RIGHT(ORARIO_GENERALE!D32,LEN(ORARIO_GENERALE!D32)+SEARCH(" ",ORARIO_GENERALE!D32)),"") | E30: =IFERROR(RIGHT(ORARIO_GENERALE!E32,LEN(ORARIO_GENERALE!E32)+SEARCH(" ",ORARIO_GENERALE!E32)),"") | F30: =IFERROR(RIGHT(ORARIO_GENERALE!F32,LEN(ORARIO_GENERALE!F32)+SEARCH(" ",ORARIO_GENERALE!F32)),"") | G30: =IFERROR(RIGHT(ORARIO_GENERALE!G32,LEN(ORARIO_GENERALE!G32)+SEARCH(" ",ORARIO_GENERALE!G32)),"") | H30: =IFERROR(RIGHT(ORARIO_GENERALE!H32,LEN(ORARIO_GENERALE!H32)+SEARCH(" ",ORARIO_GENERALE!H32)),"") | I30: =IFERROR(RIGHT(ORARIO_GENERALE!I32,LEN(ORARIO_GENERALE!I32)+SEARCH(" ",ORARIO_GENERALE!I32)),"") | J30: =ORARIO_GENERALE!J32 -> #REF! | K30: =IFERROR(RIGHT(ORARIO_GENERALE!K32,LEN(ORARIO_GENERALE!K32)+SEARCH(" ",ORARIO_GENERALE!K32)),"") | L30: =IFERROR(RIGHT(ORARIO_GENERALE!L32,LEN(ORARIO_GENERALE!L32)+SEARCH(" ",ORARIO_GENERALE!L32)),"") | M30: =IFERROR(RIGHT(ORARIO_GENERALE!M32,LEN(ORARIO_GENERALE!M32)+SEARCH(" ",ORARIO_GENERALE!M32)),"") | N30: =IFERROR(RIGHT(ORARIO_GENERALE!N33,LEN(ORARIO_GENERALE!N33)+SEARCH(" ",ORARIO_GENERALE!N33)),"") | O30: =IFERROR(RIGHT(ORARIO_GENERALE!O32,LEN(ORARIO_GENERALE!O32)+SEARCH(" ",ORARIO_GENERALE!O32)),"") | P30: =IFERROR(RIGHT(ORARIO_GENERALE!P32,LEN(ORARIO_GENERALE!P32)+SEARCH(" ",ORARIO_GENERALE!P32)),"") | Q30: =IFERROR(RIGHT(ORARIO_GENERALE!Q32,LEN(ORARIO_GENERALE!Q32)-SEARCH(" ",ORARIO_GENERALE!Q32)),"") | R30: =IFERROR(RIGHT(ORARIO_GENERALE!R32,LEN(ORARIO_GENERALE!R32)-SEARCH(" ",ORARIO_GENERALE!R32)),"")
C31: =ORARIO_GENERALE!C33 -> #REF! | D31: =IFERROR(RIGHT(ORARIO_GENERALE!D33,LEN(ORARIO_GENERALE!D33)+SEARCH(" ",ORARIO_GENERALE!D33)),"") | E31: =IFERROR(RIGHT(ORARIO_GENERALE!E33,LEN(ORARIO_GENERALE!E33)+SEARCH(" ",ORARIO_GENERALE!E33)),"") | F31: =IFERROR(RIGHT(ORARIO_GENERALE!F33,LEN(ORARIO_GENERALE!F33)+SEARCH(" ",ORARIO_GENERALE!F33)),"") | G31: =IFERROR(RIGHT(ORARIO_GENERALE!G33,LEN(ORARIO_GENERALE!G33)+SEARCH(" ",ORARIO_GENERALE!G33)),"") | H31: =IFERROR(RIGHT(ORARIO_GENERALE!H33,LEN(ORARIO_GENERALE!H33)+SEARCH(" ",ORARIO_GENERALE!H33)),"") | I31: =IFERROR(RIGHT(ORARIO_GENERALE!I33,LEN(ORARIO_GENERALE!I33)+SEARCH(" ",ORARIO_GENERALE!I33)),"") | J31: =ORARIO_GENERALE!J33 -> #REF! | K31: =IFERROR(RIGHT(ORARIO_GENERALE!K33,LEN(ORARIO_GENERALE!K33)+SEARCH(" ",ORARIO_GENERALE!K33)),"") | L31: =IFERROR(RIGHT(ORARIO_GENERALE!L33,LEN(ORARIO_GENERALE!L33)+SEARCH(" ",ORARIO_GENERALE!L33)),"") | M31: =IFERROR(RIGHT(ORARIO_GENERALE!M33,LEN(ORARIO_GENERALE!M33)+SEARCH(" ",ORARIO_GENERALE!M33)),"") | N31: =IFERROR(RIGHT(ORARIO_GENERALE!N34,LEN(ORARIO_GENERALE!N34)+SEARCH(" ",ORARIO_GENERALE!N34)),"") | O31: =IFERROR(RIGHT(ORARIO_GENERALE!O33,LEN(ORARIO_GENERALE!O33)+SEARCH(" ",ORARIO_GENERALE!O33)),"") | P31: =IFERROR(RIGHT(ORARIO_GENERALE!P33,LEN(ORARIO_GENERALE!P33)+SEARCH(" ",ORARIO_GENERALE!P33)),"") | Q31: =IFERROR(RIGHT(ORARIO_GENERALE!Q33,LEN(ORARIO_GENERALE!Q33)-SEARCH(" ",ORARIO_GENERALE!Q33)),"") | R31: =IFERROR(RIGHT(ORARIO_GENERALE!R33,LEN(ORARIO_GENERALE!R33)-SEARCH(" ",ORARIO_GENERALE!R33)),"")
C32: =ORARIO_GENERALE!C34 -> #REF! | D32: =IFERROR(RIGHT(ORARIO_GENERALE!D34,LEN(ORARIO_GENERALE!D34)+SEARCH(" ",ORARIO_GENERALE!D34)),"") | E32: =IFERROR(RIGHT(ORARIO_GENERALE!E34,LEN(ORARIO_GENERALE!E34)+SEARCH(" ",ORARIO_GENERALE!E34)),"") | F32: =IFERROR(RIGHT(ORARIO_GENERALE!F34,LEN(ORARIO_GENERALE!F34)+SEARCH(" ",ORARIO_GENERALE!F34)),"") | G32: =IFERROR(RIGHT(ORARIO_GENERALE!G34,LEN(ORARIO_GENERALE!G34)+SEARCH(" ",ORARIO_GENERALE!G34)),"") | H32: =IFERROR(RIGHT(ORARIO_GENERALE!H34,LEN(ORARIO_GENERALE!H34)+SEARCH(" ",ORARIO_GENERALE!H34)),"") | I32: =IFERROR(RIGHT(ORARIO_GENERALE!I34,LEN(ORARIO_GENERALE!I34)+SEARCH(" ",ORARIO_GENERALE!I34)),"") | J32: =ORARIO_GENERALE!J34 -> #REF! | K32: =IFERROR(RIGHT(ORARIO_GENERALE!K34,LEN(ORARIO_GENERALE!K34)+SEARCH(" ",ORARIO_GENERALE!K34)),"") | L32: =IFERROR(RIGHT(ORARIO_GENERALE!L34,LEN(ORARIO_GENERALE!L34)+SEARCH(" ",ORARIO_GENERALE!L34)),"") | M32: =IFERROR(RIGHT(ORARIO_GENERALE!M34,LEN(ORARIO_GENERALE!M34)+SEARCH(" ",ORARIO_GENERALE!M34)),"") | N32: =IFERROR(RIGHT(ORARIO_GENERALE!N35,LEN(ORARIO_GENERALE!N35)+SEARCH(" ",ORARIO_GENERALE!N35)),"") | O32: =IFERROR(RIGHT(ORARIO_GENERALE!O34,LEN(ORARIO_GENERALE!O34)+SEARCH(" ",ORARIO_GENERALE!O34)),"") | P32: =IFERROR(RIGHT(ORARIO_GENERALE!P34,LEN(ORARIO_GENERALE!P34)+SEARCH(" ",ORARIO_GENERALE!P34)),"") | Q32: =IFERROR(RIGHT(ORARIO_GENERALE!Q34,LEN(ORARIO_GENERALE!Q34)-SEARCH(" ",ORARIO_GENERALE!Q34)),"") | R32: =IFERROR(RIGHT(ORARIO_GENERALE!R34,LEN(ORARIO_GENERALE!R34)-SEARCH(" ",ORARIO_GENERALE!R34)),"")
C33: =ORARIO_GENERALE!C35 -> #REF! | D33: =IFERROR(RIGHT(ORARIO_GENERALE!D35,LEN(ORARIO_GENERALE!D35)+SEARCH(" ",ORARIO_GENERALE!D35)),"") | E33: =IFERROR(RIGHT(ORARIO_GENERALE!E35,LEN(ORARIO_GENERALE!E35)+SEARCH(" ",ORARIO_GENERALE!E35)),"") | F33: =IFERROR(RIGHT(ORARIO_GENERALE!F35,LEN(ORARIO_GENERALE!F35)+SEARCH(" ",ORARIO_GENERALE!F35)),"") | G33: =IFERROR(RIGHT(ORARIO_GENERALE!G35,LEN(ORARIO_GENERALE!G35)+SEARCH(" ",ORARIO_GENERALE!G35)),"") | H33: =IFERROR(RIGHT(ORARIO_GENERALE!H35,LEN(ORARIO_GENERALE!H35)+SEARCH(" ",ORARIO_GENERALE!H35)),"") | I33: =IFERROR(RIGHT(ORARIO_GENERALE!I35,LEN(ORARIO_GENERALE!I35)+SEARCH(" ",ORARIO_GENERALE!I35)),"") | J33: =ORARIO_GENERALE!J35 -> #REF! | K33: =IFERROR(RIGHT(ORARIO_GENERALE!K35,LEN(ORARIO_GENERALE!K35)+SEARCH(" ",ORARIO_GENERALE!K35)),"") | L33: =IFERROR(RIGHT(ORARIO_GENERALE!L35,LEN(ORARIO_GENERALE!L35)+SEARCH(" ",ORARIO_GENERALE!L35)),"") | M33: =IFERROR(RIGHT(ORARIO_GENERALE!M35,LEN(ORARIO_GENERALE!M35)+SEARCH(" ",ORARIO_GENERALE!M35)),"") | N33: =IFERROR(RIGHT(ORARIO_GENERALE!N36,LEN(ORARIO_GENERALE!N36)+SEARCH(" ",ORARIO_GENERALE!N36)),"") | O33: =IFERROR(RIGHT(ORARIO_GENERALE!O35,LEN(ORARIO_GENERALE!O35)+SEARCH(" ",ORARIO_GENERALE!O35)),"") | P33: =IFERROR(RIGHT(ORARIO_GENERALE!P35,LEN(ORARIO_GENERALE!P35)+SEARCH(" ",ORARIO_GENERALE!P35)),"") | Q33: =IFERROR(RIGHT(ORARIO_GENERALE!Q35,LEN(ORARIO_GENERALE!Q35)-SEARCH(" ",ORARIO_GENERALE!Q35)),"") | R33: =IFERROR(RIGHT(ORARIO_GENERALE!R35,LEN(ORARIO_GENERALE!R35)-SEARCH(" ",ORARIO_GENERALE!R35)),"")
C34: =ORARIO_GENERALE!C36 -> #REF! | D34: =IFERROR(RIGHT(ORARIO_GENERALE!D36,LEN(ORARIO_GENERALE!D36)+SEARCH(" ",ORARIO_GENERALE!D36)),"") | E34: =IFERROR(RIGHT(ORARIO_GENERALE!E36,LEN(ORARIO_GENERALE!E36)+SEARCH(" ",ORARIO_GENERALE!E36)),"") | F34: =IFERROR(RIGHT(ORARIO_GENERALE!F36,LEN(ORARIO_GENERALE!F36)+SEARCH(" ",ORARIO_GENERALE!F36)),"") | G34: =IFERROR(RIGHT(ORARIO_GENERALE!G36,LEN(ORARIO_GENERALE!G36)+SEARCH(" ",ORARIO_GENERALE!G36)),"") | H34: =IFERROR(RIGHT(ORARIO_GENERALE!H36,LEN(ORARIO_GENERALE!H36)+SEARCH(" ",ORARIO_GENERALE!H36)),"") | I34: =IFERROR(RIGHT(ORARIO_GENERALE!I36,LEN(ORARIO_GENERALE!I36)+SEARCH(" ",ORARIO_GENERALE!I36)),"") | J34: =ORARIO_GENERALE!J36 -> #REF! | K34: =IFERROR(RIGHT(ORARIO_GENERALE!K36,LEN(ORARIO_GENERALE!K36)+SEARCH(" ",ORARIO_GENERALE!K36)),"") | L34: =IFERROR(RIGHT(ORARIO_GENERALE!L36,LEN(ORARIO_GENERALE!L36)+SEARCH(" ",ORARIO_GENERALE!L36)),"") | M34: =IFERROR(RIGHT(ORARIO_GENERALE!M36,LEN(ORARIO_GENERALE!M36)+SEARCH(" ",ORARIO_GENERALE!M36)),"") | N34: =IFERROR(RIGHT(#REF!,LEN(#REF!)+SEARCH(" ",#REF!)),"") | O34: =IFERROR(RIGHT(ORARIO_GENERALE!O36,LEN(ORARIO_GENERALE!O36)+SEARCH(" ",ORARIO_GENERALE!O36)),"") | P34: =IFERROR(RIGHT(ORARIO_GENERALE!P36,LEN(ORARIO_GENERALE!P36)+SEARCH(" ",ORARIO_GENERALE!P36)),"") | Q34: =IFERROR(RIGHT(ORARIO_GENERALE!Q36,LEN(ORARIO_GENERALE!Q36)-SEARCH(" ",ORARIO_GENERALE!Q36)),"") | R34: =IFERROR(RIGHT(ORARIO_GENERALE!R36,LEN(ORARIO_GENERALE!R36)-SEARCH(" ",ORARIO_GENERALE!R36)),"")
C35: =ORARIO_GENERALE!C37 -> #REF! | D35: =IFERROR(RIGHT(ORARIO_GENERALE!D37,LEN(ORARIO_GENERALE!D37)+SEARCH(" ",ORARIO_GENERALE!D37)),"") | E35: =IFERROR(RIGHT(ORARIO_GENERALE!E37,LEN(ORARIO_GENERALE!E37)+SEARCH(" ",ORARIO_GENERALE!E37)),"") | F35: =IFERROR(RIGHT(ORARIO_GENERALE!F37,LEN(ORARIO_GENERALE!F37)+SEARCH(" ",ORARIO_GENERALE!F37)),"") | G35: =IFERROR(RIGHT(ORARIO_GENERALE!G37,LEN(ORARIO_GENERALE!G37)+SEARCH(" ",ORARIO_GENERALE!G37)),"") | H35: =IFERROR(RIGHT(ORARIO_GENERALE!H37,LEN(ORARIO_GENERALE!H37)+SEARCH(" ",ORARIO_GENERALE!H37)),"") | I35: =IFERROR(RIGHT(ORARIO_GENERALE!I37,LEN(ORARIO_GENERALE!I37)+SEARCH(" ",ORARIO_GENERALE!I37)),"") | J35: =ORARIO_GENERALE!J37 -> #REF! | K35: =IFERROR(RIGHT(ORARIO_GENERALE!K37,LEN(ORARIO_GENERALE!K37)+SEARCH(" ",ORARIO_GENERALE!K37)),"") | L35: =IFERROR(RIGHT(ORARIO_GENERALE!L37,LEN(ORARIO_GENERALE!L37)+SEARCH(" ",ORARIO_GENERALE!L37)),"") | M35: =IFERROR(RIGHT(ORARIO_GENERALE!M37,LEN(ORARIO_GENERALE!M37)+SEARCH(" ",ORARIO_GENERALE!M37)),"") | N35: =IFERROR(RIGHT(ORARIO_GENERALE!N37,LEN(ORARIO_GENERALE!N37)+SEARCH(" ",ORARIO_GENERALE!N37)),"") | O35: =IFERROR(RIGHT(ORARIO_GENERALE!O37,LEN(ORARIO_GENERALE!O37)+SEARCH(" ",ORARIO_GENERALE!O37)),"") | P35: =IFERROR(RIGHT(ORARIO_GENERALE!P37,LEN(ORARIO_GENERALE!P37)+SEARCH(" ",ORARIO_GENERALE!P37)),"") | Q35: =IFERROR(RIGHT(ORARIO_GENERALE!Q37,LEN(ORARIO_GENERALE!Q37)-SEARCH(" ",ORARIO_GENERALE!Q37)),"") | R35: =IFERROR(RIGHT(ORARIO_GENERALE!R37,LEN(ORARIO_GENERALE!R37)-SEARCH(" ",ORARIO_GENERALE!R37)),"")
C36: =ORARIO_GENERALE!C38 -> #REF! | D36: =IFERROR(RIGHT(ORARIO_GENERALE!D38,LEN(ORARIO_GENERALE!D38)+SEARCH(" ",ORARIO_GENERALE!D38)),"") | E36: =IFERROR(RIGHT(ORARIO_GENERALE!E38,LEN(ORARIO_GENERALE!E38)+SEARCH(" ",ORARIO_GENERALE!E38)),"") | F36: =IFERROR(RIGHT(ORARIO_GENERALE!F38,LEN(ORARIO_GENERALE!F38)+SEARCH(" ",ORARIO_GENERALE!F38)),"") | G36: =IFERROR(RIGHT(ORARIO_GENERALE!G38,LEN(ORARIO_GENERALE!G38)+SEARCH(" ",ORARIO_GENERALE!G38)),"") | H36: =IFERROR(RIGHT(ORARIO_GENERALE!H38,LEN(ORARIO_GENERALE!H38)+SEARCH(" ",ORARIO_GENERALE!H38)),"") | I36: =IFERROR(RIGHT(ORARIO_GENERALE!I38,LEN(ORARIO_GENERALE!I38)+SEARCH(" ",ORARIO_GENERALE!I38)),"") | J36: =ORARIO_GENERALE!J38 -> #REF! | K36: =IFERROR(RIGHT(ORARIO_GENERALE!K38,LEN(ORARIO_GENERALE!K38)+SEARCH(" ",ORARIO_GENERALE!K38)),"") | L36: =IFERROR(RIGHT(ORARIO_GENERALE!L38,LEN(ORARIO_GENERALE!L38)+SEARCH(" ",ORARIO_GENERALE!L38)),"") | M36: =IFERROR(RIGHT(ORARIO_GENERALE!M38,LEN(ORARIO_GENERALE!M38)+SEARCH(" ",ORARIO_GENERALE!M38)),"") | N36: =IFERROR(RIGHT(ORARIO_GENERALE!N38,LEN(ORARIO_GENERALE!N38)+SEARCH(" ",ORARIO_GENERALE!N38)),"") | O36: =IFERROR(RIGHT(ORARIO_GENERALE!O38,LEN(ORARIO_GENERALE!O38)+SEARCH(" ",ORARIO_GENERALE!O38)),"") | P36: =IFERROR(RIGHT(ORARIO_GENERALE!P38,LEN(ORARIO_GENERALE!P38)+SEARCH(" ",ORARIO_GENERALE!P38)),"") | Q36: =IFERROR(RIGHT(ORARIO_GENERALE!Q38,LEN(ORARIO_GENERALE!Q38)-SEARCH(" ",ORARIO_GENERALE!Q38)),"") | R36: =IFERROR(RIGHT(ORARIO_GENERALE!R38,LEN(ORARIO_GENERALE!R38)-SEARCH(" ",ORARIO_GENERALE!R38)),"")
C37: =ORARIO_GENERALE!C39 -> #REF! | D37: =IFERROR(RIGHT(ORARIO_GENERALE!D39,LEN(ORARIO_GENERALE!D39)+SEARCH(" ",ORARIO_GENERALE!D39)),"") | E37: =IFERROR(RIGHT(ORARIO_GENERALE!E39,LEN(ORARIO_GENERALE!E39)+SEARCH(" ",ORARIO_GENERALE!E39)),"") | F37: =IFERROR(RIGHT(ORARIO_GENERALE!F39,LEN(ORARIO_GENERALE!F39)+SEARCH(" ",ORARIO_GENERALE!F39)),"") | G37: =IFERROR(RIGHT(ORARIO_GENERALE!G39,LEN(ORARIO_GENERALE!G39)+SEARCH(" ",ORARIO_GENERALE!G39)),"") | H37: =IFERROR(RIGHT(ORARIO_GENERALE!H39,LEN(ORARIO_GENERALE!H39)+SEARCH(" ",ORARIO_GENERALE!H39)),"") | I37: =IFERROR(RIGHT(ORARIO_GENERALE!I39,LEN(ORARIO_GENERALE!I39)+SEARCH(" ",ORARIO_GENERALE!I39)),"") | J37: =ORARIO_GENERALE!J39 -> #REF! | K37: =IFERROR(RIGHT(ORARIO_GENERALE!K39,LEN(ORARIO_GENERALE!K39)+SEARCH(" ",ORARIO_GENERALE!K39)),"") | L37: =IFERROR(RIGHT(ORARIO_GENERALE!L39,LEN(ORARIO_GENERALE!L39)+SEARCH(" ",ORARIO_GENERALE!L39)),"") | M37: =IFERROR(RIGHT(ORARIO_GENERALE!M39,LEN(ORARIO_GENERALE!M39)+SEARCH(" ",ORARIO_GENERALE!M39)),"") | N37: =IFERROR(RIGHT(ORARIO_GENERALE!N39,LEN(ORARIO_GENERALE!N39)+SEARCH(" ",ORARIO_GENERALE!N39)),"") | O37: =IFERROR(RIGHT(ORARIO_GENERALE!O39,LEN(ORARIO_GENERALE!O39)+SEARCH(" ",ORARIO_GENERALE!O39)),"") | P37: =IFERROR(RIGHT(ORARIO_GENERALE!P39,LEN(ORARIO_GENERALE!P39)+SEARCH(" ",ORARIO_GENERALE!P39)),"") | Q37: =IFERROR(RIGHT(ORARIO_GENERALE!Q39,LEN(ORARIO_GENERALE!Q39)-SEARCH(" ",ORARIO_GENERALE!Q39)),"") | R37: =IFERROR(RIGHT(ORARIO_GENERALE!R39,LEN(ORARIO_GENERALE!R39)-SEARCH(" ",ORARIO_GENERALE!R39)),"")
C38: =ORARIO_GENERALE!C40 -> #REF! | D38: =IFERROR(RIGHT(ORARIO_GENERALE!D40,LEN(ORARIO_GENERALE!D40)+SEARCH(" ",ORARIO_GENERALE!D40)),"") | E38: =IFERROR(RIGHT(ORARIO_GENERALE!E40,LEN(ORARIO_GENERALE!E40)+SEARCH(" ",ORARIO_GENERALE!E40)),"") | F38: =IFERROR(RIGHT(ORARIO_GENERALE!F40,LEN(ORARIO_GENERALE!F40)+SEARCH(" ",ORARIO_GENERALE!F40)),"") | G38: =IFERROR(RIGHT(ORARIO_GENERALE!G40,LEN(ORARIO_GENERALE!G40)+SEARCH(" ",ORARIO_GENERALE!G40)),"") | H38: =IFERROR(RIGHT(ORARIO_GENERALE!H40,LEN(ORARIO_GENERALE!H40)+SEARCH(" ",ORARIO_GENERALE!H40)),"") | I38: =IFERROR(RIGHT(ORARIO_GENERALE!I40,LEN(ORARIO_GENERALE!I40)+SEARCH(" ",ORARIO_GENERALE!I40)),"") | J38: =ORARIO_GENERALE!J40 -> #REF! | K38: =IFERROR(RIGHT(ORARIO_GENERALE!K40,LEN(ORARIO_GENERALE!K40)+SEARCH(" ",ORARIO_GENERALE!K40)),"") | L38: =IFERROR(RIGHT(ORARIO_GENERALE!L40,LEN(ORARIO_GENERALE!L40)+SEARCH(" ",ORARIO_GENERALE!L40)),"") | M38: =IFERROR(RIGHT(ORARIO_GENERALE!M40,LEN(ORARIO_GENERALE!M40)+SEARCH(" ",ORARIO_GENERALE!M40)),"") | N38: =IFERROR(RIGHT(ORARIO_GENERALE!N40,LEN(ORARIO_GENERALE!N40)+SEARCH(" ",ORARIO_GENERALE!N40)),"") | O38: =IFERROR(RIGHT(ORARIO_GENERALE!O40,LEN(ORARIO_GENERALE!O40)+SEARCH(" ",ORARIO_GENERALE!O40)),"") | P38: =IFERROR(RIGHT(ORARIO_GENERALE!P40,LEN(ORARIO_GENERALE!P40)+SEARCH(" ",ORARIO_GENERALE!P40)),"") | Q38: =IFERROR(RIGHT(ORARIO_GENERALE!Q40,LEN(ORARIO_GENERALE!Q40)-SEARCH(" ",ORARIO_GENERALE!Q40)),"") | R38: =IFERROR(RIGHT(ORARIO_GENERALE!R40,LEN(ORARIO_GENERALE!R40)-SEARCH(" ",ORARIO_GENERALE!R40)),"")
C39: =ORARIO_GENERALE!C41 -> #REF! | D39: =IFERROR(RIGHT(ORARIO_GENERALE!D41,LEN(ORARIO_GENERALE!D41)+SEARCH(" ",ORARIO_GENERALE!D41)),"") | E39: =IFERROR(RIGHT(ORARIO_GENERALE!E41,LEN(ORARIO_GENERALE!E41)+SEARCH(" ",ORARIO_GENERALE!E41)),"") | F39: =IFERROR(RIGHT(ORARIO_GENERALE!F41,LEN(ORARIO_GENERALE!F41)+SEARCH(" ",ORARIO_GENERALE!F41)),"") | G39: =IFERROR(RIGHT(ORARIO_GENERALE!G41,LEN(ORARIO_GENERALE!G41)+SEARCH(" ",ORARIO_GENERALE!G41)),"") | H39: =IFERROR(RIGHT(ORARIO_GENERALE!H41,LEN(ORARIO_GENERALE!H41)+SEARCH(" ",ORARIO_GENERALE!H41)),"") | I39: =IFERROR(RIGHT(ORARIO_GENERALE!I41,LEN(ORARIO_GENERALE!I41)+SEARCH(" ",ORARIO_GENERALE!I41)),"") | J39: =ORARIO_GENERALE!J41 -> #REF! | K39: =IFERROR(RIGHT(ORARIO_GENERALE!K41,LEN(ORARIO_GENERALE!K41)+SEARCH(" ",ORARIO_GENERALE!K41)),"") | L39: =IFERROR(RIGHT(ORARIO_GENERALE!L41,LEN(ORARIO_GENERALE!L41)+SEARCH(" ",ORARIO_GENERALE!L41)),"") | M39: =IFERROR(RIGHT(ORARIO_GENERALE!M41,LEN(ORARIO_GENERALE!M41)+SEARCH(" ",ORARIO_GENERALE!M41)),"") | N39: =IFERROR(RIGHT(ORARIO_GENERALE!N41,LEN(ORARIO_GENERALE!N41)+SEARCH(" ",ORARIO_GENERALE!N41)),"") | O39: =IFERROR(RIGHT(ORARIO_GENERALE!O41,LEN(ORARIO_GENERALE!O41)+SEARCH(" ",ORARIO_GENERALE!O41)),"") | P39: =IFERROR(RIGHT(ORARIO_GENERALE!P41,LEN(ORARIO_GENERALE!P41)+SEARCH(" ",ORARIO_GENERALE!P41)),"") | Q39: =IFERROR(RIGHT(ORARIO_GENERALE!Q41,LEN(ORARIO_GENERALE!Q41)-SEARCH(" ",ORARIO_GENERALE!Q41)),"") | R39: =IFERROR(RIGHT(ORARIO_GENERALE!R41,LEN(ORARIO_GENERALE!R41)-SEARCH(" ",ORARIO_GENERALE!R41)),"")
C40: =ORARIO_GENERALE!C42 -> #REF! | D40: =IFERROR(RIGHT(ORARIO_GENERALE!D42,LEN(ORARIO_GENERALE!D42)+SEARCH(" ",ORARIO_GENERALE!D42)),"") | E40: =IFERROR(RIGHT(ORARIO_GENERALE!E42,LEN(ORARIO_GENERALE!E42)+SEARCH(" ",ORARIO_GENERALE!E42)),"") | F40: =IFERROR(RIGHT(ORARIO_GENERALE!F42,LEN(ORARIO_GENERALE!F42)+SEARCH(" ",ORARIO_GENERALE!F42)),"") | G40: =IFERROR(RIGHT(ORARIO_GENERALE!G42,LEN(ORARIO_GENERALE!G42)+SEARCH(" ",ORARIO_GENERALE!G42)),"") | H40: =IFERROR(RIGHT(ORARIO_GENERALE!H42,LEN(ORARIO_GENERALE!H42)+SEARCH(" ",ORARIO_GENERALE!H42)),"") | I40: =IFERROR(RIGHT(ORARIO_GENERALE!I42,LEN(ORARIO_GENERALE!I42)+SEARCH(" ",ORARIO_GENERALE!I42)),"") | J40: =ORARIO_GENERALE!J42 -> #REF! | K40: =IFERROR(RIGHT(ORARIO_GENERALE!K42,LEN(ORARIO_GENERALE!K42)+SEARCH(" ",ORARIO_GENERALE!K42)),"") | L40: =IFERROR(RIGHT(ORARIO_GENERALE!L42,LEN(ORARIO_GENERALE!L42)+SEARCH(" ",ORARIO_GENERALE!L42)),"") | M40: =IFERROR(RIGHT(ORARIO_GENERALE!M42,LEN(ORARIO_GENERALE!M42)+SEARCH(" ",ORARIO_GENERALE!M42)),"") | N40: =IFERROR(RIGHT(ORARIO_GENERALE!N42,LEN(ORARIO_GENERALE!N42)+SEARCH(" ",ORARIO_GENERALE!N42)),"") | O40: =IFERROR(RIGHT(ORARIO_GENERALE!O42,LEN(ORARIO_GENERALE!O42)+SEARCH(" ",ORARIO_GENERALE!O42)),"") | P40: =IFERROR(RIGHT(ORARIO_GENERALE!P42,LEN(ORARIO_GENERALE!P42)+SEARCH(" ",ORARIO_GENERALE!P42)),"") | Q40: =IFERROR(RIGHT(ORARIO_GENERALE!Q42,LEN(ORARIO_GENERALE!Q42)-SEARCH(" ",ORARIO_GENERALE!Q42)),"") | R40: =IFERROR(RIGHT(ORARIO_GENERALE!R42,LEN(ORARIO_GENERALE!R42)-SEARCH(" ",ORARIO_GENERALE!R42)),"")
B41: GIO | C41: =ORARIO_GENERALE!C43 -> #REF! | D41: =IFERROR(RIGHT(ORARIO_GENERALE!D43,LEN(ORARIO_GENERALE!D43)+SEARCH(" ",ORARIO_GENERALE!D43)),"") | E41: =IFERROR(RIGHT(ORARIO_GENERALE!E43,LEN(ORARIO_GENERALE!E43)+SEARCH(" ",ORARIO_GENERALE!E43)),"") | F41: =IFERROR(RIGHT(ORARIO_GENERALE!F43,LEN(ORARIO_GENERALE!F43)+SEARCH(" ",ORARIO_GENERALE!F43)),"") | G41: =IFERROR(RIGHT(ORARIO_GENERALE!G43,LEN(ORARIO_GENERALE!G43)+SEARCH(" ",ORARIO_GENERALE!G43)),"") | H41: =IFERROR(RIGHT(ORARIO_GENERALE!H43,LEN(ORARIO_GENERALE!H43)+SEARCH(" ",ORARIO_GENERALE!H43)),"") | I41: =IFERROR(RIGHT(ORARIO_GENERALE!I43,LEN(ORARIO_GENERALE!I43)+SEARCH(" ",ORARIO_GENERALE!I43)),"") | J41: =ORARIO_GENERALE!J43 -> #REF! | K41: =IFERROR(RIGHT(ORARIO_GENERALE!K43,LEN(ORARIO_GENERALE!K43)+SEARCH(" ",ORARIO_GENERALE!K43)),"") | L41: =IFERROR(RIGHT(ORARIO_GENERALE!L43,LEN(ORARIO_GENERALE!L43)+SEARCH(" ",ORARIO_GENERALE!L43)),"") | M41: =IFERROR(RIGHT(ORARIO_GENERALE!M43,LEN(ORARIO_GENERALE!M43)+SEARCH(" ",ORARIO_GENERALE!M43)),"") | N41: =IFERROR(RIGHT(ORARIO_GENERALE!N43,LEN(ORARIO_GENERALE!N43)+SEARCH(" ",ORARIO_GENERALE!N43)),"") | O41: =IFERROR(RIGHT(ORARIO_GENERALE!O43,LEN(ORARIO_GENERALE!O43)+SEARCH(" ",ORARIO_GENERALE!O43)),"") | P41: =IFERROR(RIGHT(ORARIO_GENERALE!P43,LEN(ORARIO_GENERALE!P43)+SEARCH(" ",ORARIO_GENERALE!P43)),"") | Q41: =IFERROR(RIGHT(ORARIO_GENERALE!Q43,LEN(ORARIO_GENERALE!Q43)-SEARCH(" ",ORARIO_GENERALE!Q43)),"") | R41: =IFERROR(RIGHT(ORARIO_GENERALE!R43,LEN(ORARIO_GENERALE!R43)-SEARCH(" ",ORARIO_GENERALE!R43)),"")
C42: =ORARIO_GENERALE!C44 -> #REF! | D42: =IFERROR(RIGHT(ORARIO_GENERALE!D44,LEN(ORARIO_GENERALE!D44)+SEARCH(" ",ORARIO_GENERALE!D44)),"") | E42: =IFERROR(RIGHT(ORARIO_GENERALE!E44,LEN(ORARIO_GENERALE!E44)+SEARCH(" ",ORARIO_GENERALE!E44)),"") | F42: =IFERROR(RIGHT(ORARIO_GENERALE!F44,LEN(ORARIO_GENERALE!F44)+SEARCH(" ",ORARIO_GENERALE!F44)),"") | G42: =IFERROR(RIGHT(ORARIO_GENERALE!G44,LEN(ORARIO_GENERALE!G44)+SEARCH(" ",ORARIO_GENERALE!G44)),"") | H42: =IFERROR(RIGHT(ORARIO_GENERALE!H44,LEN(ORARIO_GENERALE!H44)+SEARCH(" ",ORARIO_GENERALE!H44)),"") | I42: =IFERROR(RIGHT(ORARIO_GENERALE!I44,LEN(ORARIO_GENERALE!I44)+SEARCH(" ",ORARIO_GENERALE!I44)),"") | J42: =ORARIO_GENERALE!J44 -> #REF! | K42: =IFERROR(RIGHT(ORARIO_GENERALE!K44,LEN(ORARIO_GENERALE!K44)+SEARCH(" ",ORARIO_GENERALE!K44)),"") | L42: =IFERROR(RIGHT(ORARIO_GENERALE!L44,LEN(ORARIO_GENERALE!L44)+SEARCH(" ",ORARIO_GENERALE!L44)),"") | M42: =IFERROR(RIGHT(ORARIO_GENERALE!M44,LEN(ORARIO_GENERALE!M44)+SEARCH(" ",ORARIO_GENERALE!M44)),"") | N42: =IFERROR(RIGHT(ORARIO_GENERALE!N44,LEN(ORARIO_GENERALE!N44)+SEARCH(" ",ORARIO_GENERALE!N44)),"") | O42: =IFERROR(RIGHT(ORARIO_GENERALE!O44,LEN(ORARIO_GENERALE!O44)+SEARCH(" ",ORARIO_GENERALE!O44)),"") | P42: =IFERROR(RIGHT(ORARIO_GENERALE!P44,LEN(ORARIO_GENERALE!P44)+SEARCH(" ",ORARIO_GENERALE!P44)),"") | Q42: =IFERROR(RIGHT(ORARIO_GENERALE!Q44,LEN(ORARIO_GENERALE!Q44)-SEARCH(" ",ORARIO_GENERALE!Q44)),"") | R42: =IFERROR(RIGHT(ORARIO_GENERALE!R44,LEN(ORARIO_GENERALE!R44)-SEARCH(" ",ORARIO_GENERALE!R44)),"")
C43: =ORARIO_GENERALE!C45 -> #REF! | D43: =IFERROR(RIGHT(ORARIO_GENERALE!D45,LEN(ORARIO_GENERALE!D45)+SEARCH(" ",ORARIO_GENERALE!D45)),"") | E43: =IFERROR(RIGHT(ORARIO_GENERALE!E45,LEN(ORARIO_GENERALE!E45)+SEARCH(" ",ORARIO_GENERALE!E45)),"") | F43: =IFERROR(RIGHT(ORARIO_GENERALE!F45,LEN(ORARIO_GENERALE!F45)+SEARCH(" ",ORARIO_GENERALE!F45)),"") | G43: =IFERROR(RIGHT(ORARIO_GENERALE!G45,LEN(ORARIO_GENERALE!G45)+SEARCH(" ",ORARIO_GENERALE!G45)),"") | H43: =IFERROR(RIGHT(ORARIO_GENERALE!H45,LEN(ORARIO_GENERALE!H45)+SEARCH(" ",ORARIO_GENERALE!H45)),"") | I43: =IFERROR(RIGHT(ORARIO_GENERALE!I45,LEN(ORARIO_GENERALE!I45)+SEARCH(" ",ORARIO_GENERALE!I45)),"") | J43: =ORARIO_GENERALE!J45 -> #REF! | K43: =IFERROR(RIGHT(ORARIO_GENERALE!K45,LEN(ORARIO_GENERALE!K45)+SEARCH(" ",ORARIO_GENERALE!K45)),"") | L43: =IFERROR(RIGHT(ORARIO_GENERALE!L45,LEN(ORARIO_GENERALE!L45)+SEARCH(" ",ORARIO_GENERALE!L45)),"") | M43: =IFERROR(RIGHT(ORARIO_GENERALE!M45,LEN(ORARIO_GENERALE!M45)+SEARCH(" ",ORARIO_GENERALE!M45)),"") | N43: =IFERROR(RIGHT(ORARIO_GENERALE!N45,LEN(ORARIO_GENERALE!N45)+SEARCH(" ",ORARIO_GENERALE!N45)),"") | O43: =IFERROR(RIGHT(ORARIO_GENERALE!O45,LEN(ORARIO_GENERALE!O45)+SEARCH(" ",ORARIO_GENERALE!O45)),"") | P43: =IFERROR(RIGHT(ORARIO_GENERALE!P45,LEN(ORARIO_GENERALE!P45)+SEARCH(" ",ORARIO_GENERALE!P45)),"") | Q43: =IFERROR(RIGHT(ORARIO_GENERALE!Q45,LEN(ORARIO_GENERALE!Q45)-SEARCH(" ",ORARIO_GENERALE!Q45)),"") | R43: =IFERROR(RIGHT(ORARIO_GENERALE!R45,LEN(ORARIO_GENERALE!R45)-SEARCH(" ",ORARIO_GENERALE!R45)),"")
C44: =ORARIO_GENERALE!C46 -> #REF! | D44: =IFERROR(RIGHT(ORARIO_GENERALE!D46,LEN(ORARIO_GENERALE!D46)+SEARCH(" ",ORARIO_GENERALE!D46)),"") | E44: =IFERROR(RIGHT(ORARIO_GENERALE!E46,LEN(ORARIO_GENERALE!E46)+SEARCH(" ",ORARIO_GENERALE!E46)),"") | F44: =IFERROR(RIGHT(ORARIO_GENERALE!F46,LEN(ORARIO_GENERALE!F46)+SEARCH(" ",ORARIO_GENERALE!F46)),"") | G44: =IFERROR(RIGHT(ORARIO_GENERALE!G46,LEN(ORARIO_GENERALE!G46)+SEARCH(" ",ORARIO_GENERALE!G46)),"") | H44: =IFERROR(RIGHT(ORARIO_GENERALE!H46,LEN(ORARIO_GENERALE!H46)+SEARCH(" ",ORARIO_GENERALE!H46)),"") | I44: =IFERROR(RIGHT(ORARIO_GENERALE!I46,LEN(ORARIO_GENERALE!I46)+SEARCH(" ",ORARIO_GENERALE!I46)),"") | J44: =ORARIO_GENERALE!J46 -> #REF! | K44: =IFERROR(RIGHT(ORARIO_GENERALE!K46,LEN(ORARIO_GENERALE!K46)+SEARCH(" ",ORARIO_GENERALE!K46)),"") | L44: =IFERROR(RIGHT(ORARIO_GENERALE!L46,LEN(ORARIO_GENERALE!L46)+SEARCH(" ",ORARIO_GENERALE!L46)),"") | M44: =IFERROR(RIGHT(ORARIO_GENERALE!M46,LEN(ORARIO_GENERALE!M46)+SEARCH(" ",ORARIO_GENERALE!M46)),"") | N44: =IFERROR(RIGHT(ORARIO_GENERALE!N46,LEN(ORARIO_GENERALE!N46)+SEARCH(" ",ORARIO_GENERALE!N46)),"") | O44: =IFERROR(RIGHT(ORARIO_GENERALE!O46,LEN(ORARIO_GENERALE!O46)+SEARCH(" ",ORARIO_GENERALE!O46)),"") | P44: =IFERROR(RIGHT(ORARIO_GENERALE!P46,LEN(ORARIO_GENERALE!P46)+SEARCH(" ",ORARIO_GENERALE!P46)),"") | Q44: =IFERROR(RIGHT(ORARIO_GENERALE!Q46,LEN(ORARIO_GENERALE!Q46)-SEARCH(" ",ORARIO_GENERALE!Q46)),"") | R44: =IFERROR(RIGHT(ORARIO_GENERALE!R46,LEN(ORARIO_GENERALE!R46)-SEARCH(" ",ORARIO_GENERALE!R46)),"")
C45: =ORARIO_GENERALE!C47 -> #REF! | D45: =IFERROR(RIGHT(ORARIO_GENERALE!D47,LEN(ORARIO_GENERALE!D47)+SEARCH(" ",ORARIO_GENERALE!D47)),"") | E45: =IFERROR(RIGHT(ORARIO_GENERALE!E47,LEN(ORARIO_GENERALE!E47)+SEARCH(" ",ORARIO_GENERALE!E47)),"") | F45: =IFERROR(RIGHT(ORARIO_GENERALE!F47,LEN(ORARIO_GENERALE!F47)+SEARCH(" ",ORARIO_GENERALE!F47)),"") | G45: =IFERROR(RIGHT(ORARIO_GENERALE!G47,LEN(ORARIO_GENERALE!G47)+SEARCH(" ",ORARIO_GENERALE!G47)),"") | H45: =IFERROR(RIGHT(ORARIO_GENERALE!H47,LEN(ORARIO_GENERALE!H47)+SEARCH(" ",ORARIO_GENERALE!H47)),"") | I45: =IFERROR(RIGHT(ORARIO_GENERALE!I47,LEN(ORARIO_GENERALE!I47)+SEARCH(" ",ORARIO_GENERALE!I47)),"") | J45: =ORARIO_GENERALE!J47 -> #REF! | K45: =IFERROR(RIGHT(ORARIO_GENERALE!K47,LEN(ORARIO_GENERALE!K47)+SEARCH(" ",ORARIO_GENERALE!K47)),"") | L45: =IFERROR(RIGHT(ORARIO_GENERALE!L47,LEN(ORARIO_GENERALE!L47)+SEARCH(" ",ORARIO_GENERALE!L47)),"") | M45: =IFERROR(RIGHT(ORARIO_GENERALE!M47,LEN(ORARIO_GENERALE!M47)+SEARCH(" ",ORARIO_GENERALE!M47)),"") | N45: =IFERROR(RIGHT(ORARIO_GENERALE!N47,LEN(ORARIO_GENERALE!N47)+SEARCH(" ",ORARIO_GENERALE!N47)),"") | O45: =IFERROR(RIGHT(ORARIO_GENERALE!O47,LEN(ORARIO_GENERALE!O47)+SEARCH(" ",ORARIO_GENERALE!O47)),"") | P45: =IFERROR(RIGHT(ORARIO_GENERALE!P47,LEN(ORARIO_GENERALE!P47)+SEARCH(" ",ORARIO_GENERALE!P47)),"") | Q45: =IFERROR(RIGHT(ORARIO_GENERALE!Q47,LEN(ORARIO_GENERALE!Q47)-SEARCH(" ",ORARIO_GENERALE!Q47)),"") | R45: =IFERROR(RIGHT(ORARIO_GENERALE!R47,LEN(ORARIO_GENERALE!R47)-SEARCH(" ",ORARIO_GENERALE!R47)),"")
C46: =ORARIO_GENERALE!C48 -> #REF! | D46: =IFERROR(RIGHT(ORARIO_GENERALE!D48,LEN(ORARIO_GENERALE!D48)+SEARCH(" ",ORARIO_GENERALE!D48)),"") | E46: =IFERROR(RIGHT(ORARIO_GENERALE!E48,LEN(ORARIO_GENERALE!E48)+SEARCH(" ",ORARIO_GENERALE!E48)),"") | F46: =IFERROR(RIGHT(ORARIO_GENERALE!F48,LEN(ORARIO_GENERALE!F48)+SEARCH(" ",ORARIO_GENERALE!F48)),"") | G46: =IFERROR(RIGHT(ORARIO_GENERALE!G48,LEN(ORARIO_GENERALE!G48)+SEARCH(" ",ORARIO_GENERALE!G48)),"") | H46: =IFERROR(RIGHT(ORARIO_GENERALE!H48,LEN(ORARIO_GENERALE!H48)+SEARCH(" ",ORARIO_GENERALE!H48)),"") | I46: =IFERROR(RIGHT(ORARIO_GENERALE!I48,LEN(ORARIO_GENERALE!I48)+SEARCH(" ",ORARIO_GENERALE!I48)),"") | J46: =ORARIO_GENERALE!J48 -> #REF! | K46: =IFERROR(RIGHT(ORARIO_GENERALE!K48,LEN(ORARIO_GENERALE!K48)+SEARCH(" ",ORARIO_GENERALE!K48)),"") | L46: =IFERROR(RIGHT(ORARIO_GENERALE!L48,LEN(ORARIO_GENERALE!L48)+SEARCH(" ",ORARIO_GENERALE!L48)),"") | M46: =IFERROR(RIGHT(ORARIO_GENERALE!M48,LEN(ORARIO_GENERALE!M48)+SEARCH(" ",ORARIO_GENERALE!M48)),"") | N46: =IFERROR(RIGHT(ORARIO_GENERALE!N48,LEN(ORARIO_GENERALE!N48)+SEARCH(" ",ORARIO_GENERALE!N48)),"") | O46: =IFERROR(RIGHT(ORARIO_GENERALE!O48,LEN(ORARIO_GENERALE!O48)+SEARCH(" ",ORARIO_GENERALE!O48)),"") | P46: =IFERROR(RIGHT(ORARIO_GENERALE!P48,LEN(ORARIO_GENERALE!P48)+SEARCH(" ",ORARIO_GENERALE!P48)),"") | Q46: =IFERROR(RIGHT(ORARIO_GENERALE!Q48,LEN(ORARIO_GENERALE!Q48)-SEARCH(" ",ORARIO_GENERALE!Q48)),"") | R46: =IFERROR(RIGHT(ORARIO_GENERALE!R48,LEN(ORARIO_GENERALE!R48)-SEARCH(" ",ORARIO_GENERALE!R48)),"")
C47: =ORARIO_GENERALE!C49 -> #REF! | D47: =IFERROR(RIGHT(ORARIO_GENERALE!D49,LEN(ORARIO_GENERALE!D49)+SEARCH(" ",ORARIO_GENERALE!D49)),"") | E47: =IFERROR(RIGHT(ORARIO_GENERALE!E49,LEN(ORARIO_GENERALE!E49)+SEARCH(" ",ORARIO_GENERALE!E49)),"") | F47: =IFERROR(RIGHT(ORARIO_GENERALE!F49,LEN(ORARIO_GENERALE!F49)+SEARCH(" ",ORARIO_GENERALE!F49)),"") | G47: =IFERROR(RIGHT(ORARIO_GENERALE!G49,LEN(ORARIO_GENERALE!G49)+SEARCH(" ",ORARIO_GENERALE!G49)),"") | H47: =IFERROR(RIGHT(ORARIO_GENERALE!H49,LEN(ORARIO_GENERALE!H49)+SEARCH(" ",ORARIO_GENERALE!H49)),"") | I47: =IFERROR(RIGHT(ORARIO_GENERALE!I49,LEN(ORARIO_GENERALE!I49)+SEARCH(" ",ORARIO_GENERALE!I49)),"") | J47: =ORARIO_GENERALE!J49 -> #REF! | K47: =IFERROR(RIGHT(ORARIO_GENERALE!K49,LEN(ORARIO_GENERALE!K49)+SEARCH(" ",ORARIO_GENERALE!K49)),"") | L47: =IFERROR(RIGHT(ORARIO_GENERALE!L49,LEN(ORARIO_GENERALE!L49)+SEARCH(" ",ORARIO_GENERALE!L49)),"") | M47: =IFERROR(RIGHT(ORARIO_GENERALE!M49,LEN(ORARIO_GENERALE!M49)+SEARCH(" ",ORARIO_GENERALE!M49)),"") | N47: =IFERROR(RIGHT(ORARIO_GENERALE!N49,LEN(ORARIO_GENERALE!N49)+SEARCH(" ",ORARIO_GENERALE!N49)),"") | O47: =IFERROR(RIGHT(ORARIO_GENERALE!O49,LEN(ORARIO_GENERALE!O49)+SEARCH(" ",ORARIO_GENERALE!O49)),"") | P47: =IFERROR(RIGHT(ORARIO_GENERALE!P49,LEN(ORARIO_GENERALE!P49)+SEARCH(" ",ORARIO_GENERALE!P49)),"") | Q47: =IFERROR(RIGHT(ORARIO_GENERALE!Q49,LEN(ORARIO_GENERALE!Q49)-SEARCH(" ",ORARIO_GENERALE!Q49)),"") | R47: =IFERROR(RIGHT(ORARIO_GENERALE!R49,LEN(ORARIO_GENERALE!R49)-SEARCH(" ",ORARIO_GENERALE!R49)),"")
C48: =ORARIO_GENERALE!C50 -> #REF! | D48: =IFERROR(RIGHT(ORARIO_GENERALE!D50,LEN(ORARIO_GENERALE!D50)+SEARCH(" ",ORARIO_GENERALE!D50)),"") | E48: =IFERROR(RIGHT(ORARIO_GENERALE!E50,LEN(ORARIO_GENERALE!E50)+SEARCH(" ",ORARIO_GENERALE!E50)),"") | F48: =IFERROR(RIGHT(ORARIO_GENERALE!F50,LEN(ORARIO_GENERALE!F50)+SEARCH(" ",ORARIO_GENERALE!F50)),"") | G48: =IFERROR(RIGHT(ORARIO_GENERALE!G50,LEN(ORARIO_GENERALE!G50)+SEARCH(" ",ORARIO_GENERALE!G50)),"") | H48: =IFERROR(RIGHT(ORARIO_GENERALE!H50,LEN(ORARIO_GENERALE!H50)+SEARCH(" ",ORARIO_GENERALE!H50)),"") | I48: =IFERROR(RIGHT(ORARIO_GENERALE!I50,LEN(ORARIO_GENERALE!I50)+SEARCH(" ",ORARIO_GENERALE!I50)),"") | J48: =ORARIO_GENERALE!J50 -> #REF! | K48: =IFERROR(RIGHT(ORARIO_GENERALE!K50,LEN(ORARIO_GENERALE!K50)+SEARCH(" ",ORARIO_GENERALE!K50)),"") | L48: =IFERROR(RIGHT(ORARIO_GENERALE!L50,LEN(ORARIO_GENERALE!L50)+SEARCH(" ",ORARIO_GENERALE!L50)),"") | M48: =IFERROR(RIGHT(ORARIO_GENERALE!M50,LEN(ORARIO_GENERALE!M50)+SEARCH(" ",ORARIO_GENERALE!M50)),"") | N48: =IFERROR(RIGHT(ORARIO_GENERALE!N50,LEN(ORARIO_GENERALE!N50)+SEARCH(" ",ORARIO_GENERALE!N50)),"") | O48: =IFERROR(RIGHT(ORARIO_GENERALE!O50,LEN(ORARIO_GENERALE!O50)+SEARCH(" ",ORARIO_GENERALE!O50)),"") | P48: =IFERROR(RIGHT(ORARIO_GENERALE!P50,LEN(ORARIO_GENERALE!P50)+SEARCH(" ",ORARIO_GENERALE!P50)),"") | Q48: =IFERROR(RIGHT(ORARIO_GENERALE!Q50,LEN(ORARIO_GENERALE!Q50)-SEARCH(" ",ORARIO_GENERALE!Q50)),"") | R48: =IFERROR(RIGHT(ORARIO_GENERALE!R50,LEN(ORARIO_GENERALE!R50)-SEARCH(" ",ORARIO_GENERALE!R50)),"")
C49: =ORARIO_GENERALE!C51 -> #REF! | D49: =IFERROR(RIGHT(ORARIO_GENERALE!D51,LEN(ORARIO_GENERALE!D51)+SEARCH(" ",ORARIO_GENERALE!D51)),"") | E49: =IFERROR(RIGHT(ORARIO_GENERALE!E51,LEN(ORARIO_GENERALE!E51)+SEARCH(" ",ORARIO_GENERALE!E51)),"") | F49: =IFERROR(RIGHT(ORARIO_GENERALE!F51,LEN(ORARIO_GENERALE!F51)+SEARCH(" ",ORARIO_GENERALE!F51)),"") | G49: =IFERROR(RIGHT(ORARIO_GENERALE!G51,LEN(ORARIO_GENERALE!G51)+SEARCH(" ",ORARIO_GENERALE!G51)),"") | H49: =IFERROR(RIGHT(ORARIO_GENERALE!H51,LEN(ORARIO_GENERALE!H51)+SEARCH(" ",ORARIO_GENERALE!H51)),"") | I49: =IFERROR(RIGHT(ORARIO_GENERALE!I51,LEN(ORARIO_GENERALE!I51)+SEARCH(" ",ORARIO_GENERALE!I51)),"") | J49: =ORARIO_GENERALE!J51 -> #REF! | K49: =IFERROR(RIGHT(ORARIO_GENERALE!K51,LEN(ORARIO_GENERALE!K51)+SEARCH(" ",ORARIO_GENERALE!K51)),"") | L49: =IFERROR(RIGHT(ORARIO_GENERALE!L51,LEN(ORARIO_GENERALE!L51)+SEARCH(" ",ORARIO_GENERALE!L51)),"") | M49: =IFERROR(RIGHT(ORARIO_GENERALE!M51,LEN(ORARIO_GENERALE!M51)+SEARCH(" ",ORARIO_GENERALE!M51)),"") | N49: =IFERROR(RIGHT(ORARIO_GENERALE!N51,LEN(ORARIO_GENERALE!N51)+SEARCH(" ",ORARIO_GENERALE!N51)),"") | O49: =IFERROR(RIGHT(ORARIO_GENERALE!O51,LEN(ORARIO_GENERALE!O51)+SEARCH(" ",ORARIO_GENERALE!O51)),"") | P49: =IFERROR(RIGHT(ORARIO_GENERALE!P51,LEN(ORARIO_GENERALE!P51)+SEARCH(" ",ORARIO_GENERALE!P51)),"") | Q49: =IFERROR(RIGHT(ORARIO_GENERALE!Q51,LEN(ORARIO_GENERALE!Q51)-SEARCH(" ",ORARIO_GENERALE!Q51)),"") | R49: =IFERROR(RIGHT(ORARIO_GENERALE!R51,LEN(ORARIO_GENERALE!R51)-SEARCH(" ",ORARIO_GENERALE!R51)),"")
C50: =ORARIO_GENERALE!C52 -> #REF! | D50: =IFERROR(RIGHT(ORARIO_GENERALE!D52,LEN(ORARIO_GENERALE!D52)+SEARCH(" ",ORARIO_GENERALE!D52)),"") | E50: =IFERROR(RIGHT(ORARIO_GENERALE!E52,LEN(ORARIO_GENERALE!E52)+SEARCH(" ",ORARIO_GENERALE!E52)),"") | F50: =IFERROR(RIGHT(ORARIO_GENERALE!F52,LEN(ORARIO_GENERALE!F52)+SEARCH(" ",ORARIO_GENERALE!F52)),"") | G50: =IFERROR(RIGHT(ORARIO_GENERALE!G52,LEN(ORARIO_GENERALE!G52)+SEARCH(" ",ORARIO_GENERALE!G52)),"") | H50: =IFERROR(RIGHT(ORARIO_GENERALE!H52,LEN(ORARIO_GENERALE!H52)+SEARCH(" ",ORARIO_GENERALE!H52)),"") | I50: =IFERROR(RIGHT(ORARIO_GENERALE!I52,LEN(ORARIO_GENERALE!I52)+SEARCH(" ",ORARIO_GENERALE!I52)),"") | J50: =ORARIO_GENERALE!J52 -> #REF! | K50: =IFERROR(RIGHT(ORARIO_GENERALE!K52,LEN(ORARIO_GENERALE!K52)+SEARCH(" ",ORARIO_GENERALE!K52)),"") | L50: =IFERROR(RIGHT(ORARIO_GENERALE!L52,LEN(ORARIO_GENERALE!L52)+SEARCH(" ",ORARIO_GENERALE!L52)),"") | M50: =IFERROR(RIGHT(ORARIO_GENERALE!M52,LEN(ORARIO_GENERALE!M52)+SEARCH(" ",ORARIO_GENERALE!M52)),"") | N50: =IFERROR(RIGHT(ORARIO_GENERALE!N52,LEN(ORARIO_GENERALE!N52)+SEARCH(" ",ORARIO_GENERALE!N52)),"") | O50: =IFERROR(RIGHT(ORARIO_GENERALE!O52,LEN(ORARIO_GENERALE!O52)+SEARCH(" ",ORARIO_GENERALE!O52)),"") | P50: =IFERROR(RIGHT(ORARIO_GENERALE!P52,LEN(ORARIO_GENERALE!P52)+SEARCH(" ",ORARIO_GENERALE!P52)),"") | Q50: =IFERROR(RIGHT(ORARIO_GENERALE!Q52,LEN(ORARIO_GENERALE!Q52)-SEARCH(" ",ORARIO_GENERALE!Q52)),"") | R50: =IFERROR(RIGHT(ORARIO_GENERALE!R52,LEN(ORARIO_GENERALE!R52)-SEARCH(" ",ORARIO_GENERALE!R52)),"")
C51: =ORARIO_GENERALE!C53 -> #REF! | D51: =IFERROR(RIGHT(ORARIO_GENERALE!D53,LEN(ORARIO_GENERALE!D53)+SEARCH(" ",ORARIO_GENERALE!D53)),"") | E51: =IFERROR(RIGHT(ORARIO_GENERALE!E53,LEN(ORARIO_GENERALE!E53)+SEARCH(" ",ORARIO_GENERALE!E53)),"") | F51: =IFERROR(RIGHT(ORARIO_GENERALE!F53,LEN(ORARIO_GENERALE!F53)+SEARCH(" ",ORARIO_GENERALE!F53)),"") | G51: =IFERROR(RIGHT(ORARIO_GENERALE!G53,LEN(ORARIO_GENERALE!G53)+SEARCH(" ",ORARIO_GENERALE!G53)),"") | H51: =IFERROR(RIGHT(ORARIO_GENERALE!H53,LEN(ORARIO_GENERALE!H53)+SEARCH(" ",ORARIO_GENERALE!H53)),"") | I51: =IFERROR(RIGHT(ORARIO_GENERALE!I53,LEN(ORARIO_GENERALE!I53)+SEARCH(" ",ORARIO_GENERALE!I53)),"") | J51: =ORARIO_GENERALE!J53 -> #REF! | K51: =IFERROR(RIGHT(ORARIO_GENERALE!K53,LEN(ORARIO_GENERALE!K53)+SEARCH(" ",ORARIO_GENERALE!K53)),"") | L51: =IFERROR(RIGHT(ORARIO_GENERALE!L53,LEN(ORARIO_GENERALE!L53)+SEARCH(" ",ORARIO_GENERALE!L53)),"") | M51: =IFERROR(RIGHT(ORARIO_GENERALE!M53,LEN(ORARIO_GENERALE!M53)+SEARCH(" ",ORARIO_GENERALE!M53)),"") | N51: =IFERROR(RIGHT(ORARIO_GENERALE!N53,LEN(ORARIO_GENERALE!N53)+SEARCH(" ",ORARIO_GENERALE!N53)),"") | O51: =IFERROR(RIGHT(ORARIO_GENERALE!O53,LEN(ORARIO_GENERALE!O53)+SEARCH(" ",ORARIO_GENERALE!O53)),"") | P51: =IFERROR(RIGHT(ORARIO_GENERALE!P53,LEN(ORARIO_GENERALE!P53)+SEARCH(" ",ORARIO_GENERALE!P53)),"") | Q51: =IFERROR(RIGHT(ORARIO_GENERALE!Q53,LEN(ORARIO_GENERALE!Q53)-SEARCH(" ",ORARIO_GENERALE!Q53)),"") | R51: =IFERROR(RIGHT(ORARIO_GENERALE!R53,LEN(ORARIO_GENERALE!R53)-SEARCH(" ",ORARIO_GENERALE!R53)),"")
C52: =ORARIO_GENERALE!C54 -> #REF! | D52: =IFERROR(RIGHT(ORARIO_GENERALE!D54,LEN(ORARIO_GENERALE!D54)+SEARCH(" ",ORARIO_GENERALE!D54)),"") | E52: =IFERROR(RIGHT(ORARIO_GENERALE!E54,LEN(ORARIO_GENERALE!E54)+SEARCH(" ",ORARIO_GENERALE!E54)),"") | F52: =IFERROR(RIGHT(ORARIO_GENERALE!F54,LEN(ORARIO_GENERALE!F54)+SEARCH(" ",ORARIO_GENERALE!F54)),"") | G52: =IFERROR(RIGHT(ORARIO_GENERALE!G54,LEN(ORARIO_GENERALE!G54)+SEARCH(" ",ORARIO_GENERALE!G54)),"") | H52: =IFERROR(RIGHT(ORARIO_GENERALE!H54,LEN(ORARIO_GENERALE!H54)+SEARCH(" ",ORARIO_GENERALE!H54)),"") | I52: =IFERROR(RIGHT(ORARIO_GENERALE!I54,LEN(ORARIO_GENERALE!I54)+SEARCH(" ",ORARIO_GENERALE!I54)),"") | J52: =ORARIO_GENERALE!J54 -> #REF! | K52: =IFERROR(RIGHT(ORARIO_GENERALE!K54,LEN(ORARIO_GENERALE!K54)+SEARCH(" ",ORARIO_GENERALE!K54)),"") | L52: =IFERROR(RIGHT(ORARIO_GENERALE!L54,LEN(ORARIO_GENERALE!L54)+SEARCH(" ",ORARIO_GENERALE!L54)),"") | M52: =IFERROR(RIGHT(ORARIO_GENERALE!M54,LEN(ORARIO_GENERALE!M54)+SEARCH(" ",ORARIO_GENERALE!M54)),"") | N52: =IFERROR(RIGHT(ORARIO_GENERALE!N54,LEN(ORARIO_GENERALE!N54)+SEARCH(" ",ORARIO_GENERALE!N54)),"") | O52: =IFERROR(RIGHT(ORARIO_GENERALE!O54,LEN(ORARIO_GENERALE!O54)+SEARCH(" ",ORARIO_GENERALE!O54)),"") | P52: =IFERROR(RIGHT(ORARIO_GENERALE!P54,LEN(ORARIO_GENERALE!P54)+SEARCH(" ",ORARIO_GENERALE!P54)),"") | Q52: =IFERROR(RIGHT(ORARIO_GENERALE!Q54,LEN(ORARIO_GENERALE!Q54)-SEARCH(" ",ORARIO_GENERALE!Q54)),"") | R52: =IFERROR(RIGHT(ORARIO_GENERALE!R54,LEN(ORARIO_GENERALE!R54)-SEARCH(" ",ORARIO_GENERALE!R54)),"")
C53: =ORARIO_GENERALE!C55 -> #REF! | D53: =IFERROR(RIGHT(ORARIO_GENERALE!D55,LEN(ORARIO_GENERALE!D55)+SEARCH(" ",ORARIO_GENERALE!D55)),"") | E53: =IFERROR(RIGHT(ORARIO_GENERALE!E55,LEN(ORARIO_GENERALE!E55)+SEARCH(" ",ORARIO_GENERALE!E55)),"") | F53: =IFERROR(RIGHT(ORARIO_GENERALE!F55,LEN(ORARIO_GENERALE!F55)+SEARCH(" ",ORARIO_GENERALE!F55)),"") | G53: =IFERROR(RIGHT(ORARIO_GENERALE!G55,LEN(ORARIO_GENERALE!G55)+SEARCH(" ",ORARIO_GENERALE!G55)),"") | H53: =IFERROR(RIGHT(ORARIO_GENERALE!H55,LEN(ORARIO_GENERALE!H55)+SEARCH(" ",ORARIO_GENERALE!H55)),"") | I53: =IFERROR(RIGHT(ORARIO_GENERALE!I55,LEN(ORARIO_GENERALE!I55)+SEARCH(" ",ORARIO_GENERALE!I55)),"") | J53: =ORARIO_GENERALE!J55 -> #REF! | K53: =IFERROR(RIGHT(ORARIO_GENERALE!K55,LEN(ORARIO_GENERALE!K55)+SEARCH(" ",ORARIO_GENERALE!K55)),"") | L53: =IFERROR(RIGHT(ORARIO_GENERALE!L55,LEN(ORARIO_GENERALE!L55)+SEARCH(" ",ORARIO_GENERALE!L55)),"") | M53: =IFERROR(RIGHT(ORARIO_GENERALE!M55,LEN(ORARIO_GENERALE!M55)+SEARCH(" ",ORARIO_GENERALE!M55)),"") | N53: =IFERROR(RIGHT(ORARIO_GENERALE!N55,LEN(ORARIO_GENERALE!N55)+SEARCH(" ",ORARIO_GENERALE!N55)),"") | O53: =IFERROR(RIGHT(ORARIO_GENERALE!O55,LEN(ORARIO_GENERALE!O55)+SEARCH(" ",ORARIO_GENERALE!O55)),"") | P53: =IFERROR(RIGHT(ORARIO_GENERALE!P55,LEN(ORARIO_GENERALE!P55)+SEARCH(" ",ORARIO_GENERALE!P55)),"") | Q53: =IFERROR(RIGHT(ORARIO_GENERALE!Q55,LEN(ORARIO_GENERALE!Q55)-SEARCH(" ",ORARIO_GENERALE!Q55)),"") | R53: =IFERROR(RIGHT(ORARIO_GENERALE!R55,LEN(ORARIO_GENERALE!R55)-SEARCH(" ",ORARIO_GENERALE!R55)),"")
B54: VEN | C54: =ORARIO_GENERALE!C56 -> #REF! | D54: =IFERROR(RIGHT(ORARIO_GENERALE!D56,LEN(ORARIO_GENERALE!D56)-SEARCH(" ",ORARIO_GENERALE!D56)),"") | E54: =IFERROR(RIGHT(ORARIO_GENERALE!E56,LEN(ORARIO_GENERALE!E56)-SEARCH(" ",ORARIO_GENERALE!E56)),"") | F54: =IFERROR(RIGHT(ORARIO_GENERALE!F56,LEN(ORARIO_GENERALE!F56)-SEARCH(" ",ORARIO_GENERALE!F56)),"") | G54: =IFERROR(RIGHT(ORARIO_GENERALE!G56,LEN(ORARIO_GENERALE!G56)-SEARCH(" ",ORARIO_GENERALE!G56)),"") | H54: =IFERROR(RIGHT(ORARIO_GENERALE!H56,LEN(ORARIO_GENERALE!H56)-SEARCH(" ",ORARIO_GENERALE!H56)),"") | I54: =IFERROR(RIGHT(ORARIO_GENERALE!I56,LEN(ORARIO_GENERALE!I56)-SEARCH(" ",ORARIO_GENERALE!I56)),"") | J54: =ORARIO_GENERALE!J56 -> #REF! | K54: =IFERROR(RIGHT(ORARIO_GENERALE!K56,LEN(ORARIO_GENERALE!K56)+SEARCH(" ",ORARIO_GENERALE!K56)),"") | L54: =IFERROR(RIGHT(ORARIO_GENERALE!L56,LEN(ORARIO_GENERALE!L56)+SEARCH(" ",ORARIO_GENERALE!L56)),"") | M54: =IFERROR(RIGHT(ORARIO_GENERALE!M56,LEN(ORARIO_GENERALE!M56)+SEARCH(" ",ORARIO_GENERALE!M56)),"") | N54: =IFERROR(RIGHT(ORARIO_GENERALE!N56,LEN(ORARIO_GENERALE!N56)+SEARCH(" ",ORARIO_GENERALE!N56)),"") | O54: =IFERROR(RIGHT(ORARIO_GENERALE!O56,LEN(ORARIO_GENERALE!O56)+SEARCH(" ",ORARIO_GENERALE!O56)),"") | P54: =IFERROR(RIGHT(ORARIO_GENERALE!P56,LEN(ORARIO_GENERALE!P56)+SEARCH(" ",ORARIO_GENERALE!P56)),"") | Q54: =IFERROR(RIGHT(ORARIO_GENERALE!Q56,LEN(ORARIO_GENERALE!Q56)-SEARCH(" ",ORARIO_GENERALE!Q56)),"") | R54: =IFERROR(RIGHT(ORARIO_GENERALE!R56,LEN(ORARIO_GENERALE!R56)-SEARCH(" ",ORARIO_GENERALE!R56)),"")
C55: =ORARIO_GENERALE!C57 -> #REF! | D55: =IFERROR(RIGHT(ORARIO_GENERALE!D57,LEN(ORARIO_GENERALE!D57)-SEARCH(" ",ORARIO_GENERALE!D57)),"") | E55: =IFERROR(RIGHT(ORARIO_GENERALE!E57,LEN(ORARIO_GENERALE!E57)-SEARCH(" ",ORARIO_GENERALE!E57)),"") | F55: =IFERROR(RIGHT(ORARIO_GENERALE!F57,LEN(ORARIO_GENERALE!F57)-SEARCH(" ",ORARIO_GENERALE!F57)),"") | G55: =IFERROR(RIGHT(ORARIO_GENERALE!G57,LEN(ORARIO_GENERALE!G57)-SEARCH(" ",ORARIO_GENERALE!G57)),"") | H55: =IFERROR(RIGHT(ORARIO_GENERALE!H57,LEN(ORARIO_GENERALE!H57)-SEARCH(" ",ORARIO_GENERALE!H57)),"") | I55: =IFERROR(RIGHT(ORARIO_GENERALE!I57,LEN(ORARIO_GENERALE!I57)-SEARCH(" ",ORARIO_GENERALE!I57)),"") | J55: =ORARIO_GENERALE!J57 -> #REF! | K55: =IFERROR(RIGHT(ORARIO_GENERALE!K57,LEN(ORARIO_GENERALE!K57)+SEARCH(" ",ORARIO_GENERALE!K57)),"") | L55: =IFERROR(RIGHT(ORARIO_GENERALE!L57,LEN(ORARIO_GENERALE!L57)+SEARCH(" ",ORARIO_GENERALE!L57)),"") | M55: =IFERROR(RIGHT(ORARIO_GENERALE!M57,LEN(ORARIO_GENERALE!M57)+SEARCH(" ",ORARIO_GENERALE!M57)),"") | N55: =IFERROR(RIGHT(ORARIO_GENERALE!N57,LEN(ORARIO_GENERALE!N57)+SEARCH(" ",ORARIO_GENERALE!N57)),"") | O55: =IFERROR(RIGHT(ORARIO_GENERALE!O57,LEN(ORARIO_GENERALE!O57)+SEARCH(" ",ORARIO_GENERALE!O57)),"") | P55: =IFERROR(RIGHT(ORARIO_GENERALE!P57,LEN(ORARIO_GENERALE!P57)+SEARCH(" ",ORARIO_GENERALE!P57)),"") | Q55: =IFERROR(RIGHT(ORARIO_GENERALE!Q57,LEN(ORARIO_GENERALE!Q57)-SEARCH(" ",ORARIO_GENERALE!Q57)),"") | R55: =IFERROR(RIGHT(ORARIO_GENERALE!R57,LEN(ORARIO_GENERALE!R57)-SEARCH(" ",ORARIO_GENERALE!R57)),"")
C56: =ORARIO_GENERALE!C58 -> #REF! | D56: =IFERROR(RIGHT(ORARIO_GENERALE!D58,LEN(ORARIO_GENERALE!D58)-SEARCH(" ",ORARIO_GENERALE!D58)),"") | E56: =IFERROR(RIGHT(ORARIO_GENERALE!E58,LEN(ORARIO_GENERALE!E58)-SEARCH(" ",ORARIO_GENERALE!E58)),"") | F56: =IFERROR(RIGHT(ORARIO_GENERALE!F58,LEN(ORARIO_GENERALE!F58)-SEARCH(" ",ORARIO_GENERALE!F58)),"") | G56: =IFERROR(RIGHT(ORARIO_GENERALE!G58,LEN(ORARIO_GENERALE!G58)-SEARCH(" ",ORARIO_GENERALE!G58)),"") | H56: =IFERROR(RIGHT(ORARIO_GENERALE!H58,LEN(ORARIO_GENERALE!H58)-SEARCH(" ",ORARIO_GENERALE!H58)),"") | I56: =IFERROR(RIGHT(ORARIO_GENERALE!I58,LEN(ORARIO_GENERALE!I58)-SEARCH(" ",ORARIO_GENERALE!I58)),"") | J56: =ORARIO_GENERALE!J58 -> #REF! | K56: =IFERROR(RIGHT(ORARIO_GENERALE!K58,LEN(ORARIO_GENERALE!K58)+SEARCH(" ",ORARIO_GENERALE!K58)),"") | L56: =IFERROR(RIGHT(ORARIO_GENERALE!L58,LEN(ORARIO_GENERALE!L58)+SEARCH(" ",ORARIO_GENERALE!L58)),"") | M56: =IFERROR(RIGHT(ORARIO_GENERALE!M58,LEN(ORARIO_GENERALE!M58)+SEARCH(" ",ORARIO_GENERALE!M58)),"") | N56: =IFERROR(RIGHT(ORARIO_GENERALE!N58,LEN(ORARIO_GENERALE!N58)+SEARCH(" ",ORARIO_GENERALE!N58)),"") | O56: =IFERROR(RIGHT(ORARIO_GENERALE!O58,LEN(ORARIO_GENERALE!O58)+SEARCH(" ",ORARIO_GENERALE!O58)),"") | P56: =IFERROR(RIGHT(ORARIO_GENERALE!P58,LEN(ORARIO_GENERALE!P58)+SEARCH(" ",ORARIO_GENERALE!P58)),"") | Q56: =IFERROR(RIGHT(ORARIO_GENERALE!Q58,LEN(ORARIO_GENERALE!Q58)-SEARCH(" ",ORARIO_GENERALE!Q58)),"") | R56: =IFERROR(RIGHT(ORARIO_GENERALE!R58,LEN(ORARIO_GENERALE!R58)-SEARCH(" ",ORARIO_GENERALE!R58)),"")
C57: =ORARIO_GENERALE!C59 -> #REF! | D57: =IFERROR(RIGHT(ORARIO_GENERALE!D59,LEN(ORARIO_GENERALE!D59)-SEARCH(" ",ORARIO_GENERALE!D59)),"") | E57: =IFERROR(RIGHT(ORARIO_GENERALE!E59,LEN(ORARIO_GENERALE!E59)-SEARCH(" ",ORARIO_GENERALE!E59)),"") | F57: =IFERROR(RIGHT(ORARIO_GENERALE!F59,LEN(ORARIO_GENERALE!F59)-SEARCH(" ",ORARIO_GENERALE!F59)),"") | G57: =IFERROR(RIGHT(ORARIO_GENERALE!G59,LEN(ORARIO_GENERALE!G59)-SEARCH(" ",ORARIO_GENERALE!G59)),"") | H57: =IFERROR(RIGHT(ORARIO_GENERALE!H59,LEN(ORARIO_GENERALE!H59)-SEARCH(" ",ORARIO_GENERALE!H59)),"") | I57: =IFERROR(RIGHT(ORARIO_GENERALE!I59,LEN(ORARIO_GENERALE!I59)-SEARCH(" ",ORARIO_GENERALE!I59)),"") | J57: =ORARIO_GENERALE!J59 -> #REF! | K57: =IFERROR(RIGHT(ORARIO_GENERALE!K59,LEN(ORARIO_GENERALE!K59)+SEARCH(" ",ORARIO_GENERALE!K59)),"") | L57: =IFERROR(RIGHT(ORARIO_GENERALE!L59,LEN(ORARIO_GENERALE!L59)+SEARCH(" ",ORARIO_GENERALE!L59)),"") | M57: =IFERROR(RIGHT(ORARIO_GENERALE!M59,LEN(ORARIO_GENERALE!M59)+SEARCH(" ",ORARIO_GENERALE!M59)),"") | N57: =IFERROR(RIGHT(ORARIO_GENERALE!N59,LEN(ORARIO_GENERALE!N59)+SEARCH(" ",ORARIO_GENERALE!N59)),"") | O57: =IFERROR(RIGHT(ORARIO_GENERALE!O59,LEN(ORARIO_GENERALE!O59)+SEARCH(" ",ORARIO_GENERALE!O59)),"") | P57: =IFERROR(RIGHT(ORARIO_GENERALE!P59,LEN(ORARIO_GENERALE!P59)+SEARCH(" ",ORARIO_GENERALE!P59)),"") | Q57: =IFERROR(RIGHT(ORARIO_GENERALE!Q59,LEN(ORARIO_GENERALE!Q59)-SEARCH(" ",ORARIO_GENERALE!Q59)),"") | R57: =IFERROR(RIGHT(ORARIO_GENERALE!R59,LEN(ORARIO_GENERALE!R59)-SEARCH(" ",ORARIO_GENERALE!R59)),"")
C58: =ORARIO_GENERALE!C60 -> #REF! | D58: =IFERROR(RIGHT(ORARIO_GENERALE!D60,LEN(ORARIO_GENERALE!D60)-SEARCH(" ",ORARIO_GENERALE!D60)),"") | E58: =IFERROR(RIGHT(ORARIO_GENERALE!E60,LEN(ORARIO_GENERALE!E60)-SEARCH(" ",ORARIO_GENERALE!E60)),"") | F58: =IFERROR(RIGHT(ORARIO_GENERALE!F60,LEN(ORARIO_GENERALE!F60)-SEARCH(" ",ORARIO_GENERALE!F60)),"") | G58: =IFERROR(RIGHT(ORARIO_GENERALE!G60,LEN(ORARIO_GENERALE!G60)-SEARCH(" ",ORARIO_GENERALE!G60)),"") | H58: =IFERROR(RIGHT(ORARIO_GENERALE!H60,LEN(ORARIO_GENERALE!H60)-SEARCH(" ",ORARIO_GENERALE!H60)),"") | I58: =IFERROR(RIGHT(ORARIO_GENERALE!I60,LEN(ORARIO_GENERALE!I60)-SEARCH(" ",ORARIO_GENERALE!I60)),"") | J58: =ORARIO_GENERALE!J60 -> #REF! | K58: =IFERROR(RIGHT(ORARIO_GENERALE!K60,LEN(ORARIO_GENERALE!K60)+SEARCH(" ",ORARIO_GENERALE!K60)),"") | L58: =IFERROR(RIGHT(ORARIO_GENERALE!L60,LEN(ORARIO_GENERALE!L60)+SEARCH(" ",ORARIO_GENERALE!L60)),"") | M58: =IFERROR(RIGHT(ORARIO_GENERALE!M60,LEN(ORARIO_GENERALE!M60)+SEARCH(" ",ORARIO_GENERALE!M60)),"") | N58: =IFERROR(RIGHT(ORARIO_GENERALE!N60,LEN(ORARIO_GENERALE!N60)+SEARCH(" ",ORARIO_GENERALE!N60)),"") | O58: =IFERROR(RIGHT(ORARIO_GENERALE!O60,LEN(ORARIO_GENERALE!O60)+SEARCH(" ",ORARIO_GENERALE!O60)),"") | P58: =IFERROR(RIGHT(ORARIO_GENERALE!P60,LEN(ORARIO_GENERALE!P60)+SEARCH(" ",ORARIO_GENERALE!P60)),"") | Q58: =IFERROR(RIGHT(ORARIO_GENERALE!Q60,LEN(ORARIO_GENERALE!Q60)-SEARCH(" ",ORARIO_GENERALE!Q60)),"") | R58: =IFERROR(RIGHT(ORARIO_GENERALE!R60,LEN(ORARIO_GENERALE!R60)-SEARCH(" ",ORARIO_GENERALE!R60)),"")
C59: =ORARIO_GENERALE!C61 -> #REF! | D59: =IFERROR(RIGHT(ORARIO_GENERALE!D61,LEN(ORARIO_GENERALE!D61)-SEARCH(" ",ORARIO_GENERALE!D61)),"") | E59: =IFERROR(RIGHT(ORARIO_GENERALE!E61,LEN(ORARIO_GENERALE!E61)-SEARCH(" ",ORARIO_GENERALE!E61)),"") | F59: =IFERROR(RIGHT(ORARIO_GENERALE!F61,LEN(ORARIO_GENERALE!F61)-SEARCH(" ",ORARIO_GENERALE!F61)),"") | G59: =IFERROR(RIGHT(ORARIO_GENERALE!G61,LEN(ORARIO_GENERALE!G61)-SEARCH(" ",ORARIO_GENERALE!G61)),"") | H59: =IFERROR(RIGHT(ORARIO_GENERALE!H61,LEN(ORARIO_GENERALE!H61)-SEARCH(" ",ORARIO_GENERALE!H61)),"") | I59: =IFERROR(RIGHT(ORARIO_GENERALE!I61,LEN(ORARIO_GENERALE!I61)-SEARCH(" ",ORARIO_GENERALE!I61)),"") | J59: =ORARIO_GENERALE!J61 -> #REF! | K59: =IFERROR(RIGHT(ORARIO_GENERALE!K61,LEN(ORARIO_GENERALE!K61)+SEARCH(" ",ORARIO_GENERALE!K61)),"") | L59: =IFERROR(RIGHT(ORARIO_GENERALE!L61,LEN(ORARIO_GENERALE!L61)+SEARCH(" ",ORARIO_GENERALE!L61)),"") | M59: =IFERROR(RIGHT(ORARIO_GENERALE!M61,LEN(ORARIO_GENERALE!M61)+SEARCH(" ",ORARIO_GENERALE!M61)),"") | N59: =IFERROR(RIGHT(ORARIO_GENERALE!N61,LEN(ORARIO_GENERALE!N61)+SEARCH(" ",ORARIO_GENERALE!N61)),"") | O59: =IFERROR(RIGHT(ORARIO_GENERALE!O61,LEN(ORARIO_GENERALE!O61)+SEARCH(" ",ORARIO_GENERALE!O61)),"") | P59: =IFERROR(RIGHT(ORARIO_GENERALE!P61,LEN(ORARIO_GENERALE!P61)+SEARCH(" ",ORARIO_GENERALE!P61)),"") | Q59: =IFERROR(RIGHT(ORARIO_GENERALE!Q61,LEN(ORARIO_GENERALE!Q61)-SEARCH(" ",ORARIO_GENERALE!Q61)),"") | R59: =IFERROR(RIGHT(ORARIO_GENERALE!R61,LEN(ORARIO_GENERALE!R61)-SEARCH(" ",ORARIO_GENERALE!R61)),"")
C60: =ORARIO_GENERALE!C62 -> #REF! | D60: =IFERROR(RIGHT(ORARIO_GENERALE!D62,LEN(ORARIO_GENERALE!D62)-SEARCH(" ",ORARIO_GENERALE!D62)),"") | E60: =IFERROR(RIGHT(ORARIO_GENERALE!F62,LEN(ORARIO_GENERALE!F62)-SEARCH(" ",ORARIO_GENERALE!F62)),"") | F60: =IFERROR(RIGHT(ORARIO_GENERALE!G62,LEN(ORARIO_GENERALE!G62)-SEARCH(" ",ORARIO_GENERALE!G62)),"") | K60: =IFERROR(RIGHT(ORARIO_GENERALE!K62,LEN(ORARIO_GENERALE!K62)-SEARCH(" ",ORARIO_GENERALE!K62)),"") | L60: =IFERROR(RIGHT(ORARIO_GENERALE!L62,LEN(ORARIO_GENERALE!L62)-SEARCH(" ",ORARIO_GENERALE!L62)),"") | M60: =IFERROR(RIGHT(ORARIO_GENERALE!M62,LEN(ORARIO_GENERALE!M62)-SEARCH(" ",ORARIO_GENERALE!M62)),"") | N60: =IFERROR(RIGHT(ORARIO_GENERALE!N62,LEN(ORARIO_GENERALE!N62)-SEARCH(" ",ORARIO_GENERALE!N62)),"") | O60: =IFERROR(RIGHT(ORARIO_GENERALE!O62,LEN(ORARIO_GENERALE!O62)-SEARCH(" ",ORARIO_GENERALE!O62)),"") | P60: =IFERROR(RIGHT(ORARIO_GENERALE!P62,LEN(ORARIO_GENERALE!P62)-SEARCH(" ",ORARIO_GENERALE!P62)),"") | Q60: =IFERROR(RIGHT(ORARIO_GENERALE!Q62,LEN(ORARIO_GENERALE!Q62)-SEARCH(" ",ORARIO_GENERALE!Q62)),"") | R60: =IFERROR(RIGHT(ORARIO_GENERALE!R62,LEN(ORARIO_GENERALE!R62)-SEARCH(" ",ORARIO_GENERALE!R62)),"")
C61: =ORARIO_GENERALE!C62 -> #REF! | K61: =IFERROR(RIGHT(ORARIO_GENERALE!K63,LEN(ORARIO_GENERALE!K63)-SEARCH(" ",ORARIO_GENERALE!K63)),"") | L61: =IFERROR(RIGHT(ORARIO_GENERALE!L63,LEN(ORARIO_GENERALE!L63)-SEARCH(" ",ORARIO_GENERALE!L63)),"") | M61: =IFERROR(RIGHT(ORARIO_GENERALE!M63,LEN(ORARIO_GENERALE!M63)-SEARCH(" ",ORARIO_GENERALE!M63)),"") | N61: =IFERROR(RIGHT(ORARIO_GENERALE!N63,LEN(ORARIO_GENERALE!N63)-SEARCH(" ",ORARIO_GENERALE!N63)),"") | O61: =IFERROR(RIGHT(ORARIO_GENERALE!O63,LEN(ORARIO_GENERALE!O63)-SEARCH(" ",ORARIO_GENERALE!O63)),"") | P61: =IFERROR(RIGHT(ORARIO_GENERALE!P63,LEN(ORARIO_GENERALE!P63)-SEARCH(" ",ORARIO_GENERALE!P63)),"") | Q61: =IFERROR(RIGHT(ORARIO_GENERALE!Q63,LEN(ORARIO_GENERALE!Q63)-SEARCH(" ",ORARIO_GENERALE!Q63)),"") | R61: =IFERROR(RIGHT(ORARIO_GENERALE!R63,LEN(ORARIO_GENERALE!R63)-SEARCH(" ",ORARIO_GENERALE!R63)),"")
C62: =ORARIO_GENERALE!C63 -> #REF! | K62: =IFERROR(RIGHT(ORARIO_GENERALE!K64,LEN(ORARIO_GENERALE!K64)-SEARCH(" ",ORARIO_GENERALE!K64)),"") | L62: =IFERROR(RIGHT(ORARIO_GENERALE!L64,LEN(ORARIO_GENERALE!L64)-SEARCH(" ",ORARIO_GENERALE!L64)),"") | M62: =IFERROR(RIGHT(ORARIO_GENERALE!M64,LEN(ORARIO_GENERALE!M64)-SEARCH(" ",ORARIO_GENERALE!M64)),"") | N62: =IFERROR(RIGHT(ORARIO_GENERALE!N64,LEN(ORARIO_GENERALE!N64)-SEARCH(" ",ORARIO_GENERALE!N64)),"") | O62: =IFERROR(RIGHT(ORARIO_GENERALE!O64,LEN(ORARIO_GENERALE!O64)-SEARCH(" ",ORARIO_GENERALE!O64)),"") | P62: =IFERROR(RIGHT(ORARIO_GENERALE!P64,LEN(ORARIO_GENERALE!P64)-SEARCH(" ",ORARIO_GENERALE!P64)),"") | Q62: =IFERROR(RIGHT(ORARIO_GENERALE!Q64,LEN(ORARIO_GENERALE!Q64)-SEARCH(" ",ORARIO_GENERALE!Q64)),"") | R62: =IFERROR(RIGHT(ORARIO_GENERALE!R64,LEN(ORARIO_GENERALE!R64)-SEARCH(" ",ORARIO_GENERALE!R64)),"")
C63: =ORARIO_GENERALE!C64 -> #REF! | K63: =IFERROR(RIGHT(ORARIO_GENERALE!K65,LEN(ORARIO_GENERALE!K65)-SEARCH(" ",ORARIO_GENERALE!K65)),"") | L63: =IFERROR(RIGHT(ORARIO_GENERALE!L65,LEN(ORARIO_GENERALE!L65)-SEARCH(" ",ORARIO_GENERALE!L65)),"") | M63: =IFERROR(RIGHT(ORARIO_GENERALE!M65,LEN(ORARIO_GENERALE!M65)-SEARCH(" ",ORARIO_GENERALE!M65)),"") | N63: =IFERROR(RIGHT(ORARIO_GENERALE!N65,LEN(ORARIO_GENERALE!N65)-SEARCH(" ",ORARIO_GENERALE!N65)),"") | O63: =IFERROR(RIGHT(ORARIO_GENERALE!O65,LEN(ORARIO_GENERALE!O65)-SEARCH(" ",ORARIO_GENERALE!O65)),"") | P63: =IFERROR(RIGHT(ORARIO_GENERALE!P65,LEN(ORARIO_GENERALE!P65)-SEARCH(" ",ORARIO_GENERALE!P65)),"") | Q63: =IFERROR(RIGHT(ORARIO_GENERALE!Q65,LEN(ORARIO_GENERALE!Q65)-SEARCH(" ",ORARIO_GENERALE!Q65)),"") | R63: =IFERROR(RIGHT(ORARIO_GENERALE!R65,LEN(ORARIO_GENERALE!R65)-SEARCH(" ",ORARIO_GENERALE!R65)),"")
K64: =IFERROR(RIGHT(ORARIO_GENERALE!K66,LEN(ORARIO_GENERALE!K66)-SEARCH(" ",ORARIO_GENERALE!K66)),"") | L64: =IFERROR(RIGHT(ORARIO_GENERALE!L66,LEN(ORARIO_GENERALE!L66)-SEARCH(" ",ORARIO_GENERALE!L66)),"") | M64: =IFERROR(RIGHT(ORARIO_GENERALE!M66,LEN(ORARIO_GENERALE!M66)-SEARCH(" ",ORARIO_GENERALE!M66)),"") | N64: =IFERROR(RIGHT(ORARIO_GENERALE!N66,LEN(ORARIO_GENERALE!N66)-SEARCH(" ",ORARIO_GENERALE!N66)),"") | O64: =IFERROR(RIGHT(ORARIO_GENERALE!O66,LEN(ORARIO_GENERALE!O66)-SEARCH(" ",ORARIO_GENERALE!O66)),"") | P64: =IFERROR(RIGHT(ORARIO_GENERALE!P66,LEN(ORARIO_GENERALE!P66)-SEARCH(" ",ORARIO_GENERALE!P66)),"") | Q64: =IFERROR(RIGHT(ORARIO_GENERALE!Q66,LEN(ORARIO_GENERALE!Q66)-SEARCH(" ",ORARIO_GENERALE!Q66)),"") | R64: =IFERROR(RIGHT(ORARIO_GENERALE!R66,LEN(ORARIO_GENERALE!R66)-SEARCH(" ",ORARIO_GENERALE!R66)),"")
K65: =IFERROR(RIGHT(ORARIO_GENERALE!K67,LEN(ORARIO_GENERALE!K67)-SEARCH(" ",ORARIO_GENERALE!K67)),"") | L65: =IFERROR(RIGHT(ORARIO_GENERALE!L67,LEN(ORARIO_GENERALE!L67)-SEARCH(" ",ORARIO_GENERALE!L67)),"") | M65: =IFERROR(RIGHT(ORARIO_GENERALE!M67,LEN(ORARIO_GENERALE!M67)-SEARCH(" ",ORARIO_GENERALE!M67)),"") | N65: =IFERROR(RIGHT(ORARIO_GENERALE!N67,LEN(ORARIO_GENERALE!N67)-SEARCH(" ",ORARIO_GENERALE!N67)),"") | O65: =IFERROR(RIGHT(ORARIO_GENERALE!O67,LEN(ORARIO_GENERALE!O67)-SEARCH(" ",ORARIO_GENERALE!O67)),"") | P65: =IFERROR(RIGHT(ORARIO_GENERALE!P67,LEN(ORARIO_GENERALE!P67)-SEARCH(" ",ORARIO_GENERALE!P67)),"") | Q65: =IFERROR(RIGHT(ORARIO_GENERALE!Q67,LEN(ORARIO_GENERALE!Q67)-SEARCH(" ",ORARIO_GENERALE!Q67)),"") | R65: =IFERROR(RIGHT(ORARIO_GENERALE!R67,LEN(ORARIO_GENERALE!R67)-SEARCH(" ",ORARIO_GENERALE!R67)),"")
K66: =IFERROR(RIGHT(ORARIO_GENERALE!K68,LEN(ORARIO_GENERALE!K68)-SEARCH(" ",ORARIO_GENERALE!K68)),"") | L66: =IFERROR(RIGHT(ORARIO_GENERALE!L68,LEN(ORARIO_GENERALE!L68)-SEARCH(" ",ORARIO_GENERALE!L68)),"") | M66: =IFERROR(RIGHT(ORARIO_GENERALE!M68,LEN(ORARIO_GENERALE!M68)-SEARCH(" ",ORARIO_GENERALE!M68)),"") | N66: =IFERROR(RIGHT(ORARIO_GENERALE!N68,LEN(ORARIO_GENERALE!N68)-SEARCH(" ",ORARIO_GENERALE!N68)),"") | O66: =IFERROR(RIGHT(ORARIO_GENERALE!O68,LEN(ORARIO_GENERALE!O68)-SEARCH(" ",ORARIO_GENERALE!O68)),"") | P66: =IFERROR(RIGHT(ORARIO_GENERALE!P68,LEN(ORARIO_GENERALE!P68)-SEARCH(" ",ORARIO_GENERALE!P68)),"") | Q66: =IFERROR(RIGHT(ORARIO_GENERALE!Q68,LEN(ORARIO_GENERALE!Q68)-SEARCH(" ",ORARIO_GENERALE!Q68)),"") | R66: =IFERROR(RIGHT(ORARIO_GENERALE!R68,LEN(ORARIO_GENERALE!R68)-SEARCH(" ",ORARIO_GENERALE!R68)),"")
K67: =IFERROR(RIGHT(ORARIO_GENERALE!K69,LEN(ORARIO_GENERALE!K69)-SEARCH(" ",ORARIO_GENERALE!K69)),"") | L67: =IFERROR(RIGHT(ORARIO_GENERALE!L69,LEN(ORARIO_GENERALE!L69)-SEARCH(" ",ORARIO_GENERALE!L69)),"") | M67: =IFERROR(RIGHT(ORARIO_GENERALE!M69,LEN(ORARIO_GENERALE!M69)-SEARCH(" ",ORARIO_GENERALE!M69)),"") | N67: =IFERROR(RIGHT(ORARIO_GENERALE!N69,LEN(ORARIO_GENERALE!N69)-SEARCH(" ",ORARIO_GENERALE!N69)),"") | O67: =IFERROR(RIGHT(ORARIO_GENERALE!O69,LEN(ORARIO_GENERALE!O69)-SEARCH(" ",ORARIO_GENERALE!O69)),"") | P67: =IFERROR(RIGHT(ORARIO_GENERALE!P69,LEN(ORARIO_GENERALE!P69)-SEARCH(" ",ORARIO_GENERALE!P69)),"") | Q67: =IFERROR(RIGHT(ORARIO_GENERALE!Q69,LEN(ORARIO_GENERALE!Q69)-SEARCH(" ",ORARIO_GENERALE!Q69)),"") | R67: =IFERROR(RIGHT(ORARIO_GENERALE!R69,LEN(ORARIO_GENERALE!R69)-SEARCH(" ",ORARIO_GENERALE!R69)),"")

Sheet CORSI
B3: RPPA | H3: RPPB | N3: RA2A
C4: LUN | D4: MAR | E4: MER | F4: GIO | I4: LUN | J4: MAR | K4: MER | L4: GIO | O4: LUN | P4: MAR | Q4: MER | R4: GIO | S4: VEN
B5: =ORARIO_GENERALE!C5 -> #REF! | C5: =IFERROR(INDEX(ORARIO_GENERALE!$D$3:$I$3,MATCH("*"&$B$3&"*",ORARIO_GENERALE!D5:I5,0)),"") | D5: =IFERROR(INDEX(ORARIO_GENERALE!$D$3:$I$3,MATCH("*"&$B$3&"*",ORARIO_GENERALE!D18:I18,0)),"") | E5: =IFERROR(INDEX(ORARIO_GENERALE!$D$3:$I$3,MATCH("*"&$B$3&"*",ORARIO_GENERALE!D31:I31,0)),"") | F5: =IFERROR(INDEX(ORARIO_GENERALE!$D$3:$I$3,MATCH("*"&$B$3&"*",ORARIO_GENERALE!D44:I44,0)),"") | G5: {=IFERROR(INDEX(ORARIO_GENERALE!H3,MATCH($B$3&"*",ORARIO_GENERALE!$D5:$I5,1),""),"")} | H5: =ORARIO_GENERALE!C5 -> #REF! | I5: =IFERROR(INDEX(ORARIO_GENERALE!$D$3:$I$3,MATCH("*"&$H$3&"*",ORARIO_GENERALE!D5:I5,0)),"") | J5: =IFERROR(INDEX(ORARIO_GENERALE!$D$3:$I$3,MATCH("*"&$H$3&"*",ORARIO_GENERALE!D18:I18,0)),"") | K5: =IFERROR(INDEX(ORARIO_GENERALE!$D$3:$I$3,MATCH("*"&$H$3&"*",ORARIO_GENERALE!D31:I31,0)),"") | L5: =IFERROR(INDEX(ORARIO_GENERALE!$D$3:$I$3,MATCH("*"&$H$3&"*",ORARIO_GENERALE!D44:I44,0)),"") | N5: =ORARIO_GENERALE!J5 -> #REF! | O5: =IFERROR(INDEX(ORARIO_GENERALE!$K$3:$Q$3,MATCH("*"&$N$3&"*",ORARIO_GENERALE!K5:Q5,0)),"") | P5: =IFERROR(INDEX(ORARIO_GENERALE!$K$3:$Q$3,MATCH("*"&$N$3&"*",ORARIO_GENERALE!K18:Q18,0)),"") | Q5: =IFERROR(INDEX(ORARIO_GENERALE!$K$3:$Q$3,MATCH("*"&$N$3&"*",ORARIO_GENERALE!K31:Q31,0)),"") | R5: =IFERROR(INDEX(ORARIO_GENERALE!$K$3:$Q$3,MATCH("*"&$N$3&"*",ORARIO_GENERALE!K45:Q45,0)),"") | S5: =IFERROR(INDEX(ORARIO_GENERALE!$K$3:$Q$3,MATCH("*"&$N$3&"*",ORARIO_GENERALE!K57:Q57,0)),"")
B6: =ORARIO_GENERALE!C6 -> #REF! | C6: =IFERROR(INDEX(ORARIO_GENERALE!$D$3:$I$3,MATCH("*"&$B$3&"*",ORARIO_GENERALE!D6:I6,0)),"") | D6: =IFERROR(INDEX(ORARIO_GENERALE!$D$3:$I$3,MATCH("*"&$B$3&"*",ORARIO_GENERALE!D19:I19,0)),"") | E6: =IFERROR(INDEX(ORARIO_GENERALE!$D$3:$I$3,MATCH("*"&$B$3&"*",ORARIO_GENERALE!D32:I32,0)),"") | F6: =IFERROR(INDEX(ORARIO_GENERALE!$D$3:$I$3,MATCH("*"&$B$3&"*",ORARIO_GENERALE!D45:I45,0)),"") | H6: =ORARIO_GENERALE!C6 -> #REF! | I6: =IFERROR(INDEX(ORARIO_GENERALE!$D$3:$I$3,MATCH("*"&$H$3&"*",ORARIO_GENERALE!D6:I6,0)),"") | J6: =IFERROR(INDEX(ORARIO_GENERALE!$D$3:$I$3,MATCH("*"&$H$3&"*",ORARIO_GENERALE!D19:I19,0)),"") | K6: =IFERROR(INDEX(ORARIO_GENERALE!$D$3:$I$3,MATCH("*"&$H$3&"*",ORARIO_GENERALE!D32:I32,0)),"") | L6: =IFERROR(INDEX(ORARIO_GENERALE!$D$3:$I$3,MATCH("*"&$H$3&"*",ORARIO_GENERALE!D45:I45,0)),"") | N6: =ORARIO_GENERALE!J6 -> #REF! | O6: =IFERROR(INDEX(ORARIO_GENERALE!$K$3:$Q$3,MATCH("*"&$N$3&"*",ORARIO_GENERALE!K6:Q6,0)),"") | P6: =IFERROR(INDEX(ORARIO_GENERALE!$K$3:$Q$3,MATCH("*"&$N$3&"*",ORARIO_GENERALE!K19:Q19,0)),"") | Q6: =IFERROR(INDEX(ORARIO_GENERALE!$K$3:$Q$3,MATCH("*"&$N$3&"*",ORARIO_GENERALE!K32:Q32,0)),"") | R6: =IFERROR(INDEX(ORARIO_GENERALE!$K$3:$Q$3,MATCH("*"&$N$3&"*",ORARIO_GENERALE!K46:Q46,0)),"") | S6: =IFERROR(INDEX(ORARIO_GENERALE!$K$3:$Q$3,MATCH("*"&$N$3&"*",ORARIO_GENERALE!K58:Q58,0)),"")
B7: =ORARIO_GENERALE!C7 -> #REF! | C7: =IFERROR(INDEX(ORARIO_GENERALE!$D$3:$I$3,MATCH("*"&$B$3&"*",ORARIO_GENERALE!D7:I7,0)),"") | D7: =IFERROR(INDEX(ORARIO_GENERALE!$D$3:$I$3,MATCH("*"&$B$3&"*",ORARIO_GENERALE!D20:I20,0)),"") | E7: =IFERROR(INDEX(ORARIO_GENERALE!$D$3:$I$3,MATCH("*"&$B$3&"*",ORARIO_GENERALE!D33:I33,0)),"") | F7: =IFERROR(INDEX(ORARIO_GENERALE!$D$3:$I$3,MATCH("*"&$B$3&"*",ORARIO_GENERALE!D46:I46,0)),"") | H7: =ORARIO_GENERALE!C7 -> #REF! | I7: =IFERROR(INDEX(ORARIO_GENERALE!$D$3:$I$3,MATCH("*"&$H$3&"*",ORARIO_GENERALE!D7:I7,0)),"") | J7: =IFERROR(INDEX(ORARIO_GENERALE!$D$3:$I$3,MATCH("*"&$H$3&"*",ORARIO_GENERALE!D20:I20,0)),"") | K7: =IFERROR(INDEX(ORARIO_GENERALE!$D$3:$I$3,MATCH("*"&$H$3&"*",ORARIO_GENERALE!D33:I33,0)),"") | L7: =IFERROR(INDEX(ORARIO_GENERALE!$D$3:$I$3,MATCH("*"&$H$3&"*",ORARIO_GENERALE!D46:I46,0)),"") | N7: =ORARIO_GENERALE!J7 -> #REF! | O7: =IFERROR(INDEX(ORARIO_GENERALE!$K$3:$Q$3,MATCH("*"&$N$3&"*",ORARIO_GENERALE!K7:Q7,0)),"") | P7: =IFERROR(INDEX(ORARIO_GENERALE!$K$3:$Q$3,MATCH("*"&$N$3&"*",ORARIO_GENERALE!K20:Q20,0)),"") | Q7: =IFERROR(INDEX(ORARIO_GENERALE!$K$3:$Q$3,MATCH("*"&$N$3&"*",ORARIO_GENERALE!K33:Q33,0)),"") | R7: =IFERROR(INDEX(ORARIO_GENERALE!$K$3:$Q$3,MATCH("*"&$N$3&"*",ORARIO_GENERALE!K47:Q47,0)),"") | S7: =IFERROR(INDEX(ORARIO_GENERALE!$K$3:$Q$3,MATCH("*"&$N$3&"*",ORARIO_GENERALE!K59:Q59,0)),"")
B8: =ORARIO_GENERALE!C8 -> #REF! | C8: =IFERROR(INDEX(ORARIO_GENERALE!$D$3:$I$3,MATCH("*"&$B$3&"*",ORARIO_GENERALE!D8:I8,0)),"") | D8: =IFERROR(INDEX(ORARIO_GENERALE!$D$3:$I$3,MATCH("*"&$B$3&"*",ORARIO_GENERALE!D21:I21,0)),"") | E8: =IFERROR(INDEX(ORARIO_GENERALE!$D$3:$I$3,MATCH("*"&$B$3&"*",ORARIO_GENERALE!D34:I34,0)),"") | F8: =IFERROR(INDEX(ORARIO_GENERALE!$D$3:$I$3,MATCH("*"&$B$3&"*",ORARIO_GENERALE!D47:I47,0)),"") | H8: =ORARIO_GENERALE!C8 -> #REF! | I8: =IFERROR(INDEX(ORARIO_GENERALE!$D$3:$I$3,MATCH("*"&$H$3&"*",ORARIO_GENERALE!D8:I8,0)),"") | J8: =IFERROR(INDEX(ORARIO_GENERALE!$D$3:$I$3,MATCH("*"&$H$3&"*",ORARIO_GENERALE!D21:I21,0)),"") | K8: =IFERROR(INDEX(ORARIO_GENERALE!$D$3:$I$3,MATCH("*"&$H$3&"*",ORARIO_GENERALE!D34:I34,0)),"") | L8: =IFERROR(INDEX(ORARIO_GENERALE!$D$3:$I$3,MATCH("*"&$H$3&"*",ORARIO_GENERALE!D47:I47,0)),"") | N8: =ORARIO_GENERALE!J8 -> #REF! | O8: =IFERROR(INDEX(ORARIO_GENERALE!$K$3:$Q$3,MATCH("*"&$N$3&"*",ORARIO_GENERALE!K8:Q8,0)),"") | P8: =IFERROR(INDEX(ORARIO_GENERALE!$K$3:$Q$3,MATCH("*"&$N$3&"*",ORARIO_GENERALE!K21:Q21,0)),"") | Q8: =IFERROR(INDEX(ORARIO_GENERALE!$K$3:$Q$3,MATCH("*"&$N$3&"*",ORARIO_GENERALE!K34:Q34,0)),"") | R8: =IFERROR(INDEX(ORARIO_GENERALE!$K$3:$Q$3,MATCH("*"&$N$3&"*",ORARIO_GENERALE!K48:Q48,0)),"") | S8: =IFERROR(INDEX(ORARIO_GENERALE!$K$3:$Q$3,MATCH("*"&$N$3&"*",ORARIO_GENERALE!K60:Q60,0)),"")
B9: =ORARIO_GENERALE!C9 -> #REF! | C9: =IFERROR(INDEX(ORARIO_GENERALE!$D$3:$I$3,MATCH("*"&$B$3&"*",ORARIO_GENERALE!D9:I9,0)),"") | D9: =IFERROR(INDEX(ORARIO_GENERALE!$D$3:$I$3,MATCH("*"&$B$3&"*",ORARIO_GENERALE!D22:I22,0)),"") | E9: =IFERROR(INDEX(ORARIO_GENERALE!$D$3:$I$3,MATCH("*"&$B$3&"*",ORARIO_GENERALE!D35:I35,0)),"") | F9: =IFERROR(INDEX(ORARIO_GENERALE!$D$3:$I$3,MATCH("*"&$B$3&"*",ORARIO_GENERALE!D48:I48,0)),"") | H9: =ORARIO_GENERALE!C9 -> #REF! | I9: =IFERROR(INDEX(ORARIO_GENERALE!$D$3:$I$3,MATCH("*"&$H$3&"*",ORARIO_GENERALE!D9:I9,0)),"") | J9: =IFERROR(INDEX(ORARIO_GENERALE!$D$3:$I$3,MATCH("*"&$H$3&"*",ORARIO_GENERALE!D22:I22,0)),"") | K9: =IFERROR(INDEX(ORARIO_GENERALE!$D$3:$I$3,MATCH("*"&$H$3&"*",ORARIO_GENERALE!D35:I35,0)),"") | L9: =IFERROR(INDEX(ORARIO_GENERALE!$D$3:$I$3,MATCH("*"&$H$3&"*",ORARIO_GENERALE!D48:I48,0)),"") | N9: =ORARIO_GENERALE!J9 -> #REF! | O9: =IFERROR(INDEX(ORARIO_GENERALE!$K$3:$Q$3,MATCH("*"&$N$3&"*",ORARIO_GENERALE!K9:Q9,0)),"") | P9: =IFERROR(INDEX(ORARIO_GENERALE!$K$3:$Q$3,MATCH("*"&$N$3&"*",ORARIO_GENERALE!K22:Q22,0)),"") | Q9: =IFERROR(INDEX(ORARIO_GENERALE!$K$3:$Q$3,MATCH("*"&$N$3&"*",ORARIO_GENERALE!K35:Q35,0)),"") | R9: =IFERROR(INDEX(ORARIO_GENERALE!$K$3:$Q$3,MATCH("*"&$N$3&"*",ORARIO_GENERALE!K49:Q49,0)),"") | S9: =IFERROR(INDEX(ORARIO_GENERALE!$K$3:$Q$3,MATCH("*"&$N$3&"*",ORARIO_GENERALE!K61:Q61,0)),"")
B10: =ORARIO_GENERALE!C10 -> #REF! | C10: =IFERROR(INDEX(ORARIO_GENERALE!$D$3:$I$3,MATCH("*"&$B$3&"*",ORARIO_GENERALE!D10:I10,0)),"") | D10: =IFERROR(INDEX(ORARIO_GENERALE!$D$3:$I$3,MATCH("*"&$B$3&"*",ORARIO_GENERALE!D23:I23,0)),"") | E10: =IFERROR(INDEX(ORARIO_GENERALE!$D$3:$I$3,MATCH("*"&$B$3&"*",ORARIO_GENERALE!D36:I36,0)),"") | F10: =IFERROR(INDEX(ORARIO_GENERALE!$D$3:$I$3,MATCH("*"&$B$3&"*",ORARIO_GENERALE!D49:I49,0)),"") | H10: =ORARIO_GENERALE!C10 -> #REF! | I10: =IFERROR(INDEX(ORARIO_GENERALE!$D$3:$I$3,MATCH("*"&$H$3&"*",ORARIO_GENERALE!D10:I10,0)),"") | J10: =IFERROR(INDEX(ORARIO_GENERALE!$D$3:$I$3,MATCH("*"&$H$3&"*",ORARIO_GENERALE!D23:I23,0)),"") | K10: =IFERROR(INDEX(ORARIO_GENERALE!$D$3:$I$3,MATCH("*"&$H$3&"*",ORARIO_GENERALE!D36:I36,0)),"") | L10: =IFERROR(INDEX(ORARIO_GENERALE!$D$3:$I$3,MATCH("*"&$H$3&"*",ORARIO_GENERALE!D49:I49,0)),"") | N10: =ORARIO_GENERALE!J10 -> #REF! | O10: =IFERROR(INDEX(ORARIO_GENERALE!$K$3:$Q$3,MATCH("*"&$N$3&"*",ORARIO_GENERALE!K10:Q10,0)),"") | P10: =IFERROR(INDEX(ORARIO_GENERALE!$K$3:$Q$3,MATCH("*"&$N$3&"*",ORARIO_GENERALE!K23:Q23,0)),"") | Q10: =IFERROR(INDEX(ORARIO_GENERALE!$K$3:$Q$3,MATCH("*"&$N$3&"*",ORARIO_GENERALE!K36:Q36,0)),"") | R10: =IFERROR(INDEX(ORARIO_GENERALE!$K$3:$Q$3,MATCH("*"&$N$3&"*",ORARIO_GENERALE!K50:Q50,0)),"") | S10: =IFERROR(INDEX(ORARIO_GENERALE!$K$3:$Q$3,MATCH("*"&$N$3&"*",ORARIO_GENERALE!K62:Q62,0)),"")
B11: =ORARIO_GENERALE!C11 -> #REF! | C11: =IFERROR(INDEX(ORARIO_GENERALE!$D$3:$I$3,MATCH("*"&$B$3&"*",ORARIO_GENERALE!D11:I11,0)),"") | D11: =IFERROR(INDEX(ORARIO_GENERALE!$D$3:$I$3,MATCH("*"&$B$3&"*",ORARIO_GENERALE!D24:I24,0)),"") | E11: =IFERROR(INDEX(ORARIO_GENERALE!$D$3:$I$3,MATCH("*"&$B$3&"*",ORARIO_GENERALE!D37:I37,0)),"") | F11: =IFERROR(INDEX(ORARIO_GENERALE!$D$3:$I$3,MATCH("*"&$B$3&"*",ORARIO_GENERALE!D50:I50,0)),"") | H11: =ORARIO_GENERALE!C11 -> #REF! | I11: =IFERROR(INDEX(ORARIO_GENERALE!$D$3:$I$3,MATCH("*"&$H$3&"*",ORARIO_GENERALE!D11:I11,0)),"") | J11: =IFERROR(INDEX(ORARIO_GENERALE!$D$3:$I$3,MATCH("*"&$H$3&"*",ORARIO_GENERALE!D24:I24,0)),"") | K11: =IFERROR(INDEX(ORARIO_GENERALE!$D$3:$I$3,MATCH("*"&$H$3&"*",ORARIO_GENERALE!D37:I37,0)),"") | L11: =IFERROR(INDEX(ORARIO_GENERALE!$D$3:$I$3,MATCH("*"&$H$3&"*",ORARIO_GENERALE!D50:I50,0)),"") | N11: =ORARIO_GENERALE!J11 -> #REF! | O11: =IFERROR(INDEX(ORARIO_GENERALE!$K$3:$Q$3,MATCH("*"&$N$3&"*",ORARIO_GENERALE!K11:Q11,0)),"") | P11: =IFERROR(INDEX(ORARIO_GENERALE!$K$3:$Q$3,MATCH("*"&$N$3&"*",ORARIO_GENERALE!K24:Q24,0)),"") | Q11: =IFERROR(INDEX(ORARIO_GENERALE!$K$3:$Q$3,MATCH("*"&$N$3&"*",ORARIO_GENERALE!K37:Q37,0)),"") | R11: =IFERROR(INDEX(ORARIO_GENERALE!$K$3:$Q$3,MATCH("*"&$N$3&"*",ORARIO_GENERALE!K51:Q51,0)),"") | S11: =IFERROR(INDEX(ORARIO_GENERALE!$K$3:$Q$3,MATCH("*"&$N$3&"*",ORARIO_GENERALE!K63:Q63,0)),"")
B12: =ORARIO_GENERALE!C12 -> #REF! | C12: =IFERROR(INDEX(ORARIO_GENERALE!$D$3:$I$3,MATCH("*"&$B$3&"*",ORARIO_GENERALE!D12:I12,0)),"") | D12: =IFERROR(INDEX(ORARIO_GENERALE!$D$3:$I$3,MATCH("*"&$B$3&"*",ORARIO_GENERALE!D25:I25,0)),"") | E12: =IFERROR(INDEX(ORARIO_GENERALE!$D$3:$I$3,MATCH("*"&$B$3&"*",ORARIO_GENERALE!D38:I38,0)),"") | F12: =IFERROR(INDEX(ORARIO_GENERALE!$D$3:$I$3,MATCH("*"&$B$3&"*",ORARIO_GENERALE!D51:I51,0)),"") | H12: =ORARIO_GENERALE!C12 -> #REF! | I12: =IFERROR(INDEX(ORARIO_GENERALE!$D$3:$I$3,MATCH("*"&$H$3&"*",ORARIO_GENERALE!D12:I12,0)),"") | J12: =IFERROR(INDEX(ORARIO_GENERALE!$D$3:$I$3,MATCH("*"&$H$3&"*",ORARIO_GENERALE!D25:I25,0)),"") | K12: =IFERROR(INDEX(ORARIO_GENERALE!$D$3:$I$3,MATCH("*"&$H$3&"*",ORARIO_GENERALE!D38:I38,0)),"") | L12: =IFERROR(INDEX(ORARIO_GENERALE!$D$3:$I$3,MATCH("*"&$H$3&"*",ORARIO_GENERALE!D51:I51,0)),"") | N12: =ORARIO_GENERALE!J12 -> #REF! | O12: =IFERROR(INDEX(ORARIO_GENERALE!$K$3:$Q$3,MATCH("*"&$N$3&"*",ORARIO_GENERALE!K12:Q12,0)),"") | P12: =IFERROR(INDEX(ORARIO_GENERALE!$K$3:$Q$3,MATCH("*"&$N$3&"*",ORARIO_GENERALE!K25:Q25,0)),"") | Q12: =IFERROR(INDEX(ORARIO_GENERALE!$K$3:$Q$3,MATCH("*"&$N$3&"*",ORARIO_GENERALE!K38:Q38,0)),"") | R12: =IFERROR(INDEX(ORARIO_GENERALE!$K$3:$Q$3,MATCH("*"&$N$3&"*",ORARIO_GENERALE!K52:Q52,0)),"") | S12: =IFERROR(INDEX(ORARIO_GENERALE!$K$3:$Q$3,MATCH("*"&$N$3&"*",ORARIO_GENERALE!K64:Q64,0)),"")
B13: =ORARIO_GENERALE!C13 -> #REF! | C13: =IFERROR(INDEX(ORARIO_GENERALE!$D$3:$I$3,MATCH("*"&$B$3&"*",ORARIO_GENERALE!D13:I13,0)),"") | D13: =IFERROR(INDEX(ORARIO_GENERALE!$D$3:$I$3,MATCH("*"&$B$3&"*",ORARIO_GENERALE!D26:I26,0)),"") | E13: =IFERROR(INDEX(ORARIO_GENERALE!$D$3:$I$3,MATCH("*"&$B$3&"*",ORARIO_GENERALE!D39:I39,0)),"") | F13: =IFERROR(INDEX(ORARIO_GENERALE!$D$3:$I$3,MATCH("*"&$B$3&"*",ORARIO_GENERALE!D52:I52,0)),"") | H13: =ORARIO_GENERALE!C13 -> #REF! | I13: =IFERROR(INDEX(ORARIO_GENERALE!$D$3:$I$3,MATCH("*"&$H$3&"*",ORARIO_GENERALE!D13:I13,0)),"") | J13: =IFERROR(INDEX(ORARIO_GENERALE!$D$3:$I$3,MATCH("*"&$H$3&"*",ORARIO_GENERALE!D26:I26,0)),"") | K13: =IFERROR(INDEX(ORARIO_GENERALE!$D$3:$I$3,MATCH("*"&$H$3&"*",ORARIO_GENERALE!D39:I39,0)),"") | L13: =IFERROR(INDEX(ORARIO_GENERALE!$D$3:$I$3,MATCH("*"&$H$3&"*",ORARIO_GENERALE!D52:I52,0)),"") | N13: =ORARIO_GENERALE!J13 -> #REF! | O13: =IFERROR(INDEX(ORARIO_GENERALE!$K$3:$Q$3,MATCH("*"&$N$3&"*",ORARIO_GENERALE!K13:Q13,0)),"") | P13: =IFERROR(INDEX(ORARIO_GENERALE!$K$3:$Q$3,MATCH("*"&$N$3&"*",ORARIO_GENERALE!K26:Q26,0)),"") | Q13: =IFERROR(INDEX(ORARIO_GENERALE!$K$3:$Q$3,MATCH("*"&$N$3&"*",ORARIO_GENERALE!K39:Q39,0)),"") | R13: =IFERROR(INDEX(ORARIO_GENERALE!$K$3:$Q$3,MATCH("*"&$N$3&"*",ORARIO_GENERALE!K53:Q53,0)),"") | S13: =IFERROR(INDEX(ORARIO_GENERALE!$K$3:$Q$3,MATCH("*"&$N$3&"*",ORARIO_GENERALE!K65:Q65,0)),"")
B14: =ORARIO_GENERALE!C14 -> #REF! | C14: =IFERROR(INDEX(ORARIO_GENERALE!$D$3:$I$3,MATCH("*"&$B$3&"*",ORARIO_GENERALE!D14:I14,0)),"") | D14: =IFERROR(INDEX(ORARIO_GENERALE!$D$3:$I$3,MATCH("*"&$B$3&"*",ORARIO_GENERALE!D27:I27,0)),"") | E14: =IFERROR(INDEX(ORARIO_GENERALE!$D$3:$I$3,MATCH("*"&$B$3&"*",ORARIO_GENERALE!D40:I40,0)),"") | F14: =IFERROR(INDEX(ORARIO_GENERALE!$D$3:$I$3,MATCH("*"&$B$3&"*",ORARIO_GENERALE!D53:I53,0)),"") | H14: =ORARIO_GENERALE!C14 -> #REF! | I14: =IFERROR(INDEX(ORARIO_GENERALE!$D$3:$I$3,MATCH("*"&$H$3&"*",ORARIO_GENERALE!D14:I14,0)),"") | J14: =IFERROR(INDEX(ORARIO_GENERALE!$D$3:$I$3,MATCH("*"&$H$3&"*",ORARIO_GENERALE!D27:I27,0)),"") | K14: =IFERROR(INDEX(ORARIO_GENERALE!$D$3:$I$3,MATCH("*"&$H$3&"*",ORARIO_GENERALE!D40:I40,0)),"") | L14: =IFERROR(INDEX(ORARIO_GENERALE!$D$3:$I$3,MATCH("*"&$H$3&"*",ORARIO_GENERALE!D53:I53,0)),"") | N14: =ORARIO_GENERALE!J14 -> #REF! | O14: =IFERROR(INDEX(ORARIO_GENERALE!$K$3:$Q$3,MATCH("*"&$N$3&"*",ORARIO_GENERALE!K14:Q14,0)),"") | P14: =IFERROR(INDEX(ORARIO_GENERALE!$K$3:$Q$3,MATCH("*"&$N$3&"*",ORARIO_GENERALE!K27:Q27,0)),"") | Q14: =IFERROR(INDEX(ORARIO_GENERALE!$K$3:$Q$3,MATCH("*"&$N$3&"*",ORARIO_GENERALE!K40:Q40,0)),"") | R14: =IFERROR(INDEX(ORARIO_GENERALE!$K$3:$Q$3,MATCH("*"&$N$3&"*",ORARIO_GENERALE!K54:Q54,0)),"") | S14: =IFERROR(INDEX(ORARIO_GENERALE!$K$3:$Q$3,MATCH("*"&$N$3&"*",ORARIO_GENERALE!K66:Q66,0)),"")
B15: =ORARIO_GENERALE!C15 -> #REF! | C15: =IFERROR(INDEX(ORARIO_GENERALE!$D$3:$I$3,MATCH("*"&$B$3&"*",ORARIO_GENERALE!D15:I15,0)),"") | D15: =IFERROR(INDEX(ORARIO_GENERALE!$D$3:$I$3,MATCH("*"&$B$3&"*",ORARIO_GENERALE!D28:I28,0)),"") | E15: =IFERROR(INDEX(ORARIO_GENERALE!$D$3:$I$3,MATCH("*"&$B$3&"*",ORARIO_GENERALE!D41:I41,0)),"") | F15: =IFERROR(INDEX(ORARIO_GENERALE!$D$3:$I$3,MATCH("*"&$B$3&"*",ORARIO_GENERALE!D54:I54,0)),"") | H15: =ORARIO_GENERALE!C15 -> #REF! | I15: =IFERROR(INDEX(ORARIO_GENERALE!$D$3:$I$3,MATCH("*"&$H$3&"*",ORARIO_GENERALE!D15:I15,0)),"") | J15: =IFERROR(INDEX(ORARIO_GENERALE!$D$3:$I$3,MATCH("*"&$H$3&"*",ORARIO_GENERALE!D28:I28,0)),"") | K15: =IFERROR(INDEX(ORARIO_GENERALE!$D$3:$I$3,MATCH("*"&$H$3&"*",ORARIO_GENERALE!D41:I41,0)),"") | L15: =IFERROR(INDEX(ORARIO_GENERALE!$D$3:$I$3,MATCH("*"&$H$3&"*",ORARIO_GENERALE!D54:I54,0)),"") | N15: =ORARIO_GENERALE!J15 -> #REF! | O15: =IFERROR(INDEX(ORARIO_GENERALE!$K$3:$Q$3,MATCH("*"&$N$3&"*",ORARIO_GENERALE!K15:Q15,0)),"") | P15: =IFERROR(INDEX(ORARIO_GENERALE!$K$3:$Q$3,MATCH("*"&$N$3&"*",ORARIO_GENERALE!K28:Q28,0)),"") | Q15: =IFERROR(INDEX(ORARIO_GENERALE!$K$3:$Q$3,MATCH("*"&$N$3&"*",ORARIO_GENERALE!K41:Q41,0)),"") | R15: =IFERROR(INDEX(ORARIO_GENERALE!$K$3:$Q$3,MATCH("*"&$N$3&"*",ORARIO_GENERALE!K55:Q55,0)),"") | S15: =IFERROR(INDEX(ORARIO_GENERALE!$K$3:$Q$3,MATCH("*"&$N$3&"*",ORARIO_GENERALE!K67:Q67,0)),"")
B16: =ORARIO_GENERALE!C16 -> #REF! | C16: =IFERROR(INDEX(ORARIO_GENERALE!$D$3:$I$3,MATCH("*"&$B$3&"*",ORARIO_GENERALE!D16:I16,0)),"") | D16: =IFERROR(INDEX(ORARIO_GENERALE!$D$3:$I$3,MATCH("*"&$B$3&"*",ORARIO_GENERALE!D29:I29,0)),"") | E16: =IFERROR(INDEX(ORARIO_GENERALE!$D$3:$I$3,MATCH("*"&$B$3&"*",ORARIO_GENERALE!D42:I42,0)),"") | F16: =IFERROR(INDEX(ORARIO_GENERALE!$D$3:$I$3,MATCH("*"&$B$3&"*",ORARIO_GENERALE!D55:I55,0)),"") | H16: =ORARIO_GENERALE!C16 -> #REF! | I16: =IFERROR(INDEX(ORARIO_GENERALE!$D$3:$I$3,MATCH("*"&$H$3&"*",ORARIO_GENERALE!D16:I16,0)),"") | J16: =IFERROR(INDEX(ORARIO_GENERALE!$D$3:$I$3,MATCH("*"&$H$3&"*",ORARIO_GENERALE!D29:I29,0)),"") | K16: =IFERROR(INDEX(ORARIO_GENERALE!$D$3:$I$3,MATCH("*"&$H$3&"*",ORARIO_GENERALE!D42:I42,0)),"") | L16: =IFERROR(INDEX(ORARIO_GENERALE!$D$3:$I$3,MATCH("*"&$H$3&"*",ORARIO_GENERALE!D55:I55,0)),"") | N16: =ORARIO_GENERALE!J16 -> #REF! | O16: =IFERROR(INDEX(ORARIO_GENERALE!$K$3:$Q$3,MATCH("*"&$N$3&"*",ORARIO_GENERALE!K16:Q16,0)),"") | P16: =IFERROR(INDEX(ORARIO_GENERALE!$K$3:$Q$3,MATCH("*"&$N$3&"*",ORARIO_GENERALE!K29:Q29,0)),"") | Q16: =IFERROR(INDEX(ORARIO_GENERALE!$K$3:$Q$3,MATCH("*"&$N$3&"*",ORARIO_GENERALE!K42:Q42,0)),"") | R16: =IFERROR(INDEX(ORARIO_GENERALE!$K$3:$Q$3,MATCH("*"&$N$3&"*",ORARIO_GENERALE!K56:Q56,0)),"") | S16: =IFERROR(INDEX(ORARIO_GENERALE!$K$3:$Q$3,MATCH("*"&$N$3&"*",ORARIO_GENERALE!K68:Q68,0)),"")
B19: RPPC | H19: RPPD | N19: RA2B
C20: LUN | D20: MAR | E20: MER | F20: GIO | I20: LUN | J20: MAR | K20: MER | L20: GIO | O20: LUN | P20: MAR | Q20: MER | R20: GIO | S20: VEN
B21: =ORARIO_GENERALE!C5 -> #REF! | C21: =IFERROR(INDEX(ORARIO_GENERALE!$D$3:$I$3,MATCH("*"&$B$19&"*",ORARIO_GENERALE!D5:I5,0)),"") | D21: =IFERROR(INDEX(ORARIO_GENERALE!$D$3:$I$3,MATCH("*"&$B$19&"*",ORARIO_GENERALE!D18:I18,0)),"") | E21: =IFERROR(INDEX(ORARIO_GENERALE!$D$3:$I$3,MATCH("*"&$B$19&"*",ORARIO_GENERALE!D31:I31,0)),"") | F21: =IFERROR(INDEX(ORARIO_GENERALE!$D$3:$I$3,MATCH("*"&$B$19&"*",ORARIO_GENERALE!D44:I44,0)),"") | H21: =ORARIO_GENERALE!C5 -> #REF! | I21: =IFERROR(INDEX(ORARIO_GENERALE!$D$3:$I$3,MATCH("*"&$H$19&"*",ORARIO_GENERALE!D5:I5,0)),"") | J21: =IFERROR(INDEX(ORARIO_GENERALE!$D$3:$I$3,MATCH("*"&$H$19&"*",ORARIO_GENERALE!D18:I18,0)),"") | K21: =IFERROR(INDEX(ORARIO_GENERALE!$D$3:$I$3,MATCH("*"&$H$19&"*",ORARIO_GENERALE!D31:I31,0)),"") | L21: =IFERROR(INDEX(ORARIO_GENERALE!$D$3:$I$3,MATCH("*"&$H$19&"*",ORARIO_GENERALE!D44:I44,0)),"") | N21: =ORARIO_GENERALE!J5 -> #REF! | O21: =IFERROR(INDEX(ORARIO_GENERALE!$K$3:$Q$3,MATCH("*"&$N$19&"*",ORARIO_GENERALE!K5:Q5,0)),"") | P21: =IFERROR(INDEX(ORARIO_GENERALE!$K$3:$Q$3,MATCH("*"&$N$19&"*",ORARIO_GENERALE!K18:Q18,0)),"") | Q21: =IFERROR(INDEX(ORARIO_GENERALE!$K$3:$Q$3,MATCH("*"&$N$19&"*",ORARIO_GENERALE!K31:Q31,0)),"") | R21: =IFERROR(INDEX(ORARIO_GENERALE!$K$3:$Q$3,MATCH("*"&$N$19&"*",ORARIO_GENERALE!K45:Q45,0)),"") | S21: =IFERROR(INDEX(ORARIO_GENERALE!$K$3:$Q$3,MATCH("*"&$N$19&"*",ORARIO_GENERALE!K57:Q57,0)),"")
B22: =ORARIO_GENERALE!C6 -> #REF! | C22: =IFERROR(INDEX(ORARIO_GENERALE!$D$3:$I$3,MATCH("*"&$B$19&"*",ORARIO_GENERALE!D6:I6,0)),"") | D22: =IFERROR(INDEX(ORARIO_GENERALE!$D$3:$I$3,MATCH("*"&$B$19&"*",ORARIO_GENERALE!D19:I19,0)),"") | E22: =IFERROR(INDEX(ORARIO_GENERALE!$D$3:$I$3,MATCH("*"&$B$19&"*",ORARIO_GENERALE!D32:I32,0)),"") | F22: =IFERROR(INDEX(ORARIO_GENERALE!$D$3:$I$3,MATCH("*"&$B$19&"*",ORARIO_GENERALE!D45:I45,0)),"") | H22: =ORARIO_GENERALE!C6 -> #REF! | I22: =IFERROR(INDEX(ORARIO_GENERALE!$D$3:$I$3,MATCH("*"&$H$19&"*",ORARIO_GENERALE!D6:I6,0)),"") | J22: =IFERROR(INDEX(ORARIO_GENERALE!$D$3:$I$3,MATCH("*"&$H$19&"*",ORARIO_GENERALE!D19:I19,0)),"") | K22: =IFERROR(INDEX(ORARIO_GENERALE!$D$3:$I$3,MATCH("*"&$H$19&"*",ORARIO_GENERALE!D32:I32,0)),"") | L22: =IFERROR(INDEX(ORARIO_GENERALE!$D$3:$I$3,MATCH("*"&$H$19&"*",ORARIO_GENERALE!D45:I45,0)),"") | N22: =ORARIO_GENERALE!J6 -> #REF! | O22: =IFERROR(INDEX(ORARIO_GENERALE!$K$3:$Q$3,MATCH("*"&$N$19&"*",ORARIO_GENERALE!K6:Q6,0)),"") | P22: =IFERROR(INDEX(ORARIO_GENERALE!$K$3:$Q$3,MATCH("*"&$N$19&"*",ORARIO_GENERALE!K19:Q19,0)),"") | Q22: =IFERROR(INDEX(ORARIO_GENERALE!$K$3:$Q$3,MATCH("*"&$N$19&"*",ORARIO_GENERALE!K32:Q32,0)),"") | R22: =IFERROR(INDEX(ORARIO_GENERALE!$K$3:$Q$3,MATCH("*"&$N$19&"*",ORARIO_GENERALE!K46:Q46,0)),"") | S22: =IFERROR(INDEX(ORARIO_GENERALE!$K$3:$Q$3,MATCH("*"&$N$19&"*",ORARIO_GENERALE!K58:Q58,0)),"")
B23: =ORARIO_GENERALE!C7 -> #REF! | C23: =IFERROR(INDEX(ORARIO_GENERALE!$D$3:$I$3,MATCH("*"&$B$19&"*",ORARIO_GENERALE!D7:I7,0)),"") | D23: =IFERROR(INDEX(ORARIO_GENERALE!$D$3:$I$3,MATCH("*"&$B$19&"*",ORARIO_GENERALE!D20:I20,0)),"") | E23: =IFERROR(INDEX(ORARIO_GENERALE!$D$3:$I$3,MATCH("*"&$B$19&"*",ORARIO_GENERALE!D33:I33,0)),"") | F23: =IFERROR(INDEX(ORARIO_GENERALE!$D$3:$I$3,MATCH("*"&$B$19&"*",ORARIO_GENERALE!D46:I46,0)),"") | H23: =ORARIO_GENERALE!C7 -> #REF! | I23: =IFERROR(INDEX(ORARIO_GENERALE!$D$3:$I$3,MATCH("*"&$H$19&"*",ORARIO_GENERALE!D7:I7,0)),"") | J23: =IFERROR(INDEX(ORARIO_GENERALE!$D$3:$I$3,MATCH("*"&$H$19&"*",ORARIO_GENERALE!D20:I20,0)),"") | K23: =IFERROR(INDEX(ORARIO_GENERALE!$D$3:$I$3,MATCH("*"&$H$19&"*",ORARIO_GENERALE!D33:I33,0)),"") | L23: =IFERROR(INDEX(ORARIO_GENERALE!$D$3:$I$3,MATCH("*"&$H$19&"*",ORARIO_GENERALE!D46:I46,0)),"") | N23: =ORARIO_GENERALE!J7 -> #REF! | O23: =IFERROR(INDEX(ORARIO_GENERALE!$K$3:$Q$3,MATCH("*"&$N$19&"*",ORARIO_GENERALE!K7:Q7,0)),"") | P23: =IFERROR(INDEX(ORARIO_GENERALE!$K$3:$Q$3,MATCH("*"&$N$19&"*",ORARIO_GENERALE!K20:Q20,0)),"") | Q23: =IFERROR(INDEX(ORARIO_GENERALE!$K$3:$Q$3,MATCH("*"&$N$19&"*",ORARIO_GENERALE!K33:Q33,0)),"") | R23: =IFERROR(INDEX(ORARIO_GENERALE!$K$3:$Q$3,MATCH("*"&$N$19&"*",ORARIO_GENERALE!K47:Q47,0)),"") | S23: =IFERROR(INDEX(ORARIO_GENERALE!$K$3:$Q$3,MATCH("*"&$N$19&"*",ORARIO_GENERALE!K59:Q59,0)),"")
B24: =ORARIO_GENERALE!C8 -> #REF! | C24: =IFERROR(INDEX(ORARIO_GENERALE!$D$3:$I$3,MATCH("*"&$B$19&"*",ORARIO_GENERALE!D8:I8,0)),"") | D24: =IFERROR(INDEX(ORARIO_GENERALE!$D$3:$I$3,MATCH("*"&$B$19&"*",ORARIO_GENERALE!D21:I21,0)),"") | E24: =IFERROR(INDEX(ORARIO_GENERALE!$D$3:$I$3,MATCH("*"&$B$19&"*",ORARIO_GENERALE!D34:I34,0)),"") | F24: =IFERROR(INDEX(ORARIO_GENERALE!$D$3:$I$3,MATCH("*"&$B$19&"*",ORARIO_GENERALE!D47:I47,0)),"") | H24: =ORARIO_GENERALE!C8 -> #REF! | I24: =IFERROR(INDEX(ORARIO_GENERALE!$D$3:$I$3,MATCH("*"&$H$19&"*",ORARIO_GENERALE!D8:I8,0)),"") | J24: =IFERROR(INDEX(ORARIO_GENERALE!$D$3:$I$3,MATCH("*"&$H$19&"*",ORARIO_GENERALE!D21:I21,0)),"") | K24: =IFERROR(INDEX(ORARIO_GENERALE!$D$3:$I$3,MATCH("*"&$H$19&"*",ORARIO_GENERALE!D34:I34,0)),"") | L24: =IFERROR(INDEX(ORARIO_GENERALE!$D$3:$I$3,MATCH("*"&$H$19&"*",ORARIO_GENERALE!D47:I47,0)),"") | N24: =ORARIO_GENERALE!J8 -> #REF! | O24: =IFERROR(INDEX(ORARIO_GENERALE!$K$3:$Q$3,MATCH("*"&$N$19&"*",ORARIO_GENERALE!K8:Q8,0)),"") | P24: =IFERROR(INDEX(ORARIO_GENERALE!$K$3:$Q$3,MATCH("*"&$N$19&"*",ORARIO_GENERALE!K21:Q21,0)),"") | Q24: =IFERROR(INDEX(ORARIO_GENERALE!$K$3:$Q$3,MATCH("*"&$N$19&"*",ORARIO_GENERALE!K34:Q34,0)),"") | R24: =IFERROR(INDEX(ORARIO_GENERALE!$K$3:$Q$3,MATCH("*"&$N$19&"*",ORARIO_GENERALE!K48:Q48,0)),"") | S24: =IFERROR(INDEX(ORARIO_GENERALE!$K$3:$Q$3,MATCH("*"&$N$19&"*",ORARIO_GENERALE!K60:Q60,0)),"")
B25: =ORARIO_GENERALE!C9 -> #REF! | C25: =IFERROR(INDEX(ORARIO_GENERALE!$D$3:$I$3,MATCH("*"&$B$19&"*",ORARIO_GENERALE!D9:I9,0)),"") | D25: =IFERROR(INDEX(ORARIO_GENERALE!$D$3:$I$3,MATCH("*"&$B$19&"*",ORARIO_GENERALE!D22:I22,0)),"") | E25: =IFERROR(INDEX(ORARIO_GENERALE!$D$3:$I$3,MATCH("*"&$B$19&"*",ORARIO_GENERALE!D35:I35,0)),"") | F25: =IFERROR(INDEX(ORARIO_GENERALE!$D$3:$I$3,MATCH("*"&$B$19&"*",ORARIO_GENERALE!D48:I48,0)),"") | H25: =ORARIO_GENERALE!C9 -> #REF! | I25: =IFERROR(INDEX(ORARIO_GENERALE!$D$3:$I$3,MATCH("*"&$H$19&"*",ORARIO_GENERALE!D9:I9,0)),"") | J25: =IFERROR(INDEX(ORARIO_GENERALE!$D$3:$I$3,MATCH("*"&$H$19&"*",ORARIO_GENERALE!D22:I22,0)),"") | K25: =IFERROR(INDEX(ORARIO_GENERALE!$D$3:$I$3,MATCH("*"&$H$19&"*",ORARIO_GENERALE!D35:I35,0)),"") | L25: =IFERROR(INDEX(ORARIO_GENERALE!$D$3:$I$3,MATCH("*"&$H$19&"*",ORARIO_GENERALE!D48:I48,0)),"") | N25: =ORARIO_GENERALE!J9 -> #REF! | O25: =IFERROR(INDEX(ORARIO_GENERALE!$K$3:$Q$3,MATCH("*"&$N$19&"*",ORARIO_GENERALE!K9:Q9,0)),"") | P25: =IFERROR(INDEX(ORARIO_GENERALE!$K$3:$Q$3,MATCH("*"&$N$19&"*",ORARIO_GENERALE!K22:Q22,0)),"") | Q25: =IFERROR(INDEX(ORARIO_GENERALE!$K$3:$Q$3,MATCH("*"&$N$19&"*",ORARIO_GENERALE!K35:Q35,0)),"") | R25: =IFERROR(INDEX(ORARIO_GENERALE!$K$3:$Q$3,MATCH("*"&$N$19&"*",ORARIO_GENERALE!K49:Q49,0)),"") | S25: =IFERROR(INDEX(ORARIO_GENERALE!$K$3:$Q$3,MATCH("*"&$N$19&"*",ORARIO_GENERALE!K61:Q61,0)),"")
B26: =ORARIO_GENERALE!C10 -> #REF! | C26: =IFERROR(INDEX(ORARIO_GENERALE!$D$3:$I$3,MATCH("*"&$B$19&"*",ORARIO_GENERALE!D10:I10,0)),"") | D26: =IFERROR(INDEX(ORARIO_GENERALE!$D$3:$I$3,MATCH("*"&$B$19&"*",ORARIO_GENERALE!D23:I23,0)),"") | E26: =IFERROR(INDEX(ORARIO_GENERALE!$D$3:$I$3,MATCH("*"&$B$19&"*",ORARIO_GENERALE!D36:I36,0)),"") | F26: =IFERROR(INDEX(ORARIO_GENERALE!$D$3:$I$3,MATCH("*"&$B$19&"*",ORARIO_GENERALE!D49:I49,0)),"") | H26: =ORARIO_GENERALE!C10 -> #REF! | I26: =IFERROR(INDEX(ORARIO_GENERALE!$D$3:$I$3,MATCH("*"&$H$19&"*",ORARIO_GENERALE!D10:I10,0)),"") | J26: =IFERROR(INDEX(ORARIO_GENERALE!$D$3:$I$3,MATCH("*"&$H$19&"*",ORARIO_GENERALE!D23:I23,0)),"") | K26: =IFERROR(INDEX(ORARIO_GENERALE!$D$3:$I$3,MATCH("*"&$H$19&"*",ORARIO_GENERALE!D36:I36,0)),"") | L26: =IFERROR(INDEX(ORARIO_GENERALE!$D$3:$I$3,MATCH("*"&$H$19&"*",ORARIO_GENERALE!D49:I49,0)),"") | N26: =ORARIO_GENERALE!J10 -> #REF! | O26: =IFERROR(INDEX(ORARIO_GENERALE!$K$3:$Q$3,MATCH("*"&$N$19&"*",ORARIO_GENERALE!K10:Q10,0)),"") | P26: =IFERROR(INDEX(ORARIO_GENERALE!$K$3:$Q$3,MATCH("*"&$N$19&"*",ORARIO_GENERALE!K23:Q23,0)),"") | Q26: =IFERROR(INDEX(ORARIO_GENERALE!$K$3:$Q$3,MATCH("*"&$N$19&"*",ORARIO_GENERALE!K36:Q36,0)),"") | R26: =IFERROR(INDEX(ORARIO_GENERALE!$K$3:$Q$3,MATCH("*"&$N$19&"*",ORARIO_GENERALE!K50:Q50,0)),"") | S26: =IFERROR(INDEX(ORARIO_GENERALE!$K$3:$Q$3,MATCH("*"&$N$19&"*",ORARIO_GENERALE!K62:Q62,0)),"")
B27: =ORARIO_GENERALE!C11 -> #REF! | C27: =IFERROR(INDEX(ORARIO_GENERALE!$D$3:$I$3,MATCH("*"&$B$19&"*",ORARIO_GENERALE!D11:I11,0)),"") | D27: =IFERROR(INDEX(ORARIO_GENERALE!$D$3:$I$3,MATCH("*"&$B$19&"*",ORARIO_GENERALE!D24:I24,0)),"") | E27: =IFERROR(INDEX(ORARIO_GENERALE!$D$3:$I$3,MATCH("*"&$B$19&"*",ORARIO_GENERALE!D37:I37,0)),"") | F27: =IFERROR(INDEX(ORARIO_GENERALE!$D$3:$I$3,MATCH("*"&$B$19&"*",ORARIO_GENERALE!D50:I50,0)),"") | H27: =ORARIO_GENERALE!C11 -> #REF! | I27: =IFERROR(INDEX(ORARIO_GENERALE!$D$3:$I$3,MATCH("*"&$H$19&"*",ORARIO_GENERALE!D11:I11,0)),"") | J27: =IFERROR(INDEX(ORARIO_GENERALE!$D$3:$I$3,MATCH("*"&$H$19&"*",ORARIO_GENERALE!D24:I24,0)),"") | K27: =IFERROR(INDEX(ORARIO_GENERALE!$D$3:$I$3,MATCH("*"&$H$19&"*",ORARIO_GENERALE!D37:I37,0)),"") | L27: =IFERROR(INDEX(ORARIO_GENERALE!$D$3:$I$3,MATCH("*"&$H$19&"*",ORARIO_GENERALE!D50:I50,0)),"") | N27: =ORARIO_GENERALE!J11 -> #REF! | O27: =IFERROR(INDEX(ORARIO_GENERALE!$K$3:$Q$3,MATCH("*"&$N$19&"*",ORARIO_GENERALE!K11:Q11,0)),"") | P27: =IFERROR(INDEX(ORARIO_GENERALE!$K$3:$Q$3,MATCH("*"&$N$19&"*",ORARIO_GENERALE!K24:Q24,0)),"") | Q27: =IFERROR(INDEX(ORARIO_GENERALE!$K$3:$Q$3,MATCH("*"&$N$19&"*",ORARIO_GENERALE!K37:Q37,0)),"") | R27: =IFERROR(INDEX(ORARIO_GENERALE!$K$3:$Q$3,MATCH("*"&$N$19&"*",ORARIO_GENERALE!K51:Q51,0)),"") | S27: =IFERROR(INDEX(ORARIO_GENERALE!$K$3:$Q$3,MATCH("*"&$N$19&"*",ORARIO_GENERALE!K63:Q63,0)),"")
B28: =ORARIO_GENERALE!C12 -> #REF! | C28: =IFERROR(INDEX(ORARIO_GENERALE!$D$3:$I$3,MATCH("*"&$B$19&"*",ORARIO_GENERALE!D12:I12,0)),"") | D28: =IFERROR(INDEX(ORARIO_GENERALE!$D$3:$I$3,MATCH("*"&$B$19&"*",ORARIO_GENERALE!D25:I25,0)),"") | E28: =IFERROR(INDEX(ORARIO_GENERALE!$D$3:$I$3,MATCH("*"&$B$19&"*",ORARIO_GENERALE!D38:I38,0)),"") | F28: =IFERROR(INDEX(ORARIO_GENERALE!$D$3:$I$3,MATCH("*"&$B$19&"*",ORARIO_GENERALE!D51:I51,0)),"") | H28: =ORARIO_GENERALE!C12 -> #REF! | I28: =IFERROR(INDEX(ORARIO_GENERALE!$D$3:$I$3,MATCH("*"&$H$19&"*",ORARIO_GENERALE!D12:I12,0)),"") | J28: =IFERROR(INDEX(ORARIO_GENERALE!$D$3:$I$3,MATCH("*"&$H$19&"*",ORARIO_GENERALE!D25:I25,0)),"") | K28: =IFERROR(INDEX(ORARIO_GENERALE!$D$3:$I$3,MATCH("*"&$H$19&"*",ORARIO_GENERALE!D38:I38,0)),"") | L28: =IFERROR(INDEX(ORARIO_GENERALE!$D$3:$I$3,MATCH("*"&$H$19&"*",ORARIO_GENERALE!D51:I51,0)),"") | N28: =ORARIO_GENERALE!J12 -> #REF! | O28: =IFERROR(INDEX(ORARIO_GENERALE!$K$3:$Q$3,MATCH("*"&$N$19&"*",ORARIO_GENERALE!K12:Q12,0)),"") | P28: =IFERROR(INDEX(ORARIO_GENERALE!$K$3:$Q$3,MATCH("*"&$N$19&"*",ORARIO_GENERALE!K25:Q25,0)),"") | Q28: =IFERROR(INDEX(ORARIO_GENERALE!$K$3:$Q$3,MATCH("*"&$N$19&"*",ORARIO_GENERALE!K38:Q38,0)),"") | R28: =IFERROR(INDEX(ORARIO_GENERALE!$K$3:$Q$3,MATCH("*"&$N$19&"*",ORARIO_GENERALE!K52:Q52,0)),"") | S28: =IFERROR(INDEX(ORARIO_GENERALE!$K$3:$Q$3,MATCH("*"&$N$19&"*",ORARIO_GENERALE!K64:Q64,0)),"")
B29: =ORARIO_GENERALE!C13 -> #REF! | C29: =IFERROR(INDEX(ORARIO_GENERALE!$D$3:$I$3,MATCH("*"&$B$19&"*",ORARIO_GENERALE!D13:I13,0)),"") | D29: =IFERROR(INDEX(ORARIO_GENERALE!$D$3:$I$3,MATCH("*"&$B$19&"*",ORARIO_GENERALE!D26:I26,0)),"") | E29: =IFERROR(INDEX(ORARIO_GENERALE!$D$3:$I$3,MATCH("*"&$B$19&"*",ORARIO_GENERALE!D39:I39,0)),"") | F29: =IFERROR(INDEX(ORARIO_GENERALE!$D$3:$I$3,MATCH("*"&$B$19&"*",ORARIO_GENERALE!D52:I52,0)),"") | H29: =ORARIO_GENERALE!C13 -> #REF! | I29: =IFERROR(INDEX(ORARIO_GENERALE!$D$3:$I$3,MATCH("*"&$H$19&"*",ORARIO_GENERALE!D13:I13,0)),"") | J29: =IFERROR(INDEX(ORARIO_GENERALE!$D$3:$I$3,MATCH("*"&$H$19&"*",ORARIO_GENERALE!D26:I26,0)),"") | K29: =IFERROR(INDEX(ORARIO_GENERALE!$D$3:$I$3,MATCH("*"&$H$19&"*",ORARIO_GENERALE!D39:I39,0)),"") | L29: =IFERROR(INDEX(ORARIO_GENERALE!$D$3:$I$3,MATCH("*"&$H$19&"*",ORARIO_GENERALE!D52:I52,0)),"") | N29: =ORARIO_GENERALE!J13 -> #REF! | O29: =IFERROR(INDEX(ORARIO_GENERALE!$K$3:$Q$3,MATCH("*"&$N$19&"*",ORARIO_GENERALE!K13:Q13,0)),"") | P29: =IFERROR(INDEX(ORARIO_GENERALE!$K$3:$Q$3,MATCH("*"&$N$19&"*",ORARIO_GENERALE!K26:Q26,0)),"") | Q29: =IFERROR(INDEX(ORARIO_GENERALE!$K$3:$Q$3,MATCH("*"&$N$19&"*",ORARIO_GENERALE!K39:Q39,0)),"") | R29: =IFERROR(INDEX(ORARIO_GENERALE!$K$3:$Q$3,MATCH("*"&$N$19&"*",ORARIO_GENERALE!K53:Q53,0)),"") | S29: =IFERROR(INDEX(ORARIO_GENERALE!$K$3:$Q$3,MATCH("*"&$N$19&"*",ORARIO_GENERALE!K65:Q65,0)),"")
B30: =ORARIO_GENERALE!C14 -> #REF! | C30: =IFERROR(INDEX(ORARIO_GENERALE!$D$3:$I$3,MATCH("*"&$B$19&"*",ORARIO_GENERALE!D14:I14,0)),"") | D30: =IFERROR(INDEX(ORARIO_GENERALE!$D$3:$I$3,MATCH("*"&$B$19&"*",ORARIO_GENERALE!D27:I27,0)),"") | E30: =IFERROR(INDEX(ORARIO_GENERALE!$D$3:$I$3,MATCH("*"&$B$19&"*",ORARIO_GENERALE!D40:I40,0)),"") | F30: =IFERROR(INDEX(ORARIO_GENERALE!$D$3:$I$3,MATCH("*"&$B$19&"*",ORARIO_GENERALE!D53:I53,0)),"") | H30: =ORARIO_GENERALE!C14 -> #REF! | I30: =IFERROR(INDEX(ORARIO_GENERALE!$D$3:$I$3,MATCH("*"&$H$19&"*",ORARIO_GENERALE!D14:I14,0)),"") | J30: =IFERROR(INDEX(ORARIO_GENERALE!$D$3:$I$3,MATCH("*"&$H$19&"*",ORARIO_GENERALE!D27:I27,0)),"") | K30: =IFERROR(INDEX(ORARIO_GENERALE!$D$3:$I$3,MATCH("*"&$H$19&"*",ORARIO_GENERALE!D40:I40,0)),"") | L30: =IFERROR(INDEX(ORARIO_GENERALE!$D$3:$I$3,MATCH("*"&$H$19&"*",ORARIO_GENERALE!D53:I53,0)),"") | N30: =ORARIO_GENERALE!J14 -> #REF! | O30: =IFERROR(INDEX(ORARIO_GENERALE!$K$3:$Q$3,MATCH("*"&$N$19&"*",ORARIO_GENERALE!K14:Q14,0)),"") | P30: =IFERROR(INDEX(ORARIO_GENERALE!$K$3:$Q$3,MATCH("*"&$N$19&"*",ORARIO_GENERALE!K27:Q27,0)),"") | Q30: =IFERROR(INDEX(ORARIO_GENERALE!$K$3:$Q$3,MATCH("*"&$N$19&"*",ORARIO_GENERALE!K40:Q40,0)),"") | R30: =IFERROR(INDEX(ORARIO_GENERALE!$K$3:$Q$3,MATCH("*"&$N$19&"*",ORARIO_GENERALE!K54:Q54,0)),"") | S30: =IFERROR(INDEX(ORARIO_GENERALE!$K$3:$Q$3,MATCH("*"&$N$19&"*",ORARIO_GENERALE!K66:Q66,0)),"")
B31: =ORARIO_GENERALE!C15 -> #REF! | C31: =IFERROR(INDEX(ORARIO_GENERALE!$D$3:$I$3,MATCH("*"&$B$19&"*",ORARIO_GENERALE!D15:I15,0)),"") | D31: =IFERROR(INDEX(ORARIO_GENERALE!$D$3:$I$3,MATCH("*"&$B$19&"*",ORARIO_GENERALE!D28:I28,0)),"") | E31: =IFERROR(INDEX(ORARIO_GENERALE!$D$3:$I$3,MATCH("*"&$B$19&"*",ORARIO_GENERALE!D41:I41,0)),"") | F31: =IFERROR(INDEX(ORARIO_GENERALE!$D$3:$I$3,MATCH("*"&$B$19&"*",ORARIO_GENERALE!D54:I54,0)),"") | H31: =ORARIO_GENERALE!C15 -> #REF! | I31: =IFERROR(INDEX(ORARIO_GENERALE!$D$3:$I$3,MATCH("*"&$H$19&"*",ORARIO_GENERALE!D15:I15,0)),"") | J31: =IFERROR(INDEX(ORARIO_GENERALE!$D$3:$I$3,MATCH("*"&$H$19&"*",ORARIO_GENERALE!D28:I28,0)),"") | K31: =IFERROR(INDEX(ORARIO_GENERALE!$D$3:$I$3,MATCH("*"&$H$19&"*",ORARIO_GENERALE!D41:I41,0)),"") | L31: =IFERROR(INDEX(ORARIO_GENERALE!$D$3:$I$3,MATCH("*"&$H$19&"*",ORARIO_GENERALE!D54:I54,0)),"") | N31: =ORARIO_GENERALE!J15 -> #REF! | O31: =IFERROR(INDEX(ORARIO_GENERALE!$K$3:$Q$3,MATCH("*"&$N$19&"*",ORARIO_GENERALE!K15:Q15,0)),"") | P31: =IFERROR(INDEX(ORARIO_GENERALE!$K$3:$Q$3,MATCH("*"&$N$19&"*",ORARIO_GENERALE!K28:Q28,0)),"") | Q31: =IFERROR(INDEX(ORARIO_GENERALE!$K$3:$Q$3,MATCH("*"&$N$19&"*",ORARIO_GENERALE!K41:Q41,0)),"") | R31: =IFERROR(INDEX(ORARIO_GENERALE!$K$3:$Q$3,MATCH("*"&$N$19&"*",ORARIO_GENERALE!K55:Q55,0)),"") | S31: =IFERROR(INDEX(ORARIO_GENERALE!$K$3:$Q$3,MATCH("*"&$N$19&"*",ORARIO_GENERALE!K67:Q67,0)),"")
B32: =ORARIO_GENERALE!C16 -> #REF! | C32: =IFERROR(INDEX(ORARIO_GENERALE!$D$3:$I$3,MATCH("*"&$B$19&"*",ORARIO_GENERALE!D16:I16,0)),"") | D32: =IFERROR(INDEX(ORARIO_GENERALE!$D$3:$I$3,MATCH("*"&$B$19&"*",ORARIO_GENERALE!D29:I29,0)),"") | E32: =IFERROR(INDEX(ORARIO_GENERALE!$D$3:$I$3,MATCH("*"&$B$19&"*",ORARIO_GENERALE!D42:I42,0)),"") | F32: =IFERROR(INDEX(ORARIO_GENERALE!$D$3:$I$3,MATCH("*"&$B$19&"*",ORARIO_GENERALE!D55:I55,0)),"") | H32: =ORARIO_GENERALE!C16 -> #REF! | I32: =IFERROR(INDEX(ORARIO_GENERALE!$D$3:$I$3,MATCH("*"&$H$19&"*",ORARIO_GENERALE!D16:I16,0)),"") | J32: =IFERROR(INDEX(ORARIO_GENERALE!$D$3:$I$3,MATCH("*"&$H$19&"*",ORARIO_GENERALE!D29:I29,0)),"") | K32: =IFERROR(INDEX(ORARIO_GENERALE!$D$3:$I$3,MATCH("*"&$H$19&"*",ORARIO_GENERALE!D42:I42,0)),"") | L32: =IFERROR(INDEX(ORARIO_GENERALE!$D$3:$I$3,MATCH("*"&$H$19&"*",ORARIO_GENERALE!D55:I55,0)),"") | N32: =ORARIO_GENERALE!J16 -> #REF! | O32: =IFERROR(INDEX(ORARIO_GENERALE!$K$3:$Q$3,MATCH("*"&$N$19&"*",ORARIO_GENERALE!K16:Q16,0)),"") | P32: =IFERROR(INDEX(ORARIO_GENERALE!$K$3:$Q$3,MATCH("*"&$N$19&"*",ORARIO_GENERALE!K29:Q29,0)),"") | Q32: =IFERROR(INDEX(ORARIO_GENERALE!$K$3:$Q$3,MATCH("*"&$N$19&"*",ORARIO_GENERALE!K42:Q42,0)),"") | R32: =IFERROR(INDEX(ORARIO_GENERALE!$K$3:$Q$3,MATCH("*"&$N$19&"*",ORARIO_GENERALE!K56:Q56,0)),"") | S32: =IFERROR(INDEX(ORARIO_GENERALE!$K$3:$Q$3,MATCH("*"&$N$19&"*",ORARIO_GENERALE!K68:Q68,0)),"")
B35: RA1A | I35: RA1B | P35: RA2C
C36: LUN | D36: MAR | E36: MER | F36: GIO | G36: VEN | J36: LUN | K36: MAR | L36: MER | M36: GIO | N36: VEN | Q36: LUN | R36: MAR | S36: MER | T36: GIO | U36: VEN
B37: =ORARIO_GENERALE!J5 -> #REF! | C37: =IFERROR(INDEX(ORARIO_GENERALE!$K$3:$Q$3,MATCH("*"&$B$35&"*",ORARIO_GENERALE!K5:Q5,0)),"") | D37: =IFERROR(INDEX(ORARIO_GENERALE!$K$3:$Q$3,MATCH("*"&$B$35&"*",ORARIO_GENERALE!K18:Q18,0)),"") | E37: =IFERROR(INDEX(ORARIO_GENERALE!$K$3:$Q$3,MATCH("*"&$B$35&"*",ORARIO_GENERALE!K31:Q31,0)),"") | F37: =IFERROR(INDEX(ORARIO_GENERALE!$K$3:$Q$3,MATCH("*"&$B$35&"*",ORARIO_GENERALE!K45:Q45,0)),"") | G37: =IFERROR(INDEX(ORARIO_GENERALE!$K$3:$Q$3,MATCH("*"&$B$35&"*",ORARIO_GENERALE!K57:Q57,0)),"") | I37: =ORARIO_GENERALE!J5 -> #REF! | J37: =IFERROR(INDEX(ORARIO_GENERALE!$K$3:$Q$3,MATCH("*"&$I$35&"*",ORARIO_GENERALE!K5:Q5,0)),"") | K37: =IFERROR(INDEX(ORARIO_GENERALE!$K$3:$Q$3,MATCH("*"&$I$35&"*",ORARIO_GENERALE!K18:Q18,0)),"") | L37: =IFERROR(INDEX(ORARIO_GENERALE!$K$3:$Q$3,MATCH("*"&$I$35&"*",ORARIO_GENERALE!K31:Q31,0)),"") | M37: =IFERROR(INDEX(ORARIO_GENERALE!$K$3:$Q$3,MATCH("*"&$I$35&"*",ORARIO_GENERALE!K45:Q45,0)),"") | N37: =IFERROR(INDEX(ORARIO_GENERALE!$K$3:$Q$3,MATCH("*"&$I$35&"*",ORARIO_GENERALE!K57:Q57,0)),"") | P37: =ORARIO_GENERALE!J5 -> #REF! | Q37: =IFERROR(INDEX(ORARIO_GENERALE!$K$3:$Q$3,MATCH("*"&$P$35&"*",ORARIO_GENERALE!K5:Q5,0)),"") | R37: =IFERROR(INDEX(ORARIO_GENERALE!$K$3:$Q$3,MATCH("*"&$P$35&"*",ORARIO_GENERALE!K18:Q18,0)),"") | S37: =IFERROR(INDEX(ORARIO_GENERALE!$K$3:$Q$3,MATCH("*"&$P$35&"*",ORARIO_GENERALE!K31:Q31,0)),"") | T37: =IFERROR(INDEX(ORARIO_GENERALE!$K$3:$Q$3,MATCH("*"&$P$35&"*",ORARIO_GENERALE!K45:Q45,0)),"") | U37: =IFERROR(INDEX(ORARIO_GENERALE!$K$3:$Q$3,MATCH("*"&$P$35&"*",ORARIO_GENERALE!K57:Q57,0)),"")
B38: =ORARIO_GENERALE!J6 -> #REF! | C38: =IFERROR(INDEX(ORARIO_GENERALE!$K$3:$Q$3,MATCH("*"&$B$35&"*",ORARIO_GENERALE!K6:Q6,0)),"") | D38: =IFERROR(INDEX(ORARIO_GENERALE!$K$3:$Q$3,MATCH("*"&$B$35&"*",ORARIO_GENERALE!K19:Q19,0)),"") | E38: =IFERROR(INDEX(ORARIO_GENERALE!$K$3:$Q$3,MATCH("*"&$B$35&"*",ORARIO_GENERALE!K32:Q32,0)),"") | F38: =IFERROR(INDEX(ORARIO_GENERALE!$K$3:$Q$3,MATCH("*"&$B$35&"*",ORARIO_GENERALE!K46:Q46,0)),"") | G38: =IFERROR(INDEX(ORARIO_GENERALE!$K$3:$Q$3,MATCH("*"&$B$35&"*",ORARIO_GENERALE!K58:Q58,0)),"") | I38: =ORARIO_GENERALE!J6 -> #REF! | J38: =IFERROR(INDEX(ORARIO_GENERALE!$K$3:$Q$3,MATCH("*"&$I$35&"*",ORARIO_GENERALE!K6:Q6,0)),"") | K38: =IFERROR(INDEX(ORARIO_GENERALE!$K$3:$Q$3,MATCH("*"&$I$35&"*",ORARIO_GENERALE!K19:Q19,0)),"") | L38: =IFERROR(INDEX(ORARIO_GENERALE!$K$3:$Q$3,MATCH("*"&$I$35&"*",ORARIO_GENERALE!K32:Q32,0)),"") | M38: =IFERROR(INDEX(ORARIO_GENERALE!$K$3:$Q$3,MATCH("*"&$I$35&"*",ORARIO_GENERALE!K46:Q46,0)),"") | N38: =IFERROR(INDEX(ORARIO_GENERALE!$K$3:$Q$3,MATCH("*"&$I$35&"*",ORARIO_GENERALE!K58:Q58,0)),"") | P38: =ORARIO_GENERALE!J6 -> #REF! | Q38: =IFERROR(INDEX(ORARIO_GENERALE!$K$3:$Q$3,MATCH("*"&$P$35&"*",ORARIO_GENERALE!K6:Q6,0)),"") | R38: =IFERROR(INDEX(ORARIO_GENERALE!$K$3:$Q$3,MATCH("*"&$P$35&"*",ORARIO_GENERALE!K19:Q19,0)),"") | S38: =IFERROR(INDEX(ORARIO_GENERALE!$K$3:$Q$3,MATCH("*"&$P$35&"*",ORARIO_GENERALE!K32:Q32,0)),"") | T38: =IFERROR(INDEX(ORARIO_GENERALE!$K$3:$Q$3,MATCH("*"&$P$35&"*",ORARIO_GENERALE!K46:Q46,0)),"") | U38: =IFERROR(INDEX(ORARIO_GENERALE!$K$3:$Q$3,MATCH("*"&$P$35&"*",ORARIO_GENERALE!K58:Q58,0)),"")
B39: =ORARIO_GENERALE!J7 -> #REF! | C39: =IFERROR(INDEX(ORARIO_GENERALE!$K$3:$Q$3,MATCH("*"&$B$35&"*",ORARIO_GENERALE!K7:Q7,0)),"") | D39: =IFERROR(INDEX(ORARIO_GENERALE!$K$3:$Q$3,MATCH("*"&$B$35&"*",ORARIO_GENERALE!K20:Q20,0)),"") | E39: =IFERROR(INDEX(ORARIO_GENERALE!$K$3:$Q$3,MATCH("*"&$B$35&"*",ORARIO_GENERALE!K33:Q33,0)),"") | F39: =IFERROR(INDEX(ORARIO_GENERALE!$K$3:$Q$3,MATCH("*"&$B$35&"*",ORARIO_GENERALE!K47:Q47,0)),"") | G39: =IFERROR(INDEX(ORARIO_GENERALE!$K$3:$Q$3,MATCH("*"&$B$35&"*",ORARIO_GENERALE!K59:Q59,0)),"") | I39: =ORARIO_GENERALE!J7 -> #REF! | J39: =IFERROR(INDEX(ORARIO_GENERALE!$K$3:$Q$3,MATCH("*"&$I$35&"*",ORARIO_GENERALE!K7:Q7,0)),"") | K39: =IFERROR(INDEX(ORARIO_GENERALE!$K$3:$Q$3,MATCH("*"&$I$35&"*",ORARIO_GENERALE!K20:Q20,0)),"") | L39: =IFERROR(INDEX(ORARIO_GENERALE!$K$3:$Q$3,MATCH("*"&$I$35&"*",ORARIO_GENERALE!K33:Q33,0)),"") | M39: =IFERROR(INDEX(ORARIO_GENERALE!$K$3:$Q$3,MATCH("*"&$I$35&"*",ORARIO_GENERALE!K47:Q47,0)),"") | N39: =IFERROR(INDEX(ORARIO_GENERALE!$K$3:$Q$3,MATCH("*"&$I$35&"*",ORARIO_GENERALE!K59:Q59,0)),"") | P39: =ORARIO_GENERALE!J7 -> #REF! | Q39: =IFERROR(INDEX(ORARIO_GENERALE!$K$3:$Q$3,MATCH("*"&$P$35&"*",ORARIO_GENERALE!K7:Q7,0)),"") | R39: =IFERROR(INDEX(ORARIO_GENERALE!$K$3:$Q$3,MATCH("*"&$P$35&"*",ORARIO_GENERALE!K20:Q20,0)),"") | S39: =IFERROR(INDEX(ORARIO_GENERALE!$K$3:$Q$3,MATCH("*"&$P$35&"*",ORARIO_GENERALE!K33:Q33,0)),"") | T39: =IFERROR(INDEX(ORARIO_GENERALE!$K$3:$Q$3,MATCH("*"&$P$35&"*",ORARIO_GENERALE!K47:Q47,0)),"") | U39: =IFERROR(INDEX(ORARIO_GENERALE!$K$3:$Q$3,MATCH("*"&$P$35&"*",ORARIO_GENERALE!K59:Q59,0)),"")
B40: =ORARIO_GENERALE!J8 -> #REF! | C40: =IFERROR(INDEX(ORARIO_GENERALE!$K$3:$Q$3,MATCH("*"&$B$35&"*",ORARIO_GENERALE!K8:Q8,0)),"") | D40: =IFERROR(INDEX(ORARIO_GENERALE!$K$3:$Q$3,MATCH("*"&$B$35&"*",ORARIO_GENERALE!K21:Q21,0)),"") | E40: =IFERROR(INDEX(ORARIO_GENERALE!$K$3:$Q$3,MATCH("*"&$B$35&"*",ORARIO_GENERALE!K34:Q34,0)),"") | F40: =IFERROR(INDEX(ORARIO_GENERALE!$K$3:$Q$3,MATCH("*"&$B$35&"*",ORARIO_GENERALE!K48:Q48,0)),"") | G40: =IFERROR(INDEX(ORARIO_GENERALE!$K$3:$Q$3,MATCH("*"&$B$35&"*",ORARIO_GENERALE!K60:Q60,0)),"") | I40: =ORARIO_GENERALE!J8 -> #REF! | J40: =IFERROR(INDEX(ORARIO_GENERALE!$K$3:$Q$3,MATCH("*"&$I$35&"*",ORARIO_GENERALE!K8:Q8,0)),"") | K40: =IFERROR(INDEX(ORARIO_GENERALE!$K$3:$Q$3,MATCH("*"&$I$35&"*",ORARIO_GENERALE!K21:Q21,0)),"") | L40: =IFERROR(INDEX(ORARIO_GENERALE!$K$3:$Q$3,MATCH("*"&$I$35&"*",ORARIO_GENERALE!K34:Q34,0)),"") | M40: =IFERROR(INDEX(ORARIO_GENERALE!$K$3:$Q$3,MATCH("*"&$I$35&"*",ORARIO_GENERALE!K48:Q48,0)),"") | N40: =IFERROR(INDEX(ORARIO_GENERALE!$K$3:$Q$3,MATCH("*"&$I$35&"*",ORARIO_GENERALE!K60:Q60,0)),"") | P40: =ORARIO_GENERALE!J8 -> #REF! | Q40: =IFERROR(INDEX(ORARIO_GENERALE!$K$3:$Q$3,MATCH("*"&$P$35&"*",ORARIO_GENERALE!K8:Q8,0)),"") | R40: =IFERROR(INDEX(ORARIO_GENERALE!$K$3:$Q$3,MATCH("*"&$P$35&"*",ORARIO_GENERALE!K21:Q21,0)),"") | S40: =IFERROR(INDEX(ORARIO_GENERALE!$K$3:$Q$3,MATCH("*"&$P$35&"*",ORARIO_GENERALE!K34:Q34,0)),"") | T40: =IFERROR(INDEX(ORARIO_GENERALE!$K$3:$Q$3,MATCH("*"&$P$35&"*",ORARIO_GENERALE!K48:Q48,0)),"") | U40: =IFERROR(INDEX(ORARIO_GENERALE!$K$3:$Q$3,MATCH("*"&$P$35&"*",ORARIO_GENERALE!K60:Q60,0)),"")
B41: =ORARIO_GENERALE!J9 -> #REF! | C41: =IFERROR(INDEX(ORARIO_GENERALE!$K$3:$Q$3,MATCH("*"&$B$35&"*",ORARIO_GENERALE!K9:Q9,0)),"") | D41: =IFERROR(INDEX(ORARIO_GENERALE!$K$3:$Q$3,MATCH("*"&$B$35&"*",ORARIO_GENERALE!K22:Q22,0)),"") | E41: =IFERROR(INDEX(ORARIO_GENERALE!$K$3:$Q$3,MATCH("*"&$B$35&"*",ORARIO_GENERALE!K35:Q35,0)),"") | F41: =IFERROR(INDEX(ORARIO_GENERALE!$K$3:$Q$3,MATCH("*"&$B$35&"*",ORARIO_GENERALE!K49:Q49,0)),"") | G41: =IFERROR(INDEX(ORARIO_GENERALE!$K$3:$Q$3,MATCH("*"&$B$35&"*",ORARIO_GENERALE!K61:Q61,0)),"") | I41: =ORARIO_GENERALE!J9 -> #REF! | J41: =IFERROR(INDEX(ORARIO_GENERALE!$K$3:$Q$3,MATCH("*"&$I$35&"*",ORARIO_GENERALE!K9:Q9,0)),"") | K41: =IFERROR(INDEX(ORARIO_GENERALE!$K$3:$Q$3,MATCH("*"&$I$35&"*",ORARIO_GENERALE!K22:Q22,0)),"") | L41: =IFERROR(INDEX(ORARIO_GENERALE!$K$3:$Q$3,MATCH("*"&$I$35&"*",ORARIO_GENERALE!K35:Q35,0)),"") | M41: =IFERROR(INDEX(ORARIO_GENERALE!$K$3:$Q$3,MATCH("*"&$I$35&"*",ORARIO_GENERALE!K49:Q49,0)),"") | N41: =IFERROR(INDEX(ORARIO_GENERALE!$K$3:$Q$3,MATCH("*"&$I$35&"*",ORARIO_GENERALE!K61:Q61,0)),"") | P41: =ORARIO_GENERALE!J9 -> #REF! | Q41: =IFERROR(INDEX(ORARIO_GENERALE!$K$3:$Q$3,MATCH("*"&$P$35&"*",ORARIO_GENERALE!K9:Q9,0)),"") | R41: =IFERROR(INDEX(ORARIO_GENERALE!$K$3:$Q$3,MATCH("*"&$P$35&"*",ORARIO_GENERALE!K22:Q22,0)),"") | S41: =IFERROR(INDEX(ORARIO_GENERALE!$K$3:$Q$3,MATCH("*"&$P$35&"*",ORARIO_GENERALE!K35:Q35,0)),"") | T41: =IFERROR(INDEX(ORARIO_GENERALE!$K$3:$Q$3,MATCH("*"&$P$35&"*",ORARIO_GENERALE!K49:Q49,0)),"") | U41: =IFERROR(INDEX(ORARIO_GENERALE!$K$3:$Q$3,MATCH("*"&$P$35&"*",ORARIO_GENERALE!K61:Q61,0)),"")
B42: =ORARIO_GENERALE!J10 -> #REF! | C42: =IFERROR(INDEX(ORARIO_GENERALE!$K$3:$Q$3,MATCH("*"&$B$35&"*",ORARIO_GENERALE!K10:Q10,0)),"") | D42: =IFERROR(INDEX(ORARIO_GENERALE!$K$3:$Q$3,MATCH("*"&$B$35&"*",ORARIO_GENERALE!K23:Q23,0)),"") | E42: =IFERROR(INDEX(ORARIO_GENERALE!$K$3:$Q$3,MATCH("*"&$B$35&"*",ORARIO_GENERALE!K36:Q36,0)),"") | F42: =IFERROR(INDEX(ORARIO_GENERALE!$K$3:$Q$3,MATCH("*"&$B$35&"*",ORARIO_GENERALE!K50:Q50,0)),"") | G42: =IFERROR(INDEX(ORARIO_GENERALE!$K$3:$Q$3,MATCH("*"&$B$35&"*",ORARIO_GENERALE!K62:Q62,0)),"") | I42: =ORARIO_GENERALE!J10 -> #REF! | J42: =IFERROR(INDEX(ORARIO_GENERALE!$K$3:$Q$3,MATCH("*"&$I$35&"*",ORARIO_GENERALE!K10:Q10,0)),"") | K42: =IFERROR(INDEX(ORARIO_GENERALE!$K$3:$Q$3,MATCH("*"&$I$35&"*",ORARIO_GENERALE!K23:Q23,0)),"") | L42: =IFERROR(INDEX(ORARIO_GENERALE!$K$3:$Q$3,MATCH("*"&$I$35&"*",ORARIO_GENERALE!K36:Q36,0)),"") | M42: =IFERROR(INDEX(ORARIO_GENERALE!$K$3:$Q$3,MATCH("*"&$I$35&"*",ORARIO_GENERALE!K50:Q50,0)),"") | N42: =IFERROR(INDEX(ORARIO_GENERALE!$K$3:$Q$3,MATCH("*"&$I$35&"*",ORARIO_GENERALE!K62:Q62,0)),"") | P42: =ORARIO_GENERALE!J10 -> #REF! | Q42: =IFERROR(INDEX(ORARIO_GENERALE!$K$3:$Q$3,MATCH("*"&$P$35&"*",ORARIO_GENERALE!K10:Q10,0)),"") | R42: =IFERROR(INDEX(ORARIO_GENERALE!$K$3:$Q$3,MATCH("*"&$P$35&"*",ORARIO_GENERALE!K23:Q23,0)),"") | S42: =IFERROR(INDEX(ORARIO_GENERALE!$K$3:$Q$3,MATCH("*"&$P$35&"*",ORARIO_GENERALE!K36:Q36,0)),"") | T42: =IFERROR(INDEX(ORARIO_GENERALE!$K$3:$Q$3,MATCH("*"&$P$35&"*",ORARIO_GENERALE!K50:Q50,0)),"") | U42: =IFERROR(INDEX(ORARIO_GENERALE!$K$3:$Q$3,MATCH("*"&$P$35&"*",ORARIO_GENERALE!K62:Q62,0)),"")
B43: =ORARIO_GENERALE!J11 -> #REF! | C43: =IFERROR(INDEX(ORARIO_GENERALE!$K$3:$Q$3,MATCH("*"&$B$35&"*",ORARIO_GENERALE!K11:Q11,0)),"") | D43: =IFERROR(INDEX(ORARIO_GENERALE!$K$3:$Q$3,MATCH("*"&$B$35&"*",ORARIO_GENERALE!K24:Q24,0)),"") | E43: =IFERROR(INDEX(ORARIO_GENERALE!$K$3:$Q$3,MATCH("*"&$B$35&"*",ORARIO_GENERALE!K37:Q37,0)),"") | F43: =IFERROR(INDEX(ORARIO_GENERALE!$K$3:$Q$3,MATCH("*"&$B$35&"*",ORARIO_GENERALE!K51:Q51,0)),"") | G43: =IFERROR(INDEX(ORARIO_GENERALE!$K$3:$Q$3,MATCH("*"&$B$35&"*",ORARIO_GENERALE!K63:Q63,0)),"") | I43: =ORARIO_GENERALE!J11 -> #REF! | J43: =IFERROR(INDEX(ORARIO_GENERALE!$K$3:$Q$3,MATCH("*"&$I$35&"*",ORARIO_GENERALE!K11:Q11,0)),"") | K43: =IFERROR(INDEX(ORARIO_GENERALE!$K$3:$Q$3,MATCH("*"&$I$35&"*",ORARIO_GENERALE!K24:Q24,0)),"") | L43: =IFERROR(INDEX(ORARIO_GENERALE!$K$3:$Q$3,MATCH("*"&$I$35&"*",ORARIO_GENERALE!K37:Q37,0)),"") | M43: =IFERROR(INDEX(ORARIO_GENERALE!$K$3:$Q$3,MATCH("*"&$I$35&"*",ORARIO_GENERALE!K51:Q51,0)),"") | N43: =IFERROR(INDEX(ORARIO_GENERALE!$K$3:$Q$3,MATCH("*"&$I$35&"*",ORARIO_GENERALE!K63:Q63,0)),"") | P43: =ORARIO_GENERALE!J11 -> #REF! | Q43: =IFERROR(INDEX(ORARIO_GENERALE!$K$3:$Q$3,MATCH("*"&$P$35&"*",ORARIO_GENERALE!K11:Q11,0)),"") | R43: =IFERROR(INDEX(ORARIO_GENERALE!$K$3:$Q$3,MATCH("*"&$P$35&"*",ORARIO_GENERALE!K24:Q24,0)),"") | S43: =IFERROR(INDEX(ORARIO_GENERALE!$K$3:$Q$3,MATCH("*"&$P$35&"*",ORARIO_GENERALE!K37:Q37,0)),"") | T43: =IFERROR(INDEX(ORARIO_GENERALE!$K$3:$Q$3,MATCH("*"&$P$35&"*",ORARIO_GENERALE!K51:Q51,0)),"") | U43: =IFERROR(INDEX(ORARIO_GENERALE!$K$3:$Q$3,MATCH("*"&$P$35&"*",ORARIO_GENERALE!K63:Q63,0)),"")
B44: =ORARIO_GENERALE!J12 -> #REF! | C44: =IFERROR(INDEX(ORARIO_GENERALE!$K$3:$Q$3,MATCH("*"&$B$35&"*",ORARIO_GENERALE!K12:Q12,0)),"") | D44: =IFERROR(INDEX(ORARIO_GENERALE!$K$3:$Q$3,MATCH("*"&$B$35&"*",ORARIO_GENERALE!K25:Q25,0)),"") | E44: =IFERROR(INDEX(ORARIO_GENERALE!$K$3:$Q$3,MATCH("*"&$B$35&"*",ORARIO_GENERALE!K38:Q38,0)),"") | F44: =IFERROR(INDEX(ORARIO_GENERALE!$K$3:$Q$3,MATCH("*"&$B$35&"*",ORARIO_GENERALE!K52:Q52,0)),"") | G44: =IFERROR(INDEX(ORARIO_GENERALE!$K$3:$Q$3,MATCH("*"&$B$35&"*",ORARIO_GENERALE!K64:Q64,0)),"") | I44: =ORARIO_GENERALE!J12 -> #REF! | J44: =IFERROR(INDEX(ORARIO_GENERALE!$K$3:$Q$3,MATCH("*"&$I$35&"*",ORARIO_GENERALE!K12:Q12,0)),"") | K44: =IFERROR(INDEX(ORARIO_GENERALE!$K$3:$Q$3,MATCH("*"&$I$35&"*",ORARIO_GENERALE!K25:Q25,0)),"") | L44: =IFERROR(INDEX(ORARIO_GENERALE!$K$3:$Q$3,MATCH("*"&$I$35&"*",ORARIO_GENERALE!K38:Q38,0)),"") | M44: =IFERROR(INDEX(ORARIO_GENERALE!$K$3:$Q$3,MATCH("*"&$I$35&"*",ORARIO_GENERALE!K52:Q52,0)),"") | N44: =IFERROR(INDEX(ORARIO_GENERALE!$K$3:$Q$3,MATCH("*"&$I$35&"*",ORARIO_GENERALE!K64:Q64,0)),"") | P44: =ORARIO_GENERALE!J12 -> #REF! | Q44: =IFERROR(INDEX(ORARIO_GENERALE!$K$3:$Q$3,MATCH("*"&$P$35&"*",ORARIO_GENERALE!K12:Q12,0)),"") | R44: =IFERROR(INDEX(ORARIO_GENERALE!$K$3:$Q$3,MATCH("*"&$P$35&"*",ORARIO_GENERALE!K25:Q25,0)),"") | S44: =IFERROR(INDEX(ORARIO_GENERALE!$K$3:$Q$3,MATCH("*"&$P$35&"*",ORARIO_GENERALE!K38:Q38,0)),"") | T44: =IFERROR(INDEX(ORARIO_GENERALE!$K$3:$Q$3,MATCH("*"&$P$35&"*",ORARIO_GENERALE!K52:Q52,0)),"") | U44: =IFERROR(INDEX(ORARIO_GENERALE!$K$3:$Q$3,MATCH("*"&$P$35&"*",ORARIO_GENERALE!K64:Q64,0)),"")
B45: =ORARIO_GENERALE!J13 -> #REF! | C45: =IFERROR(INDEX(ORARIO_GENERALE!$K$3:$Q$3,MATCH("*"&$B$35&"*",ORARIO_GENERALE!K13:Q13,0)),"") | D45: =IFERROR(INDEX(ORARIO_GENERALE!$K$3:$Q$3,MATCH("*"&$B$35&"*",ORARIO_GENERALE!K26:Q26,0)),"") | E45: =IFERROR(INDEX(ORARIO_GENERALE!$K$3:$Q$3,MATCH("*"&$B$35&"*",ORARIO_GENERALE!K39:Q39,0)),"") | F45: =IFERROR(INDEX(ORARIO_GENERALE!$K$3:$Q$3,MATCH("*"&$B$35&"*",ORARIO_GENERALE!K53:Q53,0)),"") | G45: =IFERROR(INDEX(ORARIO_GENERALE!$K$3:$Q$3,MATCH("*"&$B$35&"*",ORARIO_GENERALE!K65:Q65,0)),"") | I45: =ORARIO_GENERALE!J13 -> #REF! | J45: =IFERROR(INDEX(ORARIO_GENERALE!$K$3:$Q$3,MATCH("*"&$I$35&"*",ORARIO_GENERALE!K13:Q13,0)),"") | K45: =IFERROR(INDEX(ORARIO_GENERALE!$K$3:$Q$3,MATCH("*"&$I$35&"*",ORARIO_GENERALE!K26:Q26,0)),"") | L45: =IFERROR(INDEX(ORARIO_GENERALE!$K$3:$Q$3,MATCH("*"&$I$35&"*",ORARIO_GENERALE!K39:Q39,0)),"") | M45: =IFERROR(INDEX(ORARIO_GENERALE!$K$3:$Q$3,MATCH("*"&$I$35&"*",ORARIO_GENERALE!K53:Q53,0)),"") | N45: =IFERROR(INDEX(ORARIO_GENERALE!$K$3:$Q$3,MATCH("*"&$I$35&"*",ORARIO_GENERALE!K65:Q65,0)),"") | P45: =ORARIO_GENERALE!J13 -> #REF! | Q45: =IFERROR(INDEX(ORARIO_GENERALE!$K$3:$Q$3,MATCH("*"&$P$35&"*",ORARIO_GENERALE!K13:Q13,0)),"") | R45: =IFERROR(INDEX(ORARIO_GENERALE!$K$3:$Q$3,MATCH("*"&$P$35&"*",ORARIO_GENERALE!K26:Q26,0)),"") | S45: =IFERROR(INDEX(ORARIO_GENERALE!$K$3:$Q$3,MATCH("*"&$P$35&"*",ORARIO_GENERALE!K39:Q39,0)),"") | T45: =IFERROR(INDEX(ORARIO_GENERALE!$K$3:$Q$3,MATCH("*"&$P$35&"*",ORARIO_GENERALE!K53:Q53,0)),"") | U45: =IFERROR(INDEX(ORARIO_GENERALE!$K$3:$Q$3,MATCH("*"&$P$35&"*",ORARIO_GENERALE!K65:Q65,0)),"")
B46: =ORARIO_GENERALE!J14 -> #REF! | C46: =IFERROR(INDEX(ORARIO_GENERALE!$K$3:$Q$3,MATCH("*"&$B$35&"*",ORARIO_GENERALE!K14:Q14,0)),"") | D46: =IFERROR(INDEX(ORARIO_GENERALE!$K$3:$Q$3,MATCH("*"&$B$35&"*",ORARIO_GENERALE!K27:Q27,0)),"") | E46: =IFERROR(INDEX(ORARIO_GENERALE!$K$3:$Q$3,MATCH("*"&$B$35&"*",ORARIO_GENERALE!K40:Q40,0)),"") | F46: =IFERROR(INDEX(ORARIO_GENERALE!$K$3:$Q$3,MATCH("*"&$B$35&"*",ORARIO_GENERALE!K54:Q54,0)),"") | G46: =IFERROR(INDEX(ORARIO_GENERALE!$K$3:$Q$3,MATCH("*"&$B$35&"*",ORARIO_GENERALE!K66:Q66,0)),"") | I46: =ORARIO_GENERALE!J14 -> #REF! | J46: =IFERROR(INDEX(ORARIO_GENERALE!$K$3:$Q$3,MATCH("*"&$I$35&"*",ORARIO_GENERALE!K14:Q14,0)),"") | K46: =IFERROR(INDEX(ORARIO_GENERALE!$K$3:$Q$3,MATCH("*"&$I$35&"*",ORARIO_GENERALE!K27:Q27,0)),"") | L46: =IFERROR(INDEX(ORARIO_GENERALE!$K$3:$Q$3,MATCH("*"&$I$35&"*",ORARIO_GENERALE!K40:Q40,0)),"") | M46: =IFERROR(INDEX(ORARIO_GENERALE!$K$3:$Q$3,MATCH("*"&$I$35&"*",ORARIO_GENERALE!K54:Q54,0)),"") | N46: =IFERROR(INDEX(ORARIO_GENERALE!$K$3:$Q$3,MATCH("*"&$I$35&"*",ORARIO_GENERALE!K66:Q66,0)),"") | P46: =ORARIO_GENERALE!J14 -> #REF! | Q46: =IFERROR(INDEX(ORARIO_GENERALE!$K$3:$Q$3,MATCH("*"&$P$35&"*",ORARIO_GENERALE!K14:Q14,0)),"") | R46: =IFERROR(INDEX(ORARIO_GENERALE!$K$3:$Q$3,MATCH("*"&$P$35&"*",ORARIO_GENERALE!K27:Q27,0)),"") | S46: =IFERROR(INDEX(ORARIO_GENERALE!$K$3:$Q$3,MATCH("*"&$P$35&"*",ORARIO_GENERALE!K40:Q40,0)),"") | T46: =IFERROR(INDEX(ORARIO_GENERALE!$K$3:$Q$3,MATCH("*"&$P$35&"*",ORARIO_GENERALE!K54:Q54,0)),"") | U46: =IFERROR(INDEX(ORARIO_GENERALE!$K$3:$Q$3,MATCH("*"&$P$35&"*",ORARIO_GENERALE!K66:Q66,0)),"")
B47: =ORARIO_GENERALE!J15 -> #REF! | C47: =IFERROR(INDEX(ORARIO_GENERALE!$K$3:$Q$3,MATCH("*"&$B$35&"*",ORARIO_GENERALE!K15:Q15,0)),"") | D47: =IFERROR(INDEX(ORARIO_GENERALE!$K$3:$Q$3,MATCH("*"&$B$35&"*",ORARIO_GENERALE!K28:Q28,0)),"") | E47: =IFERROR(INDEX(ORARIO_GENERALE!$K$3:$Q$3,MATCH("*"&$B$35&"*",ORARIO_GENERALE!K41:Q41,0)),"") | F47: =IFERROR(INDEX(ORARIO_GENERALE!$K$3:$Q$3,MATCH("*"&$B$35&"*",ORARIO_GENERALE!K55:Q55,0)),"") | G47: =IFERROR(INDEX(ORARIO_GENERALE!$K$3:$Q$3,MATCH("*"&$B$35&"*",ORARIO_GENERALE!K67:Q67,0)),"") | I47: =ORARIO_GENERALE!J15 -> #REF! | J47: =IFERROR(INDEX(ORARIO_GENERALE!$K$3:$Q$3,MATCH("*"&$I$35&"*",ORARIO_GENERALE!K15:Q15,0)),"") | K47: =IFERROR(INDEX(ORARIO_GENERALE!$K$3:$Q$3,MATCH("*"&$I$35&"*",ORARIO_GENERALE!K28:Q28,0)),"") | L47: =IFERROR(INDEX(ORARIO_GENERALE!$K$3:$Q$3,MATCH("*"&$I$35&"*",ORARIO_GENERALE!K41:Q41,0)),"") | M47: =IFERROR(INDEX(ORARIO_GENERALE!$K$3:$Q$3,MATCH("*"&$I$35&"*",ORARIO_GENERALE!K55:Q55,0)),"") | N47: =IFERROR(INDEX(ORARIO_GENERALE!$K$3:$Q$3,MATCH("*"&$I$35&"*",ORARIO_GENERALE!K67:Q67,0)),"") | P47: =ORARIO_GENERALE!J15 -> #REF! | Q47: =IFERROR(INDEX(ORARIO_GENERALE!$K$3:$Q$3,MATCH("*"&$P$35&"*",ORARIO_GENERALE!K15:Q15,0)),"") | R47: =IFERROR(INDEX(ORARIO_GENERALE!$K$3:$Q$3,MATCH("*"&$P$35&"*",ORARIO_GENERALE!K28:Q28,0)),"") | S47: =IFERROR(INDEX(ORARIO_GENERALE!$K$3:$Q$3,MATCH("*"&$P$35&"*",ORARIO_GENERALE!K41:Q41,0)),"") | T47: =IFERROR(INDEX(ORARIO_GENERALE!$K$3:$Q$3,MATCH("*"&$P$35&"*",ORARIO_GENERALE!K55:Q55,0)),"") | U47: =IFERROR(INDEX(ORARIO_GENERALE!$K$3:$Q$3,MATCH("*"&$P$35&"*",ORARIO_GENERALE!K67:Q67,0)),"")
B48: =ORARIO_GENERALE!J16 -> #REF! | C48: =IFERROR(INDEX(ORARIO_GENERALE!$K$3:$Q$3,MATCH("*"&$B$35&"*",ORARIO_GENERALE!K16:Q16,0)),"") | D48: =IFERROR(INDEX(ORARIO_GENERALE!$K$3:$Q$3,MATCH("*"&$B$35&"*",ORARIO_GENERALE!K29:Q29,0)),"") | E48: =IFERROR(INDEX(ORARIO_GENERALE!$K$3:$Q$3,MATCH("*"&$B$35&"*",ORARIO_GENERALE!K42:Q42,0)),"") | F48: =IFERROR(INDEX(ORARIO_GENERALE!$K$3:$Q$3,MATCH("*"&$B$35&"*",ORARIO_GENERALE!K56:Q56,0)),"") | G48: =IFERROR(INDEX(ORARIO_GENERALE!$K$3:$Q$3,MATCH("*"&$B$35&"*",ORARIO_GENERALE!K68:Q68,0)),"") | I48: =ORARIO_GENERALE!J16 -> #REF! | J48: =IFERROR(INDEX(ORARIO_GENERALE!$K$3:$Q$3,MATCH("*"&$I$35&"*",ORARIO_GENERALE!K16:Q16,0)),"") | K48: =IFERROR(INDEX(ORARIO_GENERALE!$K$3:$Q$3,MATCH("*"&$I$35&"*",ORARIO_GENERALE!K29:Q29,0)),"") | L48: =IFERROR(INDEX(ORARIO_GENERALE!$K$3:$Q$3,MATCH("*"&$I$35&"*",ORARIO_GENERALE!K42:Q42,0)),"") | M48: =IFERROR(INDEX(ORARIO_GENERALE!$K$3:$Q$3,MATCH("*"&$I$35&"*",ORARIO_GENERALE!K56:Q56,0)),"") | N48: =IFERROR(INDEX(ORARIO_GENERALE!$K$3:$Q$3,MATCH("*"&$I$35&"*",ORARIO_GENERALE!K68:Q68,0)),"") | P48: =ORARIO_GENERALE!J16 -> #REF! | Q48: =IFERROR(INDEX(ORARIO_GENERALE!$K$3:$Q$3,MATCH("*"&$P$35&"*",ORARIO_GENERALE!K16:Q16,0)),"") | R48: =IFERROR(INDEX(ORARIO_GENERALE!$K$3:$Q$3,MATCH("*"&$P$35&"*",ORARIO_GENERALE!K29:Q29,0)),"") | S48: =IFERROR(INDEX(ORARIO_GENERALE!$K$3:$Q$3,MATCH("*"&$P$35&"*",ORARIO_GENERALE!K42:Q42,0)),"") | T48: =IFERROR(INDEX(ORARIO_GENERALE!$K$3:$Q$3,MATCH("*"&$P$35&"*",ORARIO_GENERALE!K56:Q56,0)),"") | U48: =IFERROR(INDEX(ORARIO_GENERALE!$K$3:$Q$3,MATCH("*"&$P$35&"*",ORARIO_GENERALE!K68:Q68,0)),"")
B50: RA1C | I50: RA1D | P50: RA0B
C51: LUN | D51: MAR | E51: MER | F51: GIO | G51: VEN | J51: LUN | K51: MAR | L51: MER | M51: GIO | N51: VEN | Q51: LUN | R51: MAR | S51: MER | T51: GIO | U51: VEN
B52: =ORARIO_GENERALE!J5 -> #REF! | C52: =IFERROR(INDEX(ORARIO_GENERALE!$K$3:$Q$3,MATCH("*"&$B$50&"*",ORARIO_GENERALE!K5:Q5,0)),"") | D52: =IFERROR(INDEX(ORARIO_GENERALE!$K$3:$Q$3,MATCH("*"&$B$50&"*",ORARIO_GENERALE!K18:Q18,0)),"") | E52: =IFERROR(INDEX(ORARIO_GENERALE!$K$3:$Q$3,MATCH("*"&$B$50&"*",ORARIO_GENERALE!K31:Q31,0)),"") | F52: =IFERROR(INDEX(ORARIO_GENERALE!$K$3:$Q$3,MATCH("*"&$B$50&"*",ORARIO_GENERALE!K45:Q45,0)),"") | G52: =IFERROR(INDEX(ORARIO_GENERALE!$K$3:$Q$3,MATCH("*"&$B$50&"*",ORARIO_GENERALE!K57:Q57,0)),"") | I52: =ORARIO_GENERALE!J5 -> #REF! | J52: =IFERROR(INDEX(ORARIO_GENERALE!$K$3:$Q$3,MATCH("*"&$I$50&"*",ORARIO_GENERALE!K5:Q5,0)),"") | K52: =IFERROR(INDEX(ORARIO_GENERALE!$K$3:$Q$3,MATCH("*"&$I$50&"*",ORARIO_GENERALE!K18:Q18,0)),"") | L52: =IFERROR(INDEX(ORARIO_GENERALE!$K$3:$Q$3,MATCH("*"&$I$50&"*",ORARIO_GENERALE!K31:Q31,0)),"") | M52: =IFERROR(INDEX(ORARIO_GENERALE!$K$3:$Q$3,MATCH("*"&$I$50&"*",ORARIO_GENERALE!K45:Q45,0)),"") | N52: =IFERROR(INDEX(ORARIO_GENERALE!$K$3:$Q$3,MATCH("*"&$I$50&"*",ORARIO_GENERALE!K57:Q57,0)),"") | P52: =ORARIO_GENERALE!J5 -> #REF! | Q52: =IFERROR(INDEX(ORARIO_GENERALE!$K$3:$Q$3,MATCH("*"&$P$50&"*",ORARIO_GENERALE!K5:Q5,0)),"") | R52: =IFERROR(INDEX(ORARIO_GENERALE!$K$3:$Q$3,MATCH("*"&$P$50&"*",ORARIO_GENERALE!K18:Q18,0)),"") | S52: =IFERROR(INDEX(ORARIO_GENERALE!$K$3:$Q$3,MATCH("*"&$P$50&"*",ORARIO_GENERALE!K31:Q31,0)),"") | T52: =IFERROR(INDEX(ORARIO_GENERALE!$K$3:$Q$3,MATCH("*"&$P$50&"*",ORARIO_GENERALE!K45:Q45,0)),"") | U52: =IFERROR(INDEX(ORARIO_GENERALE!$K$3:$Q$3,MATCH("*"&$P$50&"*",ORARIO_GENERALE!K57:Q57,0)),"")
B53: =ORARIO_GENERALE!J6 -> #REF! | C53: =IFERROR(INDEX(ORARIO_GENERALE!$K$3:$Q$3,MATCH("*"&$B$50&"*",ORARIO_GENERALE!K6:Q6,0)),"") | D53: =IFERROR(INDEX(ORARIO_GENERALE!$K$3:$Q$3,MATCH("*"&$B$50&"*",ORARIO_GENERALE!K19:Q19,0)),"") | E53: =IFERROR(INDEX(ORARIO_GENERALE!$K$3:$Q$3,MATCH("*"&$B$50&"*",ORARIO_GENERALE!K32:Q32,0)),"") | F53: =IFERROR(INDEX(ORARIO_GENERALE!$K$3:$Q$3,MATCH("*"&$B$50&"*",ORARIO_GENERALE!K46:Q46,0)),"") | G53: =IFERROR(INDEX(ORARIO_GENERALE!$K$3:$Q$3,MATCH("*"&$B$50&"*",ORARIO_GENERALE!K58:Q58,0)),"") | I53: =ORARIO_GENERALE!J6 -> #REF! | J53: =IFERROR(INDEX(ORARIO_GENERALE!$K$3:$Q$3,MATCH("*"&$I$50&"*",ORARIO_GENERALE!K6:Q6,0)),"") | K53: =IFERROR(INDEX(ORARIO_GENERALE!$K$3:$Q$3,MATCH("*"&$I$50&"*",ORARIO_GENERALE!K19:Q19,0)),"") | L53: =IFERROR(INDEX(ORARIO_GENERALE!$K$3:$Q$3,MATCH("*"&$I$50&"*",ORARIO_GENERALE!K32:Q32,0)),"") | M53: =IFERROR(INDEX(ORARIO_GENERALE!$K$3:$Q$3,MATCH("*"&$I$50&"*",ORARIO_GENERALE!K46:Q46,0)),"") | N53: =IFERROR(INDEX(ORARIO_GENERALE!$K$3:$Q$3,MATCH("*"&$I$50&"*",ORARIO_GENERALE!K58:Q58,0)),"") | P53: =ORARIO_GENERALE!J6 -> #REF! | Q53: =IFERROR(INDEX(ORARIO_GENERALE!$K$3:$Q$3,MATCH("*"&$P$50&"*",ORARIO_GENERALE!K6:Q6,0)),"") | R53: =IFERROR(INDEX(ORARIO_GENERALE!$K$3:$Q$3,MATCH("*"&$P$50&"*",ORARIO_GENERALE!K19:Q19,0)),"") | S53: =IFERROR(INDEX(ORARIO_GENERALE!$K$3:$Q$3,MATCH("*"&$P$50&"*",ORARIO_GENERALE!K32:Q32,0)),"") | T53: =IFERROR(INDEX(ORARIO_GENERALE!$K$3:$Q$3,MATCH("*"&$P$50&"*",ORARIO_GENERALE!K46:Q46,0)),"") | U53: =IFERROR(INDEX(ORARIO_GENERALE!$K$3:$Q$3,MATCH("*"&$P$50&"*",ORARIO_GENERALE!K58:Q58,0)),"")
B54: =ORARIO_GENERALE!J7 -> #REF! | C54: =IFERROR(INDEX(ORARIO_GENERALE!$K$3:$Q$3,MATCH("*"&$B$50&"*",ORARIO_GENERALE!K7:Q7,0)),"") | D54: =IFERROR(INDEX(ORARIO_GENERALE!$K$3:$Q$3,MATCH("*"&$B$50&"*",ORARIO_GENERALE!K20:Q20,0)),"") | E54: =IFERROR(INDEX(ORARIO_GENERALE!$K$3:$Q$3,MATCH("*"&$B$50&"*",ORARIO_GENERALE!K33:Q33,0)),"") | F54: =IFERROR(INDEX(ORARIO_GENERALE!$K$3:$Q$3,MATCH("*"&$B$50&"*",ORARIO_GENERALE!K47:Q47,0)),"") | G54: =IFERROR(INDEX(ORARIO_GENERALE!$K$3:$Q$3,MATCH("*"&$B$50&"*",ORARIO_GENERALE!K59:Q59,0)),"") | I54: =ORARIO_GENERALE!J7 -> #REF! | J54: =IFERROR(INDEX(ORARIO_GENERALE!$K$3:$Q$3,MATCH("*"&$I$50&"*",ORARIO_GENERALE!K7:Q7,0)),"") | K54: =IFERROR(INDEX(ORARIO_GENERALE!$K$3:$Q$3,MATCH("*"&$I$50&"*",ORARIO_GENERALE!K20:Q20,0)),"") | L54: =IFERROR(INDEX(ORARIO_GENERALE!$K$3:$Q$3,MATCH("*"&$I$50&"*",ORARIO_GENERALE!K33:Q33,0)),"") | M54: =IFERROR(INDEX(ORARIO_GENERALE!$K$3:$Q$3,MATCH("*"&$I$50&"*",ORARIO_GENERALE!K47:Q47,0)),"") | N54: =IFERROR(INDEX(ORARIO_GENERALE!$K$3:$Q$3,MATCH("*"&$I$50&"*",ORARIO_GENERALE!K59:Q59,0)),"") | P54: =ORARIO_GENERALE!J7 -> #REF! | Q54: =IFERROR(INDEX(ORARIO_GENERALE!$K$3:$Q$3,MATCH("*"&$P$50&"*",ORARIO_GENERALE!K7:Q7,0)),"") | R54: =IFERROR(INDEX(ORARIO_GENERALE!$K$3:$Q$3,MATCH("*"&$P$50&"*",ORARIO_GENERALE!K20:Q20,0)),"") | S54: =IFERROR(INDEX(ORARIO_GENERALE!$K$3:$Q$3,MATCH("*"&$P$50&"*",ORARIO_GENERALE!K33:Q33,0)),"") | T54: =IFERROR(INDEX(ORARIO_GENERALE!$K$3:$Q$3,MATCH("*"&$P$50&"*",ORARIO_GENERALE!K47:Q47,0)),"") | U54: =IFERROR(INDEX(ORARIO_GENERALE!$K$3:$Q$3,MATCH("*"&$P$50&"*",ORARIO_GENERALE!K59:Q59,0)),"")
B55: =ORARIO_GENERALE!J8 -> #REF! | C55: =IFERROR(INDEX(ORARIO_GENERALE!$K$3:$Q$3,MATCH("*"&$B$50&"*",ORARIO_GENERALE!K8:Q8,0)),"") | D55: =IFERROR(INDEX(ORARIO_GENERALE!$K$3:$Q$3,MATCH("*"&$B$50&"*",ORARIO_GENERALE!K21:Q21,0)),"") | E55: =IFERROR(INDEX(ORARIO_GENERALE!$K$3:$Q$3,MATCH("*"&$B$50&"*",ORARIO_GENERALE!K34:Q34,0)),"") | F55: =IFERROR(INDEX(ORARIO_GENERALE!$K$3:$Q$3,MATCH("*"&$B$50&"*",ORARIO_GENERALE!K48:Q48,0)),"") | G55: =IFERROR(INDEX(ORARIO_GENERALE!$K$3:$Q$3,MATCH("*"&$B$50&"*",ORARIO_GENERALE!K60:Q60,0)),"") | I55: =ORARIO_GENERALE!J8 -> #REF! | J55: =IFERROR(INDEX(ORARIO_GENERALE!$K$3:$Q$3,MATCH("*"&$I$50&"*",ORARIO_GENERALE!K8:Q8,0)),"") | K55: =IFERROR(INDEX(ORARIO_GENERALE!$K$3:$Q$3,MATCH("*"&$I$50&"*",ORARIO_GENERALE!K21:Q21,0)),"") | L55: =IFERROR(INDEX(ORARIO_GENERALE!$K$3:$Q$3,MATCH("*"&$I$50&"*",ORARIO_GENERALE!K34:Q34,0)),"") | M55: =IFERROR(INDEX(ORARIO_GENERALE!$K$3:$Q$3,MATCH("*"&$I$50&"*",ORARIO_GENERALE!K48:Q48,0)),"") | N55: =IFERROR(INDEX(ORARIO_GENERALE!$K$3:$Q$3,MATCH("*"&$I$50&"*",ORARIO_GENERALE!K60:Q60,0)),"") | P55: =ORARIO_GENERALE!J8 -> #REF! | Q55: =IFERROR(INDEX(ORARIO_GENERALE!$K$3:$Q$3,MATCH("*"&$P$50&"*",ORARIO_GENERALE!K8:Q8,0)),"") | R55: =IFERROR(INDEX(ORARIO_GENERALE!$K$3:$Q$3,MATCH("*"&$P$50&"*",ORARIO_GENERALE!K21:Q21,0)),"") | S55: =IFERROR(INDEX(ORARIO_GENERALE!$K$3:$Q$3,MATCH("*"&$P$50&"*",ORARIO_GENERALE!K34:Q34,0)),"") | T55: =IFERROR(INDEX(ORARIO_GENERALE!$K$3:$Q$3,MATCH("*"&$P$50&"*",ORARIO_GENERALE!K48:Q48,0)),"") | U55: =IFERROR(INDEX(ORARIO_GENERALE!$K$3:$Q$3,MATCH("*"&$P$50&"*",ORARIO_GENERALE!K60:Q60,0)),"")
B56: =ORARIO_GENERALE!J9 -> #REF! | C56: =IFERROR(INDEX(ORARIO_GENERALE!$K$3:$Q$3,MATCH("*"&$B$50&"*",ORARIO_GENERALE!K9:Q9,0)),"") | D56: =IFERROR(INDEX(ORARIO_GENERALE!$K$3:$Q$3,MATCH("*"&$B$50&"*",ORARIO_GENERALE!K22:Q22,0)),"") | E56: =IFERROR(INDEX(ORARIO_GENERALE!$K$3:$Q$3,MATCH("*"&$B$50&"*",ORARIO_GENERALE!K35:Q35,0)),"") | F56: =IFERROR(INDEX(ORARIO_GENERALE!$K$3:$Q$3,MATCH("*"&$B$50&"*",ORARIO_GENERALE!K49:Q49,0)),"") | G56: =IFERROR(INDEX(ORARIO_GENERALE!$K$3:$Q$3,MATCH("*"&$B$50&"*",ORARIO_GENERALE!K61:Q61,0)),"") | I56: =ORARIO_GENERALE!J9 -> #REF! | J56: =IFERROR(INDEX(ORARIO_GENERALE!$K$3:$Q$3,MATCH("*"&$I$50&"*",ORARIO_GENERALE!K9:Q9,0)),"") | K56: =IFERROR(INDEX(ORARIO_GENERALE!$K$3:$Q$3,MATCH("*"&$I$50&"*",ORARIO_GENERALE!K22:Q22,0)),"") | L56: =IFERROR(INDEX(ORARIO_GENERALE!$K$3:$Q$3,MATCH("*"&$I$50&"*",ORARIO_GENERALE!K35:Q35,0)),"") | M56: =IFERROR(INDEX(ORARIO_GENERALE!$K$3:$Q$3,MATCH("*"&$I$50&"*",ORARIO_GENERALE!K49:Q49,0)),"") | N56: =IFERROR(INDEX(ORARIO_GENERALE!$K$3:$Q$3,MATCH("*"&$I$50&"*",ORARIO_GENERALE!K61:Q61,0)),"") | P56: =ORARIO_GENERALE!J9 -> #REF! | Q56: =IFERROR(INDEX(ORARIO_GENERALE!$K$3:$Q$3,MATCH("*"&$P$50&"*",ORARIO_GENERALE!K9:Q9,0)),"") | R56: =IFERROR(INDEX(ORARIO_GENERALE!$K$3:$Q$3,MATCH("*"&$P$50&"*",ORARIO_GENERALE!K22:Q22,0)),"") | S56: =IFERROR(INDEX(ORARIO_GENERALE!$K$3:$Q$3,MATCH("*"&$P$50&"*",ORARIO_GENERALE!K35:Q35,0)),"") | T56: =IFERROR(INDEX(ORARIO_GENERALE!$K$3:$Q$3,MATCH("*"&$P$50&"*",ORARIO_GENERALE!K49:Q49,0)),"") | U56: =IFERROR(INDEX(ORARIO_GENERALE!$K$3:$Q$3,MATCH("*"&$P$50&"*",ORARIO_GENERALE!K61:Q61,0)),"")
B57: =ORARIO_GENERALE!J10 -> #REF! | C57: =IFERROR(INDEX(ORARIO_GENERALE!$K$3:$Q$3,MATCH("*"&$B$50&"*",ORARIO_GENERALE!K10:Q10,0)),"") | D57: =IFERROR(INDEX(ORARIO_GENERALE!$K$3:$Q$3,MATCH("*"&$B$50&"*",ORARIO_GENERALE!K23:Q23,0)),"") | E57: =IFERROR(INDEX(ORARIO_GENERALE!$K$3:$Q$3,MATCH("*"&$B$50&"*",ORARIO_GENERALE!K36:Q36,0)),"") | F57: =IFERROR(INDEX(ORARIO_GENERALE!$K$3:$Q$3,MATCH("*"&$B$50&"*",ORARIO_GENERALE!K50:Q50,0)),"") | G57: =IFERROR(INDEX(ORARIO_GENERALE!$K$3:$Q$3,MATCH("*"&$B$50&"*",ORARIO_GENERALE!K62:Q62,0)),"") | I57: =ORARIO_GENERALE!J10 -> #REF! | J57: =IFERROR(INDEX(ORARIO_GENERALE!$K$3:$Q$3,MATCH("*"&$I$50&"*",ORARIO_GENERALE!K10:Q10,0)),"") | K57: =IFERROR(INDEX(ORARIO_GENERALE!$K$3:$Q$3,MATCH("*"&$I$50&"*",ORARIO_GENERALE!K23:Q23,0)),"") | L57: =IFERROR(INDEX(ORARIO_GENERALE!$K$3:$Q$3,MATCH("*"&$I$50&"*",ORARIO_GENERALE!K36:Q36,0)),"") | M57: =IFERROR(INDEX(ORARIO_GENERALE!$K$3:$Q$3,MATCH("*"&$I$50&"*",ORARIO_GENERALE!K50:Q50,0)),"") | N57: =IFERROR(INDEX(ORARIO_GENERALE!$K$3:$Q$3,MATCH("*"&$I$50&"*",ORARIO_GENERALE!K62:Q62,0)),"") | P57: =ORARIO_GENERALE!J10 -> #REF! | Q57: =IFERROR(INDEX(ORARIO_GENERALE!$K$3:$Q$3,MATCH("*"&$P$50&"*",ORARIO_GENERALE!K10:Q10,0)),"") | R57: =IFERROR(INDEX(ORARIO_GENERALE!$K$3:$Q$3,MATCH("*"&$P$50&"*",ORARIO_GENERALE!K23:Q23,0)),"") | S57: =IFERROR(INDEX(ORARIO_GENERALE!$K$3:$Q$3,MATCH("*"&$P$50&"*",ORARIO_GENERALE!K36:Q36,0)),"") | T57: =IFERROR(INDEX(ORARIO_GENERALE!$K$3:$Q$3,MATCH("*"&$P$50&"*",ORARIO_GENERALE!K50:Q50,0)),"") | U57: =IFERROR(INDEX(ORARIO_GENERALE!$K$3:$Q$3,MATCH("*"&$P$50&"*",ORARIO_GENERALE!K62:Q62,0)),"")
B58: =ORARIO_GENERALE!J11 -> #REF! | C58: =IFERROR(INDEX(ORARIO_GENERALE!$K$3:$Q$3,MATCH("*"&$B$50&"*",ORARIO_GENERALE!K11:Q11,0)),"") | D58: =IFERROR(INDEX(ORARIO_GENERALE!$K$3:$Q$3,MATCH("*"&$B$50&"*",ORARIO_GENERALE!K24:Q24,0)),"") | E58: =IFERROR(INDEX(ORARIO_GENERALE!$K$3:$Q$3,MATCH("*"&$B$50&"*",ORARIO_GENERALE!K37:Q37,0)),"") | F58: =IFERROR(INDEX(ORARIO_GENERALE!$K$3:$Q$3,MATCH("*"&$B$50&"*",ORARIO_GENERALE!K51:Q51,0)),"") | G58: =IFERROR(INDEX(ORARIO_GENERALE!$K$3:$Q$3,MATCH("*"&$B$50&"*",ORARIO_GENERALE!K63:Q63,0)),"") | I58: =ORARIO_GENERALE!J11 -> #REF! | J58: =IFERROR(INDEX(ORARIO_GENERALE!$K$3:$Q$3,MATCH("*"&$I$50&"*",ORARIO_GENERALE!K11:Q11,0)),"") | K58: =IFERROR(INDEX(ORARIO_GENERALE!$K$3:$Q$3,MATCH("*"&$I$50&"*",ORARIO_GENERALE!K24:Q24,0)),"") | L58: =IFERROR(INDEX(ORARIO_GENERALE!$K$3:$Q$3,MATCH("*"&$I$50&"*",ORARIO_GENERALE!K37:Q37,0)),"") | M58: =IFERROR(INDEX(ORARIO_GENERALE!$K$3:$Q$3,MATCH("*"&$I$50&"*",ORARIO_GENERALE!K51:Q51,0)),"") | N58: =IFERROR(INDEX(ORARIO_GENERALE!$K$3:$Q$3,MATCH("*"&$I$50&"*",ORARIO_GENERALE!K63:Q63,0)),"") | P58: =ORARIO_GENERALE!J11 -> #REF! | Q58: =IFERROR(INDEX(ORARIO_GENERALE!$K$3:$Q$3,MATCH("*"&$P$50&"*",ORARIO_GENERALE!K11:Q11,0)),"") | R58: =IFERROR(INDEX(ORARIO_GENERALE!$K$3:$Q$3,MATCH("*"&$P$50&"*",ORARIO_GENERALE!K24:Q24,0)),"") | S58: =IFERROR(INDEX(ORARIO_GENERALE!$K$3:$Q$3,MATCH("*"&$P$50&"*",ORARIO_GENERALE!K37:Q37,0)),"") | T58: =IFERROR(INDEX(ORARIO_GENERALE!$K$3:$Q$3,MATCH("*"&$P$50&"*",ORARIO_GENERALE!K51:Q51,0)),"") | U58: =IFERROR(INDEX(ORARIO_GENERALE!$K$3:$Q$3,MATCH("*"&$P$50&"*",ORARIO_GENERALE!K63:Q63,0)),"")
B59: =ORARIO_GENERALE!J12 -> #REF! | C59: =IFERROR(INDEX(ORARIO_GENERALE!$K$3:$Q$3,MATCH("*"&$B$50&"*",ORARIO_GENERALE!K12:Q12,0)),"") | D59: =IFERROR(INDEX(ORARIO_GENERALE!$K$3:$Q$3,MATCH("*"&$B$50&"*",ORARIO_GENERALE!K25:Q25,0)),"") | E59: =IFERROR(INDEX(ORARIO_GENERALE!$K$3:$Q$3,MATCH("*"&$B$50&"*",ORARIO_GENERALE!K38:Q38,0)),"") | F59: =IFERROR(INDEX(ORARIO_GENERALE!$K$3:$Q$3,MATCH("*"&$B$50&"*",ORARIO_GENERALE!K52:Q52,0)),"") | G59: =IFERROR(INDEX(ORARIO_GENERALE!$K$3:$Q$3,MATCH("*"&$B$50&"*",ORARIO_GENERALE!K64:Q64,0)),"") | I59: =ORARIO_GENERALE!J12 -> #REF! | J59: =IFERROR(INDEX(ORARIO_GENERALE!$K$3:$Q$3,MATCH("*"&$I$50&"*",ORARIO_GENERALE!K12:Q12,0)),"") | K59: =IFERROR(INDEX(ORARIO_GENERALE!$K$3:$Q$3,MATCH("*"&$I$50&"*",ORARIO_GENERALE!K25:Q25,0)),"") | L59: =IFERROR(INDEX(ORARIO_GENERALE!$K$3:$Q$3,MATCH("*"&$I$50&"*",ORARIO_GENERALE!K38:Q38,0)),"") | M59: =IFERROR(INDEX(ORARIO_GENERALE!$K$3:$Q$3,MATCH("*"&$I$50&"*",ORARIO_GENERALE!K52:Q52,0)),"") | N59: =IFERROR(INDEX(ORARIO_GENERALE!$K$3:$Q$3,MATCH("*"&$I$50&"*",ORARIO_GENERALE!K64:Q64,0)),"") | P59: =ORARIO_GENERALE!J12 -> #REF! | Q59: =IFERROR(INDEX(ORARIO_GENERALE!$K$3:$Q$3,MATCH("*"&$P$50&"*",ORARIO_GENERALE!K12:Q12,0)),"") | R59: =IFERROR(INDEX(ORARIO_GENERALE!$K$3:$Q$3,MATCH("*"&$P$50&"*",ORARIO_GENERALE!K25:Q25,0)),"") | S59: =IFERROR(INDEX(ORARIO_GENERALE!$K$3:$Q$3,MATCH("*"&$P$50&"*",ORARIO_GENERALE!K38:Q38,0)),"") | T59: =IFERROR(INDEX(ORARIO_GENERALE!$K$3:$Q$3,MATCH("*"&$P$50&"*",ORARIO_GENERALE!K52:Q52,0)),"") | U59: =IFERROR(INDEX(ORARIO_GENERALE!$K$3:$Q$3,MATCH("*"&$P$50&"*",ORARIO_GENERALE!K64:Q64,0)),"")
B60: =ORARIO_GENERALE!J13 -> #REF! | C60: =IFERROR(INDEX(ORARIO_GENERALE!$K$3:$Q$3,MATCH("*"&$B$50&"*",ORARIO_GENERALE!K13:Q13,0)),"") | D60: =IFERROR(INDEX(ORARIO_GENERALE!$K$3:$Q$3,MATCH("*"&$B$50&"*",ORARIO_GENERALE!K26:Q26,0)),"") | E60: =IFERROR(INDEX(ORARIO_GENERALE!$K$3:$Q$3,MATCH("*"&$B$50&"*",ORARIO_GENERALE!K39:Q39,0)),"") | F60: =IFERROR(INDEX(ORARIO_GENERALE!$K$3:$Q$3,MATCH("*"&$B$50&"*",ORARIO_GENERALE!K53:Q53,0)),"") | G60: =IFERROR(INDEX(ORARIO_GENERALE!$K$3:$Q$3,MATCH("*"&$B$50&"*",ORARIO_GENERALE!K65:Q65,0)),"") | I60: =ORARIO_GENERALE!J13 -> #REF! | J60: =IFERROR(INDEX(ORARIO_GENERALE!$K$3:$Q$3,MATCH("*"&$I$50&"*",ORARIO_GENERALE!K13:Q13,0)),"") | K60: =IFERROR(INDEX(ORARIO_GENERALE!$K$3:$Q$3,MATCH("*"&$I$50&"*",ORARIO_GENERALE!K26:Q26,0)),"") | L60: =IFERROR(INDEX(ORARIO_GENERALE!$K$3:$Q$3,MATCH("*"&$I$50&"*",ORARIO_GENERALE!K39:Q39,0)),"") | M60: =IFERROR(INDEX(ORARIO_GENERALE!$K$3:$Q$3,MATCH("*"&$I$50&"*",ORARIO_GENERALE!K53:Q53,0)),"") | N60: =IFERROR(INDEX(ORARIO_GENERALE!$K$3:$Q$3,MATCH("*"&$I$50&"*",ORARIO_GENERALE!K65:Q65,0)),"") | P60: =ORARIO_GENERALE!J13 -> #REF! | Q60: =IFERROR(INDEX(ORARIO_GENERALE!$K$3:$Q$3,MATCH("*"&$P$50&"*",ORARIO_GENERALE!K13:Q13,0)),"") | R60: =IFERROR(INDEX(ORARIO_GENERALE!$K$3:$Q$3,MATCH("*"&$P$50&"*",ORARIO_GENERALE!K26:Q26,0)),"") | S60: =IFERROR(INDEX(ORARIO_GENERALE!$K$3:$Q$3,MATCH("*"&$P$50&"*",ORARIO_GENERALE!K39:Q39,0)),"") | T60: =IFERROR(INDEX(ORARIO_GENERALE!$K$3:$Q$3,MATCH("*"&$P$50&"*",ORARIO_GENERALE!K53:Q53,0)),"") | U60: =IFERROR(INDEX(ORARIO_GENERALE!$K$3:$Q$3,MATCH("*"&$P$50&"*",ORARIO_GENERALE!K65:Q65,0)),"")
B61: =ORARIO_GENERALE!J14 -> #REF! | C61: =IFERROR(INDEX(ORARIO_GENERALE!$K$3:$Q$3,MATCH("*"&$B$50&"*",ORARIO_GENERALE!K14:Q14,0)),"") | D61: =IFERROR(INDEX(ORARIO_GENERALE!$K$3:$Q$3,MATCH("*"&$B$50&"*",ORARIO_GENERALE!K27:Q27,0)),"") | E61: =IFERROR(INDEX(ORARIO_GENERALE!$K$3:$Q$3,MATCH("*"&$B$50&"*",ORARIO_GENERALE!K40:Q40,0)),"") | F61: =IFERROR(INDEX(ORARIO_GENERALE!$K$3:$Q$3,MATCH("*"&$B$50&"*",ORARIO_GENERALE!K54:Q54,0)),"") | G61: =IFERROR(INDEX(ORARIO_GENERALE!$K$3:$Q$3,MATCH("*"&$B$50&"*",ORARIO_GENERALE!K66:Q66,0)),"") | I61: =ORARIO_GENERALE!J14 -> #REF! | J61: =IFERROR(INDEX(ORARIO_GENERALE!$K$3:$Q$3,MATCH("*"&$I$50&"*",ORARIO_GENERALE!K14:Q14,0)),"") | K61: =IFERROR(INDEX(ORARIO_GENERALE!$K$3:$Q$3,MATCH("*"&$I$50&"*",ORARIO_GENERALE!K27:Q27,0)),"") | L61: =IFERROR(INDEX(ORARIO_GENERALE!$K$3:$Q$3,MATCH("*"&$I$50&"*",ORARIO_GENERALE!K40:Q40,0)),"") | M61: =IFERROR(INDEX(ORARIO_GENERALE!$K$3:$Q$3,MATCH("*"&$I$50&"*",ORARIO_GENERALE!K54:Q54,0)),"") | N61: =IFERROR(INDEX(ORARIO_GENERALE!$K$3:$Q$3,MATCH("*"&$I$50&"*",ORARIO_GENERALE!K66:Q66,0)),"") | P61: =ORARIO_GENERALE!J14 -> #REF! | Q61: =IFERROR(INDEX(ORARIO_GENERALE!$K$3:$Q$3,MATCH("*"&$P$50&"*",ORARIO_GENERALE!K14:Q14,0)),"") | R61: =IFERROR(INDEX(ORARIO_GENERALE!$K$3:$Q$3,MATCH("*"&$P$50&"*",ORARIO_GENERALE!K27:Q27,0)),"") | S61: =IFERROR(INDEX(ORARIO_GENERALE!$K$3:$Q$3,MATCH("*"&$P$50&"*",ORARIO_GENERALE!K40:Q40,0)),"") | T61: =IFERROR(INDEX(ORARIO_GENERALE!$K$3:$Q$3,MATCH("*"&$P$50&"*",ORARIO_GENERALE!K54:Q54,0)),"") | U61: =IFERROR(INDEX(ORARIO_GENERALE!$K$3:$Q$3,MATCH("*"&$P$50&"*",ORARIO_GENERALE!K66:Q66,0)),"")
B62: =ORARIO_GENERALE!J15 -> #REF! | C62: =IFERROR(INDEX(ORARIO_GENERALE!$K$3:$Q$3,MATCH("*"&$B$50&"*",ORARIO_GENERALE!K15:Q15,0)),"") | D62: =IFERROR(INDEX(ORARIO_GENERALE!$K$3:$Q$3,MATCH("*"&$B$50&"*",ORARIO_GENERALE!K28:Q28,0)),"") | E62: =IFERROR(INDEX(ORARIO_GENERALE!$K$3:$Q$3,MATCH("*"&$B$50&"*",ORARIO_GENERALE!K41:Q41,0)),"") | F62: =IFERROR(INDEX(ORARIO_GENERALE!$K$3:$Q$3,MATCH("*"&$B$50&"*",ORARIO_GENERALE!K55:Q55,0)),"") | G62: =IFERROR(INDEX(ORARIO_GENERALE!$K$3:$Q$3,MATCH("*"&$B$50&"*",ORARIO_GENERALE!K67:Q67,0)),"") | I62: =ORARIO_GENERALE!J15 -> #REF! | J62: =IFERROR(INDEX(ORARIO_GENERALE!$K$3:$Q$3,MATCH("*"&$I$50&"*",ORARIO_GENERALE!K15:Q15,0)),"") | K62: =IFERROR(INDEX(ORARIO_GENERALE!$K$3:$Q$3,MATCH("*"&$I$50&"*",ORARIO_GENERALE!K28:Q28,0)),"") | L62: =IFERROR(INDEX(ORARIO_GENERALE!$K$3:$Q$3,MATCH("*"&$I$50&"*",ORARIO_GENERALE!K41:Q41,0)),"") | M62: =IFERROR(INDEX(ORARIO_GENERALE!$K$3:$Q$3,MATCH("*"&$I$50&"*",ORARIO_GENERALE!K55:Q55,0)),"") | N62: =IFERROR(INDEX(ORARIO_GENERALE!$K$3:$Q$3,MATCH("*"&$I$50&"*",ORARIO_GENERALE!K67:Q67,0)),"") | P62: =ORARIO_GENERALE!J15 -> #REF! | Q62: =IFERROR(INDEX(ORARIO_GENERALE!$K$3:$Q$3,MATCH("*"&$P$50&"*",ORARIO_GENERALE!K15:Q15,0)),"") | R62: =IFERROR(INDEX(ORARIO_GENERALE!$K$3:$Q$3,MATCH("*"&$P$50&"*",ORARIO_GENERALE!K28:Q28,0)),"") | S62: =IFERROR(INDEX(ORARIO_GENERALE!$K$3:$Q$3,MATCH("*"&$P$50&"*",ORARIO_GENERALE!K41:Q41,0)),"") | T62: =IFERROR(INDEX(ORARIO_GENERALE!$K$3:$Q$3,MATCH("*"&$P$50&"*",ORARIO_GENERALE!K55:Q55,0)),"") | U62: =IFERROR(INDEX(ORARIO_GENERALE!$K$3:$Q$3,MATCH("*"&$P$50&"*",ORARIO_GENERALE!K67:Q67,0)),"")
