Workbook

Sheet ORARIO_GENERALE
A1: F
B2: SEDE DI RHO - ORARIO DAL 3 NOVEMBRE 2026
D3: AQUILA | E3: ROCCO | F3: IGNACCOLO | G3: CELI | H3: PEZONE | I3: VALFRE' | K3: ABBADESSA | L3: FREYRIE | M3: FERRANTE | N3: MERONI | O3: RANGHETTI | P3: ZIMMITTI
B4: LUNEDI' | C4: 08:00-09:00
C5: 09:00-10:00 | D5: RPPB | E5: RPPA | H5: B1
C6: 10:00-11:00 | D6: RPPB | E6: RPPA | H6: B1 | K6: RA1A | N6: RA2A | O6: RA1B
C7: 11:00-12:00 | D7: RPPA | E7: RPPB | H7: POT | K7: RA1A | N7: RA2A | O7: RA1B
C8: 12:00-13:00 | E8: RPPA | H8: POT | K8: D/A | N8: STAFF* | O8: RA1C
C9: 13:00-14:00 | H9: POT | K9: RA1C | N9: STAFF* | O9: D/A
C10: 14:00-15:00 | G10: RPPD | H10: D/A | K10: RA1C | N10: RA2C | O10: D/A
C11: 15:00-16:00 | G11: D/A | I11: RPPD | L11: RA0A | N11: RA2C
C12: 16:00-17:00 | G12: D/A | I12: RPPD | L12: RA0A | M12: RA2C
C13: 17:00-18-00 | G13: RPPC | I13: D/A | L13: P | M13: P
C14: 18:00-19:00 | G14: RPPC | I14: D/A | L14: RA2D | M14: RA2E
C15: 19:00-20:00 | F15: D/A | I15: RPPC | L15: RA2D | M15: RA2E
C16: 20:00-21:00 | F16: RPPC
B17: MARTEDI' | C17: 08:00-09:00
C18: 09:00-10:00 | F18: RPPA | I18: RPPB | L18: RA1B | O18: RA0A
C19: 10:00-11:00 | F19: RPPA | I19: RPPB | L19: RA1B | M19: RA2A | O19: RA0A
C20: 11:00-12:00 | F20: RPPB | I20: RPPA | L20: D/A | M20: RA2A | O20: RA1B
C21: 12:00-13:00 | F21: RPPB | L21: P | M21: P | O21: P | R21: D/A | S21: DISPOSIZIONE/ACCOGLIENZA
C22: 13:00-14:00 | M22: RA2F | O22: D/A | R22: C | S22: COORDINAMENTO
C23: 14:00-15:00 | G23: RPPD | K23: RA2C | M23: RA2F | R23: P | S23: PROGRAMMAZIONE
C24: 15:00-16:00 | D24: RPPD | G24: D/A | K24: RA2c | M24: D/A | N24: RA2f
C25: 16:00-17:00 | D25: RSPA | E25: RPPD | G25: D/A | K25: P | N25: P | R25: PERCORSI DI PRIMO LIVELLO
C26: 17:00-18-00 | D26: RSPA | E26: RPPC | H26: D/A | K26: P | N26: P
C27: 18:00-19:00 | D27: RSPA | E27: RPPC | H27: B2 | K27: RA1D | N27: RA2E | R27: LPPA | S27: 1 PERIODO MATTINA
C28: 19:00-20:00 | D28: RPPC | E28: RPPC | H28: B2 | K28: RA1D | N28: RA2E | R28: LPPD | S28: 1 PERIODO SERA
C29: 20:00-21:00 | E29: RPPC | H29: B2 | R29: LPPB | S29: 1 PERIODO MATTINA
B30: MERCOLEDI' | C30: 08:00-09:00 | R30: LPPC | S30: 1 PERIODO SERA
C31: 09:00-10:00 | F31: RPPA | G31: RPPB | H31: B1 | K31: D/A | M31: SA1A | N31: STAFF* | O31: RA2A | R31: L2A | S31: POTENZIAMENTO PERCORSI DI PRIMO LIVELLO (200 ore)
C32: 10:00-11:00 | F32: RPPB | G32: RPPA | H32: B1 | K32: RA2B | M32: SA1A | N32: STAFF* | O32: RA2A | R32: R/P | S32: RECUPERO-POTENZIAMENTO
C33: 11:00-12:00 | F33: RPPB | G33: RPPA | H33: RPPB | K33: RA2B | M33: SA2A | N33: STAFF* | O33: RA2A
C34: 12:00-13:00 | K34: RA2B | M34: SA2A | N34: STAFF* | O34: D/A
C35: 13:00-14:00 | M35: SA2A
C36: 14:00-15:00 | E36: RPPD | K36: F | R36: PERCORSI DI ALFABETIZZAZIONE
C37: 15:00-16:00 | E37: RPPD | L37: RA1C | P37: D/A
C38: 16:00-17:00 | D38: RPPD | L38: RA1C | P38: D/A | R38: A0 | S38: PRE-A1
C39: 17:00-18-00 | D39: RPPD | L39: D/A | P39: D/A | R39: A1 | S39: A1
C40: 18:00-19:00 | D40: RPPC | L40: RA2D | P40: RA2E | R40: A2 | S40: A2
...

Sheet ORARIO_DOCENTI_CORSI
B2: I LIVELLO CORSI | I2: ORARIO DOCENTI
B3: LPPF | C3: LUN | D3: MAR | E3: MER | F3: GIO | G3: VEN | I3: COSENZA | J3: LUN | K3: MAR | L3: MER | M3: GIO | N3: VEN
J4: =HLOOKUP($I$3,ORARIO_GENERALE!$D$3:$P$61,2,0) -> #N/A | K4: =HLOOKUP($I$3,ORARIO_GENERALE!$D$3:$P$61,15,0) -> #N/A | L4: =HLOOKUP($I$3,ORARIO_GENERALE!$D$3:$P$61,28,0) -> #N/A | M4: =HLOOKUP($I$3,ORARIO_GENERALE!$D$3:$P$61,41,0) -> #N/A | N4: =HLOOKUP($I$3,ORARIO_GENERALE!$D$3:$P$61,54,0) -> #N/A
B5: =ORARIO_GENERALE!C5 -> 09:00-10:00 | C5: {=IFERROR(INDEX(ORARIO_GENERALE!$D$3:$I$3,MATCH("*"&$B$3&"*",ORARIO_GENERALE!D5:I5,0)),"")} | D5: {=IFERROR(INDEX(ORARIO_GENERALE!$D$3:$I$3,MATCH("*"&$B$3&"*",ORARIO_GENERALE!D18:I18,0)),"")} | E5: {=IFERROR(INDEX(ORARIO_GENERALE!$D$3:$I$3,MATCH("*"&$B$3&"*",ORARIO_GENERALE!D31:I31,0)),"")} | F5: {=IFERROR(INDEX(ORARIO_GENERALE!$D$3:$I$3,MATCH("*"&$B$3&"*",ORARIO_GENERALE!D44:I44,0)),"")} | G5: {=IFERROR(INDEX(ORARIO_GENERALE!$D$3:$I$3,MATCH("*"&$B$3&"*",ORARIO_GENERALE!$D57:$I57,0)),"")} | I5: =ORARIO_GENERALE!C5 -> 09:00-10:00 | J5: =HLOOKUP($I$3,ORARIO_GENERALE!$D$3:$P$61,3,0) -> #N/A | K5: =HLOOKUP($I$3,ORARIO_GENERALE!$D$3:$P$61,16,0) -> #N/A | L5: =HLOOKUP($I$3,ORARIO_GENERALE!$D$3:$P$61,29,0) -> #N/A | M5: =HLOOKUP($I$3,ORARIO_GENERALE!$D$3:$P$61,42,0) -> #N/A | N5: =HLOOKUP($I$3,ORARIO_GENERALE!$D$3:$P$61,55,0) -> #N/A
B6: =ORARIO_GENERALE!C6 -> 10:00-11:00 | C6: {=IFERROR(INDEX(ORARIO_GENERALE!$D$3:$I$3,MATCH("*"&$B$3&"*",ORARIO_GENERALE!D6:I6,0)),"")} | D6: {=IFERROR(INDEX(ORARIO_GENERALE!$D$3:$I$3,MATCH("*"&$B$3&"*",ORARIO_GENERALE!D19:I19,0)),"")} | E6: {=IFERROR(INDEX(ORARIO_GENERALE!$D$3:$I$3,MATCH("*"&$B$3&"*",ORARIO_GENERALE!D32:I32,0)),"")} | F6: {=IFERROR(INDEX(ORARIO_GENERALE!$D$3:$I$3,MATCH("*"&$B$3&"*",ORARIO_GENERALE!D45:I45,0)),"")} | G6: {=IFERROR(INDEX(ORARIO_GENERALE!$D$3:$I$3,MATCH("*"&$B$3&"*",ORARIO_GENERALE!$D58:$I58,0)),"")} | I6: =ORARIO_GENERALE!C6 -> 10:00-11:00 | J6: =HLOOKUP($I$3,ORARIO_GENERALE!$D$3:$P$61,4,0) -> #N/A | K6: =HLOOKUP($I$3,ORARIO_GENERALE!$D$3:$P$61,17,0) -> #N/A | L6: =HLOOKUP($I$3,ORARIO_GENERALE!$D$3:$P$61,30,0) -> #N/A | M6: =HLOOKUP($I$3,ORARIO_GENERALE!$D$3:$P$61,43,0) -> #N/A | N6: =HLOOKUP($I$3,ORARIO_GENERALE!$D$3:$P$61,56,0) -> #N/A
B7: =ORARIO_GENERALE!C7 -> 11:00-12:00 | C7: {=IFERROR(INDEX(ORARIO_GENERALE!$D$3:$I$3,MATCH("*"&$B$3&"*",ORARIO_GENERALE!D7:I7,0)),"")} | D7: {=IFERROR(INDEX(ORARIO_GENERALE!$D$3:$I$3,MATCH("*"&$B$3&"*",ORARIO_GENERALE!D20:I20,0)),"")} | E7: {=IFERROR(INDEX(ORARIO_GENERALE!$D$3:$I$3,MATCH("*"&$B$3&"*",ORARIO_GENERALE!D33:I33,0)),"")} | F7: {=IFERROR(INDEX(ORARIO_GENERALE!$D$3:$I$3,MATCH("*"&$B$3&"*",ORARIO_GENERALE!D46:I46,0)),"")} | G7: {=IFERROR(INDEX(ORARIO_GENERALE!$D$3:$I$3,MATCH("*"&$B$3&"*",ORARIO_GENERALE!$D59:$I59,0)),"")} | I7: =ORARIO_GENERALE!C7 -> 11:00-12:00 | J7: =HLOOKUP($I$3,ORARIO_GENERALE!$D$3:$P$61,5,0) -> #N/A | K7: =HLOOKUP($I$3,ORARIO_GENERALE!$D$3:$P$61,18,0) -> #N/A | L7: =HLOOKUP($I$3,ORARIO_GENERALE!$D$3:$P$61,31,0) -> #N/A | M7: =HLOOKUP($I$3,ORARIO_GENERALE!$D$3:$P$61,44,0) -> #N/A | N7: =HLOOKUP($I$3,ORARIO_GENERALE!$D$3:$P$61,57,0) -> #N/A
B8: =ORARIO_GENERALE!C8 -> 12:00-13:00 | C8: {=IFERROR(INDEX(ORARIO_GENERALE!$D$3:$I$3,MATCH("*"&$B$3&"*",ORARIO_GENERALE!D8:I8,0)),"")} | D8: {=IFERROR(INDEX(ORARIO_GENERALE!$D$3:$I$3,MATCH("*"&$B$3&"*",ORARIO_GENERALE!D21:I21,0)),"")} | E8: {=IFERROR(INDEX(ORARIO_GENERALE!$D$3:$I$3,MATCH("*"&$B$3&"*",ORARIO_GENERALE!D34:I34,0)),"")} | F8: {=IFERROR(INDEX(ORARIO_GENERALE!$D$3:$I$3,MATCH("*"&$B$3&"*",ORARIO_GENERALE!D47:I47,0)),"")} | G8: {=IFERROR(INDEX(ORARIO_GENERALE!$D$3:$I$3,MATCH("*"&$B$3&"*",ORARIO_GENERALE!$D60:$I60,0)),"")} | I8: =ORARIO_GENERALE!C8 -> 12:00-13:00 | J8: =HLOOKUP($I$3,ORARIO_GENERALE!$D$3:$P$61,6,0) -> #N/A | K8: =HLOOKUP($I$3,ORARIO_GENERALE!$D$3:$P$61,19,0) -> #N/A | L8: =HLOOKUP($I$3,ORARIO_GENERALE!$D$3:$P$61,32,0) -> #N/A | M8: =HLOOKUP($I$3,ORARIO_GENERALE!$D$3:$P$61,45,0) -> #N/A | N8: =HLOOKUP($I$3,ORARIO_GENERALE!$D$3:$P$61,58,0) -> #N/A
B9: =ORARIO_GENERALE!C9 -> 13:00-14:00 | C9: {=IFERROR(INDEX(ORARIO_GENERALE!$D$3:$I$3,MATCH("*"&$B$3&"*",ORARIO_GENERALE!D9:I9,0)),"")} | D9: {=IFERROR(INDEX(ORARIO_GENERALE!$D$3:$I$3,MATCH("*"&$B$3&"*",ORARIO_GENERALE!D22:I22,0)),"")} | E9: {=IFERROR(INDEX(ORARIO_GENERALE!$D$3:$I$3,MATCH("*"&$B$3&"*",ORARIO_GENERALE!D35:I35,0)),"")} | F9: {=IFERROR(INDEX(ORARIO_GENERALE!$D$3:$I$3,MATCH("*"&$B$3&"*",ORARIO_GENERALE!D48:I48,0)),"")} | G9: {=IFERROR(INDEX(ORARIO_GENERALE!$D$3:$I$3,MATCH("*"&$B$3&"*",ORARIO_GENERALE!$D61:$I61,0)),"")} | I9: =ORARIO_GENERALE!C9 -> 13:00-14:00 | J9: =HLOOKUP($I$3,ORARIO_GENERALE!$D$3:$P$61,7,0) -> #N/A | K9: =HLOOKUP($I$3,ORARIO_GENERALE!$D$3:$P$61,20,0) -> #N/A | L9: =HLOOKUP($I$3,ORARIO_GENERALE!$D$3:$P$61,33,0) -> #N/A | M9: =HLOOKUP($I$3,ORARIO_GENERALE!$D$3:$P$61,46,0) -> #N/A
B10: =ORARIO_GENERALE!C10 -> 14:00-15:00 | C10: {=IFERROR(INDEX(ORARIO_GENERALE!$D$3:$I$3,MATCH("*"&$B$3&"*",ORARIO_GENERALE!D10:I10,0)),"")} | D10: {=IFERROR(INDEX(ORARIO_GENERALE!$D$3:$I$3,MATCH("*"&$B$3&"*",ORARIO_GENERALE!D23:I23,0)),"")} | E10: {=IFERROR(INDEX(ORARIO_GENERALE!$D$3:$I$3,MATCH("*"&$B$3&"*",ORARIO_GENERALE!D36:I36,0)),"")} | F10: {=IFERROR(INDEX(ORARIO_GENERALE!$D$3:$I$3,MATCH("*"&$B$3&"*",ORARIO_GENERALE!D49:I49,0)),"")} | G10: {=IFERROR(INDEX(ORARIO_GENERALE!$D$3:$I$3,MATCH("*"&$B$3&"*",ORARIO_GENERALE!$D64:$I64,0)),"")} | I10: =ORARIO_GENERALE!C10 -> 14:00-15:00 | J10: =HLOOKUP($I$3,ORARIO_GENERALE!$D$3:$P$61,8,0) -> #N/A | K10: =HLOOKUP($I$3,ORARIO_GENERALE!$D$3:$P$61,21,0) -> #N/A | L10: =HLOOKUP($I$3,ORARIO_GENERALE!$D$3:$P$61,34,0) -> #N/A | M10: =HLOOKUP($I$3,ORARIO_GENERALE!$D$3:$P$61,47,0) -> #N/A
B11: =ORARIO_GENERALE!C11 -> 15:00-16:00 | C11: {=IFERROR(INDEX(ORARIO_GENERALE!$D$3:$I$3,MATCH("*"&$B$3&"*",ORARIO_GENERALE!D11:I11,0)),"")} | D11: {=IFERROR(INDEX(ORARIO_GENERALE!$D$3:$I$3,MATCH("*"&$B$3&"*",ORARIO_GENERALE!D24:I24,0)),"")} | E11: {=IFERROR(INDEX(ORARIO_GENERALE!$D$3:$I$3,MATCH("*"&$B$3&"*",ORARIO_GENERALE!D37:I37,0)),"")} | F11: {=IFERROR(INDEX(ORARIO_GENERALE!$D$3:$I$3,MATCH("*"&$B$3&"*",ORARIO_GENERALE!D50:I50,0)),"")} | G11: {=IFERROR(INDEX(ORARIO_GENERALE!$D$3:$I$3,MATCH("*"&$B$3&"*",ORARIO_GENERALE!$D65:$I65,0)),"")} | I11: =ORARIO_GENERALE!C11 -> 15:00-16:00 | J11: =HLOOKUP($I$3,ORARIO_GENERALE!$D$3:$P$61,9,0) -> #N/A | K11: =HLOOKUP($I$3,ORARIO_GENERALE!$D$3:$P$61,22,0) -> #N/A | L11: =HLOOKUP($I$3,ORARIO_GENERALE!$D$3:$P$61,35,0) -> #N/A | M11: =HLOOKUP($I$3,ORARIO_GENERALE!$D$3:$P$61,48,0) -> #N/A
B12: =ORARIO_GENERALE!C12 -> 16:00-17:00 | C12: {=IFERROR(INDEX(ORARIO_GENERALE!$D$3:$I$3,MATCH("*"&$B$3&"*",ORARIO_GENERALE!D12:I12,0)),"")} | D12: {=IFERROR(INDEX(ORARIO_GENERALE!$D$3:$I$3,MATCH("*"&$B$3&"*",ORARIO_GENERALE!D25:I25,0)),"")} | E12: {=IFERROR(INDEX(ORARIO_GENERALE!$D$3:$I$3,MATCH("*"&$B$3&"*",ORARIO_GENERALE!D38:I38,0)),"")} | F12: {=IFERROR(INDEX(ORARIO_GENERALE!$D$3:$I$3,MATCH("*"&$B$3&"*",ORARIO_GENERALE!D51:I51,0)),"")} | G12: {=IFERROR(INDEX(ORARIO_GENERALE!$D$3:$I$3,MATCH("*"&$B$3&"*",ORARIO_GENERALE!$D66:$I66,0)),"")} | I12: =ORARIO_GENERALE!C12 -> 16:00-17:00 | J12: =HLOOKUP($I$3,ORARIO_GENERALE!$D$3:$P$61,10,0) -> #N/A | K12: =HLOOKUP($I$3,ORARIO_GENERALE!$D$3:$P$61,23,0) -> #N/A | L12: =HLOOKUP($I$3,ORARIO_GENERALE!$D$3:$P$61,36,0) -> #N/A | M12: =HLOOKUP($I$3,ORARIO_GENERALE!$D$3:$P$61,49,0) -> #N/A
B13: =ORARIO_GENERALE!C13 -> 17:00-18-00 | C13: {=IFERROR(INDEX(ORARIO_GENERALE!$D$3:$I$3,MATCH("*"&$B$3&"*",ORARIO_GENERALE!D13:I13,0)),"")} | D13: {=IFERROR(INDEX(ORARIO_GENERALE!$D$3:$I$3,MATCH("*"&$B$3&"*",ORARIO_GENERALE!D26:I26,0)),"")} | E13: {=IFERROR(INDEX(ORARIO_GENERALE!$D$3:$I$3,MATCH("*"&$B$3&"*",ORARIO_GENERALE!D39:I39,0)),"")} | F13: {=IFERROR(INDEX(ORARIO_GENERALE!$D$3:$I$3,MATCH("*"&$B$3&"*",ORARIO_GENERALE!D52:I52,0)),"")} | G13: {=IFERROR(INDEX(ORARIO_GENERALE!$D$3:$I$3,MATCH("*"&$B$3&"*",ORARIO_GENERALE!$D67:$I67,0)),"")} | I13: =ORARIO_GENERALE!C13 -> 17:00-18-00 | J13: =HLOOKUP($I$3,ORARIO_GENERALE!$D$3:$P$61,11,0) -> #N/A | K13: =HLOOKUP($I$3,ORARIO_GENERALE!$D$3:$P$61,24,0) -> #N/A | L13: =HLOOKUP($I$3,ORARIO_GENERALE!$D$3:$P$61,37,0) -> #N/A | M13: =HLOOKUP($I$3,ORARIO_GENERALE!$D$3:$P$61,50,0) -> #N/A
B14: =ORARIO_GENERALE!C14 -> 18:00-19:00 | C14: {=IFERROR(INDEX(ORARIO_GENERALE!$D$3:$I$3,MATCH("*"&$B$3&"*",ORARIO_GENERALE!D14:I14,0)),"")} | D14: {=IFERROR(INDEX(ORARIO_GENERALE!$D$3:$I$3,MATCH("*"&$B$3&"*",ORARIO_GENERALE!D27:I27,0)),"")} | E14: {=IFERROR(INDEX(ORARIO_GENERALE!$D$3:$I$3,MATCH("*"&$B$3&"*",ORARIO_GENERALE!D40:I40,0)),"")} | F14: {=IFERROR(INDEX(ORARIO_GENERALE!$D$3:$I$3,MATCH("*"&$B$3&"*",ORARIO_GENERALE!D53:I53,0)),"")} | G14: {=IFERROR(INDEX(ORARIO_GENERALE!$D$3:$I$3,MATCH("*"&$B$3&"*",ORARIO_GENERALE!$D68:$I68,0)),"")} | I14: =ORARIO_GENERALE!C14 -> 18:00-19:00 | J14: =HLOOKUP($I$3,ORARIO_GENERALE!$D$3:$P$61,12,0) -> #N/A | K14: =HLOOKUP($I$3,ORARIO_GENERALE!$D$3:$P$61,25,0) -> #N/A | L14: =HLOOKUP($I$3,ORARIO_GENERALE!$D$3:$P$61,38,0) -> #N/A | M14: =HLOOKUP($I$3,ORARIO_GENERALE!$D$3:$P$61,51,0) -> #N/A
B15: =ORARIO_GENERALE!C15 -> 19:00-20:00 | C15: {=IFERROR(INDEX(ORARIO_GENERALE!$D$3:$I$3,MATCH("*"&$B$3&"*",ORARIO_GENERALE!D15:I15,0)),"")} | D15: {=IFERROR(INDEX(ORARIO_GENERALE!$D$3:$I$3,MATCH("*"&$B$3&"*",ORARIO_GENERALE!D28:I28,0)),"")} | E15: {=IFERROR(INDEX(ORARIO_GENERALE!$D$3:$I$3,MATCH("*"&$B$3&"*",ORARIO_GENERALE!D41:I41,0)),"")} | F15: {=IFERROR(INDEX(ORARIO_GENERALE!$D$3:$I$3,MATCH("*"&$B$3&"*",ORARIO_GENERALE!D54:I54,0)),"")} | G15: {=IFERROR(INDEX(ORARIO_GENERALE!$D$3:$I$3,MATCH("*"&$B$3&"*",ORARIO_GENERALE!$D69:$I69,0)),"")} | I15: =ORARIO_GENERALE!C15 -> 19:00-20:00 | J15: =HLOOKUP($I$3,ORARIO_GENERALE!$D$3:$P$61,13,0) -> #N/A | K15: =HLOOKUP($I$3,ORARIO_GENERALE!$D$3:$P$61,26,0) -> #N/A | L15: =HLOOKUP($I$3,ORARIO_GENERALE!$D$3:$P$61,39,0) -> #N/A | M15: =HLOOKUP($I$3,ORARIO_GENERALE!$D$3:$P$61,52,0) -> #N/A
B16: =ORARIO_GENERALE!C16 -> 20:00-21:00 | C16: {=IFERROR(INDEX(ORARIO_GENERALE!$D$3:$I$3,MATCH("*"&$B$3&"*",ORARIO_GENERALE!D16:I16,0)),"")} | D16: {=IFERROR(INDEX(ORARIO_GENERALE!$D$3:$I$3,MATCH("*"&$B$3&"*",ORARIO_GENERALE!D29:I29,0)),"")} | E16: {=IFERROR(INDEX(ORARIO_GENERALE!$D$3:$I$3,MATCH("*"&$B$3&"*",ORARIO_GENERALE!D42:I42,0)),"")} | F16: {=IFERROR(INDEX(ORARIO_GENERALE!$D$3:$I$3,MATCH("*"&$B$3&"*",ORARIO_GENERALE!D55:I55,0)),"")} | G16: {=IFERROR(INDEX(ORARIO_GENERALE!$D$3:$I$3,MATCH("*"&$B$3&"*",ORARIO_GENERALE!$D70:$I70,0)),"")} | I16: =ORARIO_GENERALE!C16 -> 20:00-21:00 | J16: =HLOOKUP($I$3,ORARIO_GENERALE!$D$3:$P$61,14,0) -> #N/A | K16: =HLOOKUP($I$3,ORARIO_GENERALE!$D$3:$P$61,27,0) -> #N/A | L16: =HLOOKUP($I$3,ORARIO_GENERALE!$D$3:$P$61,40,0) -> #N/A | M16: =HLOOKUP($I$3,ORARIO_GENERALE!$D$3:$P$61,53,0) -> #N/A
I17: =ORARIO_GENERALE!C17 -> 08:00-09:00 | M17: =HLOOKUP($I$3,ORARIO_GENERALE!$D$3:$P$61,53,0) -> #N/A
B18: L 2 CORSI
B19: LA1A | C19: LUN | D19: MAR | E19: MER | F19: GIO | G19: VEN
B20: =ORARIO_GENERALE!C4 -> 08:00-09:00 | C20: {=IFERROR(INDEX(ORARIO_GENERALE!$D$3:$P$3,MATCH("*"&$B$19&"*",ORARIO_GENERALE!$D4:$P4,0)),"")} | D20: {=IFERROR(INDEX(ORARIO_GENERALE!$D$3:$P$3,MATCH("*"&$B$19&"*",ORARIO_GENERALE!$D17:$P17,0)),"")} | E20: {=IFERROR(INDEX(ORARIO_GENERALE!$D$3:$P$3,MATCH("*"&$B$19&"*",ORARIO_GENERALE!$D30:$P30,0)),"")} | F20: {=IFERROR(INDEX(ORARIO_GENERALE!$D$3:$P$3,MATCH("*"&$B$19&"*",ORARIO_GENERALE!$D43:$P43,0)),"")} | G20: {=IFERROR(INDEX(ORARIO_GENERALE!$D$3:$P$3,MATCH("*"&$B$19&"*",ORARIO_GENERALE!$D56:$P56,0)),"")}
B21: =ORARIO_GENERALE!C5 -> 09:00-10:00 | C21: {=IFERROR(INDEX(ORARIO_GENERALE!$D$3:$P$3,MATCH("*"&$B$19&"*",ORARIO_GENERALE!$D5:$P5,0)),"")} | D21: {=IFERROR(INDEX(ORARIO_GENERALE!$D$3:$P$3,MATCH("*"&$B$19&"*",ORARIO_GENERALE!$D18:$P18,0)),"")} | E21: {=IFERROR(INDEX(ORARIO_GENERALE!$D$3:$P$3,MATCH("*"&$B$19&"*",ORARIO_GENERALE!$D31:$P31,0)),"")} | F21: {=IFERROR(INDEX(ORARIO_GENERALE!$D$3:$P$3,MATCH("*"&$B$19&"*",ORARIO_GENERALE!$D44:$P44,0)),"")} | G21: {=IFERROR(INDEX(ORARIO_GENERALE!$D$3:$P$3,MATCH("*"&$B$19&"*",ORARIO_GENERALE!$D57:$P57,0)),"")}
B22: =ORARIO_GENERALE!C6 -> 10:00-11:00 | C22: {=IFERROR(INDEX(ORARIO_GENERALE!$D$3:$P$3,MATCH("*"&$B$19&"*",ORARIO_GENERALE!$D6:$P6,0)),"")} | D22: {=IFERROR(INDEX(ORARIO_GENERALE!$D$3:$P$3,MATCH("*"&$B$19&"*",ORARIO_GENERALE!$D19:$P19,0)),"")} | E22: {=IFERROR(INDEX(ORARIO_GENERALE!$D$3:$P$3,MATCH("*"&$B$19&"*",ORARIO_GENERALE!$D32:$P32,0)),"")} | F22: {=IFERROR(INDEX(ORARIO_GENERALE!$D$3:$P$3,MATCH("*"&$B$19&"*",ORARIO_GENERALE!$D45:$P45,0)),"")} | G22: {=IFERROR(INDEX(ORARIO_GENERALE!$D$3:$P$3,MATCH("*"&$B$19&"*",ORARIO_GENERALE!$D58:$P58,0)),"")}
B23: =ORARIO_GENERALE!C7 -> 11:00-12:00 | C23: {=IFERROR(INDEX(ORARIO_GENERALE!$D$3:$P$3,MATCH("*"&$B$19&"*",ORARIO_GENERALE!$D7:$P7,0)),"")} | D23: {=IFERROR(INDEX(ORARIO_GENERALE!$D$3:$P$3,MATCH("*"&$B$19&"*",ORARIO_GENERALE!$D20:$P20,0)),"")} | E23: {=IFERROR(INDEX(ORARIO_GENERALE!$D$3:$P$3,MATCH("*"&$B$19&"*",ORARIO_GENERALE!$D33:$P33,0)),"")} | F23: {=IFERROR(INDEX(ORARIO_GENERALE!$D$3:$P$3,MATCH("*"&$B$19&"*",ORARIO_GENERALE!$D46:$P46,0)),"")} | G23: {=IFERROR(INDEX(ORARIO_GENERALE!$D$3:$P$3,MATCH("*"&$B$19&"*",ORARIO_GENERALE!$D59:$P59,0)),"")}
B24: =ORARIO_GENERALE!C8 -> 12:00-13:00 | C24: {=IFERROR(INDEX(ORARIO_GENERALE!$D$3:$P$3,MATCH("*"&$B$19&"*",ORARIO_GENERALE!$D8:$P8,0)),"")} | D24: {=IFERROR(INDEX(ORARIO_GENERALE!$D$3:$P$3,MATCH("*"&$B$19&"*",ORARIO_GENERALE!$D21:$P21,0)),"")} | E24: {=IFERROR(INDEX(ORARIO_GENERALE!$D$3:$P$3,MATCH("*"&$B$19&"*",ORARIO_GENERALE!$D34:$P34,0)),"")} | F24: {=IFERROR(INDEX(ORARIO_GENERALE!$D$3:$P$3,MATCH("*"&$B$19&"*",ORARIO_GENERALE!$D47:$P47,0)),"")} | G24: {=IFERROR(INDEX(ORARIO_GENERALE!$D$3:$P$3,MATCH("*"&$B$19&"*",ORARIO_GENERALE!$D60:$P60,0)),"")}
B25: =ORARIO_GENERALE!C9 -> 13:00-14:00 | C25: {=IFERROR(INDEX(ORARIO_GENERALE!$D$3:$P$3,MATCH("*"&$B$19&"*",ORARIO_GENERALE!$D9:$P9,0)),"")} | D25: {=IFERROR(INDEX(ORARIO_GENERALE!$D$3:$P$3,MATCH("*"&$B$19&"*",ORARIO_GENERALE!$D22:$P22,0)),"")} | E25: {=IFERROR(INDEX(ORARIO_GENERALE!$D$3:$P$3,MATCH("*"&$B$19&"*",ORARIO_GENERALE!$D35:$P35,0)),"")} | F25: {=IFERROR(INDEX(ORARIO_GENERALE!$D$3:$P$3,MATCH("*"&$B$19&"*",ORARIO_GENERALE!$D48:$P48,0)),"")} | G25: {=IFERROR(INDEX(ORARIO_GENERALE!$D$3:$P$3,MATCH("*"&$B$19&"*",ORARIO_GENERALE!$D61:$P61,0)),"")}
B26: =ORARIO_GENERALE!C10 -> 14:00-15:00 | C26: {=IFERROR(INDEX(ORARIO_GENERALE!$D$3:$P$3,MATCH("*"&$B$19&"*",ORARIO_GENERALE!$D10:$P10,0)),"")} | D26: {=IFERROR(INDEX(ORARIO_GENERALE!$D$3:$P$3,MATCH("*"&$B$19&"*",ORARIO_GENERALE!$D23:$P23,0)),"")} | E26: {=IFERROR(INDEX(ORARIO_GENERALE!$D$3:$P$3,MATCH("*"&$B$19&"*",ORARIO_GENERALE!$D36:$P36,0)),"")} | F26: {=IFERROR(INDEX(ORARIO_GENERALE!$D$3:$P$3,MATCH("*"&$B$19&"*",ORARIO_GENERALE!$D49:$P49,0)),"")} | G26: {=IFERROR(INDEX(ORARIO_GENERALE!$D$3:$P$3,MATCH("*"&$B$19&"*",ORARIO_GENERALE!$D64:$P64,0)),"")}
B27: =ORARIO_GENERALE!C11 -> 15:00-16:00 | C27: {=IFERROR(INDEX(ORARIO_GENERALE!$D$3:$P$3,MATCH("*"&$B$19&"*",ORARIO_GENERALE!$D11:$P11,0)),"")} | D27: {=IFERROR(INDEX(ORARIO_GENERALE!$D$3:$P$3,MATCH("*"&$B$19&"*",ORARIO_GENERALE!$D24:$P24,0)),"")} | E27: {=IFERROR(INDEX(ORARIO_GENERALE!$D$3:$P$3,MATCH("*"&$B$19&"*",ORARIO_GENERALE!$D37:$P37,0)),"")} | F27: {=IFERROR(INDEX(ORARIO_GENERALE!$D$3:$P$3,MATCH("*"&$B$19&"*",ORARIO_GENERALE!$D50:$P50,0)),"")} | G27: {=IFERROR(INDEX(ORARIO_GENERALE!$D$3:$P$3,MATCH("*"&$B$19&"*",ORARIO_GENERALE!$D65:$P65,0)),"")}
B28: =ORARIO_GENERALE!C12 -> 16:00-17:00 | C28: {=IFERROR(INDEX(ORARIO_GENERALE!$D$3:$P$3,MATCH("*"&$B$19&"*",ORARIO_GENERALE!$D12:$P12,0)),"")} | D28: {=IFERROR(INDEX(ORARIO_GENERALE!$D$3:$P$3,MATCH("*"&$B$19&"*",ORARIO_GENERALE!$D25:$P25,0)),"")} | E28: {=IFERROR(INDEX(ORARIO_GENERALE!$D$3:$P$3,MATCH("*"&$B$19&"*",ORARIO_GENERALE!$D38:$P38,0)),"")} | F28: {=IFERROR(INDEX(ORARIO_GENERALE!$D$3:$P$3,MATCH("*"&$B$19&"*",ORARIO_GENERALE!$D51:$P51,0)),"")} | G28: {=IFERROR(INDEX(ORARIO_GENERALE!$D$3:$P$3,MATCH("*"&$B$19&"*",ORARIO_GENERALE!$D66:$P66,0)),"")}
B29: =ORARIO_GENERALE!C13 -> 17:00-18-00 | C29: {=IFERROR(INDEX(ORARIO_GENERALE!$D$3:$P$3,MATCH("*"&$B$19&"*",ORARIO_GENERALE!$D13:$P13,0)),"")} | D29: {=IFERROR(INDEX(ORARIO_GENERALE!$D$3:$P$3,MATCH("*"&$B$19&"*",ORARIO_GENERALE!$D26:$P26,0)),"")} | E29: {=IFERROR(INDEX(ORARIO_GENERALE!$D$3:$P$3,MATCH("*"&$B$19&"*",ORARIO_GENERALE!$D39:$P39,0)),"")} | F29: {=IFERROR(INDEX(ORARIO_GENERALE!$D$3:$P$3,MATCH("*"&$B$19&"*",ORARIO_GENERALE!$D52:$P52,0)),"")} | G29: {=IFERROR(INDEX(ORARIO_GENERALE!$D$3:$P$3,MATCH("*"&$B$19&"*",ORARIO_GENERALE!$D67:$P67,0)),"")}
B30: =ORARIO_GENERALE!C14 -> 18:00-19:00 | C30: {=IFERROR(INDEX(ORARIO_GENERALE!$D$3:$P$3,MATCH("*"&$B$19&"*",ORARIO_GENERALE!$D14:$P14,0)),"")} | D30: {=IFERROR(INDEX(ORARIO_GENERALE!$D$3:$P$3,MATCH("*"&$B$19&"*",ORARIO_GENERALE!$D27:$P27,0)),"")} | E30: {=IFERROR(INDEX(ORARIO_GENERALE!$D$3:$P$3,MATCH("*"&$B$19&"*",ORARIO_GENERALE!$D40:$P40,0)),"")} | F30: {=IFERROR(INDEX(ORARIO_GENERALE!$D$3:$P$3,MATCH("*"&$B$19&"*",ORARIO_GENERALE!$D53:$P53,0)),"")} | G30: {=IFERROR(INDEX(ORARIO_GENERALE!$D$3:$P$3,MATCH("*"&$B$19&"*",ORARIO_GENERALE!$D68:$P68,0)),"")}
B31: =ORARIO_GENERALE!C15 -> 19:00-20:00 | C31: {=IFERROR(INDEX(ORARIO_GENERALE!$D$3:$P$3,MATCH("*"&$B$19&"*",ORARIO_GENERALE!$D15:$P15,0)),"")} | D31: {=IFERROR(INDEX(ORARIO_GENERALE!$D$3:$P$3,MATCH("*"&$B$19&"*",ORARIO_GENERALE!$D28:$P28,0)),"")} | E31: {=IFERROR(INDEX(ORARIO_GENERALE!$D$3:$P$3,MATCH("*"&$B$19&"*",ORARIO_GENERALE!$D41:$P41,0)),"")} | F31: {=IFERROR(INDEX(ORARIO_GENERALE!$D$3:$P$3,MATCH("*"&$B$19&"*",ORARIO_GENERALE!$D54:$P54,0)),"")} | G31: {=IFERROR(INDEX(ORARIO_GENERALE!$D$3:$P$3,MATCH("*"&$B$19&"*",ORARIO_GENERALE!$D69:$P69,0)),"")}
B32: =ORARIO_GENERALE!C16 -> 20:00-21:00 | C32: {=IFERROR(INDEX(ORARIO_GENERALE!$D$3:$P$3,MATCH("*"&$B$19&"*",ORARIO_GENERALE!$D16:$P16,0)),"")} | D32: {=IFERROR(INDEX(ORARIO_GENERALE!$D$3:$P$3,MATCH("*"&$B$19&"*",ORARIO_GENERALE!$D29:$P29,0)),"")} | E32: {=IFERROR(INDEX(ORARIO_GENERALE!$D$3:$P$3,MATCH("*"&$B$19&"*",ORARIO_GENERALE!$D42:$P42,0)),"")} | F32: {=IFERROR(INDEX(ORARIO_GENERALE!$D$3:$P$3,MATCH("*"&$B$19&"*",ORARIO_GENERALE!$D55:$P55,0)),"")} | G32: {=IFERROR(INDEX(ORARIO_GENERALE!$D$3:$P$3,MATCH("*"&$B$19&"*",ORARIO_GENERALE!$D70:$P70,0)),"")}
D47: LPPA | E47: GALUPPO
D48: LPPB | E48: LOREFICE
D49: LPPC | E49: SCHIANCHI
D50: LPPD | E50: CALBI
D51: LA1A | E51: MAZZUCCHELLI
D52: LA1B | E52: COSENZA
D53: LA1C | E53: MATEMATICA 2
D54: LA1D | E54: PARRINO
D55: LA1E | E55: BRANDINO
...

Sheet ANALISI CORSI
C1: =ORARIO_GENERALE!D3 -> AQUILA | D1: =ORARIO_GENERALE!E3 -> ROCCO | E1: =ORARIO_GENERALE!F3 -> IGNACCOLO | F1: =ORARIO_GENERALE!G3 -> CELI | G1: =ORARIO_GENERALE!H3 -> PEZONE | H1: =ORARIO_GENERALE!I3 -> VALFRE' | I1: GIURAZZI | J1: PARRINO | K1: BRANDINO | L1: CIELO | M1: SCHIFANO | N1: FONTANA | O1: TOTALE CORSO
B2: LPPA | C2: =COUNTIF(ORARIO_GENERALE!D$4:D$61,"*"&$B2&"*") -> 0 | D2: =COUNTIF(ORARIO_GENERALE!E$4:E$61,"*"&$B2&"*") -> 0 | E2: =COUNTIF(ORARIO_GENERALE!F$4:F$61,"*"&$B2&"*") -> 0 | F2: =COUNTIF(ORARIO_GENERALE!G$4:G$61,"*"&$B2&"*") -> 0 | G2: =COUNTIF(ORARIO_GENERALE!H$4:H$61,"*"&$B2&"*") -> 0 | H2: =COUNTIF(ORARIO_GENERALE!I$4:I$61,"*"&$B2&"*") -> 0 | I2: =COUNTIF(#REF!,"*"&$B2&"*") -> #REF! | J2: =COUNTIF(#REF!,"*"&$B2&"*") -> #REF! | K2: =COUNTIF(ORARIO_GENERALE!K$4:K$61,"*"&$B2&"*") -> 0 | L2: =COUNTIF(ORARIO_GENERALE!M$4:M$61,"*"&$B2&"*") -> 0 | M2: =COUNTIF(ORARIO_GENERALE!P$4:P$61,"*"&$B2&"*") -> 0 | N2: =COUNTIF(#REF!,"*"&$B2&"*") -> #REF! | O2: =SUM(C2:N2) -> #REF!
B3: LPPB | C3: =COUNTIF(ORARIO_GENERALE!D$4:D$61,"*"&$B3&"*") -> 0 | D3: =COUNTIF(ORARIO_GENERALE!E$4:E$61,"*"&$B3&"*") -> 0 | E3: =COUNTIF(ORARIO_GENERALE!F$4:F$61,"*"&$B3&"*") -> 0 | F3: =COUNTIF(ORARIO_GENERALE!G$4:G$61,"*"&$B3&"*") -> 0 | G3: =COUNTIF(ORARIO_GENERALE!H$4:H$61,"*"&$B3&"*") -> 0 | H3: =COUNTIF(ORARIO_GENERALE!I$4:I$61,"*"&$B3&"*") -> 0 | I3: =COUNTIF(#REF!,"*"&$B3&"*") -> #REF! | J3: =COUNTIF(#REF!,"*"&$B3&"*") -> #REF! | K3: =COUNTIF(ORARIO_GENERALE!K$4:K$61,"*"&$B3&"*") -> 0 | L3: =COUNTIF(ORARIO_GENERALE!M$4:M$61,"*"&$B3&"*") -> 0 | M3: =COUNTIF(ORARIO_GENERALE!P$4:P$61,"*"&$B3&"*") -> 0 | N3: =COUNTIF(#REF!,"*"&$B3&"*") -> #REF! | O3: =SUM(C3:M3) -> #REF!
B4: LPPC | C4: =COUNTIF(ORARIO_GENERALE!D$4:D$61,"*"&$B4&"*") -> 0 | D4: =COUNTIF(ORARIO_GENERALE!E$4:E$61,"*"&$B4&"*") -> 0 | E4: =COUNTIF(ORARIO_GENERALE!F$4:F$61,"*"&$B4&"*") -> 0 | F4: =COUNTIF(ORARIO_GENERALE!G$4:G$61,"*"&$B4&"*") -> 0 | G4: =COUNTIF(ORARIO_GENERALE!H$4:H$61,"*"&$B4&"*") -> 0 | H4: =COUNTIF(ORARIO_GENERALE!I$4:I$61,"*"&$B4&"*") -> 0 | I4: =COUNTIF(#REF!,"*"&$B4&"*") -> #REF! | J4: =COUNTIF(#REF!,"*"&$B4&"*") -> #REF! | K4: =COUNTIF(ORARIO_GENERALE!K$4:K$61,"*"&$B4&"*") -> 0 | L4: =COUNTIF(ORARIO_GENERALE!M$4:M$61,"*"&$B4&"*") -> 0 | M4: =COUNTIF(ORARIO_GENERALE!P$4:P$61,"*"&$B4&"*") -> 0 | N4: =COUNTIF(#REF!,"*"&$B4&"*") -> #REF! | O4: =SUM(C4:M4) -> #REF!
B5: LPPD | C5: =COUNTIF(ORARIO_GENERALE!D$4:D$61,"*"&$B5&"*") -> 0 | D5: =COUNTIF(ORARIO_GENERALE!E$4:E$61,"*"&$B5&"*") -> 0 | E5: =COUNTIF(ORARIO_GENERALE!F$4:F$61,"*"&$B5&"*") -> 0 | F5: =COUNTIF(ORARIO_GENERALE!G$4:G$61,"*"&$B5&"*") -> 0 | G5: =COUNTIF(ORARIO_GENERALE!H$4:H$61,"*"&$B5&"*") -> 0 | H5: =COUNTIF(ORARIO_GENERALE!I$4:I$61,"*"&$B5&"*") -> 0 | I5: =COUNTIF(#REF!,"*"&$B5&"*") -> #REF! | J5: =COUNTIF(#REF!,"*"&$B5&"*") -> #REF! | K5: =COUNTIF(ORARIO_GENERALE!K$4:K$61,"*"&$B5&"*") -> 0 | L5: =COUNTIF(ORARIO_GENERALE!M$4:M$61,"*"&$B5&"*") -> 0 | M5: =COUNTIF(ORARIO_GENERALE!P$4:P$61,"*"&$B5&"*") -> 0 | N5: =COUNTIF(#REF!,"*"&$B5&"*") -> #REF! | O5: =SUM(C5:M5) -> #REF!
B6: LPPE | C6: =COUNTIF(ORARIO_GENERALE!D$4:D$61,"*"&$B6&"*") -> 0 | D6: =COUNTIF(ORARIO_GENERALE!E$4:E$61,"*"&$B6&"*") -> 0 | E6: =COUNTIF(ORARIO_GENERALE!F$4:F$61,"*"&$B6&"*") -> 0 | F6: =COUNTIF(ORARIO_GENERALE!G$4:G$61,"*"&$B6&"*") -> 0 | G6: =COUNTIF(ORARIO_GENERALE!H$4:H$61,"*"&$B6&"*") -> 0 | H6: =COUNTIF(ORARIO_GENERALE!I$4:I$61,"*"&$B6&"*") -> 0 | I6: =COUNTIF(#REF!,"*"&$B6&"*") -> #REF! | J6: =COUNTIF(#REF!,"*"&$B6&"*") -> #REF! | K6: =COUNTIF(ORARIO_GENERALE!K$4:K$61,"*"&$B6&"*") -> 0 | L6: =COUNTIF(ORARIO_GENERALE!M$4:M$61,"*"&$B6&"*") -> 0 | M6: =COUNTIF(ORARIO_GENERALE!P$4:P$61,"*"&$B6&"*") -> 0 | N6: =COUNTIF(#REF!,"*"&$B6&"*") -> #REF! | O6: =SUM(C6:M6) -> #REF!
B7: LPPF | C7: =COUNTIF(ORARIO_GENERALE!D$4:D$61,"*"&$B7&"*") -> 0 | D7: =COUNTIF(ORARIO_GENERALE!E$4:E$61,"*"&$B7&"*") -> 0 | E7: =COUNTIF(ORARIO_GENERALE!F$4:F$61,"*"&$B7&"*") -> 0 | F7: =COUNTIF(ORARIO_GENERALE!G$4:G$61,"*"&$B7&"*") -> 0 | G7: =COUNTIF(ORARIO_GENERALE!H$4:H$61,"*"&$B7&"*") -> 0 | H7: =COUNTIF(ORARIO_GENERALE!I$4:I$61,"*"&$B7&"*") -> 0 | I7: =COUNTIF(#REF!,"*"&$B7&"*") -> #REF! | J7: =COUNTIF(#REF!,"*"&$B7&"*") -> #REF! | K7: =COUNTIF(ORARIO_GENERALE!K$4:K$61,"*"&$B7&"*") -> 0 | L7: =COUNTIF(ORARIO_GENERALE!M$4:M$61,"*"&$B7&"*") -> 0 | M7: =COUNTIF(ORARIO_GENERALE!P$4:P$61,"*"&$B7&"*") -> 0 | N7: =COUNTIF(#REF!,"*"&$B7&"*") -> #REF! | O7: =SUM(C7:M7) -> #REF!
B8: LA1A | C8: =COUNTIF(ORARIO_GENERALE!D$4:D$61,"*"&$B8&"*") -> 0 | D8: =COUNTIF(ORARIO_GENERALE!E$4:E$61,"*"&$B8&"*") -> 0 | E8: =COUNTIF(ORARIO_GENERALE!F$4:F$61,"*"&$B8&"*") -> 0 | F8: =COUNTIF(ORARIO_GENERALE!G$4:G$61,"*"&$B8&"*") -> 0 | G8: =COUNTIF(ORARIO_GENERALE!H$4:H$61,"*"&$B8&"*") -> 0 | H8: =COUNTIF(ORARIO_GENERALE!I$4:I$61,"*"&$B8&"*") -> 0 | I8: =COUNTIF(#REF!,"*"&$B8&"*") -> #REF! | J8: =COUNTIF(#REF!,"*"&$B8&"*") -> #REF! | K8: =COUNTIF(ORARIO_GENERALE!K$4:K$61,"*"&$B8&"*") -> 0 | L8: =COUNTIF(ORARIO_GENERALE!M$4:M$61,"*"&$B8&"*") -> 0 | M8: =COUNTIF(ORARIO_GENERALE!P$4:P$61,"*"&$B8&"*") -> 0 | N8: =COUNTIF(#REF!,"*"&$B8&"*") -> #REF! | O8: =SUM(C8:M8) -> #REF!
B9: LA1B | C9: =COUNTIF(ORARIO_GENERALE!D$4:D$61,"*"&$B9&"*") -> 0 | D9: =COUNTIF(ORARIO_GENERALE!E$4:E$61,"*"&$B9&"*") -> 0 | E9: =COUNTIF(ORARIO_GENERALE!F$4:F$61,"*"&$B9&"*") -> 0 | F9: =COUNTIF(ORARIO_GENERALE!G$4:G$61,"*"&$B9&"*") -> 0 | G9: =COUNTIF(ORARIO_GENERALE!H$4:H$61,"*"&$B9&"*") -> 0 | H9: =COUNTIF(ORARIO_GENERALE!I$4:I$61,"*"&$B9&"*") -> 0 | I9: =COUNTIF(#REF!,"*"&$B9&"*") -> #REF! | J9: =COUNTIF(#REF!,"*"&$B9&"*") -> #REF! | K9: =COUNTIF(ORARIO_GENERALE!K$4:K$61,"*"&$B9&"*") -> 0 | L9: =COUNTIF(ORARIO_GENERALE!M$4:M$61,"*"&$B9&"*") -> 0 | M9: =COUNTIF(ORARIO_GENERALE!P$4:P$61,"*"&$B9&"*") -> 0 | N9: =COUNTIF(#REF!,"*"&$B9&"*") -> #REF! | O9: =SUM(C9:M9) -> #REF!
B10: LA1C | C10: =COUNTIF(ORARIO_GENERALE!D$4:D$61,"*"&$B10&"*") -> 0 | D10: =COUNTIF(ORARIO_GENERALE!E$4:E$61,"*"&$B10&"*") -> 0 | E10: =COUNTIF(ORARIO_GENERALE!F$4:F$61,"*"&$B10&"*") -> 0 | F10: =COUNTIF(ORARIO_GENERALE!G$4:G$61,"*"&$B10&"*") -> 0 | G10: =COUNTIF(ORARIO_GENERALE!H$4:H$61,"*"&$B10&"*") -> 0 | H10: =COUNTIF(ORARIO_GENERALE!I$4:I$61,"*"&$B10&"*") -> 0 | I10: =COUNTIF(#REF!,"*"&$B10&"*") -> #REF! | J10: =COUNTIF(#REF!,"*"&$B10&"*") -> #REF! | K10: =COUNTIF(ORARIO_GENERALE!K$4:K$61,"*"&$B10&"*") -> 0 | L10: =COUNTIF(ORARIO_GENERALE!M$4:M$61,"*"&$B10&"*") -> 0 | M10: =COUNTIF(ORARIO_GENERALE!P$4:P$61,"*"&$B10&"*") -> 0 | N10: =COUNTIF(#REF!,"*"&$B10&"*") -> #REF! | O10: =SUM(C10:M10) -> #REF!
B11: LA1D | C11: =COUNTIF(ORARIO_GENERALE!D$4:D$61,"*"&$B11&"*") -> 0 | D11: =COUNTIF(ORARIO_GENERALE!E$4:E$61,"*"&$B11&"*") -> 0 | E11: =COUNTIF(ORARIO_GENERALE!F$4:F$61,"*"&$B11&"*") -> 0 | F11: =COUNTIF(ORARIO_GENERALE!G$4:G$61,"*"&$B11&"*") -> 0 | G11: =COUNTIF(ORARIO_GENERALE!H$4:H$61,"*"&$B11&"*") -> 0 | H11: =COUNTIF(ORARIO_GENERALE!I$4:I$61,"*"&$B11&"*") -> 0 | I11: =COUNTIF(#REF!,"*"&$B11&"*") -> #REF! | J11: =COUNTIF(#REF!,"*"&$B11&"*") -> #REF! | K11: =COUNTIF(ORARIO_GENERALE!K$4:K$61,"*"&$B11&"*") -> 0 | L11: =COUNTIF(ORARIO_GENERALE!M$4:M$61,"*"&$B11&"*") -> 0 | M11: =COUNTIF(ORARIO_GENERALE!P$4:P$61,"*"&$B11&"*") -> 0 | N11: =COUNTIF(#REF!,"*"&$B11&"*") -> #REF! | O11: =SUM(C11:M11) -> #REF!
B12: LA1F | C12: =COUNTIF(ORARIO_GENERALE!D$4:D$61,"*"&$B12&"*") -> 0 | D12: =COUNTIF(ORARIO_GENERALE!E$4:E$61,"*"&$B12&"*") -> 0 | E12: =COUNTIF(ORARIO_GENERALE!F$4:F$61,"*"&$B12&"*") -> 0 | F12: =COUNTIF(ORARIO_GENERALE!G$4:G$61,"*"&$B12&"*") -> 0 | G12: =COUNTIF(ORARIO_GENERALE!H$4:H$61,"*"&$B12&"*") -> 0 | H12: =COUNTIF(ORARIO_GENERALE!I$4:I$61,"*"&$B12&"*") -> 0 | I12: =COUNTIF(#REF!,"*"&$B12&"*") -> #REF! | J12: =COUNTIF(#REF!,"*"&$B12&"*") -> #REF! | K12: =COUNTIF(ORARIO_GENERALE!K$4:K$61,"*"&$B12&"*") -> 0 | L12: =COUNTIF(ORARIO_GENERALE!M$4:M$61,"*"&$B12&"*") -> 0 | M12: =COUNTIF(ORARIO_GENERALE!P$4:P$61,"*"&$B12&"*") -> 0 | N12: =COUNTIF(#REF!,"*"&$B12&"*") -> #REF! | O12: =SUM(C12:M12) -> #REF!
B13: LA1E | C13: =COUNTIF(ORARIO_GENERALE!D$4:D$61,"*"&$B13&"*") -> 0 | D13: =COUNTIF(ORARIO_GENERALE!E$4:E$61,"*"&$B13&"*") -> 0 | E13: =COUNTIF(ORARIO_GENERALE!F$4:F$61,"*"&$B13&"*") -> 0 | F13: =COUNTIF(ORARIO_GENERALE!G$4:G$61,"*"&$B13&"*") -> 0 | G13: =COUNTIF(ORARIO_GENERALE!H$4:H$61,"*"&$B13&"*") -> 0 | H13: =COUNTIF(ORARIO_GENERALE!I$4:I$61,"*"&$B13&"*") -> 0 | I13: =COUNTIF(#REF!,"*"&$B13&"*") -> #REF! | J13: =COUNTIF(#REF!,"*"&$B13&"*") -> #REF! | K13: =COUNTIF(ORARIO_GENERALE!K$4:K$61,"*"&$B13&"*") -> 0 | L13: =COUNTIF(ORARIO_GENERALE!M$4:M$61,"*"&$B13&"*") -> 0 | M13: =COUNTIF(ORARIO_GENERALE!P$4:P$61,"*"&$B13&"*") -> 0 | N13: =COUNTIF(#REF!,"*"&$B13&"*") -> #REF! | O13: =SUM(C13:M13) -> #REF!
B14: LA2A | C14: =COUNTIF(ORARIO_GENERALE!D$4:D$61,"*"&$B14&"*") -> 0 | D14: =COUNTIF(ORARIO_GENERALE!E$4:E$61,"*"&$B14&"*") -> 0 | E14: =COUNTIF(ORARIO_GENERALE!F$4:F$61,"*"&$B14&"*") -> 0 | F14: =COUNTIF(ORARIO_GENERALE!G$4:G$61,"*"&$B14&"*") -> 0 | G14: =COUNTIF(ORARIO_GENERALE!H$4:H$61,"*"&$B14&"*") -> 0 | H14: =COUNTIF(ORARIO_GENERALE!I$4:I$61,"*"&$B14&"*") -> 0 | I14: =COUNTIF(#REF!,"*"&$B14&"*") -> #REF! | J14: =COUNTIF(#REF!,"*"&$B14&"*") -> #REF! | K14: =COUNTIF(ORARIO_GENERALE!K$4:K$61,"*"&$B14&"*") -> 0 | L14: =COUNTIF(ORARIO_GENERALE!M$4:M$61,"*"&$B14&"*") -> 0 | M14: =COUNTIF(ORARIO_GENERALE!P$4:P$61,"*"&$B14&"*") -> 0 | N14: =COUNTIF(#REF!,"*"&$B14&"*") -> #REF! | O14: =SUM(C14:M14) -> #REF!
... B29: PATENTE | C29: =COUNTIF(ORARIO_GENERALE!D$4:D$61,"*"&$B29&"*") -> 0 | D29: =COUNTIF(ORARIO_GENERALE!E$4:E$61,"*"&$B29&"*") -> 0 | E29: =COUNTIF(ORARIO_GENERALE!F$4:F$61,"*"&$B29&"*") -> 0 | F29: =COUNTIF(ORARIO_GENERALE!G$4:G$61,"*"&$B29&"*") -> 0 | G29: =COUNTIF(ORARIO_GENERALE!H$4:H$61,"*"&$B29&"*") -> 0 | H29: =COUNTIF(ORARIO_GENERALE!I$4:I$61,"*"&$B29&"*") -> 0 | I29: =COUNTIF(#REF!,"*"&$B29&"*") -> #REF! | J29: =COUNTIF(#REF!,"*"&$B29&"*") -> #REF! | K29: =COUNTIF(ORARIO_GENERALE!K$4:K$61,"*"&$B29&"*") -> 0 | L29: =COUNTIF(ORARIO_GENERALE!M$4:M$61,"*"&$B29&"*") -> 0 | M29: =COUNTIF(ORARIO_GENERALE!P$4:P$61,"*"&$B29&"*") -> 0 | N29: =COUNTIF(#REF!,"*"&$B29&"*") -> #REF! | O29: =SUM(C29:M29) -> #REF!
B30: D/A | C30: =COUNTIF(ORARIO_GENERALE!D$4:D$61,"*"&$B$30&"*") -> 1 | D30: =COUNTIF(ORARIO_GENERALE!E$4:E$61,"*"&$B$30&"*") -> 0 | E30: =COUNTIF(ORARIO_GENERALE!F$4:F$61,"*"&$B$30&"*") -> 4 | F30: =COUNTIF(ORARIO_GENERALE!G$4:G$61,"*"&$B$30&"*") -> 8 | G30: =COUNTIF(ORARIO_GENERALE!H$4:H$61,"*"&$B30&"*") -> 2 | H30: =COUNTIF(ORARIO_GENERALE!I$4:I$61,"*"&$B30&"*") -> 3 | I30: =COUNTIF(#REF!,"*"&$B30&"*") -> #REF! | J30: =COUNTIF(#REF!,"*"&$B$30&"*") -> #REF! | K30: =COUNTIF(ORARIO_GENERALE!K$4:K$61,"*"&$B30&"*") -> 6 | L30: =COUNTIF(ORARIO_GENERALE!M$4:M$61,"*"&$B30&"*") -> 4 | M30: =COUNTIF(ORARIO_GENERALE!P$4:P$61,"*"&$B30&"*") -> 3 | N30: =COUNTIF(#REF!,"*"&$B30&"*") -> #REF! | O30: =SUM(C30:M30) -> #REF!
B31: P | C31: =COUNTIF(ORARIO_GENERALE!D$4:D$61,B31) -> 0 | D31: =COUNTIF(ORARIO_GENERALE!E$4:E$61,B31) -> 0 | E31: =COUNTIF(ORARIO_GENERALE!F$4:F$61,B31) -> 0 | F31: =COUNTIF(ORARIO_GENERALE!G$4:G$61,B31) -> 0 | G31: =COUNTIF(ORARIO_GENERALE!H$4:H$61,B31) -> 0 | H31: =COUNTIF(ORARIO_GENERALE!I$4:I$61,B31) -> 0 | I31: =COUNTIF(#REF!,C31) -> #REF! | J31: =COUNTIF(#REF!,B31) -> #REF! | K31: =COUNTIF(ORARIO_GENERALE!K$4:K$61,$B31) -> 2 | L31: =COUNTIF(ORARIO_GENERALE!M$4:M$61,$B31) -> 2 | M31: =COUNTIF(ORARIO_GENERALE!P$4:P$61,$B31) -> 1 | N31: =COUNTIF(#REF!,$B31) -> #REF! | O31: =SUM(C31:M31) -> #REF!
B32: C | C32: =COUNTIF(ORARIO_GENERALE!D$4:D$61,B32) -> 2 | D32: =COUNTIF(ORARIO_GENERALE!E$4:E$61,B32) -> 2 | E32: =COUNTIF(ORARIO_GENERALE!F$4:F$61,B32) -> 2 | F32: =COUNTIF(ORARIO_GENERALE!G$4:G$61,B32) -> 2 | G32: =COUNTIF(ORARIO_GENERALE!H$4:H$61,B32) -> 2 | H32: =COUNTIF(ORARIO_GENERALE!I$4:I$61,B32) -> 2 | I32: =COUNTIF(#REF!,C32) -> #REF! | J32: =COUNTIF(#REF!,B32) -> #REF! | K32: =COUNTIF(ORARIO_GENERALE!K$4:K$61,$B32) -> 2 | L32: =COUNTIF(ORARIO_GENERALE!M$4:M$61,$B32) -> 2 | M32: =COUNTIF(ORARIO_GENERALE!P$4:P$61,$B32) -> 1 | N32: =COUNTIF(#REF!,$B32) -> #REF! | O32: =SUM(C32:M32) -> #REF!
B33: TOTALE DOCENTE | C33: =SUM(C2:C32) -> 3 | D33: =SUM(D2:D32) -> 2 | E33: =SUM(E2:E32) -> 6 | F33: =SUM(F2:F32) -> 10 | G33: =SUM(G2:G32) -> 4 | H33: =SUM(H2:H32) -> 5 | I33: =SUM(I2:I32) -> #REF! | J33: =SUM(J2:J32) -> #REF! | ... N33: =SUM(N2:N32) -> #REF!
B34: TOTALE LEZIONI | C34: =SUM(C2:C26) -> 0 | D34: =SUM(D2:D26) -> 0 | E34: =SUM(E2:E26) -> 0 | F34: =SUM(F2:F26) -> 0 | G34: =SUM(G2:G26) -> 0 | H34: =SUM(H2:H26) -> 0 | I34: =SUM(I2:I26) -> #REF! | J34: =SUM(J2:J26) -> #REF! | ... M34: =SUM(M2:M26) -> 0

Sheet INSEGNANTI
AF1: g
B2: =ORARIO_GENERALE!D3 -> AQUILA | C2: LUN | D2: MAR | E2: MER | F2: GIO | G2: VEN | I2: =ORARIO_GENERALE!E3 -> ROCCO | J2: LUN | K2: MAR | L2: MER | M2: GIO | N2: VEN | P2: =ORARIO_GENERALE!L3 -> FREYRIE | Q2: LUN | R2: MAR | S2: MER | T2: GIO | U2: VEN | W2: =ORARIO_GENERALE!F3 -> IGNACCOLO | X2: LUN | Y2: MAR | Z2: MER | AA2: GIO | AB2: VEN | AD2: =ORARIO_GENERALE!P3 -> ZIMMITTI | AE2: LUN | AF2: MAR | AG2: MER | AH2: GIO | AI2: VEN | AK2: =ORARIO_GENERALE!G3 -> CELI | AL2: LUN | AM2: MAR | AN2: MER | AO2: GIO | AP2: VEN | AR2: =ORARIO_GENERALE!H3 -> PEZONE | AS2: LUN | AT2: MAR | AU2: MER | AV2: GIO | AW2: VEN | AY2: =ORARIO_GENERALE!I3 -> VALFRE' | AZ2: LUN | BA2: MAR | BB2: MER | BC2: GIO | BD2: VEN | BF2: =ORARIO_GENERALE!K3 -> ABBADESSA | BG2: LUN | BH2: MAR | BI2: MER | BJ2: GIO | BK2: VEN | BM2: =#REF! -> #REF! | BN2: LUN | BO2: MAR | BP2: MER | BQ2: GIO | BR2: VEN | BT2: =#REF! -> #REF! | BU2: LUN | BV2: MAR | BW2: MER | BX2: GIO | BY2: VEN | CA2: =#REF! -> #REF! | CB2: LUN | CC2: MAR | CD2: MER | CE2: GIO | CF2: VEN | CH2: =#REF! -> #REF! | CI2: LUN | CJ2: MAR | CK2: MER | CL2: GIO | CM2: VEN
B3: 08:30-09:30 | C3: =ORARIO_GENERALE!D4 -> 0 | D3: =ORARIO_GENERALE!D17 -> 0 | E3: =ORARIO_GENERALE!D30 -> 0 | F3: =ORARIO_GENERALE!D43 -> 0 | G3: =ORARIO_GENERALE!D56 -> 0 | I3: 08:30-09:30 | J3: =ORARIO_GENERALE!E4 -> 0 | K3: =ORARIO_GENERALE!E17 -> 0 | L3: =ORARIO_GENERALE!E30 -> 0 | M3: =ORARIO_GENERALE!E43 -> 0 | N3: =ORARIO_GENERALE!E56 -> 0 | P3: 08:30-09:30 | Q3: =ORARIO_GENERALE!L4 -> 0 | R3: =ORARIO_GENERALE!L17 -> 0 | S3: =ORARIO_GENERALE!L30 -> 0 | T3: =ORARIO_GENERALE!L43 -> 0 | U3: =ORARIO_GENERALE!L56 -> 0 | W3: 08:30-09:30 | X3: =ORARIO_GENERALE!F4 -> 0 | Y3: =ORARIO_GENERALE!F17 -> 0 | Z3: =ORARIO_GENERALE!F30 -> 0 | AA3: =ORARIO_GENERALE!F43 -> 0 | AB3: =ORARIO_GENERALE!F56 -> 0 | AD3: 08:30-09:30 | AE3: =ORARIO_GENERALE!P4 -> 0 | AF3: =ORARIO_GENERALE!P17 -> 0 | AG3: =ORARIO_GENERALE!P30 -> 0 | AH3: =ORARIO_GENERALE!P43 -> 0 | AI3: =ORARIO_GENERALE!P56 -> 0 | AK3: 08:30-09:30 | AL3: =ORARIO_GENERALE!G4 -> 0 | AM3: =ORARIO_GENERALE!G17 -> 0 | AN3: =ORARIO_GENERALE!G30 -> 0 | AO3: =ORARIO_GENERALE!G43 -> 0 | AP3: =ORARIO_GENERALE!G56 -> 0 | AR3: 08:30-09:30 | AS3: =ORARIO_GENERALE!H4 -> 0 | AT3: =ORARIO_GENERALE!H17 -> 0 | AU3: =ORARIO_GENERALE!H30 -> 0 | AV3: =ORARIO_GENERALE!H43 -> 0 | AW3: =#REF! -> #REF! | AY3: 08:30-09:30 | AZ3: =ORARIO_GENERALE!I4 -> 0 | BA3: =ORARIO_GENERALE!I17 -> 0 | BB3: =ORARIO_GENERALE!I30 -> 0 | BC3: =ORARIO_GENERALE!I43 -> 0 | BD3: =ORARIO_GENERALE!I56 -> 0 | BF3: 08:30-09:30 | BG3: =ORARIO_GENERALE!K4 -> 0 | BH3: =ORARIO_GENERALE!K17 -> 0 | BI3: =ORARIO_GENERALE!K30 -> 0 | BJ3: =ORARIO_GENERALE!K43 -> 0 | BK3: =ORARIO_GENERALE!K56 -> 0 | BM3: 08:30-09:30 | BN3: =#REF! -> #REF! | BO3: =#REF! -> #REF! | BP3: =#REF! -> #REF! | BQ3: =#REF! -> #REF! | BR3: =#REF! -> #REF! | BT3: 08:30-09:30 | BU3: =#REF! -> #REF! | BV3: =#REF! -> #REF! | BW3: =#REF! -> #REF! | BX3: =#REF! -> #REF! | BY3: =#REF! -> #REF! | CA3: 08:30-09:30 | CB3: =#REF! -> #REF! | CC3: =#REF! -> #REF! | CD3: =#REF! -> #REF! | CE3: =#REF! -> #REF! | CF3: =#REF! -> #REF! | CH3: 08:30-09:30 | CI3: =#REF! -> #REF! | CJ3: =#REF! -> #REF! | CK3: =#REF! -> #REF! | CL3: =#REF! -> #REF! | CM3: =#REF! -> #REF!
B4: 09:30-10:30 | C4: =ORARIO_GENERALE!D5 -> RPPB | D4: =ORARIO_GENERALE!D18 -> 0 | E4: =#REF! -> #REF! | F4: =ORARIO_GENERALE!D44 -> RPPA | G4: =ORARIO_GENERALE!D57 -> 0 | I4: 09:30-10:30 | J4: =ORARIO_GENERALE!E5 -> RPPA | K4: =#REF! -> #REF! | L4: =ORARIO_GENERALE!E31 -> 0 | M4: =ORARIO_GENERALE!E44 -> 0 | N4: =ORARIO_GENERALE!E57 -> RPPB | P4: 09:30-10:30 | Q4: =ORARIO_GENERALE!L5 -> 0 | R4: =ORARIO_GENERALE!L18 -> RA1B | S4: =ORARIO_GENERALE!E18 -> 0 | T4: =ORARIO_GENERALE!L31 -> 0 | U4: =ORARIO_GENERALE!L57 -> RA1A | W4: 09:30-10:30 | X4: =ORARIO_GENERALE!F5 -> 0 | Y4: =ORARIO_GENERALE!F18 -> RPPA | Z4: =ORARIO_GENERALE!F31 -> RPPA | AA4: =#REF! -> #REF! | AB4: =ORARIO_GENERALE!F57 -> RPPA | AD4: 09:30-10:30 | AE4: =#REF! -> #REF! | AF4: =ORARIO_GENERALE!P18 -> 0 | AG4: =#REF! -> #REF! | AH4: =#REF! -> #REF! | AI4: =#REF! -> #REF! | AK4: 09:30-10:30 | AL4: =ORARIO_GENERALE!G8 -> 0 | AM4: =ORARIO_GENERALE!G18 -> 0 | AN4: =ORARIO_GENERALE!G31 -> RPPB | AO4: =ORARIO_GENERALE!G44 -> D/A | AP4: =ORARIO_GENERALE!G57 -> D/A | AR4: 09:30-10:30 | AS4: =ORARIO_GENERALE!H5 -> B1 | AT4: =ORARIO_GENERALE!H18 -> 0 | AU4: =ORARIO_GENERALE!H31 -> B1 | AV4: =ORARIO_GENERALE!H44 -> 0 | AW4: =#REF! -> #REF! | AY4: 09:30-10:30 | AZ4: =ORARIO_GENERALE!I5 -> 0 | BA4: =ORARIO_GENERALE!I18 -> RPPB | BB4: =ORARIO_GENERALE!I31 -> 0 | BC4: =ORARIO_GENERALE!I44 -> 0 | BD4: =ORARIO_GENERALE!I57 -> 0 | BF4: 09:30-10:30 | BG4: =#REF! -> #REF! | BH4: =ORARIO_GENERALE!M18 -> 0 | BI4: =ORARIO_GENERALE!K33 -> RA2B | BJ4: =#REF! -> #REF! | BK4: =ORARIO_GENERALE!K58 -> D/A | BM4: 09:30-10:30 | BN4: =#REF! -> #REF! | BO4: =#REF! -> #REF! | BP4: =#REF! -> #REF! | BQ4: =#REF! -> #REF! | BR4: =#REF! -> #REF! | BT4: 09:30-10:30 | BU4: =#REF! -> #REF! | BV4: =#REF! -> #REF! | BW4: =#REF! -> #REF! | BX4: =#REF! -> #REF! | BY4: =#REF! -> #REF! | CA4: 09:30-10:30 | CB4: =#REF! -> #REF! | CC4: =#REF! -> #REF! | CD4: =#REF! -> #REF! | CE4: =#REF! -> #REF! | CF4: =#REF! -> #REF! | CH4: 09:30-10:30 | CI4: =#REF! -> #REF! | CJ4: =#REF! -> #REF! | CK4: =#REF! -> #REF! | CL4: =#REF! -> #REF! | CM4: =#REF! -> #REF!
B5: 10:30-11:30 | C5: =ORARIO_GENERALE!D6 -> RPPB | D5: =ORARIO_GENERALE!D19 -> 0 | E5: =ORARIO_GENERALE!D32 -> 0 | F5: =ORARIO_GENERALE!D45 -> RPPA | G5: =ORARIO_GENERALE!D58 -> D/A | I5: 10:30-11:30 | J5: =ORARIO_GENERALE!E6 -> RPPA | K5: =ORARIO_GENERALE!E19 -> 0 | L5: =ORARIO_GENERALE!E32 -> 0 | M5: =ORARIO_GENERALE!E45 -> 0 | N5: =ORARIO_GENERALE!E58 -> RPPB | P5: 10:30-11:30 | Q5: =ORARIO_GENERALE!L6 -> 0 | R5: =ORARIO_GENERALE!L19 -> RA1B | S5: =#REF! -> #REF! | T5: =#REF! -> #REF! | U5: =ORARIO_GENERALE!L58 -> RA1A | W5: 10:30-11:30 | X5: =ORARIO_GENERALE!F6 -> 0 | Y5: =ORARIO_GENERALE!F19 -> RPPA | Z5: =ORARIO_GENERALE!F32 -> RPPB | AA5: =#REF! -> #REF! | AB5: =ORARIO_GENERALE!F58 -> D/A | AD5: 10:30-11:30 | AE5: =ORARIO_GENERALE!K5 -> 0 | AF5: =ORARIO_GENERALE!P19 -> 0 | AG5: =#REF! -> #REF! | AH5: =#REF! -> #REF! | AI5: =ORARIO_GENERALE!P58 -> RA0A | AK5: 10:30-11:30 | AL5: =#REF! -> #REF! | AM5: =ORARIO_GENERALE!G19 -> 0 | AN5: =ORARIO_GENERALE!G32 -> RPPA | AO5: =ORARIO_GENERALE!G45 -> RPPB | AP5: =ORARIO_GENERALE!G58 -> D/A | AR5: 10:30-11:30 | AS5: =ORARIO_GENERALE!H6 -> B1 | AT5: =ORARIO_GENERALE!H19 -> 0 | AU5: =#REF! -> #REF! | AV5: =ORARIO_GENERALE!H45 -> 0 | AW5: =ORARIO_GENERALE!H22 -> 0 | AY5: 10:30-11:30 | AZ5: =ORARIO_GENERALE!I6 -> 0 | BA5: =ORARIO_GENERALE!I19 -> RPPB | BB5: =ORARIO_GENERALE!I32 -> 0 | BC5: =ORARIO_GENERALE!I45 -> 0 | BD5: =ORARIO_GENERALE!I58 -> RPPA | BF5: 10:30-11:30 | BG5: =#REF! -> #REF! | BH5: =ORARIO_GENERALE!M19 -> RA2A | BI5: =ORARIO_GENERALE!K34 -> RA2B | BJ5: =#REF! -> #REF! | BK5: =ORARIO_GENERALE!K59 -> C | BM5: 10:30-11:30 | BN5: =#REF! -> #REF! | BO5: =#REF! -> #REF! | BP5: =#REF! -> #REF! | BQ5: =#REF! -> #REF! | BR5: =#REF! -> #REF! | BT5: 10:30-11:30 | BU5: =#REF! -> #REF! | BV5: =#REF! -> #REF! | BW5: =#REF! -> #REF! | BX5: =#REF! -> #REF! | BY5: =#REF! -> #REF! | CA5: 10:30-11:30 | CB5: =#REF! -> #REF! | CC5: =#REF! -> #REF! | CD5: =#REF! -> #REF! | CE5: =#REF! -> #REF! | CF5: =#REF! -> #REF! | CH5: 10:30-11:30 | CI5: =#REF! -> #REF! | CJ5: =#REF! -> #REF! | CK5: =#REF! -> #REF! | CL5: =#REF! -> #REF! | CM5: =#REF! -> #REF!
B6: 11:30-12:30 | C6: =ORARIO_GENERALE!D7 -> RPPA | D6: =ORARIO_GENERALE!D20 -> 0 | E6: =#REF! -> #REF! | F6: =ORARIO_GENERALE!D46 -> RPPB | G6: =ORARIO_GENERALE!D59 -> C | I6: 11:30-12:30 | J6: =ORARIO_GENERALE!E7 -> RPPB | K6: =ORARIO_GENERALE!E20 -> 0 | L6: =ORARIO_GENERALE!E33 -> 0 | M6: =ORARIO_GENERALE!E46 -> 0 | N6: =ORARIO_GENERALE!E59 -> C | P6: 11:30-12:30 | Q6: =ORARIO_GENERALE!L7 -> 0 | R6: =ORARIO_GENERALE!L20 -> D/A | S6: =#REF! -> #REF! | T6: =#REF! -> #REF! | U6: =ORARIO_GENERALE!L59 -> C | W6: 11:30-12:30 | X6: =ORARIO_GENERALE!F7 -> 0 | Y6: =ORARIO_GENERALE!F20 -> RPPB | Z6: =#REF! -> #REF! | AA6: =ORARIO_GENERALE!F46 -> 0 | AB6: =ORARIO_GENERALE!F59 -> C | AD6: 11:30-12:30 | AE6: =#REF! -> #REF! | AF6: =ORARIO_GENERALE!P20 -> 0 | AG6: =#REF! -> #REF! | AH6: =#REF! -> #REF! | AI6: =ORARIO_GENERALE!P59 -> C | AK6: 11:30-12:30 | AL6: =ORARIO_GENERALE!G7 -> 0 | AM6: =ORARIO_GENERALE!G20 -> 0 | AN6: =ORARIO_GENERALE!G33 -> RPPA | AO6: =ORARIO_GENERALE!G46 -> D/A | AP6: =ORARIO_GENERALE!G59 -> C | AR6: 11:30-12:30 | AS6: =ORARIO_GENERALE!H7 -> POT | AT6: =ORARIO_GENERALE!H20 -> 0 | AU6: =ORARIO_GENERALE!H32 -> B1 | AV6: =ORARIO_GENERALE!H46 -> POT | AW6: =ORARIO_GENERALE!H59 -> C | AY6: 11:30-12:30 | AZ6: =ORARIO_GENERALE!I7 -> 0 | BA6: =ORARIO_GENERALE!I20 -> RPPA | BB6: =ORARIO_GENERALE!I33 -> 0 | BC6: =ORARIO_GENERALE!I46 -> 0 | BD6: =ORARIO_GENERALE!I59 -> C | BF6: 11:30-12:30 | BG6: =ORARIO_GENERALE!K7 -> RA1A | BH6: =ORARIO_GENERALE!K20 -> 0 | BI6: =#REF! -> #REF! | BJ6: =#REF! -> #REF! | BK6: =ORARIO_GENERALE!K60 -> C | BM6: 11:30-12:30 | BN6: =#REF! -> #REF! | BO6: =#REF! -> #REF! | BP6: =#REF! -> #REF! | BQ6: =#REF! -> #REF! | BR6: =#REF! -> #REF! | BT6: 11:30-12:30 | BU6: =#REF! -> #REF! | BV6: =#REF! -> #REF! | BW6: =#REF! -> #REF! | BX6: =#REF! -> #REF! | BY6: =#REF! -> #REF! | CA6: 11:30-12:30 | CB6: =#REF! -> #REF! | CC6: =#REF! -> #REF! | CD6: =#REF! -> #REF! | CE6: =#REF! -> #REF! | CF6: =#REF! -> #REF! | CH6: 11:30-12:30 | CI6: =#REF! -> #REF! | CJ6: =#REF! -> #REF! | CK6: =#REF! -> #REF! | CL6: =#REF! -> #REF! | CM6: =#REF! -> #REF!
B7: 12:30-13:30 | C7: =ORARIO_GENERALE!D8 -> 0 | D7: =ORARIO_GENERALE!D21 -> 0 | E7: =#REF! -> #REF! | F7: =ORARIO_GENERALE!D47 -> 0 | G7: =ORARIO_GENERALE!D60 -> C | I7: 12:30-13:30 | J7: =ORARIO_GENERALE!E8 -> RPPA | K7: =#REF! -> #REF! | L7: =ORARIO_GENERALE!E34 -> 0 | M7: =ORARIO_GENERALE!E47 -> 0 | N7: =ORARIO_GENERALE!E60 -> C | P7: 12:30-13:30 | Q7: =ORARIO_GENERALE!L8 -> 0 | R7: =ORARIO_GENERALE!L21 -> P | S7: =ORARIO_GENERALE!L34 -> 0 | T7: =#REF! -> #REF! | U7: =ORARIO_GENERALE!L60 -> C | W7: 12:30-13:30 | X7: =ORARIO_GENERALE!F8 -> 0 | Y7: =ORARIO_GENERALE!F21 -> RPPB | Z7: =ORARIO_GENERALE!F34 -> 0 | AA7: =ORARIO_GENERALE!F47 -> 0 | AB7: =ORARIO_GENERALE!F60 -> C | AD7: 12:30-13:30 | AE7: =ORARIO_GENERALE!P57 -> RA0A | AF7: =ORARIO_GENERALE!P21 -> 0 | AG7: =ORARIO_GENERALE!P34 -> 0 | AH7: =ORARIO_GENERALE!M44 -> 0 | AI7: =ORARIO_GENERALE!P60 -> p | AK7: 12:30-13:30 | AL7: =#REF! -> #REF! | AM7: =ORARIO_GENERALE!G21 -> 0 | AN7: =ORARIO_GENERALE!G34 -> 0 | AO7: =ORARIO_GENERALE!G47 -> 0 | AP7: =ORARIO_GENERALE!G60 -> C | AR7: 12:30-13:30 | AS7: =ORARIO_GENERALE!H14 -> 0 | AT7: =ORARIO_GENERALE!H21 -> 0 | AU7: =ORARIO_GENERALE!H34 -> 0 | AV7: =ORARIO_GENERALE!H47 -> POT | AW7: =ORARIO_GENERALE!H60 -> C | AY7: 12:30-13:30 | AZ7: =ORARIO_GENERALE!I8 -> 0 | BA7: =ORARIO_GENERALE!I21 -> 0 | BB7: =ORARIO_GENERALE!I35 -> 0 | BC7: =ORARIO_GENERALE!I47 -> 0 | BD7: =ORARIO_GENERALE!I60 -> C | BF7: 12:30-13:30 | BG7: =ORARIO_GENERALE!K21 -> 0 | BH7: =#REF! -> #REF! | BI7: =#REF! -> #REF! | BJ7: =#REF! -> #REF! | BK7: =#REF! -> #REF! | BM7: 12:30-13:30 | BN7: =#REF! -> #REF! | BO7: =#REF! -> #REF! | BP7: =#REF! -> #REF! | BQ7: =#REF! -> #REF! | BR7: =#REF! -> #REF! | BT7: 12:30-13:30 | BU7: =#REF! -> #REF! | BV7: =#REF! -> #REF! | BW7: =#REF! -> #REF! | BX7: =#REF! -> #REF! | BY7: =#REF! -> #REF! | CA7: 12:30-13:30 | CB7: =#REF! -> #REF! | CC7: =#REF! -> #REF! | CD7: =#REF! -> #REF! | CE7: =#REF! -> #REF! | CF7: =#REF! -> #REF! | CH7: 12:30-13:30 | CI7: =#REF! -> #REF! | CJ7: =#REF! -> #REF! | CK7: =#REF! -> #REF! | CL7: =#REF! -> #REF! | CM7: =#REF! -> #REF!
B8: 13:30-14:30 | C8: =ORARIO_GENERALE!D9 -> 0 | D8: =ORARIO_GENERALE!D22 -> 0 | E8: =ORARIO_GENERALE!D34 -> 0 | F8: =ORARIO_GENERALE!D48 -> 0 | G8: =ORARIO_GENERALE!D61 -> 0 | I8: 13:30-14:30 | J8: =ORARIO_GENERALE!E9 -> 0 | K8: =ORARIO_GENERALE!E21 -> 0 | L8: =ORARIO_GENERALE!E35 -> 0 | M8: =ORARIO_GENERALE!E48 -> 0 | N8: =ORARIO_GENERALE!E61 -> 0 | P8: 13:30-14:30 | Q8: =#REF! -> #REF! | R8: =ORARIO_GENERALE!L22 -> 0 | S8: =ORARIO_GENERALE!L35 -> 0 | T8: =#REF! -> #REF! | U8: =ORARIO_GENERALE!L61 -> 0 | W8: 13:30-14:30 | X8: =ORARIO_GENERALE!F9 -> 0 | Y8: =ORARIO_GENERALE!F22 -> 0 | Z8: =ORARIO_GENERALE!F35 -> 0 | AA8: =ORARIO_GENERALE!F48 -> 0 | AB8: =ORARIO_GENERALE!F61 -> 0 | AD8: 13:30-14:30 | AE8: =#REF! -> #REF! | AF8: =ORARIO_GENERALE!P22 -> 0 | AG8: =ORARIO_GENERALE!P35 -> 0 | AH8: =ORARIO_GENERALE!M46 -> RA2B | AI8: =ORARIO_GENERALE!P61 -> 0 | AK8: 13:30-14:30 | AL8: =ORARIO_GENERALE!G6 -> 0 | AM8: =ORARIO_GENERALE!G22 -> 0 | AN8: =ORARIO_GENERALE!G35 -> 0 | AO8: =ORARIO_GENERALE!G48 -> 0 | AP8: =ORARIO_GENERALE!G61 -> 0 | AR8: 13:30-14:30 | AS8: =ORARIO_GENERALE!H15 -> 0 | AT8: =#REF! -> #REF! | AU8: =#REF! -> #REF! | AV8: =ORARIO_GENERALE!H48 -> POT | AW8: =ORARIO_GENERALE!H61 -> 0 | AY8: 13:30-14:30 | AZ8: =ORARIO_GENERALE!I9 -> 0 | BA8: =ORARIO_GENERALE!I22 -> 0 | BB8: =#REF! -> #REF! | BC8: =ORARIO_GENERALE!I48 -> 0 | BD8: =ORARIO_GENERALE!I61 -> 0 | BF8: 13:30-14:30 | BG8: =#REF! -> #REF! | BH8: =ORARIO_GENERALE!K22 -> 0 | BI8: =ORARIO_GENERALE!K35 -> 0 | BJ8: =#REF! -> #REF! | BK8: =ORARIO_GENERALE!K61 -> 0 | BM8: 13:30-14:30 | BN8: =#REF! -> #REF! | BO8: =#REF! -> #REF! | BP8: =#REF! -> #REF! | BQ8: =#REF! -> #REF! | BR8: =#REF! -> #REF! | BT8: 13:30-14:30 | BU8: =#REF! -> #REF! | BV8: =#REF! -> #REF! | BW8: =#REF! -> #REF! | BX8: =#REF! -> #REF! | BY8: =#REF! -> #REF! | CA8: 13:30-14:30 | CB8: =#REF! -> #REF! | CC8: =#REF! -> #REF! | CD8: =#REF! -> #REF! | CE8: =#REF! -> #REF! | CF8: =#REF! -> #REF! | CH8: 13:30-14:30 | CI8: =#REF! -> #REF! | CJ8: =#REF! -> #REF! | CK8: =#REF! -> #REF! | CL8: =#REF! -> #REF! | CM8: =#REF! -> #REF!
B9: 14:00-15:00 | C9: =ORARIO_GENERALE!D10 -> 0 | D9: =ORARIO_GENERALE!D23 -> 0 | E9: =ORARIO_GENERALE!D35 -> 0 | F9: =ORARIO_GENERALE!D49 -> 0 | G9: =ORARIO_GENERALE!D64 -> 0 | I9: 14:00-15:00 | J9: =ORARIO_GENERALE!E10 -> 0 | K9: =ORARIO_GENERALE!E22 -> 0 | L9: =ORARIO_GENERALE!E36 -> RPPD | M9: =ORARIO_GENERALE!E49 -> 0 | N9: =ORARIO_GENERALE!E64 -> 0 | P9: 14:00-15:00 | Q9: =#REF! -> #REF! | R9: =ORARIO_GENERALE!L23 -> 0 | S9: =ORARIO_GENERALE!L36 -> 0 | T9: =#REF! -> #REF! | U9: =ORARIO_GENERALE!L64 -> 0 | W9: 14:00-15:00 | X9: =ORARIO_GENERALE!F10 -> 0 | Y9: =ORARIO_GENERALE!F23 -> 0 | Z9: =ORARIO_GENERALE!F36 -> 0 | AA9: =ORARIO_GENERALE!F49 -> RPPD | AB9: =ORARIO_GENERALE!F64 -> 0 | AD9: 14:00-15:00 | AE9: =ORARIO_GENERALE!P5 -> 0 | AF9: =ORARIO_GENERALE!P23 -> 0 | AG9: =ORARIO_GENERALE!M36 -> 0 | AH9: =#REF! -> #REF! | AI9: =ORARIO_GENERALE!P64 -> 0 | AK9: 14:00-15:00 | AL9: =ORARIO_GENERALE!G10 -> RPPD | AM9: =ORARIO_GENERALE!G23 -> RPPD | AN9: =ORARIO_GENERALE!G36 -> 0 | AO9: =ORARIO_GENERALE!G49 -> 0 | AP9: =ORARIO_GENERALE!G64 -> 0 | AR9: 14:00-15:00 | AS9: =ORARIO_GENERALE!H10 -> D/A | AT9: =ORARIO_GENERALE!H23 -> 0 | AU9: =ORARIO_GENERALE!H36 -> 0 | AV9: =ORARIO_GENERALE!H49 -> 0 | AW9: =ORARIO_GENERALE!H64 -> 0 | AY9: 14:00-15:00 | AZ9: =ORARIO_GENERALE!I10 -> 0 | BA9: =ORARIO_GENERALE!I23 -> 0 | BB9: =ORARIO_GENERALE!I36 -> 0 | BC9: =ORARIO_GENERALE!I49 -> 0 | BD9: =ORARIO_GENERALE!I64 -> 0 | BF9: 14:00-15:00 | BG9: =ORARIO_GENERALE!K10 -> RA1C | BH9: =#REF! -> #REF! | BI9: =ORARIO_GENERALE!K36 -> F | BJ9: =ORARIO_GENERALE!K44 -> RA2B | BK9: =ORARIO_GENERALE!K64 -> 0 | BM9: 14:00-15:00 | BN9: =#REF! -> #REF! | BO9: =#REF! -> #REF! | BP9: =#REF! -> #REF! | BQ9: =#REF! -> #REF! | BR9: =#REF! -> #REF! | BT9: 14:00-15:00 | BU9: =#REF! -> #REF! | BV9: =#REF! -> #REF! | BW9: =#REF! -> #REF! | BX9: =#REF! -> #REF! | BY9: =#REF! -> #REF! | CA9: 14:00-15:00 | CB9: =#REF! -> #REF! | CC9: =#REF! -> #REF! | CD9: =#REF! -> #REF! | CE9: =#REF! -> #REF! | CF9: =#REF! -> #REF! | CH9: 14:00-15:00 | CI9: =#REF! -> #REF! | CJ9: =#REF! -> #REF! | CK9: =#REF! -> #REF! | CL9: =#REF! -> #REF! | CM9: =#REF! -> #REF!
B10: 15:00-16:00 | C10: =ORARIO_GENERALE!D11 -> 0 | D10: =ORARIO_GENERALE!D24 -> RPPD | E10: =ORARIO_GENERALE!D37 -> 0 | F10: =ORARIO_GENERALE!D12 -> 0 | G10: =ORARIO_GENERALE!D65 -> 0 | I10: 15:00-16:00 | J10: =ORARIO_GENERALE!E11 -> 0 | K10: =ORARIO_GENERALE!E24 -> 0 | L10: =ORARIO_GENERALE!E37 -> RPPD | M10: =ORARIO_GENERALE!E50 -> 0 | N10: =ORARIO_GENERALE!E65 -> 0 | P10: 15:00-16:00 | Q10: =ORARIO_GENERALE!L11 -> RA0A | R10: =ORARIO_GENERALE!L24 -> 0 | S10: =ORARIO_GENERALE!L33 -> 0 | T10: =#REF! -> #REF! | U10: =ORARIO_GENERALE!L65 -> 0 | W10: 15:00-16:00 | X10: =ORARIO_GENERALE!F11 -> 0 | Y10: =ORARIO_GENERALE!F24 -> 0 | Z10: =ORARIO_GENERALE!F37 -> 0 | AA10: =ORARIO_GENERALE!F50 -> RPPD | AB10: =ORARIO_GENERALE!F65 -> 0 | AD10: 15:00-16:00 | AE10: =ORARIO_GENERALE!P6 -> 0 | AF10: =ORARIO_GENERALE!P24 -> 0 | AG10: =ORARIO_GENERALE!M37 -> 0 | AH10: =#REF! -> #REF! | AI10: =ORARIO_GENERALE!P65 -> 0 | AK10: 15:00-16:00 | AL10: =ORARIO_GENERALE!G11 -> D/A | AM10: =ORARIO_GENERALE!G24 -> D/A | AN10: =ORARIO_GENERALE!G40 -> 0 | AO10: =ORARIO_GENERALE!G50 -> 0 | AP10: =ORARIO_GENERALE!G65 -> 0 | AR10: 15:00-16:00 | AS10: =ORARIO_GENERALE!H11 -> 0 | AT10: =ORARIO_GENERALE!H24 -> 0 | AU10: =ORARIO_GENERALE!H37 -> 0 | AV10: =ORARIO_GENERALE!H50 -> 0 | AW10: =ORARIO_GENERALE!H65 -> 0 | AY10: 15:00-16:00 | AZ10: =ORARIO_GENERALE!I11 -> RPPD | BA10: =ORARIO_GENERALE!I24 -> 0 | BB10: =ORARIO_GENERALE!I37 -> 0 | BC10: =ORARIO_GENERALE!I50 -> 0 | BD10: =ORARIO_GENERALE!I65 -> 0 | BF10: 15:00-16:00 | BG10: =ORARIO_GENERALE!K11 -> 0 | BH10: =ORARIO_GENERALE!K24 -> RA2c | BI10: =ORARIO_GENERALE!K37 -> 0 | BJ10: =ORARIO_GENERALE!K45 -> D/A | BK10: =ORARIO_GENERALE!K65 -> 0 | BM10: 15:00-16:00 | BN10: =#REF! -> #REF! | BO10: =#REF! -> #REF! | BP10: =#REF! -> #REF! | BQ10: =#REF! -> #REF! | BR10: =#REF! -> #REF! | BT10: 15:00-16:00 | BU10: =#REF! -> #REF! | BV10: =#REF! -> #REF! | BW10: =#REF! -> #REF! | BX10: =#REF! -> #REF! | BY10: =#REF! -> #REF! | CA10: 15:00-16:00 | CB10: =#REF! -> #REF! | CC10: =#REF! -> #REF! | CD10: =#REF! -> #REF! | CE10: =#REF! -> #REF! | CF10: =#REF! -> #REF! | CH10: 15:00-16:00 | CI10: =#REF! -> #REF! | CJ10: =#REF! -> #REF! | CK10: =#REF! -> #REF! | CL10: =#REF! -> #REF! | CM10: =#REF! -> #REF!
B11: 16:00-17:00 | C11: =#REF! -> #REF! | D11: =ORARIO_GENERALE!D25 -> RSPA | E11: =ORARIO_GENERALE!D38 -> RPPD | F11: =ORARIO_GENERALE!D51 -> 0 | G11: =ORARIO_GENERALE!D66 -> 0 | I11: 16:00-17:00 | J11: =ORARIO_GENERALE!E12 -> 0 | K11: =ORARIO_GENERALE!E25 -> RPPD | L11: =ORARIO_GENERALE!E38 -> 0 | M11: =ORARIO_GENERALE!E51 -> RSPA | N11: =ORARIO_GENERALE!E66 -> 0 | P11: 16:00-17:00 | Q11: =ORARIO_GENERALE!L12 -> RA0A | R11: =ORARIO_GENERALE!L25 -> 0 | S11: =ORARIO_GENERALE!L32 -> 0 | T11: =ORARIO_GENERALE!L46 -> RA1B | U11: =ORARIO_GENERALE!L66 -> 0 | W11: 16:00-17:00 | X11: =ORARIO_GENERALE!F12 -> 0 | Y11: =ORARIO_GENERALE!F25 -> 0 | Z11: =ORARIO_GENERALE!F38 -> 0 | AA11: =ORARIO_GENERALE!F51 -> D/A | AB11: =ORARIO_GENERALE!F66 -> 0 | AD11: 16:00-17:00 | AE11: =ORARIO_GENERALE!P7 -> 0 | AF11: =ORARIO_GENERALE!P25 -> 0 | AG11: =ORARIO_GENERALE!P38 -> D/A | AH11: =#REF! -> #REF! | AI11: =ORARIO_GENERALE!P66 -> 0 | AK11: 16:00-17:00 | AL11: =ORARIO_GENERALE!G12 -> D/A | AM11: =ORARIO_GENERALE!G26 -> 0 | AN11: =#REF! -> #REF! | AO11: =ORARIO_GENERALE!G51 -> 0 | AP11: =ORARIO_GENERALE!G66 -> 0 | AR11: 16:00-17:00 | AS11: =#REF! -> #REF! | AT11: =ORARIO_GENERALE!H28 -> B2 | AU11: =ORARIO_GENERALE!H38 -> 0 | AV11: =ORARIO_GENERALE!H51 -> 0 | AW11: =ORARIO_GENERALE!H66 -> 0 | AY11: 16:00-17:00 | AZ11: =ORARIO_GENERALE!I12 -> RPPD | BA11: =ORARIO_GENERALE!I25 -> 0 | BB11: =ORARIO_GENERALE!I38 -> 0 | BC11: =ORARIO_GENERALE!I51 -> RPPD | BD11: =ORARIO_GENERALE!I66 -> 0 | BF11: 16:00-17:00 | BG11: =ORARIO_GENERALE!K12 -> 0 | BH11: =ORARIO_GENERALE!K25 -> P | BI11: =ORARIO_GENERALE!K38 -> 0 | BJ11: =ORARIO_GENERALE!K46 -> RA1A | BK11: =ORARIO_GENERALE!K66 -> 0 | BM11: 16:00-17:00 | BN11: =#REF! -> #REF! | BO11: =#REF! -> #REF! | BP11: =#REF! -> #REF! | BQ11: =#REF! -> #REF! | BR11: =#REF! -> #REF! | BT11: 16:00-17:00 | BU11: =#REF! -> #REF! | BV11: =#REF! -> #REF! | BW11: =#REF! -> #REF! | BX11: =#REF! -> #REF! | BY11: =#REF! -> #REF! | CA11: 16:00-17:00 | CB11: =#REF! -> #REF! | CC11: =#REF! -> #REF! | CD11: =#REF! -> #REF! | CE11: =#REF! -> #REF! | CF11: =#REF! -> #REF! | CH11: 16:00-17:00 | CI11: =#REF! -> #REF! | CJ11: =#REF! -> #REF! | CK11: =#REF! -> #REF! | CL11: =#REF! -> #REF! | CM11: =#REF! -> #REF!
B12: 17:00-18-00 | C12: =ORARIO_GENERALE!D13 -> 0 | D12: =ORARIO_GENERALE!D26 -> RSPA | E12: =ORARIO_GENERALE!F39 -> 0 | F12: =ORARIO_GENERALE!D52 -> 0 | G12: =ORARIO_GENERALE!D67 -> 0 | I12: 17:00-18-00 | J12: =ORARIO_GENERALE!E13 -> 0 | K12: =ORARIO_GENERALE!E26 -> RPPC | L12: =ORARIO_GENERALE!E39 -> 0 | M12: =ORARIO_GENERALE!E52 -> RSPA | N12: =ORARIO_GENERALE!E67 -> 0 | P12: 17:00-18-00 | Q12: =ORARIO_GENERALE!L13 -> P | R12: =#REF! -> #REF! | S12: =ORARIO_GENERALE!L39 -> D/A | T12: =ORARIO_GENERALE!L47 -> D/A | U12: =ORARIO_GENERALE!L67 -> 0 | W12: 17:00-18-00 | X12: =ORARIO_GENERALE!F13 -> 0 | Y12: =ORARIO_GENERALE!F26 -> 0 | Z12: =#REF! -> #REF! | AA12: =ORARIO_GENERALE!F52 -> D/A | AB12: =ORARIO_GENERALE!F67 -> 0 | AD12: 17:00-18-00 | AE12: =ORARIO_GENERALE!P8 -> 0 | AF12: =ORARIO_GENERALE!P26 -> 0 | AG12: =ORARIO_GENERALE!P39 -> D/A | AH12: =ORARIO_GENERALE!M47 -> D/A | AI12: =ORARIO_GENERALE!P67 -> 0 | AK12: 17:00-18-00 | AL12: =ORARIO_GENERALE!G13 -> RPPC | AM12: =#REF! -> #REF! | AN12: =ORARIO_GENERALE!G39 -> 0 | AO12: =ORARIO_GENERALE!G52 -> 0 | AP12: =ORARIO_GENERALE!G67 -> 0 | AR12: 17:00-18-00 | AS12: =#REF! -> #REF! | AT12: =#REF! -> #REF! | AU12: =ORARIO_GENERALE!H39 -> 0 | AV12: =ORARIO_GENERALE!H55 -> 0 | AW12: =ORARIO_GENERALE!H67 -> 0 | AY12: 17:00-18-00 | AZ12: =ORARIO_GENERALE!I13 -> D/A | BA12: =ORARIO_GENERALE!I26 -> 0 | BB12: =ORARIO_GENERALE!I39 -> 0 | BC12: =ORARIO_GENERALE!I52 -> RPPD | BD12: =ORARIO_GENERALE!I67 -> 0 | BF12: 17:00-18-00 | BG12: =ORARIO_GENERALE!K13 -> 0 | BH12: =ORARIO_GENERALE!K26 -> P | BI12: =ORARIO_GENERALE!K39 -> 0 | BJ12: =ORARIO_GENERALE!K47 -> RA1A | BK12: =ORARIO_GENERALE!K67 -> 0 | BM12: 17:00-18-00 | BN12: =#REF! -> #REF! | BO12: =#REF! -> #REF! | BP12: =#REF! -> #REF! | BQ12: =#REF! -> #REF! | BR12: =#REF! -> #REF! | BT12: 17:00-18-00 | BU12: =#REF! -> #REF! | BV12: =#REF! -> #REF! | BW12: =#REF! -> #REF! | BX12: =#REF! -> #REF! | BY12: =#REF! -> #REF! | CA12: 17:00-18-00 | CB12: =#REF! -> #REF! | CC12: =#REF! -> #REF! | CD12: =#REF! -> #REF! | CE12: =#REF! -> #REF! | CF12: =#REF! -> #REF! | CH12: 17:00-18-00 | CI12: =#REF! -> #REF! | CJ12: =#REF! -> #REF! | CK12: =#REF! -> #REF! | CL12: =#REF! -> #REF! | CM12: =#REF! -> #REF!
B13: 18:00-19:00 | C13: =ORARIO_GENERALE!D14 -> 0 | D13: =ORARIO_GENERALE!D27 -> RSPA | E13: =ORARIO_GENERALE!D40 -> RPPC | F13: =#REF! -> #REF! | G13: =ORARIO_GENERALE!D68 -> 0 | I13: 18:00-19:00 | J13: =ORARIO_GENERALE!E14 -> 0 | K13: =ORARIO_GENERALE!E27 -> RPPC | L13: =ORARIO_GENERALE!E40 -> 0 | M13: =ORARIO_GENERALE!E53 -> RSPA | N13: =ORARIO_GENERALE!E68 -> 0 | P13: 18:00-19:00 | Q13: =ORARIO_GENERALE!L9 -> 0 | R13: =ORARIO_GENERALE!L27 -> 0 | S13: =ORARIO_GENERALE!L40 -> RA2D | T13: =ORARIO_GENERALE!L48 -> RA1C | U13: =ORARIO_GENERALE!L68 -> 0 | W13: 18:00-19:00 | X13: =ORARIO_GENERALE!F14 -> 0 | Y13: =ORARIO_GENERALE!F27 -> 0 | Z13: =ORARIO_GENERALE!F40 -> 0 | AA13: =ORARIO_GENERALE!D53 -> 0 | AB13: =ORARIO_GENERALE!F68 -> 0 | AD13: 18:00-19:00 | AE13: =ORARIO_GENERALE!P9 -> 0 | AF13: =ORARIO_GENERALE!P27 -> 0 | AG13: =ORARIO_GENERALE!P40 -> RA2E | AH13: =#REF! -> #REF! | AI13: =ORARIO_GENERALE!P68 -> 0 | AK13: 18:00-19:00 | AL13: =ORARIO_GENERALE!G14 -> RPPC | AM13: =ORARIO_GENERALE!G27 -> 0 | AN13: =#REF! -> #REF! | AO13: =ORARIO_GENERALE!G53 -> 0 | AP13: =ORARIO_GENERALE!G68 -> 0 | AR13: 18:00-19:00 | AS13: =#REF! -> #REF! | AT13: =#REF! -> #REF! | AU13: =ORARIO_GENERALE!H40 -> 0 | AV13: =ORARIO_GENERALE!H53 -> 0 | AW13: =ORARIO_GENERALE!H68 -> 0 | AY13: 18:00-19:00 | AZ13: =ORARIO_GENERALE!I14 -> D/A | BA13: =ORARIO_GENERALE!I27 -> 0 | BB13: =ORARIO_GENERALE!I40 -> 0 | BC13: =ORARIO_GENERALE!I53 -> D/A | BD13: =ORARIO_GENERALE!I68 -> 0 | BF13: 18:00-19:00 | BG13: =ORARIO_GENERALE!K14 -> 0 | BH13: =ORARIO_GENERALE!K27 -> RA1D | BI13: =ORARIO_GENERALE!K40 -> 0 | BJ13: =ORARIO_GENERALE!M48 -> RA1A | BK13: =ORARIO_GENERALE!K68 -> 0 | BM13: 18:00-19:00 | BN13: =#REF! -> #REF! | BO13: =#REF! -> #REF! | BP13: =#REF! -> #REF! | BQ13: =#REF! -> #REF! | BR13: =#REF! -> #REF! | BT13: 18:00-19:00 | BU13: =#REF! -> #REF! | BV13: =#REF! -> #REF! | BW13: =#REF! -> #REF! | BX13: =#REF! -> #REF! | BY13: =#REF! -> #REF! | CA13: 18:00-19:00 | CB13: =#REF! -> #REF! | CC13: =#REF! -> #REF! | CD13: =#REF! -> #REF! | CE13: =#REF! -> #REF! | CF13: =#REF! -> #REF! | CH13: 18:00-19:00 | CI13: =#REF! -> #REF! | CJ13: =#REF! -> #REF! | CK13: =#REF! -> #REF! | CL13: =#REF! -> #REF! | CM13: =#REF! -> #REF!
