Workbook

Sheet ORARIO_GENERALE
A1: F
B2: SEDE DI RHO - ORARIO DAL 3 NOVEMBRE 2026
D3: AQUILA | E3: ROCCO | F3: IGNACCOLO | G3: CELI | H3: PEZONE | I3: VALFRE' | K3: ABBADESSA | L3: FREYRIE | M3: FERRANTE | N3: MERONI | O3: RANGHETTI | P3: ZIMMITTI
B4: LUNEDI' | C4: 08:00-09:00
C5: 09:00-10:00 | D5: RPPB | E5: RPPA | H5: B1
C6: 10:00-11:00 | D6: RPPB | E6: RPPA | H6: B1 | K6: RA1A | N6: RA2A | O6: RA1B
C7: 11:00-12:00 | D7: RPPA | E7: RPPB | H7: POT | K7: RA1A | N7: RA2A | O7: RA1B
C8: 12:00-13:00 | E8: RPPA | H8: POT | K8: D/A | N8: STAFF* | O8: RA1C
C9: 13:00-14:00 | H9: POT | K9: RA1C | N9: STAFF* | O9: D/A
C10: 14:00-15:00 | G10: RPPD | H10: D/A | K10: RA1C | N10: RA2C | O10: D/A
C11: 15:00-16:00 | G11: D/A | I11: RPPD | L11: RA0A | N11: RA2C
C12: 16:00-17:00 | G12: D/A | I12: RPPD | L12: RA0A | M12: RA2C
C13: 17:00-18-00 | G13: RPPC | I13: D/A | L13: P | M13: P
C14: 18:00-19:00 | G14: RPPC | I14: D/A | L14: RA2D | M14: RA2E
C15: 19:00-20:00 | F15: D/A | I15: RPPC | L15: RA2D | M15: RA2E
C16: 20:00-21:00 | F16: RPPC
B17: MARTEDI' | C17: 08:00-09:00
C18: 09:00-10:00 | F18: RPPA | I18: RPPB | L18: RA1B | O18: RA0A
C19: 10:00-11:00 | F19: RPPA | I19: RPPB | L19: RA1B | M19: RA2A | O19: RA0A
C20: 11:00-12:00 | F20: RPPB | I20: RPPA | L20: D/A | M20: RA2A | O20: RA1B
C21: 12:00-13:00 | F21: RPPB | L21: P | M21: P | O21: P | R21: D/A | S21: DISPOSIZIONE/ACCOGLIENZA
C22: 13:00-14:00 | M22: RA2F | O22: D/A | R22: C | S22: COORDINAMENTO
C23: 14:00-15:00 | G23: RPPD | K23: RA2C | M23: RA2F | R23: P | S23: PROGRAMMAZIONE
C24: 15:00-16:00 | D24: RPPD | G24: D/A | K24: RA2c | M24: D/A | N24: RA2f
C25: 16:00-17:00 | D25: RSPA | E25: RPPD | G25: D/A | K25: P | N25: P | R25: PERCORSI DI PRIMO LIVELLO
C26: 17:00-18-00 | D26: RSPA | E26: RPPC | H26: D/A | K26: P | N26: P
C27: 18:00-19:00 | D27: RSPA | E27: RPPC | H27: B2 | K27: RA1D | N27: RA2E | R27: LPPA | S27: 1 PERIODO MATTINA
C28: 19:00-20:00 | D28: RPPC | E28: RPPC | H28: B2 | K28: RA1D | N28: RA2E | R28: LPPD | S28: 1 PERIODO SERA
C29: 20:00-21:00 | E29: RPPC | H29: B2 | R29: LPPB | S29: 1 PERIODO MATTINA
B30: MERCOLEDI' | C30: 08:00-09:00 | R30: LPPC | S30: 1 PERIODO SERA
C31: 09:00-10:00 | F31: RPPA | G31: RPPB | H31: B1 | K31: D/A | M31: SA1A | N31: STAFF* | O31: RA2A | R31: L2A | S31: POTENZIAMENTO PERCORSI DI PRIMO LIVELLO (200 ore)
C32: 10:00-11:00 | F32: RPPB | G32: RPPA | H32: B1 | K32: RA2B | M32: SA1A | N32: STAFF* | O32: RA2A | R32: R/P | S32: RECUPERO-POTENZIAMENTO
C33: 11:00-12:00 | F33: RPPB | G33: RPPA | H33: RPPB | K33: RA2B | M33: SA2A | N33: STAFF* | O33: RA2A
C34: 12:00-13:00 | K34: RA2B | M34: SA2A | N34: STAFF* | O34: D/A
C35: 13:00-14:00 | M35: SA2A
C36: 14:00-15:00 | E36: RPPD | K36: F | R36: PERCORSI DI ALFABETIZZAZIONE
C37: 15:00-16:00 | E37: RPPD | L37: RA1C | P37: D/A
C38: 16:00-17:00 | D38: RPPD | L38: RA1C | P38: D/A | R38: A0 | S38: PRE-A1
C39: 17:00-18-00 | D39: RPPD | L39: D/A | P39: D/A | R39: A1 | S39: A1
C40: 18:00-19:00 | D40: RPPC | L40: RA2D | P40: RA2E | R40: A2 | S40: A2
C41: 19:00-20:00 | D41: RPPC | I41: CRRPC | L41: RA2D | P41: RA2E | R41: Terr | S41: TERRITORIO
C42: 20:00-21:00 | I42: RPPC | R42: BO
B43: GIOVEDI' | C43: 08:00-09:00 | R43: PERCORSI DI AMPLIAMENTO
C44: 09:00-10:00 | D44: RPPA | G44: D/A | K44: RA2B | L44: D/A | P44: SA1A
C45: 10:00-11:00 | D45: RPPA | G45: RPPB | K45: D/A | L45: RA1B | M45: RA2B | P45: SA1A | R45: INF | S45: INFORMATICA
C46: 11:00-12:00 | D46: RPPB | G46: D/A | H46: POT | K46: RA1A | L46: RA1B | M46: RA2B | P46: SA2A | R46: B1 | S46: CORSO LIVELLO B1
C47: 12:00-13:00 | H47: POT | K47: RA1A | L47: D/A | M47: D/A | P47: SA2A | R47: ING | S47: AMPLIAMENTO LINGUISTICO (INGLESE)
C48: 13:00-14:00 | H48: POT | K48: D/A | L48: RA1C | M48: RA1A | R48: POT | S48: POTENZIAMENTO
C49: 14:00-15:00 | F49: RPPD | L49: RA1C | M49: RA2F | O49: D/A | R49: WR | S49: WAITING ROOM
C50: 15:00-16:00 | F50: RPPD | N50: RA2F | O50: RA2C | R50: GA | S50: NUOVI GRUPPI ALFA
C51: 16:00-17:00 | E51: RSPA | F51: D/A | I51: RPPD | N51: RA2F | O51: RA2C
C52: 17:00-18-00 | E52: RSPA | F52: D/A | I52: RPPD | N52: D/A | O52: P
C53: 18:00-19:00 | E53: RSPA | F53: RPPC | I53: D/A | N53: RA1D | O53: RA2D
C54: 19:00-20:00 | I54: RPPC | N54: RA1D | O54: RA2D
C55: 20:00-21:00 | I55: RPPC
B56: VENERDI' | C56: 08:00-09:00
C57: 09:00-10:00 | E57: RPPB | F57: RPPA | G57: D/A | K57: D/A | L57: RA1A | M57: D/A | N57: RB1C | O57: RA2B | P57: RA0A
C58: 10:00-11:00 | D58: D/A | E58: RPPB | F58: D/A | G58: D/A | I58: RPPA | K58: D/A | L58: RA1A | M58: D/A | N58: RB1C | O58: RA2B | P58: RA0A
C59: 11:00-12:00 | D59: C | E59: C | F59: C | G59: C | H59: C | I59: C | K59: C | L59: C | M59: C | N59: C | O59: C | P59: C
C60: 12:00-13:00 | D60: C | E60: C | F60: C | G60: C | H60: C | I60: C | K60: C | L60: C | M60: C | N60: C | O60: C | P60: p
C61: 13:00-14:00
B63: * Le ore di lavoro staff organizzativo possono subire modifiche in base alle esigenze dell'Istituto.
B65: Documento informatico ai sensi del D.L. 82/2005 e aggiornato al D.L. 217/2017 art 1.comma 1 lettera P
B67: IL D.S. prof. LUIGI AMBROSI

Sheet ORARIO_DOCENTI_CORSI
B2: I LIVELLO CORSI | I2: ORARIO DOCENTI
B3: LPPF | C3: LUN | D3: MAR | E3: MER | F3: GIO | G3: VEN | I3: COSENZA | J3: LUN | K3: MAR | L3: MER | M3: GIO | N3: VEN
J4: =HLOOKUP($I$3,ORARIO_GENERALE!$D$3:$P$61,2,0) -> #N/A | K4: =HLOOKUP($I$3,ORARIO_GENERALE!$D$3:$P$61,15,0) -> #N/A | L4: =HLOOKUP($I$3,ORARIO_GENERALE!$D$3:$P$61,28,0) -> #N/A | M4: =HLOOKUP($I$3,ORARIO_GENERALE!$D$3:$P$61,41,0) -> #N/A | N4: =HLOOKUP($I$3,ORARIO_GENERALE!$D$3:$P$61,54,0) -> #N/A
B5: =ORARIO_GENERALE!C5 -> 09:00-10:00 | C5: {=IFERROR(INDEX(ORARIO_GENERALE!$D$3:$I$3,MATCH("*"&$B$3&"*",ORARIO_GENERALE!D5:I5,0)),"")} | D5: {=IFERROR(INDEX(ORARIO_GENERALE!$D$3:$I$3,MATCH("*"&$B$3&"*",ORARIO_GENERALE!D18:I18,0)),"")} | E5: {=IFERROR(INDEX(ORARIO_GENERALE!$D$3:$I$3,MATCH("*"&$B$3&"*",ORARIO_GENERALE!D31:I31,0)),"")} | F5: {=IFERROR(INDEX(ORARIO_GENERALE!$D$3:$I$3,MATCH("*"&$B$3&"*",ORARIO_GENERALE!D44:I44,0)),"")} | G5: {=IFERROR(INDEX(ORARIO_GENERALE!$D$3:$I$3,MATCH("*"&$B$3&"*",ORARIO_GENERALE!$D57:$I57,0)),"")} | I5: =ORARIO_GENERALE!C5 -> 09:00-10:00 | J5: =HLOOKUP($I$3,ORARIO_GENERALE!$D$3:$P$61,3,0) -> #N/A | K5: =HLOOKUP($I$3,ORARIO_GENERALE!$D$3:$P$61,16,0) -> #N/A | L5: =HLOOKUP($I$3,ORARIO_GENERALE!$D$3:$P$61,29,0) -> #N/A | M5: =HLOOKUP($I$3,ORARIO_GENERALE!$D$3:$P$61,42,0) -> #N/A | N5: =HLOOKUP($I$3,ORARIO_GENERALE!$D$3:$P$61,55,0) -> #N/A
B6: =ORARIO_GENERALE!C6 -> 10:00-11:00 | C6: {=IFERROR(INDEX(ORARIO_GENERALE!$D$3:$I$3,MATCH("*"&$B$3&"*",ORARIO_GENERALE!D6:I6,0)),"")} | D6: {=IFERROR(INDEX(ORARIO_GENERALE!$D$3:$I$3,MATCH("*"&$B$3&"*",ORARIO_GENERALE!D19:I19,0)),"")} | E6: {=IFERROR(INDEX(ORARIO_GENERALE!$D$3:$I$3,MATCH("*"&$B$3&"*",ORARIO_GENERALE!D32:I32,0)),"")} | F6: {=IFERROR(INDEX(ORARIO_GENERALE!$D$3:$I$3,MATCH("*"&$B$3&"*",ORARIO_GENERALE!D45:I45,0)),"")} | G6: {=IFERROR(INDEX(ORARIO_GENERALE!$D$3:$I$3,MATCH("*"&$B$3&"*",ORARIO_GENERALE!$D58:$I58,0)),"")} | I6: =ORARIO_GENERALE!C6 -> 10:00-11:00 | J6: =HLOOKUP($I$3,ORARIO_GENERALE!$D$3:$P$61,4,0) -> #N/A | K6: =HLOOKUP($I$3,ORARIO_GENERALE!$D$3:$P$61,17,0) -> #N/A | L6: =HLOOKUP($I$3,ORARIO_GENERALE!$D$3:$P$61,30,0) -> #N/A | M6: =HLOOKUP($I$3,ORARIO_GENERALE!$D$3:$P$61,43,0) -> #N/A | N6: =HLOOKUP($I$3,ORARIO_GENERALE!$D$3:$P$61,56,0) -> #N/A
B7: =ORARIO_GENERALE!C7 -> 11:00-12:00 | C7: {=IFERROR(INDEX(ORARIO_GENERALE!$D$3:$I$3,MATCH("*"&$B$3&"*",ORARIO_GENERALE!D7:I7,0)),"")} | D7: {=IFERROR(INDEX(ORARIO_GENERALE!$D$3:$I$3,MATCH("*"&$B$3&"*",ORARIO_GENERALE!D20:I20,0)),"")} | E7: {=IFERROR(INDEX(ORARIO_GENERALE!$D$3:$I$3,MATCH("*"&$B$3&"*",ORARIO_GENERALE!D33:I33,0)),"")} | F7: {=IFERROR(INDEX(ORARIO_GENERALE!$D$3:$I$3,MATCH("*"&$B$3&"*",ORARIO_GENERALE!D46:I46,0)),"")} | G7: {=IFERROR(INDEX(ORARIO_GENERALE!$D$3:$I$3,MATCH("*"&$B$3&"*",ORARIO_GENERALE!$D59:$I59,0)),"")} | I7: =ORARIO_GENERALE!C7 -> 11:00-12:00 | J7: =HLOOKUP($I$3,ORARIO_GENERALE!$D$3:$P$61,5,0) -> #N/A | K7: =HLOOKUP($I$3,ORARIO_GENERALE!$D$3:$P$61,18,0) -> #N/A | L7: =HLOOKUP($I$3,ORARIO_GENERALE!$D$3:$P$61,31,0) -> #N/A | M7: =HLOOKUP($I$3,ORARIO_GENERALE!$D$3:$P$61,44,0) -> #N/A | N7: =HLOOKUP($I$3,ORARIO_GENERALE!$D$3:$P$61,57,0) -> #N/A
B8: =ORARIO_GENERALE!C8 -> 12:00-13:00 | C8: {=IFERROR(INDEX(ORARIO_GENERALE!$D$3:$I$3,MATCH("*"&$B$3&"*",ORARIO_GENERALE!D8:I8,0)),"")} | D8: {=IFERROR(INDEX(ORARIO_GENERALE!$D$3:$I$3,MATCH("*"&$B$3&"*",ORARIO_GENERALE!D21:I21,0)),"")} | E8: {=IFERROR(INDEX(ORARIO_GENERALE!$D$3:$I$3,MATCH("*"&$B$3&"*",ORARIO_GENERALE!D34:I34,0)),"")} | F8: {=IFERROR(INDEX(ORARIO_GENERALE!$D$3:$I$3,MATCH("*"&$B$3&"*",ORARIO_GENERALE!D47:I47,0)),"")} | G8: {=IFERROR(INDEX(ORARIO_GENERALE!$D$3:$I$3,MATCH("*"&$B$3&"*",ORARIO_GENERALE!$D60:$I60,0)),"")} | I8: =ORARIO_GENERALE!C8 -> 12:00-13:00 | J8: =HLOOKUP($I$3,ORARIO_GENERALE!$D$3:$P$61,6,0) -> #N/A | K8: =HLOOKUP($I$3,ORARIO_GENERALE!$D$3:$P$61,19,0) -> #N/A | L8: =HLOOKUP($I$3,ORARIO_GENERALE!$D$3:$P$61,32,0) -> #N/A | M8: =HLOOKUP($I$3,ORARIO_GENERALE!$D$3:$P$61,45,0) -> #N/A | N8: =HLOOKUP($I$3,ORARIO_GENERALE!$D$3:$P$61,58,0) -> #N/A
B9: =ORARIO_GENERALE!C9 -> 13:00-14:00 | C9: {=IFERROR(INDEX(ORARIO_GENERALE!$D$3:$I$3,MATCH("*"&$B$3&"*",ORARIO_GENERALE!D9:I9,0)),"")} | D9: {=IFERROR(INDEX(ORARIO_GENERALE!$D$3:$I$3,MATCH("*"&$B$3&"*",ORARIO_GENERALE!D22:I22,0)),"")} | E9: {=IFERROR(INDEX(ORARIO_GENERALE!$D$3:$I$3,MATCH("*"&$B$3&"*",ORARIO_GENERALE!D35:I35,0)),"")} | F9: {=IFERROR(INDEX(ORARIO_GENERALE!$D$3:$I$3,MATCH("*"&$B$3&"*",ORARIO_GENERALE!D48:I48,0)),"")} | G9: {=IFERROR(INDEX(ORARIO_GENERALE!$D$3:$I$3,MATCH("*"&$B$3&"*",ORARIO_GENERALE!$D61:$I61,0)),"")} | I9: =ORARIO_GENERALE!C9 -> 13:00-14:00 | J9: =HLOOKUP($I$3,ORARIO_GENERALE!$D$3:$P$61,7,0) -> #N/A | K9: =HLOOKUP($I$3,ORARIO_GENERALE!$D$3:$P$61,20,0) -> #N/A | L9: =HLOOKUP($I$3,ORARIO_GENERALE!$D$3:$P$61,33,0) -> #N/A | M9: =HLOOKUP($I$3,ORARIO_GENERALE!$D$3:$P$61,46,0) -> #N/A
B10: =ORARIO_GENERALE!C10 -> 14:00-15:00 | C10: {=IFERROR(INDEX(ORARIO_GENERALE!$D$3:$I$3,MATCH("*"&$B$3&"*",ORARIO_GENERALE!D10:I10,0)),"")} | D10: {=IFERROR(INDEX(ORARIO_GENERALE!$D$3:$I$3,MATCH("*"&$B$3&"*",ORARIO_GENERALE!D23:I23,0)),"")} | E10: {=IFERROR(INDEX(ORARIO_GENERALE!$D$3:$I$3,MATCH("*"&$B$3&"*",ORARIO_GENERALE!D36:I36,0)),"")} | F10: {=IFERROR(INDEX(ORARIO_GENERALE!$D$3:$I$3,MATCH("*"&$B$3&"*",ORARIO_GENERALE!D49:I49,0)),"")} | G10: {=IFERROR(INDEX(ORARIO_GENERALE!$D$3:$I$3,MATCH("*"&$B$3&"*",ORARIO_GENERALE!$D64:$I64,0)),"")} | I10: =ORARIO_GENERALE!C10 -> 14:00-15:00 | J10: =HLOOKUP($I$3,ORARIO_GENERALE!$D$3:$P$61,8,0) -> #N/A | K10: =HLOOKUP($I$3,ORARIO_GENERALE!$D$3:$P$61,21,0) -> #N/A | L10: =HLOOKUP($I$3,ORARIO_GENERALE!$D$3:$P$61,34,0) -> #N/A | M10: =HLOOKUP($I$3,ORARIO_GENERALE!$D$3:$P$61,47,0) -> #N/A
B11: =ORARIO_GENERALE!C11 -> 15:00-16:00 | C11: {=IFERROR(INDEX(ORARIO_GENERALE!$D$3:$I$3,MATCH("*"&$B$3&"*",ORARIO_GENERALE!D11:I11,0)),"")} | D11: {=IFERROR(INDEX(ORARIO_GENERALE!$D$3:$I$3,MATCH("*"&$B$3&"*",ORARIO_GENERALE!D24:I24,0)),"")} | E11: {=IFERROR(INDEX(ORARIO_GENERALE!$D$3:$I$3,MATCH("*"&$B$3&"*",ORARIO_GENERALE!D37:I37,0)),"")} | F11: {=IFERROR(INDEX(ORARIO_GENERALE!$D$3:$I$3,MATCH("*"&$B$3&"*",ORARIO_GENERALE!D50:I50,0)),"")} | G11: {=IFERROR(INDEX(ORARIO_GENERALE!$D$3:$I$3,MATCH("*"&$B$3&"*",ORARIO_GENERALE!$D65:$I65,0)),"")} | I11: =ORARIO_GENERALE!C11 -> 15:00-16:00 | J11: =HLOOKUP($I$3,ORARIO_GENERALE!$D$3:$P$61,9,0) -> #N/A | K11: =HLOOKUP($I$3,ORARIO_GENERALE!$D$3:$P$61,22,0) -> #N/A | L11: =HLOOKUP($I$3,ORARIO_GENERALE!$D$3:$P$61,35,0) -> #N/A | M11: =HLOOKUP($I$3,ORARIO_GENERALE!$D$3:$P$61,48,0) -> #N/A
B12: =ORARIO_GENERALE!C12 -> 16:00-17:00 | C12: {=IFERROR(INDEX(ORARIO_GENERALE!$D$3:$I$3,MATCH("*"&$B$3&"*",ORARIO_GENERALE!D12:I12,0)),"")} | D12: {=IFERROR(INDEX(ORARIO_GENERALE!$D$3:$I$3,MATCH("*"&$B$3&"*",ORARIO_GENERALE!D25:I25,0)),"")} | E12: {=IFERROR(INDEX(ORARIO_GENERALE!$D$3:$I$3,MATCH("*"&$B$3&"*",ORARIO_GENERALE!D38:I38,0)),"")} | F12: {=IFERROR(INDEX(ORARIO_GENERALE!$D$3:$I$3,MATCH("*"&$B$3&"*",ORARIO_GENERALE!D51:I51,0)),"")} | G12: {=IFERROR(INDEX(ORARIO_GENERALE!$D$3:$I$3,MATCH("*"&$B$3&"*",ORARIO_GENERALE!$D66:$I66,0)),"")} | I12: =ORARIO_GENERALE!C12 -> 16:00-17:00 | J12: =HLOOKUP($I$3,ORARIO_GENERALE!$D$3:$P$61,10,0) -> #N/A | K12: =HLOOKUP($I$3,ORARIO_GENERALE!$D$3:$P$61,23,0) -> #N/A | L12: =HLOOKUP($I$3,ORARIO_GENERALE!$D$3:$P$61,36,0) -> #N/A | M12: =HLOOKUP($I$3,ORARIO_GENERALE!$D$3:$P$61,49,0) -> #N/A
B13: =ORARIO_GENERALE!C13 -> 17:00-18-00 | C13: {=IFERROR(INDEX(ORARIO_GENERALE!$D$3:$I$3,MATCH("*"&$B$3&"*",ORARIO_GENERALE!D13:I13,0)),"")} | D13: {=IFERROR(INDEX(ORARIO_GENERALE!$D$3:$I$3,MATCH("*"&$B$3&"*",ORARIO_GENERALE!D26:I26,0)),"")} | E13: {=IFERROR(INDEX(ORARIO_GENERALE!$D$3:$I$3,MATCH("*"&$B$3&"*",ORARIO_GENERALE!D39:I39,0)),"")} | F13: {=IFERROR(INDEX(ORARIO_GENERALE!$D$3:$I$3,MATCH("*"&$B$3&"*",ORARIO_GENERALE!D52:I52,0)),"")} | G13: {=IFERROR(INDEX(ORARIO_GENERALE!$D$3:$I$3,MATCH("*"&$B$3&"*",ORARIO_GENERALE!$D67:$I67,0)),"")} | I13: =ORARIO_GENERALE!C13 -> 17:00-18-00 | J13: =HLOOKUP($I$3,ORARIO_GENERALE!$D$3:$P$61,11,0) -> #N/A | K13: =HLOOKUP($I$3,ORARIO_GENERALE!$D$3:$P$61,24,0) -> #N/A | L13: =HLOOKUP($I$3,ORARIO_GENERALE!$D$3:$P$61,37,0) -> #N/A | M13: =HLOOKUP($I$3,ORARIO_GENERALE!$D$3:$P$61,50,0) -> #N/A
B14: =ORARIO_GENERALE!C14 -> 18:00-19:00 | C14: {=IFERROR(INDEX(ORARIO_GENERALE!$D$3:$I$3,MATCH("*"&$B$3&"*",ORARIO_GENERALE!D14:I14,0)),"")} | D14: {=IFERROR(INDEX(ORARIO_GENERALE!$D$3:$I$3,MATCH("*"&$B$3&"*",ORARIO_GENERALE!D27:I27,0)),"")} | E14: {=IFERROR(INDEX(ORARIO_GENERALE!$D$3:$I$3,MATCH("*"&$B$3&"*",ORARIO_GENERALE!D40:I40,0)),"")} | F14: {=IFERROR(INDEX(ORARIO_GENERALE!$D$3:$I$3,MATCH("*"&$B$3&"*",ORARIO_GENERALE!D53:I53,0)),"")} | G14: {=IFERROR(INDEX(ORARIO_GENERALE!$D$3:$I$3,MATCH("*"&$B$3&"*",ORARIO_GENERALE!$D68:$I68,0)),"")} | I14: =ORARIO_GENERALE!C14 -> 18:00-19:00 | J14: =HLOOKUP($I$3,ORARIO_GENERALE!$D$3:$P$61,12,0) -> #N/A | K14: =HLOOKUP($I$3,ORARIO_GENERALE!$D$3:$P$61,25,0) -> #N/A | L14: =HLOOKUP($I$3,ORARIO_GENERALE!$D$3:$P$61,38,0) -> #N/A | M14: =HLOOKUP($I$3,ORARIO_GENERALE!$D$3:$P$61,51,0) -> #N/A
B15: =ORARIO_GENERALE!C15 -> 19:00-20:00 | C15: {=IFERROR(INDEX(ORARIO_GENERALE!$D$3:$I$3,MATCH("*"&$B$3&"*",ORARIO_GENERALE!D15:I15,0)),"")} | D15: {=IFERROR(INDEX(ORARIO_GENERALE!$D$3:$I$3,MATCH("*"&$B$3&"*",ORARIO_GENERALE!D28:I28,0)),"")} | E15: {=IFERROR(INDEX(ORARIO_GENERALE!$D$3:$I$3,MATCH("*"&$B$3&"*",ORARIO_GENERALE!D41:I41,0)),"")} | F15: {=IFERROR(INDEX(ORARIO_GENERALE!$D$3:$I$3,MATCH("*"&$B$3&"*",ORARIO_GENERALE!D54:I54,0)),"")} | G15: {=IFERROR(INDEX(ORARIO_GENERALE!$D$3:$I$3,MATCH("*"&$B$3&"*",ORARIO_GENERALE!$D69:$I69,0)),"")} | I15: =ORARIO_GENERALE!C15 -> 19:00-20:00 | J15: =HLOOKUP($I$3,ORARIO_GENERALE!$D$3:$P$61,13,0) -> #N/A | K15: =HLOOKUP($I$3,ORARIO_GENERALE!$D$3:$P$61,26,0) -> #N/A | L15: =HLOOKUP($I$3,ORARIO_GENERALE!$D$3:$P$61,39,0) -> #N/A | M15: =HLOOKUP($I$3,ORARIO_GENERALE!$D$3:$P$61,52,0) -> #N/A
B16: =ORARIO_GENERALE!C16 -> 20:00-21:00 | C16: {=IFERROR(INDEX(ORARIO_GENERALE!$D$3:$I$3,MATCH("*"&$B$3&"*",ORARIO_GENERALE!D16:I16,0)),"")} | D16: {=IFERROR(INDEX(ORARIO_GENERALE!$D$3:$I$3,MATCH("*"&$B$3&"*",ORARIO_GENERALE!D29:I29,0)),"")} | E16: {=IFERROR(INDEX(ORARIO_GENERALE!$D$3:$I$3,MATCH("*"&$B$3&"*",ORARIO_GENERALE!D42:I42,0)),"")} | F16: {=IFERROR(INDEX(ORARIO_GENERALE!$D$3:$I$3,MATCH("*"&$B$3&"*",ORARIO_GENERALE!D55:I55,0)),"")} | G16: {=IFERROR(INDEX(ORARIO_GENERALE!$D$3:$I$3,MATCH("*"&$B$3&"*",ORARIO_GENERALE!$D70:$I70,0)),"")} | I16: =ORARIO_GENERALE!C16 -> 20:00-21:00 | J16: =HLOOKUP($I$3,ORARIO_GENERALE!$D$3:$P$61,14,0) -> #N/A | K16: =HLOOKUP($I$3,ORARIO_GENERALE!$D$3:$P$61,27,0) -> #N/A | L16: =HLOOKUP($I$3,ORARIO_GENERALE!$D$3:$P$61,40,0) -> #N/A | M16: =HLOOKUP($I$3,ORARIO_GENERALE!$D$3:$P$61,53,0) -> #N/A
I17: =ORARIO_GENERALE!C17 -> 08:00-09:00 | M17: =HLOOKUP($I$3,ORARIO_GENERALE!$D$3:$P$61,53,0) -> #N/A
B18: L 2 CORSI
B19: LA1A | C19: LUN | D19: MAR | E19: MER | F19: GIO | G19: VEN
B20: =ORARIO_GENERALE!C4 -> 08:00-09:00 | C20: {=IFERROR(INDEX(ORARIO_GENERALE!$D$3:$P$3,MATCH("*"&$B$19&"*",ORARIO_GENERALE!$D4:$P4,0)),"")} | D20: {=IFERROR(INDEX(ORARIO_GENERALE!$D$3:$P$3,MATCH("*"&$B$19&"*",ORARIO_GENERALE!$D17:$P17,0)),"")} | E20: {=IFERROR(INDEX(ORARIO_GENERALE!$D$3:$P$3,MATCH("*"&$B$19&"*",ORARIO_GENERALE!$D30:$P30,0)),"")} | F20: {=IFERROR(INDEX(ORARIO_GENERALE!$D$3:$P$3,MATCH("*"&$B$19&"*",ORARIO_GENERALE!$D43:$P43,0)),"")} | G20: {=IFERROR(INDEX(ORARIO_GENERALE!$D$3:$P$3,MATCH("*"&$B$19&"*",ORARIO_GENERALE!$D56:$P56,0)),"")}
B21: =ORARIO_GENERALE!C5 -> 09:00-10:00 | C21: {=IFERROR(INDEX(ORARIO_GENERALE!$D$3:$P$3,MATCH("*"&$B$19&"*",ORARIO_GENERALE!$D5:$P5,0)),"")} | D21: {=IFERROR(INDEX(ORARIO_GENERALE!$D$3:$P$3,MATCH("*"&$B$19&"*",ORARIO_GENERALE!$D18:$P18,0)),"")} | E21: {=IFERROR(INDEX(ORARIO_GENERALE!$D$3:$P$3,MATCH("*"&$B$19&"*",ORARIO_GENERALE!$D31:$P31,0)),"")} | F21: {=IFERROR(INDEX(ORARIO_GENERALE!$D$3:$P$3,MATCH("*"&$B$19&"*",ORARIO_GENERALE!$D44:$P44,0)),"")} | G21: {=IFERROR(INDEX(ORARIO_GENERALE!$D$3:$P$3,MATCH("*"&$B$19&"*",ORARIO_GENERALE!$D57:$P57,0)),"")}
B22: =ORARIO_GENERALE!C6 -> 10:00-11:00 | C22: {=IFERROR(INDEX(ORARIO_GENERALE!$D$3:$P$3,MATCH("*"&$B$19&"*",ORARIO_GENERALE!$D6:$P6,0)),"")} | D22: {=IFERROR(INDEX(ORARIO_GENERALE!$D$3:$P$3,MATCH("*"&$B$19&"*",ORARIO_GENERALE!$D19:$P19,0)),"")} | E22: {=IFERROR(INDEX(ORARIO_GENERALE!$D$3:$P$3,MATCH("*"&$B$19&"*",ORARIO_GENERALE!$D32:$P32,0)),"")} | F22: {=IFERROR(INDEX(ORARIO_GENERALE!$D$3:$P$3,MATCH("*"&$B$19&"*",ORARIO_GENERALE!$D45:$P45,0)),"")} | G22: {=IFERROR(INDEX(ORARIO_GENERALE!$D$3:$P$3,MATCH("*"&$B$19&"*",ORARIO_GENERALE!$D58:$P58,0)),"")}
B23: =ORARIO_GENERALE!C7 -> 11:00-12:00 | C23: {=IFERROR(INDEX(ORARIO_GENERALE!$D$3:$P$3,MATCH("*"&$B$19&"*",ORARIO_GENERALE!$D7:$P7,0)),"")} | D23: {=IFERROR(INDEX(ORARIO_GENERALE!$D$3:$P$3,MATCH("*"&$B$19&"*",ORARIO_GENERALE!$D20:$P20,0)),"")} | E23: {=IFERROR(INDEX(ORARIO_GENERALE!$D$3:$P$3,MATCH("*"&$B$19&"*",ORARIO_GENERALE!$D33:$P33,0)),"")} | F23: {=IFERROR(INDEX(ORARIO_GENERALE!$D$3:$P$3,MATCH("*"&$B$19&"*",ORARIO_GENERALE!$D46:$P46,0)),"")} | G23: {=IFERROR(INDEX(ORARIO_GENERALE!$D$3:$P$3,MATCH("*"&$B$19&"*",ORARIO_GENERALE!$D59:$P59,0)),"")}
B24: =ORARIO_GENERALE!C8 -> 12:00-13:00 | C24: {=IFERROR(INDEX(ORARIO_GENERALE!$D$3:$P$3,MATCH("*"&$B$19&"*",ORARIO_GENERALE!$D8:$P8,0)),"")} | D24: {=IFERROR(INDEX(ORARIO_GENERALE!$D$3:$P$3,MATCH("*"&$B$19&"*",ORARIO_GENERALE!$D21:$P21,0)),"")} | E24: {=IFERROR(INDEX(ORARIO_GENERALE!$D$3:$P$3,MATCH("*"&$B$19&"*",ORARIO_GENERALE!$D34:$P34,0)),"")} | F24: {=IFERROR(INDEX(ORARIO_GENERALE!$D$3:$P$3,MATCH("*"&$B$19&"*",ORARIO_GENERALE!$D47:$P47,0)),"")} | G24: {=IFERROR(INDEX(ORARIO_GENERALE!$D$3:$P$3,MATCH("*"&$B$19&"*",ORARIO_GENERALE!$D60:$P60,0)),"")}
B25: =ORARIO_GENERALE!C9 -> 13:00-14:00 | C25: {=IFERROR(INDEX(ORARIO_GENERALE!$D$3:$P$3,MATCH("*"&$B$19&"*",ORARIO_GENERALE!$D9:$P9,0)),"")} | D25: {=IFERROR(INDEX(ORARIO_GENERALE!$D$3:$P$3,MATCH("*"&$B$19&"*",ORARIO_GENERALE!$D22:$P22,0)),"")} | E25: {=IFERROR(INDEX(ORARIO_GENERALE!$D$3:$P$3,MATCH("*"&$B$19&"*",ORARIO_GENERALE!$D35:$P35,0)),"")} | F25: {=IFERROR(INDEX(ORARIO_GENERALE!$D$3:$P$3,MATCH("*"&$B$19&"*",ORARIO_GENERALE!$D48:$P48,0)),"")} | G25: {=IFERROR(INDEX(ORARIO_GENERALE!$D$3:$P$3,MATCH("*"&$B$19&"*",ORARIO_GENERALE!$D61:$P61,0)),"")}
B26: =ORARIO_GENERALE!C10 -> 14:00-15:00 | C26: {=IFERROR(INDEX(ORARIO_GENERALE!$D$3:$P$3,MATCH("*"&$B$19&"*",ORARIO_GENERALE!$D10:$P10,0)),"")} | D26: {=IFERROR(INDEX(ORARIO_GENERALE!$D$3:$P$3,MATCH("*"&$B$19&"*",ORARIO_GENERALE!$D23:$P23,0)),"")} | E26: {=IFERROR(INDEX(ORARIO_GENERALE!$D$3:$P$3,MATCH("*"&$B$19&"*",ORARIO_GENERALE!$D36:$P36,0)),"")} | F26: {=IFERROR(INDEX(ORARIO_GENERALE!$D$3:$P$3,MATCH("*"&$B$19&"*",ORARIO_GENERALE!$D49:$P49,0)),"")} | G26: {=IFERROR(INDEX(ORARIO_GENERALE!$D$3:$P$3,MATCH("*"&$B$19&"*",ORARIO_GENERALE!$D64:$P64,0)),"")}
B27: =ORARIO_GENERALE!C11 -> 15:00-16:00 | C27: {=IFERROR(INDEX(ORARIO_GENERALE!$D$3:$P$3,MATCH("*"&$B$19&"*",ORARIO_GENERALE!$D11:$P11,0)),"")} | D27: {=IFERROR(INDEX(ORARIO_GENERALE!$D$3:$P$3,MATCH("*"&$B$19&"*",ORARIO_GENERALE!$D24:$P24,0)),"")} | E27: {=IFERROR(INDEX(ORARIO_GENERALE!$D$3:$P$3,MATCH("*"&$B$19&"*",ORARIO_GENERALE!$D37:$P37,0)),"")} | F27: {=IFERROR(INDEX(ORARIO_GENERALE!$D$3:$P$3,MATCH("*"&$B$19&"*",ORARIO_GENERALE!$D50:$P50,0)),"")} | G27: {=IFERROR(INDEX(ORARIO_GENERALE!$D$3:$P$3,MATCH("*"&$B$19&"*",ORARIO_GENERALE!$D65:$P65,0)),"")}
B28: =ORARIO_GENERALE!C12 -> 16:00-17:00 | C28: {=IFERROR(INDEX(ORARIO_GENERALE!$D$3:$P$3,MATCH("*"&$B$19&"*",ORARIO_GENERALE!$D12:$P12,0)),"")} | D28: {=IFERROR(INDEX(ORARIO_GENERALE!$D$3:$P$3,MATCH("*"&$B$19&"*",ORARIO_GENERALE!$D25:$P25,0)),"")} | E28: {=IFERROR(INDEX(ORARIO_GENERALE!$D$3:$P$3,MATCH("*"&$B$19&"*",ORARIO_GENERALE!$D38:$P38,0)),"")} | F28: {=IFERROR(INDEX(ORARIO_GENERALE!$D$3:$P$3,MATCH("*"&$B$19&"*",ORARIO_GENERALE!$D51:$P51,0)),"")} | G28: {=IFERROR(INDEX(ORARIO_GENERALE!$D$3:$P$3,MATCH("*"&$B$19&"*",ORARIO_GENERALE!$D66:$P66,0)),"")}
B29: =ORARIO_GENERALE!C13 -> 17:00-18-00 | C29: {=IFERROR(INDEX(ORARIO_GENERALE!$D$3:$P$3,MATCH("*"&$B$19&"*",ORARIO_GENERALE!$D13:$P13,0)),"")} | D29: {=IFERROR(INDEX(ORARIO_GENERALE!$D$3:$P$3,MATCH("*"&$B$19&"*",ORARIO_GENERALE!$D26:$P26,0)),"")} | E29: {=IFERROR(INDEX(ORARIO_GENERALE!$D$3:$P$3,MATCH("*"&$B$19&"*",ORARIO_GENERALE!$D39:$P39,0)),"")} | F29: {=IFERROR(INDEX(ORARIO_GENERALE!$D$3:$P$3,MATCH("*"&$B$19&"*",ORARIO_GENERALE!$D52:$P52,0)),"")} | G29: {=IFERROR(INDEX(ORARIO_GENERALE!$D$3:$P$3,MATCH("*"&$B$19&"*",ORARIO_GENERALE!$D67:$P67,0)),"")}
B30: =ORARIO_GENERALE!C14 -> 18:00-19:00 | C30: {=IFERROR(INDEX(ORARIO_GENERALE!$D$3:$P$3,MATCH("*"&$B$19&"*",ORARIO_GENERALE!$D14:$P14,0)),"")} | D30: {=IFERROR(INDEX(ORARIO_GENERALE!$D$3:$P$3,MATCH("*"&$B$19&"*",ORARIO_GENERALE!$D27:$P27,0)),"")} | E30: {=IFERROR(INDEX(ORARIO_GENERALE!$D$3:$P$3,MATCH("*"&$B$19&"*",ORARIO_GENERALE!$D40:$P40,0)),"")} | F30: {=IFERROR(INDEX(ORARIO_GENERALE!$D$3:$P$3,MATCH("*"&$B$19&"*",ORARIO_GENERALE!$D53:$P53,0)),"")} | G30: {=IFERROR(INDEX(ORARIO_GENERALE!$D$3:$P$3,MATCH("*"&$B$19&"*",ORARIO_GENERALE!$D68:$P68,0)),"")}
B31: =ORARIO_GENERALE!C15 -> 19:00-20:00 | C31: {=IFERROR(INDEX(ORARIO_GENERALE!$D$3:$P$3,MATCH("*"&$B$19&"*",ORARIO_GENERALE!$D15:$P15,0)),"")} | D31: {=IFERROR(INDEX(ORARIO_GENERALE!$D$3:$P$3,MATCH("*"&$B$19&"*",ORARIO_GENERALE!$D28:$P28,0)),"")} | E31: {=IFERROR(INDEX(ORARIO_GENERALE!$D$3:$P$3,MATCH("*"&$B$19&"*",ORARIO_GENERALE!$D41:$P41,0)),"")} | F31: {=IFERROR(INDEX(ORARIO_GENERALE!$D$3:$P$3,MATCH("*"&$B$19&"*",ORARIO_GENERALE!$D54:$P54,0)),"")} | G31: {=IFERROR(INDEX(ORARIO_GENERALE!$D$3:$P$3,MATCH("*"&$B$19&"*",ORARIO_GENERALE!$D69:$P69,0)),"")}
B32: =ORARIO_GENERALE!C16 -> 20:00-21:00 | C32: {=IFERROR(INDEX(ORARIO_GENERALE!$D$3:$P$3,MATCH("*"&$B$19&"*",ORARIO_GENERALE!$D16:$P16,0)),"")} | D32: {=IFERROR(INDEX(ORARIO_GENERALE!$D$3:$P$3,MATCH("*"&$B$19&"*",ORARIO_GENERALE!$D29:$P29,0)),"")} | E32: {=IFERROR(INDEX(ORARIO_GENERALE!$D$3:$P$3,MATCH("*"&$B$19&"*",ORARIO_GENERALE!$D42:$P42,0)),"")} | F32: {=IFERROR(INDEX(ORARIO_GENERALE!$D$3:$P$3,MATCH("*"&$B$19&"*",ORARIO_GENERALE!$D55:$P55,0)),"")} | G32: {=IFERROR(INDEX(ORARIO_GENERALE!$D$3:$P$3,MATCH("*"&$B$19&"*",ORARIO_GENERALE!$D70:$P70,0)),"")}
D47: LPPA | E47: GALUPPO
D48: LPPB | E48: LOREFICE
D49: LPPC | E49: SCHIANCHI
D50: LPPD | E50: CALBI
D51: LA1A | E51: MAZZUCCHELLI
D52: LA1B | E52: COSENZA
D53: LA1C | E53: MATEMATICA 2
D54: LA1D | E54: PARRINO
D55: LA1E | E55: BRANDINO
D56: LA1F | E56: CIELO
D57: LA2A | E57: SCHIFANO
D58: LA2B | E58: FONTANA
D59: LA2C
D60: LA0A
D61: LA0B
D62: LANA
D63: LA0C
D64: L2A
D65: L2B
D66: LPPE
D67: LB1M
D68: LB1S
D69: LPPF

Sheet ANALISI CORSI
C1: =ORARIO_GENERALE!D3 -> AQUILA | D1: =ORARIO_GENERALE!E3 -> ROCCO | E1: =ORARIO_GENERALE!F3 -> IGNACCOLO | F1: =ORARIO_GENERALE!G3 -> CELI | G1: =ORARIO_GENERALE!H3 -> PEZONE | H1: =ORARIO_GENERALE!I3 -> VALFRE' | I1: GIURAZZI | J1: PARRINO | K1: BRANDINO | L1: CIELO | M1: SCHIFANO | N1: FONTANA | O1: TOTALE CORSO
B2: LPPA | C2: =COUNTIF(ORARIO_GENERALE!D$4:D$61,"*"&$B2&"*") -> 0 | D2: =COUNTIF(ORARIO_GENERALE!E$4:E$61,"*"&$B2&"*") -> 0 | E2: =COUNTIF(ORARIO_GENERALE!F$4:F$61,"*"&$B2&"*") -> 0 | F2: =COUNTIF(ORARIO_GENERALE!G$4:G$61,"*"&$B2&"*") -> 0 | G2: =COUNTIF(ORARIO_GENERALE!H$4:H$61,"*"&$B2&"*") -> 0 | H2: =COUNTIF(ORARIO_GENERALE!I$4:I$61,"*"&$B2&"*") -> 0 | I2: =COUNTIF(#REF!,"*"&$B2&"*") -> #REF! | J2: =COUNTIF(#REF!,"*"&$B2&"*") -> #REF! | K2: =COUNTIF(ORARIO_GENERALE!K$4:K$61,"*"&$B2&"*") -> 0 | L2: =COUNTIF(ORARIO_GENERALE!M$4:M$61,"*"&$B2&"*") -> 0 | M2: =COUNTIF(ORARIO_GENERALE!P$4:P$61,"*"&$B2&"*") -> 0 | N2: =COUNTIF(#REF!,"*"&$B2&"*") -> #REF! | O2: =SUM(C2:N2) -> #REF!
B3: LPPB | C3: =COUNTIF(ORARIO_GENERALE!D$4:D$61,"*"&$B3&"*") -> 0 | D3: =COUNTIF(ORARIO_GENERALE!E$4:E$61,"*"&$B3&"*") -> 0 | E3: =COUNTIF(ORARIO_GENERALE!F$4:F$61,"*"&$B3&"*") -> 0 | F3: =COUNTIF(ORARIO_GENERALE!G$4:G$61,"*"&$B3&"*") -> 0 | G3: =COUNTIF(ORARIO_GENERALE!H$4:H$61,"*"&$B3&"*") -> 0 | H3: =COUNTIF(ORARIO_GENERALE!I$4:I$61,"*"&$B3&"*") -> 0 | I3: =COUNTIF(#REF!,"*"&$B3&"*") -> #REF! | J3: =COUNTIF(#REF!,"*"&$B3&"*") -> #REF! | K3: =COUNTIF(ORARIO_GENERALE!K$4:K$61,"*"&$B3&"*") -> 0 | L3: =COUNTIF(ORARIO_GENERALE!M$4:M$61,"*"&$B3&"*") -> 0 | M3: =COUNTIF(ORARIO_GENERALE!P$4:P$61,"*"&$B3&"*") -> 0 | N3: =COUNTIF(#REF!,"*"&$B3&"*") -> #REF! | O3: =SUM(C3:M3) -> #REF!
B4: LPPC | C4: =COUNTIF(ORARIO_GENERALE!D$4:D$61,"*"&$B4&"*") -> 0 | D4: =COUNTIF(ORARIO_GENERALE!E$4:E$61,"*"&$B4&"*") -> 0 | E4: =COUNTIF(ORARIO_GENERALE!F$4:F$61,"*"&$B4&"*") -> 0 | F4: =COUNTIF(ORARIO_GENERALE!G$4:G$61,"*"&$B4&"*") -> 0 | G4: =COUNTIF(ORARIO_GENERALE!H$4:H$61,"*"&$B4&"*") -> 0 | H4: =COUNTIF(ORARIO_GENERALE!I$4:I$61,"*"&$B4&"*") -> 0 | I4: =COUNTIF(#REF!,"*"&$B4&"*") -> #REF! | J4: =COUNTIF(#REF!,"*"&$B4&"*") -> #REF! | K4: =COUNTIF(ORARIO_GENERALE!K$4:K$61,"*"&$B4&"*") -> 0 | L4: =COUNTIF(ORARIO_GENERALE!M$4:M$61,"*"&$B4&"*") -> 0 | M4: =COUNTIF(ORARIO_GENERALE!P$4:P$61,"*"&$B4&"*") -> 0 | N4: =COUNTIF(#REF!,"*"&$B4&"*") -> #REF! | O4: =SUM(C4:M4) -> #REF!
B5: LPPD | C5: =COUNTIF(ORARIO_GENERALE!D$4:D$61,"*"&$B5&"*") -> 0 | D5: =COUNTIF(ORARIO_GENERALE!E$4:E$61,"*"&$B5&"*") -> 0 | E5: =COUNTIF(ORARIO_GENERALE!F$4:F$61,"*"&$B5&"*") -> 0 | F5: =COUNTIF(ORARIO_GENERALE!G$4:G$61,"*"&$B5&"*") -> 0 | G5: =COUNTIF(ORARIO_GENERALE!H$4:H$61,"*"&$B5&"*") -> 0 | H5: =COUNTIF(ORARIO_GENERALE!I$4:I$61,"*"&$B5&"*") -> 0 | I5: =COUNTIF(#REF!,"*"&$B5&"*") -> #REF! | J5: =COUNTIF(#REF!,"*"&$B5&"*") -> #REF! | K5: =COUNTIF(ORARIO_GENERALE!K$4:K$61,"*"&$B5&"*") -> 0 | L5: =COUNTIF(ORARIO_GENERALE!M$4:M$61,"*"&$B5&"*") -> 0 | M5: =COUNTIF(ORARIO_GENERALE!P$4:P$61,"*"&$B5&"*") -> 0 | N5: =COUNTIF(#REF!,"*"&$B5&"*") -> #REF! | O5: =SUM(C5:M5) -> #REF!
B6: LPPE | C6: =COUNTIF(ORARIO_GENERALE!D$4:D$61,"*"&$B6&"*") -> 0 | D6: =COUNTIF(ORARIO_GENERALE!E$4:E$61,"*"&$B6&"*") -> 0 | E6: =COUNTIF(ORARIO_GENERALE!F$4:F$61,"*"&$B6&"*") -> 0 | F6: =COUNTIF(ORARIO_GENERALE!G$4:G$61,"*"&$B6&"*") -> 0 | G6: =COUNTIF(ORARIO_GENERALE!H$4:H$61,"*"&$B6&"*") -> 0 | H6: =COUNTIF(ORARIO_GENERALE!I$4:I$61,"*"&$B6&"*") -> 0 | I6: =COUNTIF(#REF!,"*"&$B6&"*") -> #REF! | J6: =COUNTIF(#REF!,"*"&$B6&"*") -> #REF! | K6: =COUNTIF(ORARIO_GENERALE!K$4:K$61,"*"&$B6&"*") -> 0 | L6: =COUNTIF(ORARIO_GENERALE!M$4:M$61,"*"&$B6&"*") -> 0 | M6: =COUNTIF(ORARIO_GENERALE!P$4:P$61,"*"&$B6&"*") -> 0 | N6: =COUNTIF(#REF!,"*"&$B6&"*") -> #REF! | O6: =SUM(C6:M6) -> #REF!
B7: LPPF | C7: =COUNTIF(ORARIO_GENERALE!D$4:D$61,"*"&$B7&"*") -> 0 | D7: =COUNTIF(ORARIO_GENERALE!E$4:E$61,"*"&$B7&"*") -> 0 | E7: =COUNTIF(ORARIO_GENERALE!F$4:F$61,"*"&$B7&"*") -> 0 | F7: =COUNTIF(ORARIO_GENERALE!G$4:G$61,"*"&$B7&"*") -> 0 | G7: =COUNTIF(ORARIO_GENERALE!H$4:H$61,"*"&$B7&"*") -> 0 | H7: =COUNTIF(ORARIO_GENERALE!I$4:I$61,"*"&$B7&"*") -> 0 | I7: =COUNTIF(#REF!,"*"&$B7&"*") -> #REF! | J7: =COUNTIF(#REF!,"*"&$B7&"*") -> #REF! | K7: =COUNTIF(ORARIO_GENERALE!K$4:K$61,"*"&$B7&"*") -> 0 | L7: =COUNTIF(ORARIO_GENERALE!M$4:M$61,"*"&$B7&"*") -> 0 | M7: =COUNTIF(ORARIO_GENERALE!P$4:P$61,"*"&$B7&"*") -> 0 | N7: =COUNTIF(#REF!,"*"&$B7&"*") -> #REF! | O7: =SUM(C7:M7) -> #REF!
B8: LA1A | C8: =COUNTIF(ORARIO_GENERALE!D$4:D$61,"*"&$B8&"*") -> 0 | D8: =COUNTIF(ORARIO_GENERALE!E$4:E$61,"*"&$B8&"*") -> 0 | E8: =COUNTIF(ORARIO_GENERALE!F$4:F$61,"*"&$B8&"*") -> 0 | F8: =COUNTIF(ORARIO_GENERALE!G$4:G$61,"*"&$B8&"*") -> 0 | G8: =COUNTIF(ORARIO_GENERALE!H$4:H$61,"*"&$B8&"*") -> 0 | H8: =COUNTIF(ORARIO_GENERALE!I$4:I$61,"*"&$B8&"*") -> 0 | I8: =COUNTIF(#REF!,"*"&$B8&"*") -> #REF! | J8: =COUNTIF(#REF!,"*"&$B8&"*") -> #REF! | K8: =COUNTIF(ORARIO_GENERALE!K$4:K$61,"*"&$B8&"*") -> 0 | L8: =COUNTIF(ORARIO_GENERALE!M$4:M$61,"*"&$B8&"*") -> 0 | M8: =COUNTIF(ORARIO_GENERALE!P$4:P$61,"*"&$B8&"*") -> 0 | N8: =COUNTIF(#REF!,"*"&$B8&"*") -> #REF! | O8: =SUM(C8:M8) -> #REF!
B9: LA1B | C9: =COUNTIF(ORARIO_GENERALE!D$4:D$61,"*"&$B9&"*") -> 0 | D9: =COUNTIF(ORARIO_GENERALE!E$4:E$61,"*"&$B9&"*") -> 0 | E9: =COUNTIF(ORARIO_GENERALE!F$4:F$61,"*"&$B9&"*") -> 0 | F9: =COUNTIF(ORARIO_GENERALE!G$4:G$61,"*"&$B9&"*") -> 0 | G9: =COUNTIF(ORARIO_GENERALE!H$4:H$61,"*"&$B9&"*") -> 0 | H9: =COUNTIF(ORARIO_GENERALE!I$4:I$61,"*"&$B9&"*") -> 0 | I9: =COUNTIF(#REF!,"*"&$B9&"*") -> #REF! | J9: =COUNTIF(#REF!,"*"&$B9&"*") -> #REF! | K9: =COUNTIF(ORARIO_GENERALE!K$4:K$61,"*"&$B9&"*") -> 0 | L9: =COUNTIF(ORARIO_GENERALE!M$4:M$61,"*"&$B9&"*") -> 0 | M9: =COUNTIF(ORARIO_GENERALE!P$4:P$61,"*"&$B9&"*") -> 0 | N9: =COUNTIF(#REF!,"*"&$B9&"*") -> #REF! | O9: =SUM(C9:M9) -> #REF!
B10: LA1C | C10: =COUNTIF(ORARIO_GENERALE!D$4:D$61,"*"&$B10&"*") -> 0 | D10: =COUNTIF(ORARIO_GENERALE!E$4:E$61,"*"&$B10&"*") -> 0 | E10: =COUNTIF(ORARIO_GENERALE!F$4:F$61,"*"&$B10&"*") -> 0 | F10: =COUNTIF(ORARIO_GENERALE!G$4:G$61,"*"&$B10&"*") -> 0 | G10: =COUNTIF(ORARIO_GENERALE!H$4:H$61,"*"&$B10&"*") -> 0 | H10: =COUNTIF(ORARIO_GENERALE!I$4:I$61,"*"&$B10&"*") -> 0 | I10: =COUNTIF(#REF!,"*"&$B10&"*") -> #REF! | J10: =COUNTIF(#REF!,"*"&$B10&"*") -> #REF! | K10: =COUNTIF(ORARIO_GENERALE!K$4:K$61,"*"&$B10&"*") -> 0 | L10: =COUNTIF(ORARIO_GENERALE!M$4:M$61,"*"&$B10&"*") -> 0 | M10: =COUNTIF(ORARIO_GENERALE!P$4:P$61,"*"&$B10&"*") -> 0 | N10: =COUNTIF(#REF!,"*"&$B10&"*") -> #REF! | O10: =SUM(C10:M10) -> #REF!
B11: LA1D | C11: =COUNTIF(ORARIO_GENERALE!D$4:D$61,"*"&$B11&"*") -> 0 | D11: =COUNTIF(ORARIO_GENERALE!E$4:E$61,"*"&$B11&"*") -> 0 | E11: =COUNTIF(ORARIO_GENERALE!F$4:F$61,"*"&$B11&"*") -> 0 | F11: =COUNTIF(ORARIO_GENERALE!G$4:G$61,"*"&$B11&"*") -> 0 | G11: =COUNTIF(ORARIO_GENERALE!H$4:H$61,"*"&$B11&"*") -> 0 | H11: =COUNTIF(ORARIO_GENERALE!I$4:I$61,"*"&$B11&"*") -> 0 | I11: =COUNTIF(#REF!,"*"&$B11&"*") -> #REF! | J11: =COUNTIF(#REF!,"*"&$B11&"*") -> #REF! | K11: =COUNTIF(ORARIO_GENERALE!K$4:K$61,"*"&$B11&"*") -> 0 | L11: =COUNTIF(ORARIO_GENERALE!M$4:M$61,"*"&$B11&"*") -> 0 | M11: =COUNTIF(ORARIO_GENERALE!P$4:P$61,"*"&$B11&"*") -> 0 | N11: =COUNTIF(#REF!,"*"&$B11&"*") -> #REF! | O11: =SUM(C11:M11) -> #REF!
B12: LA1F | C12: =COUNTIF(ORARIO_GENERALE!D$4:D$61,"*"&$B12&"*") -> 0 | D12: =COUNTIF(ORARIO_GENERALE!E$4:E$61,"*"&$B12&"*") -> 0 | E12: =COUNTIF(ORARIO_GENERALE!F$4:F$61,"*"&$B12&"*") -> 0 | F12: =COUNTIF(ORARIO_GENERALE!G$4:G$61,"*"&$B12&"*") -> 0 | G12: =COUNTIF(ORARIO_GENERALE!H$4:H$61,"*"&$B12&"*") -> 0 | H12: =COUNTIF(ORARIO_GENERALE!I$4:I$61,"*"&$B12&"*") -> 0 | I12: =COUNTIF(#REF!,"*"&$B12&"*") -> #REF! | J12: =COUNTIF(#REF!,"*"&$B12&"*") -> #REF! | K12: =COUNTIF(ORARIO_GENERALE!K$4:K$61,"*"&$B12&"*") -> 0 | L12: =COUNTIF(ORARIO_GENERALE!M$4:M$61,"*"&$B12&"*") -> 0 | M12: =COUNTIF(ORARIO_GENERALE!P$4:P$61,"*"&$B12&"*") -> 0 | N12: =COUNTIF(#REF!,"*"&$B12&"*") -> #REF! | O12: =SUM(C12:M12) -> #REF!
B13: LA1E | C13: =COUNTIF(ORARIO_GENERALE!D$4:D$61,"*"&$B13&"*") -> 0 | D13: =COUNTIF(ORARIO_GENERALE!E$4:E$61,"*"&$B13&"*") -> 0 | E13: =COUNTIF(ORARIO_GENERALE!F$4:F$61,"*"&$B13&"*") -> 0 | F13: =COUNTIF(ORARIO_GENERALE!G$4:G$61,"*"&$B13&"*") -> 0 | G13: =COUNTIF(ORARIO_GENERALE!H$4:H$61,"*"&$B13&"*") -> 0 | H13: =COUNTIF(ORARIO_GENERALE!I$4:I$61,"*"&$B13&"*") -> 0 | I13: =COUNTIF(#REF!,"*"&$B13&"*") -> #REF! | J13: =COUNTIF(#REF!,"*"&$B13&"*") -> #REF! | K13: =COUNTIF(ORARIO_GENERALE!K$4:K$61,"*"&$B13&"*") -> 0 | L13: =COUNTIF(ORARIO_GENERALE!M$4:M$61,"*"&$B13&"*") -> 0 | M13: =COUNTIF(ORARIO_GENERALE!P$4:P$61,"*"&$B13&"*") -> 0 | N13: =COUNTIF(#REF!,"*"&$B13&"*") -> #REF! | O13: =SUM(C13:M13) -> #REF!
B14: LA2A | C14: =COUNTIF(ORARIO_GENERALE!D$4:D$61,"*"&$B14&"*") -> 0 | D14: =COUNTIF(ORARIO_GENERALE!E$4:E$61,"*"&$B14&"*") -> 0 | E14: =COUNTIF(ORARIO_GENERALE!F$4:F$61,"*"&$B14&"*") -> 0 | F14: =COUNTIF(ORARIO_GENERALE!G$4:G$61,"*"&$B14&"*") -> 0 | G14: =COUNTIF(ORARIO_GENERALE!H$4:H$61,"*"&$B14&"*") -> 0 | H14: =COUNTIF(ORARIO_GENERALE!I$4:I$61,"*"&$B14&"*") -> 0 | I14: =COUNTIF(#REF!,"*"&$B14&"*") -> #REF! | J14: =COUNTIF(#REF!,"*"&$B14&"*") -> #REF! | K14: =COUNTIF(ORARIO_GENERALE!K$4:K$61,"*"&$B14&"*") -> 0 | L14: =COUNTIF(ORARIO_GENERALE!M$4:M$61,"*"&$B14&"*") -> 0 | M14: =COUNTIF(ORARIO_GENERALE!P$4:P$61,"*"&$B14&"*") -> 0 | N14: =COUNTIF(#REF!,"*"&$B14&"*") -> #REF! | O14: =SUM(C14:M14) -> #REF!
... B29: PATENTE | C29: =COUNTIF(ORARIO_GENERALE!D$4:D$61,"*"&$B29&"*") -> 0 | D29: =COUNTIF(ORARIO_GENERALE!E$4:E$61,"*"&$B29&"*") -> 0 | E29: =COUNTIF(ORARIO_GENERALE!F$4:F$61,"*"&$B29&"*") -> 0 | F29: =COUNTIF(ORARIO_GENERALE!G$4:G$61,"*"&$B29&"*") -> 0 | G29: =COUNTIF(ORARIO_GENERALE!H$4:H$61,"*"&$B29&"*") -> 0 | H29: =COUNTIF(ORARIO_GENERALE!I$4:I$61,"*"&$B29&"*") -> 0 | I29: =COUNTIF(#REF!,"*"&$B29&"*") -> #REF! | J29: =COUNTIF(#REF!,"*"&$B29&"*") -> #REF! | K29: =COUNTIF(ORARIO_GENERALE!K$4:K$61,"*"&$B29&"*") -> 0 | L29: =COUNTIF(ORARIO_GENERALE!M$4:M$61,"*"&$B29&"*") -> 0 | M29: =COUNTIF(ORARIO_GENERALE!P$4:P$61,"*"&$B29&"*") -> 0 | N29: =COUNTIF(#REF!,"*"&$B29&"*") -> #REF! | O29: =SUM(C29:M29) -> #REF!
B30: D/A | C30: =COUNTIF(ORARIO_GENERALE!D$4:D$61,"*"&$B$30&"*") -> 1 | D30: =COUNTIF(ORARIO_GENERALE!E$4:E$61,"*"&$B$30&"*") -> 0 | E30: =COUNTIF(ORARIO_GENERALE!F$4:F$61,"*"&$B$30&"*") -> 4 | F30: =COUNTIF(ORARIO_GENERALE!G$4:G$61,"*"&$B$30&"*") -> 8 | G30: =COUNTIF(ORARIO_GENERALE!H$4:H$61,"*"&$B30&"*") -> 2 | H30: =COUNTIF(ORARIO_GENERALE!I$4:I$61,"*"&$B30&"*") -> 3 | I30: =COUNTIF(#REF!,"*"&$B30&"*") -> #REF! | J30: =COUNTIF(#REF!,"*"&$B$30&"*") -> #REF! | K30: =COUNTIF(ORARIO_GENERALE!K$4:K$61,"*"&$B30&"*") -> 6 | L30: =COUNTIF(ORARIO_GENERALE!M$4:M$61,"*"&$B30&"*") -> 4 | M30: =COUNTIF(ORARIO_GENERALE!P$4:P$61,"*"&$B30&"*") -> 3 | N30: =COUNTIF(#REF!,"*"&$B30&"*") -> #REF! | O30: =SUM(C30:M30) -> #REF!
B31: P | C31: =COUNTIF(ORARIO_GENERALE!D$4:D$61,B31) -> 0 | D31: =COUNTIF(ORARIO_GENERALE!E$4:E$61,B31) -> 0 | E31: =COUNTIF(ORARIO_GENERALE!F$4:F$61,B31) -> 0 | F31: =COUNTIF(ORARIO_GENERALE!G$4:G$61,B31) -> 0 | G31: =COUNTIF(ORARIO_GENERALE!H$4:H$61,B31) -> 0 | H31: =COUNTIF(ORARIO_GENERALE!I$4:I$61,B31) -> 0 | I31: =COUNTIF(#REF!,C31) -> #REF! | J31: =COUNTIF(#REF!,B31) -> #REF! | K31: =COUNTIF(ORARIO_GENERALE!K$4:K$61,$B31) -> 2 | L31: =COUNTIF(ORARIO_GENERALE!M$4:M$61,$B31) -> 2 | M31: =COUNTIF(ORARIO_GENERALE!P$4:P$61,$B31) -> 1 | N31: =COUNTIF(#REF!,$B31) -> #REF! | O31: =SUM(C31:M31) -> #REF!
B32: C | C32: =COUNTIF(ORARIO_GENERALE!D$4:D$61,B32) -> 2 | D32: =COUNTIF(ORARIO_GENERALE!E$4:E$61,B32) -> 2 | E32: =COUNTIF(ORARIO_GENERALE!F$4:F$61,B32) -> 2 | F32: =COUNTIF(ORARIO_GENERALE!G$4:G$61,B32) -> 2 | G32: =COUNTIF(ORARIO_GENERALE!H$4:H$61,B32) -> 2 | H32: =COUNTIF(ORARIO_GENERALE!I$4:I$61,B32) -> 2 | I32: =COUNTIF(#REF!,C32) -> #REF! | J32: =COUNTIF(#REF!,B32) -> #REF! | K32: =COUNTIF(ORARIO_GENERALE!K$4:K$61,$B32) -> 2 | L32: =COUNTIF(ORARIO_GENERALE!M$4:M$61,$B32) -> 2 | M32: =COUNTIF(ORARIO_GENERALE!P$4:P$61,$B32) -> 1 | N32: =COUNTIF(#REF!,$B32) -> #REF! | O32: =SUM(C32:M32) -> #REF!
B33: TOTALE DOCENTE | C33: =SUM(C2:C32) -> 3 | D33: =SUM(D2:D32) -> 2 | E33: =SUM(E2:E32) -> 6 | F33: =SUM(F2:F32) -> 10 | G33: =SUM(G2:G32) -> 4 | H33: =SUM(H2:H32) -> 5 | I33: =SUM(I2:I32) -> #REF! | J33: =SUM(J2:J32) -> #REF! | ... N33: =SUM(N2:N32) -> #REF!
B34: TOTALE LEZIONI | C34: =SUM(C2:C26) -> 0 | D34: =SUM(D2:D26) -> 0 | E34: =SUM(E2:E26) -> 0 | F34: =SUM(F2:F26) -> 0 | G34: =SUM(G2:G26) -> 0 | H34: =SUM(H2:H26) -> 0 | I34: =SUM(I2:I26) -> #REF! | J34: =SUM(J2:J26) -> #REF! | ... M34: =SUM(M2:M26) -> 0

Sheet INSEGNANTI
AF1: g
B2: =ORARIO_GENERALE!D3 -> AQUILA | C2: LUN | D2: MAR | E2: MER | F2: GIO | G2: VEN | I2: =ORARIO_GENERALE!E3 -> ROCCO | J2: LUN | K2: MAR | L2: MER | M2: GIO | N2: VEN | P2: =ORARIO_GENERALE!L3 -> FREYRIE | Q2: LUN | R2: MAR | S2: MER | T2: GIO | U2: VEN | W2: =ORARIO_GENERALE!F3 -> IGNACCOLO | X2: LUN | Y2: MAR | Z2: MER | AA2: GIO | AB2: VEN | AD2: =ORARIO_GENERALE!P3 -> ZIMMITTI | AE2: LUN | AF2: MAR | AG2: MER | AH2: GIO | AI2: VEN | AK2: =ORARIO_GENERALE!G3 -> CELI | AL2: LUN | AM2: MAR | AN2: MER | AO2: GIO | AP2: VEN | AR2: =ORARIO_GENERALE!H3 -> PEZONE | AS2: LUN | AT2: MAR | AU2: MER | AV2: GIO | AW2: VEN | AY2: =ORARIO_GENERALE!I3 -> VALFRE' | AZ2: LUN | BA2: MAR | BB2: MER | BC2: GIO | BD2: VEN | BF2: =ORARIO_GENERALE!K3 -> ABBADESSA | BG2: LUN | BH2: MAR | BI2: MER | BJ2: GIO | BK2: VEN | BM2: =#REF! -> #REF! | BN2: LUN | BO2: MAR | BP2: MER | BQ2: GIO | BR2: VEN | BT2: =#REF! -> #REF! | BU2: LUN | BV2: MAR | BW2: MER | BX2: GIO | BY2: VEN | CA2: =#REF! -> #REF! | CB2: LUN | CC2: MAR | CD2: MER | CE2: GIO | CF2: VEN | CH2: =#REF! -> #REF! | CI2: LUN | CJ2: MAR | CK2: MER | CL2: GIO | CM2: VEN
B3: 08:30-09:30 | C3: =ORARIO_GENERALE!D4 -> 0 | D3: =ORARIO_GENERALE!D17 -> 0 | E3: =ORARIO_GENERALE!D30 -> 0 | F3: =ORARIO_GENERALE!D43 -> 0 | G3: =ORARIO_GENERALE!D56 -> 0 | I3: 08:30-09:30 | J3: =ORARIO_GENERALE!E4 -> 0 | K3: =ORARIO_GENERALE!E17 -> 0 | L3: =ORARIO_GENERALE!E30 -> 0 | M3: =ORARIO_GENERALE!E43 -> 0 | N3: =ORARIO_GENERALE!E56 -> 0 | P3: 08:30-09:30 | Q3: =ORARIO_GENERALE!L4 -> 0 | R3: =ORARIO_GENERALE!L17 -> 0 | S3: =ORARIO_GENERALE!L30 -> 0 | T3: =ORARIO_GENERALE!L43 -> 0 | U3: =ORARIO_GENERALE!L56 -> 0 | W3: 08:30-09:30 | X3: =ORARIO_GENERALE!F4 -> 0 | Y3: =ORARIO_GENERALE!F17 -> 0 | Z3: =ORARIO_GENERALE!F30 -> 0 | AA3: =ORARIO_GENERALE!F43 -> 0 | AB3: =ORARIO_GENERALE!F56 -> 0 | AD3: 08:30-09:30 | AE3: =ORARIO_GENERALE!P4 -> 0 | AF3: =ORARIO_GENERALE!P17 -> 0 | AG3: =ORARIO_GENERALE!P30 -> 0 | AH3: =ORARIO_GENERALE!P43 -> 0 | AI3: =ORARIO_GENERALE!P56 -> 0 | AK3: 08:30-09:30 | AL3: =ORARIO_GENERALE!G4 -> 0 | AM3: =ORARIO_GENERALE!G17 -> 0 | AN3: =ORARIO_GENERALE!G30 -> 0 | AO3: =ORARIO_GENERALE!G43 -> 0 | AP3: =ORARIO_GENERALE!G56 -> 0 | AR3: 08:30-09:30 | AS3: =ORARIO_GENERALE!H4 -> 0 | AT3: =ORARIO_GENERALE!H17 -> 0 | AU3: =ORARIO_GENERALE!H30 -> 0 | AV3: =ORARIO_GENERALE!H43 -> 0 | AW3: =#REF! -> #REF! | AY3: 08:30-09:30 | AZ3: =ORARIO_GENERALE!I4 -> 0 | BA3: =ORARIO_GENERALE!I17 -> 0 | BB3: =ORARIO_GENERALE!I30 -> 0 | BC3: =ORARIO_GENERALE!I43 -> 0 | BD3: =ORARIO_GENERALE!I56 -> 0 | BF3: 08:30-09:30 | BG3: =ORARIO_GENERALE!K4 -> 0 | BH3: =ORARIO_GENERALE!K17 -> 0 | BI3: =ORARIO_GENERALE!K30 -> 0 | BJ3: =ORARIO_GENERALE!K43 -> 0 | BK3: =ORARIO_GENERALE!K56 -> 0 | BM3: 08:30-09:30 | BN3: =#REF! -> #REF! | BO3: =#REF! -> #REF! | BP3: =#REF! -> #REF! | BQ3: =#REF! -> #REF! | BR3: =#REF! -> #REF! | BT3: 08:30-09:30 | BU3: =#REF! -> #REF! | BV3: =#REF! -> #REF! | BW3: =#REF! -> #REF! | BX3: =#REF! -> #REF! | BY3: =#REF! -> #REF! | CA3: 08:30-09:30 | CB3: =#REF! -> #REF! | CC3: =#REF! -> #REF! | CD3: =#REF! -> #REF! | CE3: =#REF! -> #REF! | CF3: =#REF! -> #REF! | CH3: 08:30-09:30 | CI3: =#REF! -> #REF! | CJ3: =#REF! -> #REF! | CK3: =#REF! -> #REF! | CL3: =#REF! -> #REF! | CM3: =#REF! -> #REF!
B4: 09:30-10:30 | C4: =ORARIO_GENERALE!D5 -> RPPB | D4: =ORARIO_GENERALE!D18 -> 0 | E4: =#REF! -> #REF! | F4: =ORARIO_GENERALE!D44 -> RPPA | G4: =ORARIO_GENERALE!D57 -> 0 | I4: 09:30-10:30 | J4: =ORARIO_GENERALE!E5 -> RPPA | K4: =#REF! -> #REF! | L4: =ORARIO_GENERALE!E31 -> 0 | M4: =ORARIO_GENERALE!E44 -> 0 | N4: =ORARIO_GENERALE!E57 -> RPPB | P4: 09:30-10:30 | Q4: =ORARIO_GENERALE!L5 -> 0 | R4: =ORARIO_GENERALE!L18 -> RA1B | S4: =ORARIO_GENERALE!E18 -> 0 | T4: =ORARIO_GENERALE!L31 -> 0 | U4: =ORARIO_GENERALE!L57 -> RA1A | W4: 09:30-10:30 | X4: =ORARIO_GENERALE!F5 -> 0 | Y4: =ORARIO_GENERALE!F18 -> RPPA | Z4: =ORARIO_GENERALE!F31 -> RPPA | AA4: =#REF! -> #REF! | AB4: =ORARIO_GENERALE!F57 -> RPPA | AD4: 09:30-10:30 | AE4: =#REF! -> #REF! | AF4: =ORARIO_GENERALE!P18 -> 0 | AG4: =#REF! -> #REF! | AH4: =#REF! -> #REF! | AI4: =#REF! -> #REF! | AK4: 09:30-10:30 | AL4: =ORARIO_GENERALE!G8 -> 0 | AM4: =ORARIO_GENERALE!G18 -> 0 | AN4: =ORARIO_GENERALE!G31 -> RPPB | AO4: =ORARIO_GENERALE!G44 -> D/A | AP4: =ORARIO_GENERALE!G57 -> D/A | AR4: 09:30-10:30 | AS4: =ORARIO_GENERALE!H5 -> B1 | AT4: =ORARIO_GENERALE!H18 -> 0 | AU4: =ORARIO_GENERALE!H31 -> B1 | AV4: =ORARIO_GENERALE!H44 -> 0 | AW4: =#REF! -> #REF! | AY4: 09:30-10:30 | AZ4: =ORARIO_GENERALE!I5 -> 0 | BA4: =ORARIO_GENERALE!I18 -> RPPB | BB4: =ORARIO_GENERALE!I31 -> 0 | BC4: =ORARIO_GENERALE!I44 -> 0 | BD4: =ORARIO_GENERALE!I57 -> 0 | BF4: 09:30-10:30 | BG4: =#REF! -> #REF! | BH4: =ORARIO_GENERALE!M18 -> 0 | BI4: =ORARIO_GENERALE!K33 -> RA2B | BJ4: =#REF! -> #REF! | BK4: =ORARIO_GENERALE!K58 -> D/A | BM4: 09:30-10:30 | BN4: =#REF! -> #REF! | BO4: =#REF! -> #REF! | BP4: =#REF! -> #REF! | BQ4: =#REF! -> #REF! | BR4: =#REF! -> #REF! | BT4: 09:30-10:30 | BU4: =#REF! -> #REF! | BV4: =#REF! -> #REF! | BW4: =#REF! -> #REF! | BX4: =#REF! -> #REF! | BY4: =#REF! -> #REF! | CA4: 09:30-10:30 | CB4: =#REF! -> #REF! | CC4: =#REF! -> #REF! | CD4: =#REF! -> #REF! | CE4: =#REF! -> #REF! | CF4: =#REF! -> #REF! | CH4: 09:30-10:30 | CI4: =#REF! -> #REF! | CJ4: =#REF! -> #REF! | CK4: =#REF! -> #REF! | CL4: =#REF! -> #REF! | CM4: =#REF! -> #REF!
B5: 10:30-11:30 | C5: =ORARIO_GENERALE!D6 -> RPPB | D5: =ORARIO_GENERALE!D19 -> 0 | E5: =ORARIO_GENERALE!D32 -> 0 | F5: =ORARIO_GENERALE!D45 -> RPPA | G5: =ORARIO_GENERALE!D58 -> D/A | I5: 10:30-11:30 | J5: =ORARIO_GENERALE!E6 -> RPPA | K5: =ORARIO_GENERALE!E19 -> 0 | L5: =ORARIO_GENERALE!E32 -> 0 | M5: =ORARIO_GENERALE!E45 -> 0 | N5: =ORARIO_GENERALE!E58 -> RPPB | P5: 10:30-11:30 | Q5: =ORARIO_GENERALE!L6 -> 0 | R5: =ORARIO_GENERALE!L19 -> RA1B | S5: =#REF! -> #REF! | T5: =#REF! -> #REF! | U5: =ORARIO_GENERALE!L58 -> RA1A | W5: 10:30-11:30 | X5: =ORARIO_GENERALE!F6 -> 0 | Y5: =ORARIO_GENERALE!F19 -> RPPA | Z5: =ORARIO_GENERALE!F32 -> RPPB | AA5: =#REF! -> #REF! | AB5: =ORARIO_GENERALE!F58 -> D/A | AD5: 10:30-11:30 | AE5: =ORARIO_GENERALE!K5 -> 0 | AF5: =ORARIO_GENERALE!P19 -> 0 | AG5: =#REF! -> #REF! | AH5: =#REF! -> #REF! | AI5: =ORARIO_GENERALE!P58 -> RA0A | AK5: 10:30-11:30 | AL5: =#REF! -> #REF! | AM5: =ORARIO_GENERALE!G19 -> 0 | AN5: =ORARIO_GENERALE!G32 -> RPPA | AO5: =ORARIO_GENERALE!G45 -> RPPB | AP5: =ORARIO_GENERALE!G58 -> D/A | AR5: 10:30-11:30 | AS5: =ORARIO_GENERALE!H6 -> B1 | AT5: =ORARIO_GENERALE!H19 -> 0 | AU5: =#REF! -> #REF! | AV5: =ORARIO_GENERALE!H45 -> 0 | AW5: =ORARIO_GENERALE!H22 -> 0 | AY5: 10:30-11:30 | AZ5: =ORARIO_GENERALE!I6 -> 0 | BA5: =ORARIO_GENERALE!I19 -> RPPB | BB5: =ORARIO_GENERALE!I32 -> 0 | BC5: =ORARIO_GENERALE!I45 -> 0 | BD5: =ORARIO_GENERALE!I58 -> RPPA | BF5: 10:30-11:30 | BG5: =#REF! -> #REF! | BH5: =ORARIO_GENERALE!M19 -> RA2A | BI5: =ORARIO_GENERALE!K34 -> RA2B | BJ5: =#REF! -> #REF! | BK5: =ORARIO_GENERALE!K59 -> C | BM5: 10:30-11:30 | BN5: =#REF! -> #REF! | BO5: =#REF! -> #REF! | BP5: =#REF! -> #REF! | BQ5: =#REF! -> #REF! | BR5: =#REF! -> #REF! | BT5: 10:30-11:30 | BU5: =#REF! -> #REF! | BV5: =#REF! -> #REF! | BW5: =#REF! -> #REF! | BX5: =#REF! -> #REF! | BY5: =#REF! -> #REF! | CA5: 10:30-11:30 | CB5: =#REF! -> #REF! | CC5: =#REF! -> #REF! | CD5: =#REF! -> #REF! | CE5: =#REF! -> #REF! | CF5: =#REF! -> #REF! | CH5: 10:30-11:30 | CI5: =#REF! -> #REF! | CJ5: =#REF! -> #REF! | CK5: =#REF! -> #REF! | CL5: =#REF! -> #REF! | CM5: =#REF! -> #REF!
B6: 11:30-12:30 | C6: =ORARIO_GENERALE!D7 -> RPPA | D6: =ORARIO_GENERALE!D20 -> 0 | E6: =#REF! -> #REF! | F6: =ORARIO_GENERALE!D46 -> RPPB | G6: =ORARIO_GENERALE!D59 -> C | I6: 11:30-12:30 | J6: =ORARIO_GENERALE!E7 -> RPPB | K6: =ORARIO_GENERALE!E20 -> 0 | L6: =ORARIO_GENERALE!E33 -> 0 | M6: =ORARIO_GENERALE!E46 -> 0 | N6: =ORARIO_GENERALE!E59 -> C | P6: 11:30-12:30 | Q6: =ORARIO_GENERALE!L7 -> 0 | R6: =ORARIO_GENERALE!L20 -> D/A | S6: =#REF! -> #REF! | T6: =#REF! -> #REF! | U6: =ORARIO_GENERALE!L59 -> C | W6: 11:30-12:30 | X6: =ORARIO_GENERALE!F7 -> 0 | Y6: =ORARIO_GENERALE!F20 -> RPPB | Z6: =#REF! -> #REF! | AA6: =ORARIO_GENERALE!F46 -> 0 | AB6: =ORARIO_GENERALE!F59 -> C | AD6: 11:30-12:30 | AE6: =#REF! -> #REF! | AF6: =ORARIO_GENERALE!P20 -> 0 | AG6: =#REF! -> #REF! | AH6: =#REF! -> #REF! | AI6: =ORARIO_GENERALE!P59 -> C | AK6: 11:30-12:30 | AL6: =ORARIO_GENERALE!G7 -> 0 | AM6: =ORARIO_GENERALE!G20 -> 0 | AN6: =ORARIO_GENERALE!G33 -> RPPA | AO6: =ORARIO_GENERALE!G46 -> D/A | AP6: =ORARIO_GENERALE!G59 -> C | AR6: 11:30-12:30 | AS6: =ORARIO_GENERALE!H7 -> POT | AT6: =ORARIO_GENERALE!H20 -> 0 | AU6: =ORARIO_GENERALE!H32 -> B1 | AV6: =ORARIO_GENERALE!H46 -> POT | AW6: =ORARIO_GENERALE!H59 -> C | AY6: 11:30-12:30 | AZ6: =ORARIO_GENERALE!I7 -> 0 | BA6: =ORARIO_GENERALE!I20 -> RPPA | BB6: =ORARIO_GENERALE!I33 -> 0 | BC6: =ORARIO_GENERALE!I46 -> 0 | BD6: =ORARIO_GENERALE!I59 -> C | BF6: 11:30-12:30 | BG6: =ORARIO_GENERALE!K7 -> RA1A | BH6: =ORARIO_GENERALE!K20 -> 0 | BI6: =#REF! -> #REF! | BJ6: =#REF! -> #REF! | BK6: =ORARIO_GENERALE!K60 -> C | BM6: 11:30-12:30 | BN6: =#REF! -> #REF! | BO6: =#REF! -> #REF! | BP6: =#REF! -> #REF! | BQ6: =#REF! -> #REF! | BR6: =#REF! -> #REF! | BT6: 11:30-12:30 | BU6: =#REF! -> #REF! | BV6: =#REF! -> #REF! | BW6: =#REF! -> #REF! | BX6: =#REF! -> #REF! | BY6: =#REF! -> #REF! | CA6: 11:30-12:30 | CB6: =#REF! -> #REF! | CC6: =#REF! -> #REF! | CD6: =#REF! -> #REF! | CE6: =#REF! -> #REF! | CF6: =#REF! -> #REF! | CH6: 11:30-12:30 | CI6: =#REF! -> #REF! | CJ6: =#REF! -> #REF! | CK6: =#REF! -> #REF! | CL6: =#REF! -> #REF! | CM6: =#REF! -> #REF!
B7: 12:30-13:30 | C7: =ORARIO_GENERALE!D8 -> 0 | D7: =ORARIO_GENERALE!D21 -> 0 | E7: =#REF! -> #REF! | F7: =ORARIO_GENERALE!D47 -> 0 | G7: =ORARIO_GENERALE!D60 -> C | I7: 12:30-13:30 | J7: =ORARIO_GENERALE!E8 -> RPPA | K7: =#REF! -> #REF! | L7: =ORARIO_GENERALE!E34 -> 0 | M7: =ORARIO_GENERALE!E47 -> 0 | N7: =ORARIO_GENERALE!E60 -> C | P7: 12:30-13:30 | Q7: =ORARIO_GENERALE!L8 -> 0 | R7: =ORARIO_GENERALE!L21 -> P | S7: =ORARIO_GENERALE!L34 -> 0 | T7: =#REF! -> #REF! | U7: =ORARIO_GENERALE!L60 -> C | W7: 12:30-13:30 | X7: =ORARIO_GENERALE!F8 -> 0 | Y7: =ORARIO_GENERALE!F21 -> RPPB | Z7: =ORARIO_GENERALE!F34 -> 0 | AA7: =ORARIO_GENERALE!F47 -> 0 | AB7: =ORARIO_GENERALE!F60 -> C | AD7: 12:30-13:30 | AE7: =ORARIO_GENERALE!P57 -> RA0A | AF7: =ORARIO_GENERALE!P21 -> 0 | AG7: =ORARIO_GENERALE!P34 -> 0 | AH7: =ORARIO_GENERALE!M44 -> 0 | AI7: =ORARIO_GENERALE!P60 -> p | AK7: 12:30-13:30 | AL7: =#REF! -> #REF! | AM7: =ORARIO_GENERALE!G21 -> 0 | AN7: =ORARIO_GENERALE!G34 -> 0 | AO7: =ORARIO_GENERALE!G47 -> 0 | AP7: =ORARIO_GENERALE!G60 -> C | AR7: 12:30-13:30 | AS7: =ORARIO_GENERALE!H14 -> 0 | AT7: =ORARIO_GENERALE!H21 -> 0 | AU7: =ORARIO_GENERALE!H34 -> 0 | AV7: =ORARIO_GENERALE!H47 -> POT | AW7: =ORARIO_GENERALE!H60 -> C | AY7: 12:30-13:30 | AZ7: =ORARIO_GENERALE!I8 -> 0 | BA7: =ORARIO_GENERALE!I21 -> 0 | BB7: =ORARIO_GENERALE!I35 -> 0 | BC7: =ORARIO_GENERALE!I47 -> 0 | BD7: =ORARIO_GENERALE!I60 -> C | BF7: 12:30-13:30 | BG7: =ORARIO_GENERALE!K21 -> 0 | BH7: =#REF! -> #REF! | BI7: =#REF! -> #REF! | BJ7: =#REF! -> #REF! | BK7: =#REF! -> #REF! | BM7: 12:30-13:30 | BN7: =#REF! -> #REF! | BO7: =#REF! -> #REF! | BP7: =#REF! -> #REF! | BQ7: =#REF! -> #REF! | BR7: =#REF! -> #REF! | BT7: 12:30-13:30 | BU7: =#REF! -> #REF! | BV7: =#REF! -> #REF! | BW7: =#REF! -> #REF! | BX7: =#REF! -> #REF! | BY7: =#REF! -> #REF! | CA7: 12:30-13:30 | CB7: =#REF! -> #REF! | CC7: =#REF! -> #REF! | CD7: =#REF! -> #REF! | CE7: =#REF! -> #REF! | CF7: =#REF! -> #REF! | CH7: 12:30-13:30 | CI7: =#REF! -> #REF! | CJ7: =#REF! -> #REF! | CK7: =#REF! -> #REF! | CL7: =#REF! -> #REF! | CM7: =#REF! -> #REF!
B8: 13:30-14:30 | C8: =ORARIO_GENERALE!D9 -> 0 | D8: =ORARIO_GENERALE!D22 -> 0 | E8: =ORARIO_GENERALE!D34 -> 0 | F8: =ORARIO_GENERALE!D48 -> 0 | G8: =ORARIO_GENERALE!D61 -> 0 | I8: 13:30-14:30 | J8: =ORARIO_GENERALE!E9 -> 0 | K8: =ORARIO_GENERALE!E21 -> 0 | L8: =ORARIO_GENERALE!E35 -> 0 | M8: =ORARIO_GENERALE!E48 -> 0 | N8: =ORARIO_GENERALE!E61 -> 0 | P8: 13:30-14:30 | Q8: =#REF! -> #REF! | R8: =ORARIO_GENERALE!L22 -> 0 | S8: =ORARIO_GENERALE!L35 -> 0 | T8: =#REF! -> #REF! | U8: =ORARIO_GENERALE!L61 -> 0 | W8: 13:30-14:30 | X8: =ORARIO_GENERALE!F9 -> 0 | Y8: =ORARIO_GENERALE!F22 -> 0 | Z8: =ORARIO_GENERALE!F35 -> 0 | AA8: =ORARIO_GENERALE!F48 -> 0 | AB8: =ORARIO_GENERALE!F61 -> 0 | AD8: 13:30-14:30 | AE8: =#REF! -> #REF! | AF8: =ORARIO_GENERALE!P22 -> 0 | AG8: =ORARIO_GENERALE!P35 -> 0 | AH8: =ORARIO_GENERALE!M46 -> RA2B | AI8: =ORARIO_GENERALE!P61 -> 0 | AK8: 13:30-14:30 | AL8: =ORARIO_GENERALE!G6 -> 0 | AM8: =ORARIO_GENERALE!G22 -> 0 | AN8: =ORARIO_GENERALE!G35 -> 0 | AO8: =ORARIO_GENERALE!G48 -> 0 | AP8: =ORARIO_GENERALE!G61 -> 0 | AR8: 13:30-14:30 | AS8: =ORARIO_GENERALE!H15 -> 0 | AT8: =#REF! -> #REF! | AU8: =#REF! -> #REF! | AV8: =ORARIO_GENERALE!H48 -> POT | AW8: =ORARIO_GENERALE!H61 -> 0 | AY8: 13:30-14:30 | AZ8: =ORARIO_GENERALE!I9 -> 0 | BA8: =ORARIO_GENERALE!I22 -> 0 | BB8: =#REF! -> #REF! | BC8: =ORARIO_GENERALE!I48 -> 0 | BD8: =ORARIO_GENERALE!I61 -> 0 | BF8: 13:30-14:30 | BG8: =#REF! -> #REF! | BH8: =ORARIO_GENERALE!K22 -> 0 | BI8: =ORARIO_GENERALE!K35 -> 0 | BJ8: =#REF! -> #REF! | BK8: =ORARIO_GENERALE!K61 -> 0 | BM8: 13:30-14:30 | BN8: =#REF! -> #REF! | BO8: =#REF! -> #REF! | BP8: =#REF! -> #REF! | BQ8: =#REF! -> #REF! | BR8: =#REF! -> #REF! | BT8: 13:30-14:30 | BU8: =#REF! -> #REF! | BV8: =#REF! -> #REF! | BW8: =#REF! -> #REF! | BX8: =#REF! -> #REF! | BY8: =#REF! -> #REF! | CA8: 13:30-14:30 | CB8: =#REF! -> #REF! | CC8: =#REF! -> #REF! | CD8: =#REF! -> #REF! | CE8: =#REF! -> #REF! | CF8: =#REF! -> #REF! | CH8: 13:30-14:30 | CI8: =#REF! -> #REF! | CJ8: =#REF! -> #REF! | CK8: =#REF! -> #REF! | CL8: =#REF! -> #REF! | CM8: =#REF! -> #REF!
B9: 14:00-15:00 | C9: =ORARIO_GENERALE!D10 -> 0 | D9: =ORARIO_GENERALE!D23 -> 0 | E9: =ORARIO_GENERALE!D35 -> 0 | F9: =ORARIO_GENERALE!D49 -> 0 | G9: =ORARIO_GENERALE!D64 -> 0 | I9: 14:00-15:00 | J9: =ORARIO_GENERALE!E10 -> 0 | K9: =ORARIO_GENERALE!E22 -> 0 | L9: =ORARIO_GENERALE!E36 -> RPPD | M9: =ORARIO_GENERALE!E49 -> 0 | N9: =ORARIO_GENERALE!E64 -> 0 | P9: 14:00-15:00 | Q9: =#REF! -> #REF! | R9: =ORARIO_GENERALE!L23 -> 0 | S9: =ORARIO_GENERALE!L36 -> 0 | T9: =#REF! -> #REF! | U9: =ORARIO_GENERALE!L64 -> 0 | W9: 14:00-15:00 | X9: =ORARIO_GENERALE!F10 -> 0 | Y9: =ORARIO_GENERALE!F23 -> 0 | Z9: =ORARIO_GENERALE!F36 -> 0 | AA9: =ORARIO_GENERALE!F49 -> RPPD | AB9: =ORARIO_GENERALE!F64 -> 0 | AD9: 14:00-15:00 | AE9: =ORARIO_GENERALE!P5 -> 0 | AF9: =ORARIO_GENERALE!P23 -> 0 | AG9: =ORARIO_GENERALE!M36 -> 0 | AH9: =#REF! -> #REF! | AI9: =ORARIO_GENERALE!P64 -> 0 | AK9: 14:00-15:00 | AL9: =ORARIO_GENERALE!G10 -> RPPD | AM9: =ORARIO_GENERALE!G23 -> RPPD | AN9: =ORARIO_GENERALE!G36 -> 0 | AO9: =ORARIO_GENERALE!G49 -> 0 | AP9: =ORARIO_GENERALE!G64 -> 0 | AR9: 14:00-15:00 | AS9: =ORARIO_GENERALE!H10 -> D/A | AT9: =ORARIO_GENERALE!H23 -> 0 | AU9: =ORARIO_GENERALE!H36 -> 0 | AV9: =ORARIO_GENERALE!H49 -> 0 | AW9: =ORARIO_GENERALE!H64 -> 0 | AY9: 14:00-15:00 | AZ9: =ORARIO_GENERALE!I10 -> 0 | BA9: =ORARIO_GENERALE!I23 -> 0 | BB9: =ORARIO_GENERALE!I36 -> 0 | BC9: =ORARIO_GENERALE!I49 -> 0 | BD9: =ORARIO_GENERALE!I64 -> 0 | BF9: 14:00-15:00 | BG9: =ORARIO_GENERALE!K10 -> RA1C | BH9: =#REF! -> #REF! | BI9: =ORARIO_GENERALE!K36 -> F | BJ9: =ORARIO_GENERALE!K44 -> RA2B | BK9: =ORARIO_GENERALE!K64 -> 0 | BM9: 14:00-15:00 | BN9: =#REF! -> #REF! | BO9: =#REF! -> #REF! | BP9: =#REF! -> #REF! | BQ9: =#REF! -> #REF! | BR9: =#REF! -> #REF! | BT9: 14:00-15:00 | BU9: =#REF! -> #REF! | BV9: =#REF! -> #REF! | BW9: =#REF! -> #REF! | BX9: =#REF! -> #REF! | BY9: =#REF! -> #REF! | CA9: 14:00-15:00 | CB9: =#REF! -> #REF! | CC9: =#REF! -> #REF! | CD9: =#REF! -> #REF! | CE9: =#REF! -> #REF! | CF9: =#REF! -> #REF! | CH9: 14:00-15:00 | CI9: =#REF! -> #REF! | CJ9: =#REF! -> #REF! | CK9: =#REF! -> #REF! | CL9: =#REF! -> #REF! | CM9: =#REF! -> #REF!
B10: 15:00-16:00 | C10: =ORARIO_GENERALE!D11 -> 0 | D10: =ORARIO_GENERALE!D24 -> RPPD | E10: =ORARIO_GENERALE!D37 -> 0 | F10: =ORARIO_GENERALE!D12 -> 0 | G10: =ORARIO_GENERALE!D65 -> 0 | I10: 15:00-16:00 | J10: =ORARIO_GENERALE!E11 -> 0 | K10: =ORARIO_GENERALE!E24 -> 0 | L10: =ORARIO_GENERALE!E37 -> RPPD | M10: =ORARIO_GENERALE!E50 -> 0 | N10: =ORARIO_GENERALE!E65 -> 0 | P10: 15:00-16:00 | Q10: =ORARIO_GENERALE!L11 -> RA0A | R10: =ORARIO_GENERALE!L24 -> 0 | S10: =ORARIO_GENERALE!L33 -> 0 | T10: =#REF! -> #REF! | U10: =ORARIO_GENERALE!L65 -> 0 | W10: 15:00-16:00 | X10: =ORARIO_GENERALE!F11 -> 0 | Y10: =ORARIO_GENERALE!F24 -> 0 | Z10: =ORARIO_GENERALE!F37 -> 0 | AA10: =ORARIO_GENERALE!F50 -> RPPD | AB10: =ORARIO_GENERALE!F65 -> 0 | AD10: 15:00-16:00 | AE10: =ORARIO_GENERALE!P6 -> 0 | AF10: =ORARIO_GENERALE!P24 -> 0 | AG10: =ORARIO_GENERALE!M37 -> 0 | AH10: =#REF! -> #REF! | AI10: =ORARIO_GENERALE!P65 -> 0 | AK10: 15:00-16:00 | AL10: =ORARIO_GENERALE!G11 -> D/A | AM10: =ORARIO_GENERALE!G24 -> D/A | AN10: =ORARIO_GENERALE!G40 -> 0 | AO10: =ORARIO_GENERALE!G50 -> 0 | AP10: =ORARIO_GENERALE!G65 -> 0 | AR10: 15:00-16:00 | AS10: =ORARIO_GENERALE!H11 -> 0 | AT10: =ORARIO_GENERALE!H24 -> 0 | AU10: =ORARIO_GENERALE!H37 -> 0 | AV10: =ORARIO_GENERALE!H50 -> 0 | AW10: =ORARIO_GENERALE!H65 -> 0 | AY10: 15:00-16:00 | AZ10: =ORARIO_GENERALE!I11 -> RPPD | BA10: =ORARIO_GENERALE!I24 -> 0 | BB10: =ORARIO_GENERALE!I37 -> 0 | BC10: =ORARIO_GENERALE!I50 -> 0 | BD10: =ORARIO_GENERALE!I65 -> 0 | BF10: 15:00-16:00 | BG10: =ORARIO_GENERALE!K11 -> 0 | BH10: =ORARIO_GENERALE!K24 -> RA2c | BI10: =ORARIO_GENERALE!K37 -> 0 | BJ10: =ORARIO_GENERALE!K45 -> D/A | BK10: =ORARIO_GENERALE!K65 -> 0 | BM10: 15:00-16:00 | BN10: =#REF! -> #REF! | BO10: =#REF! -> #REF! | BP10: =#REF! -> #REF! | BQ10: =#REF! -> #REF! | BR10: =#REF! -> #REF! | BT10: 15:00-16:00 | BU10: =#REF! -> #REF! | BV10: =#REF! -> #REF! | BW10: =#REF! -> #REF! | BX10: =#REF! -> #REF! | BY10: =#REF! -> #REF! | CA10: 15:00-16:00 | CB10: =#REF! -> #REF! | CC10: =#REF! -> #REF! | CD10: =#REF! -> #REF! | CE10: =#REF! -> #REF! | CF10: =#REF! -> #REF! | CH10: 15:00-16:00 | CI10: =#REF! -> #REF! | CJ10: =#REF! -> #REF! | CK10: =#REF! -> #REF! | CL10: =#REF! -> #REF! | CM10: =#REF! -> #REF!
B11: 16:00-17:00 | C11: =#REF! -> #REF! | D11: =ORARIO_GENERALE!D25 -> RSPA | E11: =ORARIO_GENERALE!D38 -> RPPD | F11: =ORARIO_GENERALE!D51 -> 0 | G11: =ORARIO_GENERALE!D66 -> 0 | I11: 16:00-17:00 | J11: =ORARIO_GENERALE!E12 -> 0 | K11: =ORARIO_GENERALE!E25 -> RPPD | L11: =ORARIO_GENERALE!E38 -> 0 | M11: =ORARIO_GENERALE!E51 -> RSPA | N11: =ORARIO_GENERALE!E66 -> 0 | P11: 16:00-17:00 | Q11: =ORARIO_GENERALE!L12 -> RA0A | R11: =ORARIO_GENERALE!L25 -> 0 | S11: =ORARIO_GENERALE!L32 -> 0 | T11: =ORARIO_GENERALE!L46 -> RA1B | U11: =ORARIO_GENERALE!L66 -> 0 | W11: 16:00-17:00 | X11: =ORARIO_GENERALE!F12 -> 0 | Y11: =ORARIO_GENERALE!F25 -> 0 | Z11: =ORARIO_GENERALE!F38 -> 0 | AA11: =ORARIO_GENERALE!F51 -> D/A | AB11: =ORARIO_GENERALE!F66 -> 0 | AD11: 16:00-17:00 | AE11: =ORARIO_GENERALE!P7 -> 0 | AF11: =ORARIO_GENERALE!P25 -> 0 | AG11: =ORARIO_GENERALE!P38 -> D/A | AH11: =#REF! -> #REF! | AI11: =ORARIO_GENERALE!P66 -> 0 | AK11: 16:00-17:00 | AL11: =ORARIO_GENERALE!G12 -> D/A | AM11: =ORARIO_GENERALE!G26 -> 0 | AN11: =#REF! -> #REF! | AO11: =ORARIO_GENERALE!G51 -> 0 | AP11: =ORARIO_GENERALE!G66 -> 0 | AR11: 16:00-17:00 | AS11: =#REF! -> #REF! | AT11: =ORARIO_GENERALE!H28 -> B2 | AU11: =ORARIO_GENERALE!H38 -> 0 | AV11: =ORARIO_GENERALE!H51 -> 0 | AW11: =ORARIO_GENERALE!H66 -> 0 | AY11: 16:00-17:00 | AZ11: =ORARIO_GENERALE!I12 -> RPPD | BA11: =ORARIO_GENERALE!I25 -> 0 | BB11: =ORARIO_GENERALE!I38 -> 0 | BC11: =ORARIO_GENERALE!I51 -> RPPD | BD11: =ORARIO_GENERALE!I66 -> 0 | BF11: 16:00-17:00 | BG11: =ORARIO_GENERALE!K12 -> 0 | BH11: =ORARIO_GENERALE!K25 -> P | BI11: =ORARIO_GENERALE!K38 -> 0 | BJ11: =ORARIO_GENERALE!K46 -> RA1A | BK11: =ORARIO_GENERALE!K66 -> 0 | BM11: 16:00-17:00 | BN11: =#REF! -> #REF! | BO11: =#REF! -> #REF! | BP11: =#REF! -> #REF! | BQ11: =#REF! -> #REF! | BR11: =#REF! -> #REF! | BT11: 16:00-17:00 | BU11: =#REF! -> #REF! | BV11: =#REF! -> #REF! | BW11: =#REF! -> #REF! | BX11: =#REF! -> #REF! | BY11: =#REF! -> #REF! | CA11: 16:00-17:00 | CB11: =#REF! -> #REF! | CC11: =#REF! -> #REF! | CD11: =#REF! -> #REF! | CE11: =#REF! -> #REF! | CF11: =#REF! -> #REF! | CH11: 16:00-17:00 | CI11: =#REF! -> #REF! | CJ11: =#REF! -> #REF! | CK11: =#REF! -> #REF! | CL11: =#REF! -> #REF! | CM11: =#REF! -> #REF!
B12: 17:00-18-00 | C12: =ORARIO_GENERALE!D13 -> 0 | D12: =ORARIO_GENERALE!D26 -> RSPA | E12: =ORARIO_GENERALE!F39 -> 0 | F12: =ORARIO_GENERALE!D52 -> 0 | G12: =ORARIO_GENERALE!D67 -> 0 | I12: 17:00-18-00 | J12: =ORARIO_GENERALE!E13 -> 0 | K12: =ORARIO_GENERALE!E26 -> RPPC | L12: =ORARIO_GENERALE!E39 -> 0 | M12: =ORARIO_GENERALE!E52 -> RSPA | N12: =ORARIO_GENERALE!E67 -> 0 | P12: 17:00-18-00 | Q12: =ORARIO_GENERALE!L13 -> P | R12: =#REF! -> #REF! | S12: =ORARIO_GENERALE!L39 -> D/A | T12: =ORARIO_GENERALE!L47 -> D/A | U12: =ORARIO_GENERALE!L67 -> 0 | W12: 17:00-18-00 | X12: =ORARIO_GENERALE!F13 -> 0 | Y12: =ORARIO_GENERALE!F26 -> 0 | Z12: =#REF! -> #REF! | AA12: =ORARIO_GENERALE!F52 -> D/A | AB12: =ORARIO_GENERALE!F67 -> 0 | AD12: 17:00-18-00 | AE12: =ORARIO_GENERALE!P8 -> 0 | AF12: =ORARIO_GENERALE!P26 -> 0 | AG12: =ORARIO_GENERALE!P39 -> D/A | AH12: =ORARIO_GENERALE!M47 -> D/A | AI12: =ORARIO_GENERALE!P67 -> 0 | AK12: 17:00-18-00 | AL12: =ORARIO_GENERALE!G13 -> RPPC | AM12: =#REF! -> #REF! | AN12: =ORARIO_GENERALE!G39 -> 0 | AO12: =ORARIO_GENERALE!G52 -> 0 | AP12: =ORARIO_GENERALE!G67 -> 0 | AR12: 17:00-18-00 | AS12: =#REF! -> #REF! | AT12: =#REF! -> #REF! | AU12: =ORARIO_GENERALE!H39 -> 0 | AV12: =ORARIO_GENERALE!H55 -> 0 | AW12: =ORARIO_GENERALE!H67 -> 0 | AY12: 17:00-18-00 | AZ12: =ORARIO_GENERALE!I13 -> D/A | BA12: =ORARIO_GENERALE!I26 -> 0 | BB12: =ORARIO_GENERALE!I39 -> 0 | BC12: =ORARIO_GENERALE!I52 -> RPPD | BD12: =ORARIO_GENERALE!I67 -> 0 | BF12: 17:00-18-00 | BG12: =ORARIO_GENERALE!K13 -> 0 | BH12: =ORARIO_GENERALE!K26 -> P | BI12: =ORARIO_GENERALE!K39 -> 0 | BJ12: =ORARIO_GENERALE!K47 -> RA1A | BK12: =ORARIO_GENERALE!K67 -> 0 | BM12: 17:00-18-00 | BN12: =#REF! -> #REF! | BO12: =#REF! -> #REF! | BP12: =#REF! -> #REF! | BQ12: =#REF! -> #REF! | BR12: =#REF! -> #REF! | BT12: 17:00-18-00 | BU12: =#REF! -> #REF! | BV12: =#REF! -> #REF! | BW12: =#REF! -> #REF! | BX12: =#REF! -> #REF! | BY12: =#REF! -> #REF! | CA12: 17:00-18-00 | CB12: =#REF! -> #REF! | CC12: =#REF! -> #REF! | CD12: =#REF! -> #REF! | CE12: =#REF! -> #REF! | CF12: =#REF! -> #REF! | CH12: 17:00-18-00 | CI12: =#REF! -> #REF! | CJ12: =#REF! -> #REF! | CK12: =#REF! -> #REF! | CL12: =#REF! -> #REF! | CM12: =#REF! -> #REF!
B13: 18:00-19:00 | C13: =ORARIO_GENERALE!D14 -> 0 | D13: =ORARIO_GENERALE!D27 -> RSPA | E13: =ORARIO_GENERALE!D40 -> RPPC | F13: =#REF! -> #REF! | G13: =ORARIO_GENERALE!D68 -> 0 | I13: 18:00-19:00 | J13: =ORARIO_GENERALE!E14 -> 0 | K13: =ORARIO_GENERALE!E27 -> RPPC | L13: =ORARIO_GENERALE!E40 -> 0 | M13: =ORARIO_GENERALE!E53 -> RSPA | N13: =ORARIO_GENERALE!E68 -> 0 | P13: 18:00-19:00 | Q13: =ORARIO_GENERALE!L9 -> 0 | R13: =ORARIO_GENERALE!L27 -> 0 | S13: =ORARIO_GENERALE!L40 -> RA2D | T13: =ORARIO_GENERALE!L48 -> RA1C | U13: =ORARIO_GENERALE!L68 -> 0 | W13: 18:00-19:00 | X13: =ORARIO_GENERALE!F14 -> 0 | Y13: =ORARIO_GENERALE!F27 -> 0 | Z13: =ORARIO_GENERALE!F40 -> 0 | AA13: =ORARIO_GENERALE!D53 -> 0 | AB13: =ORARIO_GENERALE!F68 -> 0 | AD13: 18:00-19:00 | AE13: =ORARIO_GENERALE!P9 -> 0 | AF13: =ORARIO_GENERALE!P27 -> 0 | AG13: =ORARIO_GENERALE!P40 -> RA2E | AH13: =#REF! -> #REF! | AI13: =ORARIO_GENERALE!P68 -> 0 | AK13: 18:00-19:00 | AL13: =ORARIO_GENERALE!G14 -> RPPC | AM13: =ORARIO_GENERALE!G27 -> 0 | AN13: =#REF! -> #REF! | AO13: =ORARIO_GENERALE!G53 -> 0 | AP13: =ORARIO_GENERALE!G68 -> 0 | AR13: 18:00-19:00 | AS13: =#REF! -> #REF! | AT13: =#REF! -> #REF! | AU13: =ORARIO_GENERALE!H40 -> 0 | AV13: =ORARIO_GENERALE!H53 -> 0 | AW13: =ORARIO_GENERALE!H68 -> 0 | AY13: 18:00-19:00 | AZ13: =ORARIO_GENERALE!I14 -> D/A | BA13: =ORARIO_GENERALE!I27 -> 0 | BB13: =ORARIO_GENERALE!I40 -> 0 | BC13: =ORARIO_GENERALE!I53 -> D/A | BD13: =ORARIO_GENERALE!I68 -> 0 | BF13: 18:00-19:00 | BG13: =ORARIO_GENERALE!K14 -> 0 | BH13: =ORARIO_GENERALE!K27 -> RA1D | BI13: =ORARIO_GENERALE!K40 -> 0 | BJ13: =ORARIO_GENERALE!M48 -> RA1A | BK13: =ORARIO_GENERALE!K68 -> 0 | BM13: 18:00-19:00 | BN13: =#REF! -> #REF! | BO13: =#REF! -> #REF! | BP13: =#REF! -> #REF! | BQ13: =#REF! -> #REF! | BR13: =#REF! -> #REF! | BT13: 18:00-19:00 | BU13: =#REF! -> #REF! | BV13: =#REF! -> #REF! | BW13: =#REF! -> #REF! | BX13: =#REF! -> #REF! | BY13: =#REF! -> #REF! | CA13: 18:00-19:00 | CB13: =#REF! -> #REF! | CC13: =#REF! -> #REF! | CD13: =#REF! -> #REF! | CE13: =#REF! -> #REF! | CF13: =#REF! -> #REF! | CH13: 18:00-19:00 | CI13: =#REF! -> #REF! | CJ13: =#REF! -> #REF! | CK13: =#REF! -> #REF! | CL13: =#REF! -> #REF! | CM13: =#REF! -> #REF!
B14: 19:00-20:00 | C14: =ORARIO_GENERALE!D15 -> 0 | D14: =ORARIO_GENERALE!D28 -> RPPC | E14: =ORARIO_GENERALE!D41 -> RPPC | F14: =ORARIO_GENERALE!D54 -> 0 | G14: =ORARIO_GENERALE!D69 -> 0 | I14: 19:00-20:00 | J14: =ORARIO_GENERALE!E15 -> 0 | K14: =ORARIO_GENERALE!E28 -> RPPC | L14: =ORARIO_GENERALE!E41 -> 0 | M14: =ORARIO_GENERALE!E54 -> 0 | N14: =ORARIO_GENERALE!E69 -> 0 | P14: 19:00-20:00 | Q14: =ORARIO_GENERALE!L10 -> 0 | R14: =ORARIO_GENERALE!L28 -> 0 | S14: =ORARIO_GENERALE!L41 -> RA2D | T14: =ORARIO_GENERALE!L54 -> 0 | U14: =ORARIO_GENERALE!L69 -> 0 | W14: 19:00-20:00 | X14: =ORARIO_GENERALE!F15 -> D/A | Y14: =ORARIO_GENERALE!F28 -> 0 | Z14: =ORARIO_GENERALE!F41 -> 0 | AA14: =#REF! -> #REF! | AB14: =ORARIO_GENERALE!F69 -> 0 | AD14: 19:00-20:00 | AE14: =ORARIO_GENERALE!P15 -> 0 | AF14: =ORARIO_GENERALE!P28 -> 0 | AG14: =ORARIO_GENERALE!P41 -> RA2E | AH14: =ORARIO_GENERALE!K48 -> D/A | AI14: =ORARIO_GENERALE!P69 -> 0 | AK14: 19:00-20:00 | AL14: =ORARIO_GENERALE!G15 -> 0 | AM14: =ORARIO_GENERALE!G28 -> 0 | AN14: =ORARIO_GENERALE!G41 -> 0 | AO14: =ORARIO_GENERALE!G54 -> 0 | AP14: =ORARIO_GENERALE!G69 -> 0 | AR14: 19:00-20:00 | AS14: =#REF! -> #REF! | AT14: =ORARIO_GENERALE!H26 -> D/A | AU14: =ORARIO_GENERALE!H41 -> 0 | AV14: =ORARIO_GENERALE!I54 -> RPPC | AW14: =ORARIO_GENERALE!H69 -> 0 | AY14: 19:00-20:00 | AZ14: =ORARIO_GENERALE!I15 -> RPPC | BA14: =ORARIO_GENERALE!I28 -> 0 | BB14: =ORARIO_GENERALE!I41 -> CRRPC | BC14: =#REF! -> #REF! | BD14: =ORARIO_GENERALE!I69 -> 0 | BF14: 19:00-20:00 | BG14: =ORARIO_GENERALE!K15 -> 0 | BH14: =ORARIO_GENERALE!K28 -> RA1D | BI14: =ORARIO_GENERALE!K41 -> 0 | BJ14: =ORARIO_GENERALE!M54 -> 0 | BK14: =ORARIO_GENERALE!K69 -> 0 | BM14: 19:00-20:00 | BN14: =#REF! -> #REF! | BO14: =#REF! -> #REF! | BP14: =#REF! -> #REF! | BQ14: =#REF! -> #REF! | BR14: =#REF! -> #REF! | BT14: 19:00-20:00 | BU14: =#REF! -> #REF! | BV14: =#REF! -> #REF! | BW14: =#REF! -> #REF! | BX14: =#REF! -> #REF! | BY14: =#REF! -> #REF! | CA14: 19:00-20:00 | CB14: =#REF! -> #REF! | CC14: =#REF! -> #REF! | CD14: =#REF! -> #REF! | CE14: =#REF! -> #REF! | CF14: =#REF! -> #REF! | CH14: 19:00-20:00 | CI14: =#REF! -> #REF! | CJ14: =#REF! -> #REF! | CK14: =#REF! -> #REF! | CL14: =#REF! -> #REF! | CM14: =#REF! -> #REF!
B15: 20:00-21:00 | C15: =ORARIO_GENERALE!D16 -> 0 | D15: =ORARIO_GENERALE!D29 -> 0 | E15: =ORARIO_GENERALE!D42 -> 0 | F15: =#REF! -> #REF! | G15: =ORARIO_GENERALE!D70 -> 0 | I15: 20:00-21:00 | J15: =ORARIO_GENERALE!E16 -> 0 | K15: =ORARIO_GENERALE!E29 -> RPPC | L15: =ORARIO_GENERALE!E42 -> 0 | M15: =#REF! -> #REF! | N15: =ORARIO_GENERALE!E70 -> 0 | P15: 20:00-21:00 | Q15: =ORARIO_GENERALE!L16 -> 0 | R15: =ORARIO_GENERALE!L29 -> 0 | S15: =ORARIO_GENERALE!L42 -> 0 | T15: =#REF! -> #REF! | U15: =ORARIO_GENERALE!L70 -> 0 | W15: 20:00-21:00 | X15: =ORARIO_GENERALE!F16 -> RPPC | Y15: =ORARIO_GENERALE!F29 -> 0 | Z15: =ORARIO_GENERALE!F42 -> 0 | AA15: =#REF! -> #REF! | AB15: =ORARIO_GENERALE!F70 -> 0 | AD15: 20:00-21:00 | AE15: =ORARIO_GENERALE!P16 -> 0 | AF15: =ORARIO_GENERALE!P29 -> 0 | AG15: =ORARIO_GENERALE!P42 -> 0 | AH15: =#REF! -> #REF! | AI15: =ORARIO_GENERALE!P70 -> 0 | AK15: 20:00-21:00 | AL15: =ORARIO_GENERALE!G16 -> 0 | AM15: =ORARIO_GENERALE!G29 -> 0 | AN15: =ORARIO_GENERALE!G42 -> 0 | AO15: =#REF! -> #REF! | AP15: =ORARIO_GENERALE!G70 -> 0 | AR15: 20:00-21:00 | AS15: =ORARIO_GENERALE!H16 -> 0 | AT15: =ORARIO_GENERALE!H29 -> B2 | AU15: =ORARIO_GENERALE!H42 -> 0 | AV15: =#REF! -> #REF! | AW15: =ORARIO_GENERALE!H70 -> 0 | AY15: 20:00-21:00 | AZ15: =ORARIO_GENERALE!I16 -> 0 | BA15: =ORARIO_GENERALE!I29 -> 0 | BB15: =ORARIO_GENERALE!I42 -> RPPC | BC15: =#REF! -> #REF! | BD15: =ORARIO_GENERALE!I70 -> 0 | BF15: 20:00-21:00 | BG15: =ORARIO_GENERALE!K16 -> 0 | BH15: =ORARIO_GENERALE!K29 -> 0 | BI15: =ORARIO_GENERALE!K42 -> 0 | BJ15: =#REF! -> #REF! | BK15: =ORARIO_GENERALE!K70 -> 0 | BM15: 20:00-21:00 | BN15: =#REF! -> #REF! | BO15: =#REF! -> #REF! | BP15: =#REF! -> #REF! | BQ15: =#REF! -> #REF! | BR15: =#REF! -> #REF! | BT15: 20:00-21:00 | BU15: =#REF! -> #REF! | BV15: =#REF! -> #REF! | BW15: =#REF! -> #REF! | BX15: =#REF! -> #REF! | BY15: =#REF! -> #REF! | CA15: 20:00-21:00 | CB15: =#REF! -> #REF! | CC15: =#REF! -> #REF! | CD15: =#REF! -> #REF! | CE15: =#REF! -> #REF! | CF15: =#REF! -> #REF! | CH15: 20:00-21:00 | CI15: =#REF! -> #REF! | CJ15: =#REF! -> #REF! | CK15: =#REF! -> #REF! | CL15: =#REF! -> #REF! | CM15: =#REF! -> #REF!

Sheet PIANO AULE
G1: PIANO AULE SEDE DI RHO A.S. 2021-2022
B2: LUN | C2: =ORARIO_GENERALE!C4 -> 08:00-09:00 | D2: =IFERROR(RIGHT(ORARIO_GENERALE!D4,LEN(ORARIO_GENERALE!D4)-SEARCH(" ",ORARIO_GENERALE!D4)),"") | E2: =IFERROR(RIGHT(ORARIO_GENERALE!E4,LEN(ORARIO_GENERALE!E4)-SEARCH(" ",ORARIO_GENERALE!E4)),"") | F2: =IFERROR(RIGHT(ORARIO_GENERALE!F4,LEN(ORARIO_GENERALE!F4)-SEARCH(" ",ORARIO_GENERALE!F4)),"") | G2: =IFERROR(RIGHT(ORARIO_GENERALE!G4,LEN(ORARIO_GENERALE!G4)-SEARCH(" ",ORARIO_GENERALE!G4)),"") | H2: =IFERROR(RIGHT(ORARIO_GENERALE!H4,LEN(ORARIO_GENERALE!H4)-SEARCH(" ",ORARIO_GENERALE!H4)),"") | I2: =IFERROR(RIGHT(ORARIO_GENERALE!I4,LEN(ORARIO_GENERALE!I4)-SEARCH(" ",ORARIO_GENERALE!I4)),"") | J2: =#REF! -> #REF! | Q2: MAR
C3: =ORARIO_GENERALE!C5 -> 09:00-10:00 | D3: =IFERROR(RIGHT(ORARIO_GENERALE!D5,LEN(ORARIO_GENERALE!D5)+SEARCH(" ",ORARIO_GENERALE!D5)),"") | E3: =IFERROR(RIGHT(ORARIO_GENERALE!E5,LEN(ORARIO_GENERALE!E5)+SEARCH(" ",ORARIO_GENERALE!E5)),"") | F3: =IFERROR(RIGHT(ORARIO_GENERALE!F5,LEN(ORARIO_GENERALE!F5)+SEARCH(" ",ORARIO_GENERALE!F5)),"") | G3: =IFERROR(RIGHT(ORARIO_GENERALE!G8,LEN(ORARIO_GENERALE!G8)+SEARCH(" ",ORARIO_GENERALE!G8)),"") | H3: =IFERROR(RIGHT(ORARIO_GENERALE!H5,LEN(ORARIO_GENERALE!H5)+SEARCH(" ",ORARIO_GENERALE!H5)),"") | I3: =IFERROR(RIGHT(ORARIO_GENERALE!I5,LEN(ORARIO_GENERALE!I5)+SEARCH(" ",ORARIO_GENERALE!I5)),"") | J3: =#REF! -> #REF! | K3: =IFERROR(RIGHT(#REF!,LEN(#REF!)+SEARCH(" ",#REF!)),"") | L3: =IFERROR(RIGHT(ORARIO_GENERALE!L5,LEN(ORARIO_GENERALE!L5)+SEARCH(" ",ORARIO_GENERALE!L5)),"") | M3: =IFERROR(RIGHT(#REF!,LEN(#REF!)+SEARCH(" ",#REF!)),"") | N3: =IFERROR(RIGHT(#REF!,LEN(#REF!)+SEARCH(" ",#REF!)),"") | O3: =IFERROR(RIGHT(#REF!,LEN(#REF!)+SEARCH(" ",#REF!)),"") | P3: =IFERROR(RIGHT(#REF!,LEN(#REF!)+SEARCH(" ",#REF!)),"")
C4: =ORARIO_GENERALE!C6 -> 10:00-11:00 | D4: =IFERROR(RIGHT(ORARIO_GENERALE!D6,LEN(ORARIO_GENERALE!D6)+SEARCH(" ",ORARIO_GENERALE!D6)),"") | E4: =IFERROR(RIGHT(ORARIO_GENERALE!E6,LEN(ORARIO_GENERALE!E6)+SEARCH(" ",ORARIO_GENERALE!E6)),"") | F4: =IFERROR(RIGHT(ORARIO_GENERALE!F6,LEN(ORARIO_GENERALE!F6)+SEARCH(" ",ORARIO_GENERALE!F6)),"") | G4: =IFERROR(RIGHT(#REF!,LEN(#REF!)+SEARCH(" ",#REF!)),"") | H4: =IFERROR(RIGHT(ORARIO_GENERALE!H6,LEN(ORARIO_GENERALE!H6)+SEARCH(" ",ORARIO_GENERALE!H6)),"") | I4: =IFERROR(RIGHT(ORARIO_GENERALE!I6,LEN(ORARIO_GENERALE!I6)+SEARCH(" ",ORARIO_GENERALE!I6)),"") | J4: =#REF! -> #REF! | K4: =IFERROR(RIGHT(#REF!,LEN(#REF!)+SEARCH(" ",#REF!)),"") | L4: =IFERROR(RIGHT(ORARIO_GENERALE!L6,LEN(ORARIO_GENERALE!L6)+SEARCH(" ",ORARIO_GENERALE!L6)),"") | M4: =IFERROR(RIGHT(ORARIO_GENERALE!K5,LEN(ORARIO_GENERALE!K5)+SEARCH(" ",ORARIO_GENERALE!K5)),"") | N4: =IFERROR(RIGHT(#REF!,LEN(#REF!)+SEARCH(" ",#REF!)),"") | O4: =IFERROR(RIGHT(#REF!,LEN(#REF!)+SEARCH(" ",#REF!)),"") | P4: =IFERROR(RIGHT(#REF!,LEN(#REF!)+SEARCH(" ",#REF!)),"")
C5: =ORARIO_GENERALE!C7 -> 11:00-12:00 | D5: =IFERROR(RIGHT(ORARIO_GENERALE!D7,LEN(ORARIO_GENERALE!D7)+SEARCH(" ",ORARIO_GENERALE!D7)),"") | E5: =IFERROR(RIGHT(ORARIO_GENERALE!E7,LEN(ORARIO_GENERALE!E7)+SEARCH(" ",ORARIO_GENERALE!E7)),"") | F5: =IFERROR(RIGHT(ORARIO_GENERALE!F7,LEN(ORARIO_GENERALE!F7)+SEARCH(" ",ORARIO_GENERALE!F7)),"") | G5: =IFERROR(RIGHT(ORARIO_GENERALE!G7,LEN(ORARIO_GENERALE!G7)+SEARCH(" ",ORARIO_GENERALE!G7)),"") | H5: =IFERROR(RIGHT(ORARIO_GENERALE!H7,LEN(ORARIO_GENERALE!H7)+SEARCH(" ",ORARIO_GENERALE!H7)),"") | I5: =IFERROR(RIGHT(ORARIO_GENERALE!I7,LEN(ORARIO_GENERALE!I7)+SEARCH(" ",ORARIO_GENERALE!I7)),"") | J5: =#REF! -> #REF! | K5: =IFERROR(RIGHT(ORARIO_GENERALE!K7,LEN(ORARIO_GENERALE!K7)+SEARCH(" ",ORARIO_GENERALE!K7)),"") | L5: =IFERROR(RIGHT(ORARIO_GENERALE!L7,LEN(ORARIO_GENERALE!L7)+SEARCH(" ",ORARIO_GENERALE!L7)),"") | M5: =IFERROR(RIGHT(#REF!,LEN(#REF!)+SEARCH(" ",#REF!)),"") | N5: =IFERROR(RIGHT(#REF!,LEN(#REF!)+SEARCH(" ",#REF!)),"") | O5: =IFERROR(RIGHT(#REF!,LEN(#REF!)+SEARCH(" ",#REF!)),"") | P5: =IFERROR(RIGHT(#REF!,LEN(#REF!)+SEARCH(" ",#REF!)),"")
C6: =ORARIO_GENERALE!C8 -> 12:00-13:00 | D6: =IFERROR(RIGHT(ORARIO_GENERALE!D8,LEN(ORARIO_GENERALE!D8)+SEARCH(" ",ORARIO_GENERALE!D8)),"") | E6: =IFERROR(RIGHT(ORARIO_GENERALE!E8,LEN(ORARIO_GENERALE!E8)+SEARCH(" ",ORARIO_GENERALE!E8)),"") | F6: =IFERROR(RIGHT(ORARIO_GENERALE!F8,LEN(ORARIO_GENERALE!F8)+SEARCH(" ",ORARIO_GENERALE!F8)),"") | G6: =IFERROR(RIGHT(#REF!,LEN(#REF!)+SEARCH(" ",#REF!)),"") | H6: =IFERROR(RIGHT(ORARIO_GENERALE!H14,LEN(ORARIO_GENERALE!H14)+SEARCH(" ",ORARIO_GENERALE!H14)),"") | I6: =IFERROR(RIGHT(ORARIO_GENERALE!I8,LEN(ORARIO_GENERALE!I8)+SEARCH(" ",ORARIO_GENERALE!I8)),"") | J6: =#REF! -> #REF! | K6: =IFERROR(RIGHT(ORARIO_GENERALE!K21,LEN(ORARIO_GENERALE!K21)+SEARCH(" ",ORARIO_GENERALE!K21)),"") | L6: =IFERROR(RIGHT(ORARIO_GENERALE!L8,LEN(ORARIO_GENERALE!L8)+SEARCH(" ",ORARIO_GENERALE!L8)),"") | M6: =IFERROR(RIGHT(ORARIO_GENERALE!P57,LEN(ORARIO_GENERALE!P57)+SEARCH(" ",ORARIO_GENERALE!P57)),"") | N6: =IFERROR(RIGHT(#REF!,LEN(#REF!)+SEARCH(" ",#REF!)),"") | O6: =IFERROR(RIGHT(#REF!,LEN(#REF!)+SEARCH(" ",#REF!)),"") | P6: =IFERROR(RIGHT(#REF!,LEN(#REF!)+SEARCH(" ",#REF!)),"")
C7: =ORARIO_GENERALE!C9 -> 13:00-14:00 | D7: =IFERROR(RIGHT(ORARIO_GENERALE!D9,LEN(ORARIO_GENERALE!D9)+SEARCH(" ",ORARIO_GENERALE!D9)),"") | E7: =IFERROR(RIGHT(ORARIO_GENERALE!E9,LEN(ORARIO_GENERALE!E9)+SEARCH(" ",ORARIO_GENERALE!E9)),"") | F7: =IFERROR(RIGHT(ORARIO_GENERALE!F9,LEN(ORARIO_GENERALE!F9)+SEARCH(" ",ORARIO_GENERALE!F9)),"") | G7: =IFERROR(RIGHT(ORARIO_GENERALE!G6,LEN(ORARIO_GENERALE!G6)+SEARCH(" ",ORARIO_GENERALE!G6)),"") | H7: =IFERROR(RIGHT(ORARIO_GENERALE!H15,LEN(ORARIO_GENERALE!H15)+SEARCH(" ",ORARIO_GENERALE!H15)),"") | I7: =IFERROR(RIGHT(ORARIO_GENERALE!I9,LEN(ORARIO_GENERALE!I9)+SEARCH(" ",ORARIO_GENERALE!I9)),"") | J7: =#REF! -> #REF! | K7: =IFERROR(RIGHT(#REF!,LEN(#REF!)+SEARCH(" ",#REF!)),"") | L7: =IFERROR(RIGHT(#REF!,LEN(#REF!)+SEARCH(" ",#REF!)),"") | M7: =IFERROR(RIGHT(#REF!,LEN(#REF!)+SEARCH(" ",#REF!)),"") | N7: =IFERROR(RIGHT(#REF!,LEN(#REF!)+SEARCH(" ",#REF!)),"") | O7: =IFERROR(RIGHT(#REF!,LEN(#REF!)+SEARCH(" ",#REF!)),"") | P7: =IFERROR(RIGHT(#REF!,LEN(#REF!)+SEARCH(" ",#REF!)),"")
C8: =ORARIO_GENERALE!C10 -> 14:00-15:00 | D8: =IFERROR(RIGHT(ORARIO_GENERALE!D10,LEN(ORARIO_GENERALE!D10)+SEARCH(" ",ORARIO_GENERALE!D10)),"") | E8: =IFERROR(RIGHT(ORARIO_GENERALE!E10,LEN(ORARIO_GENERALE!E10)+SEARCH(" ",ORARIO_GENERALE!E10)),"") | F8: =IFERROR(RIGHT(ORARIO_GENERALE!F10,LEN(ORARIO_GENERALE!F10)+SEARCH(" ",ORARIO_GENERALE!F10)),"") | G8: =IFERROR(RIGHT(ORARIO_GENERALE!G10,LEN(ORARIO_GENERALE!G10)+SEARCH(" ",ORARIO_GENERALE!G10)),"") | H8: =IFERROR(RIGHT(ORARIO_GENERALE!H10,LEN(ORARIO_GENERALE!H10)+SEARCH(" ",ORARIO_GENERALE!H10)),"") | I8: =IFERROR(RIGHT(ORARIO_GENERALE!I10,LEN(ORARIO_GENERALE!I10)+SEARCH(" ",ORARIO_GENERALE!I10)),"") | J8: =#REF! -> #REF! | K8: =IFERROR(RIGHT(ORARIO_GENERALE!K10,LEN(ORARIO_GENERALE!K10)+SEARCH(" ",ORARIO_GENERALE!K10)),"") | L8: =IFERROR(RIGHT(#REF!,LEN(#REF!)+SEARCH(" ",#REF!)),"") | M8: =IFERROR(RIGHT(ORARIO_GENERALE!P5,LEN(ORARIO_GENERALE!P5)+SEARCH(" ",ORARIO_GENERALE!P5)),"") | N8: =IFERROR(RIGHT(#REF!,LEN(#REF!)+SEARCH(" ",#REF!)),"") | O8: =IFERROR(RIGHT(#REF!,LEN(#REF!)+SEARCH(" ",#REF!)),"") | P8: =IFERROR(RIGHT(#REF!,LEN(#REF!)+SEARCH(" ",#REF!)),"")
C9: =ORARIO_GENERALE!C11 -> 15:00-16:00 | D9: =IFERROR(RIGHT(ORARIO_GENERALE!D11,LEN(ORARIO_GENERALE!D11)+SEARCH(" ",ORARIO_GENERALE!D11)),"") | E9: =IFERROR(RIGHT(ORARIO_GENERALE!E11,LEN(ORARIO_GENERALE!E11)+SEARCH(" ",ORARIO_GENERALE!E11)),"") | F9: =IFERROR(RIGHT(ORARIO_GENERALE!F11,LEN(ORARIO_GENERALE!F11)+SEARCH(" ",ORARIO_GENERALE!F11)),"") | G9: =IFERROR(RIGHT(ORARIO_GENERALE!G11,LEN(ORARIO_GENERALE!G11)+SEARCH(" ",ORARIO_GENERALE!G11)),"") | H9: =IFERROR(RIGHT(ORARIO_GENERALE!H11,LEN(ORARIO_GENERALE!H11)+SEARCH(" ",ORARIO_GENERALE!H11)),"") | I9: =IFERROR(RIGHT(ORARIO_GENERALE!I11,LEN(ORARIO_GENERALE!I11)+SEARCH(" ",ORARIO_GENERALE!I11)),"") | J9: =#REF! -> #REF! | K9: =IFERROR(RIGHT(ORARIO_GENERALE!K11,LEN(ORARIO_GENERALE!K11)+SEARCH(" ",ORARIO_GENERALE!K11)),"") | L9: =IFERROR(RIGHT(ORARIO_GENERALE!L11,LEN(ORARIO_GENERALE!L11)+SEARCH(" ",ORARIO_GENERALE!L11)),"") | M9: =IFERROR(RIGHT(ORARIO_GENERALE!P6,LEN(ORARIO_GENERALE!P6)+SEARCH(" ",ORARIO_GENERALE!P6)),"") | N9: =IFERROR(RIGHT(#REF!,LEN(#REF!)+SEARCH(" ",#REF!)),"") | O9: =IFERROR(RIGHT(#REF!,LEN(#REF!)+SEARCH(" ",#REF!)),"") | P9: =IFERROR(RIGHT(#REF!,LEN(#REF!)+SEARCH(" ",#REF!)),"")
C10: =ORARIO_GENERALE!C12 -> 16:00-17:00 | D10: =IFERROR(RIGHT(#REF!,LEN(#REF!)+SEARCH(" ",#REF!)),"") | E10: =IFERROR(RIGHT(ORARIO_GENERALE!E12,LEN(ORARIO_GENERALE!E12)+SEARCH(" ",ORARIO_GENERALE!E12)),"") | F10: =IFERROR(RIGHT(ORARIO_GENERALE!F12,LEN(ORARIO_GENERALE!F12)+SEARCH(" ",ORARIO_GENERALE!F12)),"") | G10: =IFERROR(RIGHT(ORARIO_GENERALE!G12,LEN(ORARIO_GENERALE!G12)+SEARCH(" ",ORARIO_GENERALE!G12)),"") | H10: =IFERROR(RIGHT(#REF!,LEN(#REF!)+SEARCH(" ",#REF!)),"") | I10: =IFERROR(RIGHT(ORARIO_GENERALE!I12,LEN(ORARIO_GENERALE!I12)+SEARCH(" ",ORARIO_GENERALE!I12)),"") | J10: =#REF! -> #REF! | K10: =IFERROR(RIGHT(ORARIO_GENERALE!K12,LEN(ORARIO_GENERALE!K12)+SEARCH(" ",ORARIO_GENERALE!K12)),"") | L10: =IFERROR(RIGHT(ORARIO_GENERALE!L12,LEN(ORARIO_GENERALE!L12)+SEARCH(" ",ORARIO_GENERALE!L12)),"") | M10: =IFERROR(RIGHT(ORARIO_GENERALE!P7,LEN(ORARIO_GENERALE!P7)+SEARCH(" ",ORARIO_GENERALE!P7)),"") | N10: =IFERROR(RIGHT(#REF!,LEN(#REF!)+SEARCH(" ",#REF!)),"") | O10: =IFERROR(RIGHT(#REF!,LEN(#REF!)+SEARCH(" ",#REF!)),"") | P10: =IFERROR(RIGHT(#REF!,LEN(#REF!)+SEARCH(" ",#REF!)),"")
C11: =ORARIO_GENERALE!C13 -> 17:00-18-00 | D11: =IFERROR(RIGHT(ORARIO_GENERALE!D13,LEN(ORARIO_GENERALE!D13)+SEARCH(" ",ORARIO_GENERALE!D13)),"") | E11: =IFERROR(RIGHT(ORARIO_GENERALE!E13,LEN(ORARIO_GENERALE!E13)+SEARCH(" ",ORARIO_GENERALE!E13)),"") | F11: =IFERROR(RIGHT(ORARIO_GENERALE!F13,LEN(ORARIO_GENERALE!F13)+SEARCH(" ",ORARIO_GENERALE!F13)),"") | G11: =IFERROR(RIGHT(ORARIO_GENERALE!G13,LEN(ORARIO_GENERALE!G13)+SEARCH(" ",ORARIO_GENERALE!G13)),"") | H11: =IFERROR(RIGHT(#REF!,LEN(#REF!)+SEARCH(" ",#REF!)),"") | I11: =IFERROR(RIGHT(ORARIO_GENERALE!I13,LEN(ORARIO_GENERALE!I13)+SEARCH(" ",ORARIO_GENERALE!I13)),"") | J11: =#REF! -> #REF! | K11: =IFERROR(RIGHT(ORARIO_GENERALE!K13,LEN(ORARIO_GENERALE!K13)+SEARCH(" ",ORARIO_GENERALE!K13)),"") | L11: =IFERROR(RIGHT(ORARIO_GENERALE!L13,LEN(ORARIO_GENERALE!L13)+SEARCH(" ",ORARIO_GENERALE!L13)),"") | M11: =IFERROR(RIGHT(ORARIO_GENERALE!P8,LEN(ORARIO_GENERALE!P8)+SEARCH(" ",ORARIO_GENERALE!P8)),"") | N11: =IFERROR(RIGHT(#REF!,LEN(#REF!)+SEARCH(" ",#REF!)),"") | O11: =IFERROR(RIGHT(#REF!,LEN(#REF!)+SEARCH(" ",#REF!)),"") | P11: =IFERROR(RIGHT(#REF!,LEN(#REF!)+SEARCH(" ",#REF!)),"")
C12: =ORARIO_GENERALE!C14 -> 18:00-19:00 | D12: =IFERROR(RIGHT(ORARIO_GENERALE!D14,LEN(ORARIO_GENERALE!D14)+SEARCH(" ",ORARIO_GENERALE!D14)),"") | E12: =IFERROR(RIGHT(ORARIO_GENERALE!E14,LEN(ORARIO_GENERALE!E14)+SEARCH(" ",ORARIO_GENERALE!E14)),"") | F12: =IFERROR(RIGHT(ORARIO_GENERALE!F14,LEN(ORARIO_GENERALE!F14)+SEARCH(" ",ORARIO_GENERALE!F14)),"") | G12: =IFERROR(RIGHT(ORARIO_GENERALE!G14,LEN(ORARIO_GENERALE!G14)+SEARCH(" ",ORARIO_GENERALE!G14)),"") | H12: =IFERROR(RIGHT(#REF!,LEN(#REF!)+SEARCH(" ",#REF!)),"") | I12: =IFERROR(RIGHT(ORARIO_GENERALE!I14,LEN(ORARIO_GENERALE!I14)+SEARCH(" ",ORARIO_GENERALE!I14)),"") | J12: =#REF! -> #REF! | K12: =IFERROR(RIGHT(ORARIO_GENERALE!K14,LEN(ORARIO_GENERALE!K14)+SEARCH(" ",ORARIO_GENERALE!K14)),"") | L12: =IFERROR(RIGHT(ORARIO_GENERALE!L9,LEN(ORARIO_GENERALE!L9)+SEARCH(" ",ORARIO_GENERALE!L9)),"") | M12: =IFERROR(RIGHT(ORARIO_GENERALE!P9,LEN(ORARIO_GENERALE!P9)+SEARCH(" ",ORARIO_GENERALE!P9)),"") | N12: =IFERROR(RIGHT(#REF!,LEN(#REF!)+SEARCH(" ",#REF!)),"") | O12: =IFERROR(RIGHT(#REF!,LEN(#REF!)+SEARCH(" ",#REF!)),"") | P12: =IFERROR(RIGHT(#REF!,LEN(#REF!)+SEARCH(" ",#REF!)),"")
C13: =ORARIO_GENERALE!C15 -> 19:00-20:00 | D13: =IFERROR(RIGHT(ORARIO_GENERALE!D15,LEN(ORARIO_GENERALE!D15)+SEARCH(" ",ORARIO_GENERALE!D15)),"") | E13: =IFERROR(RIGHT(ORARIO_GENERALE!E15,LEN(ORARIO_GENERALE!E15)+SEARCH(" ",ORARIO_GENERALE!E15)),"") | F13: =IFERROR(RIGHT(ORARIO_GENERALE!F15,LEN(ORARIO_GENERALE!F15)+SEARCH(" ",ORARIO_GENERALE!F15)),"") | G13: =IFERROR(RIGHT(ORARIO_GENERALE!G15,LEN(ORARIO_GENERALE!G15)+SEARCH(" ",ORARIO_GENERALE!G15)),"") | H13: =IFERROR(RIGHT(#REF!,LEN(#REF!)+SEARCH(" ",#REF!)),"") | I13: =IFERROR(RIGHT(ORARIO_GENERALE!I15,LEN(ORARIO_GENERALE!I15)+SEARCH(" ",ORARIO_GENERALE!I15)),"") | J13: =#REF! -> #REF! | K13: =IFERROR(RIGHT(ORARIO_GENERALE!K15,LEN(ORARIO_GENERALE!K15)+SEARCH(" ",ORARIO_GENERALE!K15)),"") | L13: =IFERROR(RIGHT(ORARIO_GENERALE!L10,LEN(ORARIO_GENERALE!L10)+SEARCH(" ",ORARIO_GENERALE!L10)),"") | M13: =IFERROR(RIGHT(ORARIO_GENERALE!P15,LEN(ORARIO_GENERALE!P15)+SEARCH(" ",ORARIO_GENERALE!P15)),"") | N13: =IFERROR(RIGHT(#REF!,LEN(#REF!)+SEARCH(" ",#REF!)),"") | O13: =IFERROR(RIGHT(#REF!,LEN(#REF!)+SEARCH(" ",#REF!)),"") | P13: =IFERROR(RIGHT(#REF!,LEN(#REF!)+SEARCH(" ",#REF!)),"")
C14: =ORARIO_GENERALE!C16 -> 20:00-21:00 | D14: =IFERROR(RIGHT(ORARIO_GENERALE!D16,LEN(ORARIO_GENERALE!D16)+SEARCH(" ",ORARIO_GENERALE!D16)),"") | E14: =IFERROR(RIGHT(ORARIO_GENERALE!E16,LEN(ORARIO_GENERALE!E16)+SEARCH(" ",ORARIO_GENERALE!E16)),"") | F14: =IFERROR(RIGHT(ORARIO_GENERALE!F16,LEN(ORARIO_GENERALE!F16)+SEARCH(" ",ORARIO_GENERALE!F16)),"") | G14: =IFERROR(RIGHT(ORARIO_GENERALE!G16,LEN(ORARIO_GENERALE!G16)+SEARCH(" ",ORARIO_GENERALE!G16)),"") | H14: =IFERROR(RIGHT(ORARIO_GENERALE!H16,LEN(ORARIO_GENERALE!H16)+SEARCH(" ",ORARIO_GENERALE!H16)),"") | I14: =IFERROR(RIGHT(ORARIO_GENERALE!I16,LEN(ORARIO_GENERALE!I16)+SEARCH(" ",ORARIO_GENERALE!I16)),"") | J14: =#REF! -> #REF! | K14: =IFERROR(RIGHT(ORARIO_GENERALE!K16,LEN(ORARIO_GENERALE!K16)+SEARCH(" ",ORARIO_GENERALE!K16)),"") | L14: =IFERROR(RIGHT(ORARIO_GENERALE!L16,LEN(ORARIO_GENERALE!L16)+SEARCH(" ",ORARIO_GENERALE!L16)),"") | M14: =IFERROR(RIGHT(ORARIO_GENERALE!P16,LEN(ORARIO_GENERALE!P16)+SEARCH(" ",ORARIO_GENERALE!P16)),"") | N14: =IFERROR(RIGHT(#REF!,LEN(#REF!)+SEARCH(" ",#REF!)),"") | O14: =IFERROR(RIGHT(#REF!,LEN(#REF!)+SEARCH(" ",#REF!)),"") | P14: =IFERROR(RIGHT(#REF!,LEN(#REF!)+SEARCH(" ",#REF!)),"")
B15: MAR | C15: =ORARIO_GENERALE!C17 -> 08:00-09:00 | D15: =IFERROR(RIGHT(ORARIO_GENERALE!D17,LEN(ORARIO_GENERALE!D17)+SEARCH(" ",ORARIO_GENERALE!D17)),"") | E15: =IFERROR(RIGHT(ORARIO_GENERALE!E17,LEN(ORARIO_GENERALE!E17)+SEARCH(" ",ORARIO_GENERALE!E17)),"") | F15: =IFERROR(RIGHT(ORARIO_GENERALE!F17,LEN(ORARIO_GENERALE!F17)+SEARCH(" ",ORARIO_GENERALE!F17)),"") | G15: =IFERROR(RIGHT(ORARIO_GENERALE!G17,LEN(ORARIO_GENERALE!G17)+SEARCH(" ",ORARIO_GENERALE!G17)),"") | H15: =IFERROR(RIGHT(ORARIO_GENERALE!H17,LEN(ORARIO_GENERALE!H17)+SEARCH(" ",ORARIO_GENERALE!H17)),"") | I15: =IFERROR(RIGHT(ORARIO_GENERALE!I17,LEN(ORARIO_GENERALE!I17)+SEARCH(" ",ORARIO_GENERALE!I17)),"") | J15: =#REF! -> #REF! | K15: =IFERROR(RIGHT(ORARIO_GENERALE!K17,LEN(ORARIO_GENERALE!K17)+SEARCH(" ",ORARIO_GENERALE!K17)),"") | L15: =IFERROR(RIGHT(ORARIO_GENERALE!L17,LEN(ORARIO_GENERALE!L17)+SEARCH(" ",ORARIO_GENERALE!L17)),"") | M15: =IFERROR(RIGHT(ORARIO_GENERALE!P17,LEN(ORARIO_GENERALE!P17)+SEARCH(" ",ORARIO_GENERALE!P17)),"") | N15: =IFERROR(RIGHT(#REF!,LEN(#REF!)+SEARCH(" ",#REF!)),"") | O15: =IFERROR(RIGHT(#REF!,LEN(#REF!)+SEARCH(" ",#REF!)),"") | P15: =IFERROR(RIGHT(#REF!,LEN(#REF!)+SEARCH(" ",#REF!)),"") | Q15: =IFERROR(RIGHT(#REF!,LEN(#REF!)-SEARCH(" ",#REF!)),"")
C16: =ORARIO_GENERALE!C18 -> 09:00-10:00 | D16: =IFERROR(RIGHT(ORARIO_GENERALE!D18,LEN(ORARIO_GENERALE!D18)+SEARCH(" ",ORARIO_GENERALE!D18)),"") | E16: =IFERROR(RIGHT(#REF!,LEN(#REF!)+SEARCH(" ",#REF!)),"") | F16: =IFERROR(RIGHT(ORARIO_GENERALE!F18,LEN(ORARIO_GENERALE!F18)+SEARCH(" ",ORARIO_GENERALE!F18)),"") | G16: =IFERROR(RIGHT(ORARIO_GENERALE!G18,LEN(ORARIO_GENERALE!G18)+SEARCH(" ",ORARIO_GENERALE!G18)),"") | H16: =IFERROR(RIGHT(ORARIO_GENERALE!H18,LEN(ORARIO_GENERALE!H18)+SEARCH(" ",ORARIO_GENERALE!H18)),"") | I16: =IFERROR(RIGHT(ORARIO_GENERALE!I18,LEN(ORARIO_GENERALE!I18)+SEARCH(" ",ORARIO_GENERALE!I18)),"") | J16: =#REF! -> #REF! | K16: =IFERROR(RIGHT(ORARIO_GENERALE!M18,LEN(ORARIO_GENERALE!M18)+SEARCH(" ",ORARIO_GENERALE!M18)),"") | L16: =IFERROR(RIGHT(ORARIO_GENERALE!L18,LEN(ORARIO_GENERALE!L18)+SEARCH(" ",ORARIO_GENERALE!L18)),"") | M16: =IFERROR(RIGHT(ORARIO_GENERALE!P18,LEN(ORARIO_GENERALE!P18)+SEARCH(" ",ORARIO_GENERALE!P18)),"") | N16: =IFERROR(RIGHT(#REF!,LEN(#REF!)+SEARCH(" ",#REF!)),"") | O16: =IFERROR(RIGHT(#REF!,LEN(#REF!)+SEARCH(" ",#REF!)),"") | P16: =IFERROR(RIGHT(#REF!,LEN(#REF!)+SEARCH(" ",#REF!)),"") | Q16: =IFERROR(RIGHT(#REF!,LEN(#REF!)-SEARCH(" ",#REF!)),"") | R16: =IFERROR(RIGHT(ORARIO_GENERALE!Q18,LEN(ORARIO_GENERALE!Q18)-SEARCH(" ",ORARIO_GENERALE!Q18)),"")
C17: =ORARIO_GENERALE!C19 -> 10:00-11:00 | D17: =IFERROR(RIGHT(ORARIO_GENERALE!D19,LEN(ORARIO_GENERALE!D19)+SEARCH(" ",ORARIO_GENERALE!D19)),"") | E17: =IFERROR(RIGHT(ORARIO_GENERALE!E19,LEN(ORARIO_GENERALE!E19)+SEARCH(" ",ORARIO_GENERALE!E19)),"") | F17: =IFERROR(RIGHT(ORARIO_GENERALE!F19,LEN(ORARIO_GENERALE!F19)+SEARCH(" ",ORARIO_GENERALE!F19)),"") | G17: =IFERROR(RIGHT(ORARIO_GENERALE!G19,LEN(ORARIO_GENERALE!G19)+SEARCH(" ",ORARIO_GENERALE!G19)),"") | H17: =IFERROR(RIGHT(ORARIO_GENERALE!H19,LEN(ORARIO_GENERALE!H19)+SEARCH(" ",ORARIO_GENERALE!H19)),"") | I17: =IFERROR(RIGHT(ORARIO_GENERALE!I19,LEN(ORARIO_GENERALE!I19)+SEARCH(" ",ORARIO_GENERALE!I19)),"") | J17: =#REF! -> #REF! | K17: =IFERROR(RIGHT(ORARIO_GENERALE!M19,LEN(ORARIO_GENERALE!M19)+SEARCH(" ",ORARIO_GENERALE!M19)),"") | L17: =IFERROR(RIGHT(ORARIO_GENERALE!L19,LEN(ORARIO_GENERALE!L19)+SEARCH(" ",ORARIO_GENERALE!L19)),"") | M17: =IFERROR(RIGHT(ORARIO_GENERALE!P19,LEN(ORARIO_GENERALE!P19)+SEARCH(" ",ORARIO_GENERALE!P19)),"") | N17: =IFERROR(RIGHT(#REF!,LEN(#REF!)+SEARCH(" ",#REF!)),"") | O17: =IFERROR(RIGHT(#REF!,LEN(#REF!)+SEARCH(" ",#REF!)),"") | P17: =IFERROR(RIGHT(#REF!,LEN(#REF!)+SEARCH(" ",#REF!)),"") | Q17: =IFERROR(RIGHT(#REF!,LEN(#REF!)-SEARCH(" ",#REF!)),"") | R17: =IFERROR(RIGHT(ORARIO_GENERALE!Q19,LEN(ORARIO_GENERALE!Q19)-SEARCH(" ",ORARIO_GENERALE!Q19)),"")
C18: =ORARIO_GENERALE!C20 -> 11:00-12:00 | D18: =IFERROR(RIGHT(ORARIO_GENERALE!D20,LEN(ORARIO_GENERALE!D20)+SEARCH(" ",ORARIO_GENERALE!D20)),"") | E18: =IFERROR(RIGHT(ORARIO_GENERALE!E20,LEN(ORARIO_GENERALE!E20)+SEARCH(" ",ORARIO_GENERALE!E20)),"") | F18: =IFERROR(RIGHT(ORARIO_GENERALE!F20,LEN(ORARIO_GENERALE!F20)+SEARCH(" ",ORARIO_GENERALE!F20)),"") | G18: =IFERROR(RIGHT(ORARIO_GENERALE!G20,LEN(ORARIO_GENERALE!G20)+SEARCH(" ",ORARIO_GENERALE!G20)),"") | H18: =IFERROR(RIGHT(ORARIO_GENERALE!H20,LEN(ORARIO_GENERALE!H20)+SEARCH(" ",ORARIO_GENERALE!H20)),"") | I18: =IFERROR(RIGHT(ORARIO_GENERALE!I20,LEN(ORARIO_GENERALE!I20)+SEARCH(" ",ORARIO_GENERALE!I20)),"") | J18: =#REF! -> #REF! | K18: =IFERROR(RIGHT(ORARIO_GENERALE!K20,LEN(ORARIO_GENERALE!K20)+SEARCH(" ",ORARIO_GENERALE!K20)),"") | L18: =IFERROR(RIGHT(ORARIO_GENERALE!L20,LEN(ORARIO_GENERALE!L20)+SEARCH(" ",ORARIO_GENERALE!L20)),"") | M18: =IFERROR(RIGHT(ORARIO_GENERALE!P20,LEN(ORARIO_GENERALE!P20)+SEARCH(" ",ORARIO_GENERALE!P20)),"") | N18: =IFERROR(RIGHT(#REF!,LEN(#REF!)+SEARCH(" ",#REF!)),"") | O18: =IFERROR(RIGHT(#REF!,LEN(#REF!)+SEARCH(" ",#REF!)),"") | P18: =IFERROR(RIGHT(#REF!,LEN(#REF!)+SEARCH(" ",#REF!)),"") | Q18: =IFERROR(RIGHT(#REF!,LEN(#REF!)-SEARCH(" ",#REF!)),"") | R18: =IFERROR(RIGHT(ORARIO_GENERALE!Q20,LEN(ORARIO_GENERALE!Q20)-SEARCH(" ",ORARIO_GENERALE!Q20)),"")
C19: =ORARIO_GENERALE!C21 -> 12:00-13:00 | D19: =IFERROR(RIGHT(ORARIO_GENERALE!D21,LEN(ORARIO_GENERALE!D21)+SEARCH(" ",ORARIO_GENERALE!D21)),"") | E19: =IFERROR(RIGHT(#REF!,LEN(#REF!)+SEARCH(" ",#REF!)),"") | F19: =IFERROR(RIGHT(ORARIO_GENERALE!F21,LEN(ORARIO_GENERALE!F21)+SEARCH(" ",ORARIO_GENERALE!F21)),"") | G19: =IFERROR(RIGHT(ORARIO_GENERALE!G21,LEN(ORARIO_GENERALE!G21)+SEARCH(" ",ORARIO_GENERALE!G21)),"") | H19: =IFERROR(RIGHT(ORARIO_GENERALE!H21,LEN(ORARIO_GENERALE!H21)+SEARCH(" ",ORARIO_GENERALE!H21)),"") | I19: =IFERROR(RIGHT(ORARIO_GENERALE!I21,LEN(ORARIO_GENERALE!I21)+SEARCH(" ",ORARIO_GENERALE!I21)),"") | J19: =#REF! -> #REF! | K19: =IFERROR(RIGHT(#REF!,LEN(#REF!)+SEARCH(" ",#REF!)),"") | L19: =IFERROR(RIGHT(ORARIO_GENERALE!L21,LEN(ORARIO_GENERALE!L21)+SEARCH(" ",ORARIO_GENERALE!L21)),"") | M19: =IFERROR(RIGHT(ORARIO_GENERALE!P21,LEN(ORARIO_GENERALE!P21)+SEARCH(" ",ORARIO_GENERALE!P21)),"") | N19: =IFERROR(RIGHT(#REF!,LEN(#REF!)+SEARCH(" ",#REF!)),"") | O19: =IFERROR(RIGHT(#REF!,LEN(#REF!)+SEARCH(" ",#REF!)),"") | P19: =IFERROR(RIGHT(#REF!,LEN(#REF!)+SEARCH(" ",#REF!)),"") | Q19: =IFERROR(RIGHT(#REF!,LEN(#REF!)-SEARCH(" ",#REF!)),"") | R19: =IFERROR(RIGHT(ORARIO_GENERALE!Q21,LEN(ORARIO_GENERALE!Q21)-SEARCH(" ",ORARIO_GENERALE!Q21)),"")
C20: =ORARIO_GENERALE!C22 -> 13:00-14:00 | D20: =IFERROR(RIGHT(ORARIO_GENERALE!D22,LEN(ORARIO_GENERALE!D22)+SEARCH(" ",ORARIO_GENERALE!D22)),"") | E20: =IFERROR(RIGHT(ORARIO_GENERALE!E21,LEN(ORARIO_GENERALE!E21)+SEARCH(" ",ORARIO_GENERALE!E21)),"") | F20: =IFERROR(RIGHT(ORARIO_GENERALE!F22,LEN(ORARIO_GENERALE!F22)+SEARCH(" ",ORARIO_GENERALE!F22)),"") | G20: =IFERROR(RIGHT(ORARIO_GENERALE!G22,LEN(ORARIO_GENERALE!G22)+SEARCH(" ",ORARIO_GENERALE!G22)),"") | H20: =IFERROR(RIGHT(#REF!,LEN(#REF!)+SEARCH(" ",#REF!)),"") | I20: =IFERROR(RIGHT(ORARIO_GENERALE!I22,LEN(ORARIO_GENERALE!I22)+SEARCH(" ",ORARIO_GENERALE!I22)),"") | J20: =#REF! -> #REF! | K20: =IFERROR(RIGHT(ORARIO_GENERALE!K22,LEN(ORARIO_GENERALE!K22)+SEARCH(" ",ORARIO_GENERALE!K22)),"") | L20: =IFERROR(RIGHT(ORARIO_GENERALE!L22,LEN(ORARIO_GENERALE!L22)+SEARCH(" ",ORARIO_GENERALE!L22)),"") | M20: =IFERROR(RIGHT(ORARIO_GENERALE!P22,LEN(ORARIO_GENERALE!P22)+SEARCH(" ",ORARIO_GENERALE!P22)),"") | N20: =IFERROR(RIGHT(#REF!,LEN(#REF!)+SEARCH(" ",#REF!)),"") | O20: =IFERROR(RIGHT(#REF!,LEN(#REF!)+SEARCH(" ",#REF!)),"") | P20: =IFERROR(RIGHT(#REF!,LEN(#REF!)+SEARCH(" ",#REF!)),"") | Q20: =IFERROR(RIGHT(#REF!,LEN(#REF!)-SEARCH(" ",#REF!)),"") | R20: =IFERROR(RIGHT(ORARIO_GENERALE!Q22,LEN(ORARIO_GENERALE!Q22)-SEARCH(" ",ORARIO_GENERALE!Q22)),"")
C21: =ORARIO_GENERALE!C23 -> 14:00-15:00 | D21: =IFERROR(RIGHT(ORARIO_GENERALE!D23,LEN(ORARIO_GENERALE!D23)+SEARCH(" ",ORARIO_GENERALE!D23)),"") | E21: =IFERROR(RIGHT(ORARIO_GENERALE!E22,LEN(ORARIO_GENERALE!E22)+SEARCH(" ",ORARIO_GENERALE!E22)),"") | F21: =IFERROR(RIGHT(ORARIO_GENERALE!F23,LEN(ORARIO_GENERALE!F23)+SEARCH(" ",ORARIO_GENERALE!F23)),"") | G21: =IFERROR(RIGHT(ORARIO_GENERALE!G23,LEN(ORARIO_GENERALE!G23)+SEARCH(" ",ORARIO_GENERALE!G23)),"") | H21: =IFERROR(RIGHT(ORARIO_GENERALE!H23,LEN(ORARIO_GENERALE!H23)+SEARCH(" ",ORARIO_GENERALE!H23)),"") | I21: =IFERROR(RIGHT(ORARIO_GENERALE!I23,LEN(ORARIO_GENERALE!I23)+SEARCH(" ",ORARIO_GENERALE!I23)),"") | J21: =#REF! -> #REF! | K21: =IFERROR(RIGHT(#REF!,LEN(#REF!)+SEARCH(" ",#REF!)),"") | L21: =IFERROR(RIGHT(ORARIO_GENERALE!L23,LEN(ORARIO_GENERALE!L23)+SEARCH(" ",ORARIO_GENERALE!L23)),"") | M21: =IFERROR(RIGHT(ORARIO_GENERALE!P23,LEN(ORARIO_GENERALE!P23)+SEARCH(" ",ORARIO_GENERALE!P23)),"") | N21: =IFERROR(RIGHT(#REF!,LEN(#REF!)+SEARCH(" ",#REF!)),"") | O21: =IFERROR(RIGHT(#REF!,LEN(#REF!)+SEARCH(" ",#REF!)),"") | P21: =IFERROR(RIGHT(#REF!,LEN(#REF!)+SEARCH(" ",#REF!)),"") | Q21: =IFERROR(RIGHT(#REF!,LEN(#REF!)-SEARCH(" ",#REF!)),"") | R21: =IFERROR(RIGHT(ORARIO_GENERALE!Q23,LEN(ORARIO_GENERALE!Q23)-SEARCH(" ",ORARIO_GENERALE!Q23)),"")
C22: =ORARIO_GENERALE!C24 -> 15:00-16:00 | D22: =IFERROR(RIGHT(ORARIO_GENERALE!D24,LEN(ORARIO_GENERALE!D24)+SEARCH(" ",ORARIO_GENERALE!D24)),"") | E22: =IFERROR(RIGHT(ORARIO_GENERALE!E24,LEN(ORARIO_GENERALE!E24)+SEARCH(" ",ORARIO_GENERALE!E24)),"") | F22: =IFERROR(RIGHT(ORARIO_GENERALE!F24,LEN(ORARIO_GENERALE!F24)+SEARCH(" ",ORARIO_GENERALE!F24)),"") | G22: =IFERROR(RIGHT(ORARIO_GENERALE!G24,LEN(ORARIO_GENERALE!G24)+SEARCH(" ",ORARIO_GENERALE!G24)),"") | H22: =IFERROR(RIGHT(ORARIO_GENERALE!H24,LEN(ORARIO_GENERALE!H24)+SEARCH(" ",ORARIO_GENERALE!H24)),"") | I22: =IFERROR(RIGHT(ORARIO_GENERALE!I24,LEN(ORARIO_GENERALE!I24)+SEARCH(" ",ORARIO_GENERALE!I24)),"") | J22: =#REF! -> #REF! | K22: =IFERROR(RIGHT(ORARIO_GENERALE!K24,LEN(ORARIO_GENERALE!K24)+SEARCH(" ",ORARIO_GENERALE!K24)),"") | L22: =IFERROR(RIGHT(ORARIO_GENERALE!L24,LEN(ORARIO_GENERALE!L24)+SEARCH(" ",ORARIO_GENERALE!L24)),"") | M22: =IFERROR(RIGHT(ORARIO_GENERALE!P24,LEN(ORARIO_GENERALE!P24)+SEARCH(" ",ORARIO_GENERALE!P24)),"") | N22: =IFERROR(RIGHT(#REF!,LEN(#REF!)+SEARCH(" ",#REF!)),"") | O22: =IFERROR(RIGHT(#REF!,LEN(#REF!)+SEARCH(" ",#REF!)),"") | P22: =IFERROR(RIGHT(#REF!,LEN(#REF!)+SEARCH(" ",#REF!)),"") | Q22: =IFERROR(RIGHT(#REF!,LEN(#REF!)-SEARCH(" ",#REF!)),"") | R22: =IFERROR(RIGHT(ORARIO_GENERALE!Q24,LEN(ORARIO_GENERALE!Q24)-SEARCH(" ",ORARIO_GENERALE!Q24)),"")
C23: =ORARIO_GENERALE!C25 -> 16:00-17:00 | D23: =IFERROR(RIGHT(ORARIO_GENERALE!D25,LEN(ORARIO_GENERALE!D25)+SEARCH(" ",ORARIO_GENERALE!D25)),"") | E23: =IFERROR(RIGHT(ORARIO_GENERALE!E25,LEN(ORARIO_GENERALE!E25)+SEARCH(" ",ORARIO_GENERALE!E25)),"") | F23: =IFERROR(RIGHT(ORARIO_GENERALE!F25,LEN(ORARIO_GENERALE!F25)+SEARCH(" ",ORARIO_GENERALE!F25)),"") | G23: =IFERROR(RIGHT(ORARIO_GENERALE!G26,LEN(ORARIO_GENERALE!G26)+SEARCH(" ",ORARIO_GENERALE!G26)),"") | H23: =IFERROR(RIGHT(ORARIO_GENERALE!H28,LEN(ORARIO_GENERALE!H28)+SEARCH(" ",ORARIO_GENERALE!H28)),"") | I23: =IFERROR(RIGHT(ORARIO_GENERALE!I25,LEN(ORARIO_GENERALE!I25)+SEARCH(" ",ORARIO_GENERALE!I25)),"") | J23: =#REF! -> #REF! | K23: =IFERROR(RIGHT(ORARIO_GENERALE!K25,LEN(ORARIO_GENERALE!K25)+SEARCH(" ",ORARIO_GENERALE!K25)),"") | L23: =IFERROR(RIGHT(ORARIO_GENERALE!L25,LEN(ORARIO_GENERALE!L25)+SEARCH(" ",ORARIO_GENERALE!L25)),"") | M23: =IFERROR(RIGHT(ORARIO_GENERALE!P25,LEN(ORARIO_GENERALE!P25)+SEARCH(" ",ORARIO_GENERALE!P25)),"") | N23: =IFERROR(RIGHT(#REF!,LEN(#REF!)+SEARCH(" ",#REF!)),"") | O23: =IFERROR(RIGHT(#REF!,LEN(#REF!)+SEARCH(" ",#REF!)),"") | P23: =IFERROR(RIGHT(#REF!,LEN(#REF!)+SEARCH(" ",#REF!)),"") | Q23: =IFERROR(RIGHT(#REF!,LEN(#REF!)-SEARCH(" ",#REF!)),"") | R23: =IFERROR(RIGHT(ORARIO_GENERALE!Q25,LEN(ORARIO_GENERALE!Q25)-SEARCH(" ",ORARIO_GENERALE!Q25)),"")
C24: =ORARIO_GENERALE!C26 -> 17:00-18-00 | D24: =IFERROR(RIGHT(ORARIO_GENERALE!D26,LEN(ORARIO_GENERALE!D26)+SEARCH(" ",ORARIO_GENERALE!D26)),"") | E24: =IFERROR(RIGHT(ORARIO_GENERALE!E26,LEN(ORARIO_GENERALE!E26)+SEARCH(" ",ORARIO_GENERALE!E26)),"") | F24: =IFERROR(RIGHT(ORARIO_GENERALE!F26,LEN(ORARIO_GENERALE!F26)+SEARCH(" ",ORARIO_GENERALE!F26)),"") | G24: =IFERROR(RIGHT(#REF!,LEN(#REF!)+SEARCH(" ",#REF!)),"") | H24: =IFERROR(RIGHT(#REF!,LEN(#REF!)+SEARCH(" ",#REF!)),"") | I24: =IFERROR(RIGHT(ORARIO_GENERALE!I26,LEN(ORARIO_GENERALE!I26)+SEARCH(" ",ORARIO_GENERALE!I26)),"") | J24: =#REF! -> #REF! | K24: =IFERROR(RIGHT(ORARIO_GENERALE!K26,LEN(ORARIO_GENERALE!K26)+SEARCH(" ",ORARIO_GENERALE!K26)),"") | L24: =IFERROR(RIGHT(#REF!,LEN(#REF!)+SEARCH(" ",#REF!)),"") | M24: =IFERROR(RIGHT(ORARIO_GENERALE!P26,LEN(ORARIO_GENERALE!P26)+SEARCH(" ",ORARIO_GENERALE!P26)),"") | N24: =IFERROR(RIGHT(#REF!,LEN(#REF!)+SEARCH(" ",#REF!)),"") | O24: =IFERROR(RIGHT(#REF!,LEN(#REF!)+SEARCH(" ",#REF!)),"") | P24: =IFERROR(RIGHT(#REF!,LEN(#REF!)+SEARCH(" ",#REF!)),"") | Q24: =IFERROR(RIGHT(#REF!,LEN(#REF!)-SEARCH(" ",#REF!)),"") | R24: =IFERROR(RIGHT(ORARIO_GENERALE!Q26,LEN(ORARIO_GENERALE!Q26)-SEARCH(" ",ORARIO_GENERALE!Q26)),"")
C25: =ORARIO_GENERALE!C27 -> 18:00-19:00 | D25: =IFERROR(RIGHT(ORARIO_GENERALE!D27,LEN(ORARIO_GENERALE!D27)+SEARCH(" ",ORARIO_GENERALE!D27)),"") | E25: =IFERROR(RIGHT(ORARIO_GENERALE!E27,LEN(ORARIO_GENERALE!E27)+SEARCH(" ",ORARIO_GENERALE!E27)),"") | F25: =IFERROR(RIGHT(ORARIO_GENERALE!F27,LEN(ORARIO_GENERALE!F27)+SEARCH(" ",ORARIO_GENERALE!F27)),"") | G25: =IFERROR(RIGHT(ORARIO_GENERALE!G27,LEN(ORARIO_GENERALE!G27)+SEARCH(" ",ORARIO_GENERALE!G27)),"") | H25: =IFERROR(RIGHT(#REF!,LEN(#REF!)+SEARCH(" ",#REF!)),"") | I25: =IFERROR(RIGHT(ORARIO_GENERALE!I27,LEN(ORARIO_GENERALE!I27)+SEARCH(" ",ORARIO_GENERALE!I27)),"") | J25: =#REF! -> #REF! | K25: =IFERROR(RIGHT(ORARIO_GENERALE!K27,LEN(ORARIO_GENERALE!K27)+SEARCH(" ",ORARIO_GENERALE!K27)),"") | L25: =IFERROR(RIGHT(ORARIO_GENERALE!L27,LEN(ORARIO_GENERALE!L27)+SEARCH(" ",ORARIO_GENERALE!L27)),"") | M25: =IFERROR(RIGHT(ORARIO_GENERALE!P27,LEN(ORARIO_GENERALE!P27)+SEARCH(" ",ORARIO_GENERALE!P27)),"") | N25: =IFERROR(RIGHT(#REF!,LEN(#REF!)+SEARCH(" ",#REF!)),"") | O25: =IFERROR(RIGHT(#REF!,LEN(#REF!)+SEARCH(" ",#REF!)),"") | P25: =IFERROR(RIGHT(#REF!,LEN(#REF!)+SEARCH(" ",#REF!)),"") | Q25: =IFERROR(RIGHT(#REF!,LEN(#REF!)-SEARCH(" ",#REF!)),"") | R25: =IFERROR(RIGHT(ORARIO_GENERALE!Q27,LEN(ORARIO_GENERALE!Q27)-SEARCH(" ",ORARIO_GENERALE!Q27)),"")
C26: =ORARIO_GENERALE!C28 -> 19:00-20:00 | D26: =IFERROR(RIGHT(ORARIO_GENERALE!D28,LEN(ORARIO_GENERALE!D28)+SEARCH(" ",ORARIO_GENERALE!D28)),"") | E26: =IFERROR(RIGHT(ORARIO_GENERALE!E28,LEN(ORARIO_GENERALE!E28)+SEARCH(" ",ORARIO_GENERALE!E28)),"") | F26: =IFERROR(RIGHT(ORARIO_GENERALE!F28,LEN(ORARIO_GENERALE!F28)+SEARCH(" ",ORARIO_GENERALE!F28)),"") | G26: =IFERROR(RIGHT(ORARIO_GENERALE!G28,LEN(ORARIO_GENERALE!G28)+SEARCH(" ",ORARIO_GENERALE!G28)),"") | H26: =IFERROR(RIGHT(ORARIO_GENERALE!H26,LEN(ORARIO_GENERALE!H26)+SEARCH(" ",ORARIO_GENERALE!H26)),"") | I26: =IFERROR(RIGHT(ORARIO_GENERALE!I28,LEN(ORARIO_GENERALE!I28)+SEARCH(" ",ORARIO_GENERALE!I28)),"") | J26: =#REF! -> #REF! | K26: =IFERROR(RIGHT(ORARIO_GENERALE!K28,LEN(ORARIO_GENERALE!K28)+SEARCH(" ",ORARIO_GENERALE!K28)),"") | L26: =IFERROR(RIGHT(ORARIO_GENERALE!L28,LEN(ORARIO_GENERALE!L28)+SEARCH(" ",ORARIO_GENERALE!L28)),"") | M26: =IFERROR(RIGHT(ORARIO_GENERALE!P28,LEN(ORARIO_GENERALE!P28)+SEARCH(" ",ORARIO_GENERALE!P28)),"") | N26: =IFERROR(RIGHT(#REF!,LEN(#REF!)+SEARCH(" ",#REF!)),"") | O26: =IFERROR(RIGHT(#REF!,LEN(#REF!)+SEARCH(" ",#REF!)),"") | P26: =IFERROR(RIGHT(#REF!,LEN(#REF!)+SEARCH(" ",#REF!)),"") | Q26: =IFERROR(RIGHT(#REF!,LEN(#REF!)-SEARCH(" ",#REF!)),"") | R26: =IFERROR(RIGHT(ORARIO_GENERALE!Q28,LEN(ORARIO_GENERALE!Q28)-SEARCH(" ",ORARIO_GENERALE!Q28)),"")
C27: =ORARIO_GENERALE!C29 -> 20:00-21:00 | D27: =IFERROR(RIGHT(ORARIO_GENERALE!D29,LEN(ORARIO_GENERALE!D29)+SEARCH(" ",ORARIO_GENERALE!D29)),"") | E27: =IFERROR(RIGHT(ORARIO_GENERALE!E29,LEN(ORARIO_GENERALE!E29)+SEARCH(" ",ORARIO_GENERALE!E29)),"") | F27: =IFERROR(RIGHT(ORARIO_GENERALE!F29,LEN(ORARIO_GENERALE!F29)+SEARCH(" ",ORARIO_GENERALE!F29)),"") | G27: =IFERROR(RIGHT(ORARIO_GENERALE!G29,LEN(ORARIO_GENERALE!G29)+SEARCH(" ",ORARIO_GENERALE!G29)),"") | H27: =IFERROR(RIGHT(ORARIO_GENERALE!H29,LEN(ORARIO_GENERALE!H29)+SEARCH(" ",ORARIO_GENERALE!H29)),"") | I27: =IFERROR(RIGHT(ORARIO_GENERALE!I29,LEN(ORARIO_GENERALE!I29)+SEARCH(" ",ORARIO_GENERALE!I29)),"") | J27: =#REF! -> #REF! | K27: =IFERROR(RIGHT(ORARIO_GENERALE!K29,LEN(ORARIO_GENERALE!K29)+SEARCH(" ",ORARIO_GENERALE!K29)),"") | L27: =IFERROR(RIGHT(ORARIO_GENERALE!L29,LEN(ORARIO_GENERALE!L29)+SEARCH(" ",ORARIO_GENERALE!L29)),"") | M27: =IFERROR(RIGHT(ORARIO_GENERALE!P29,LEN(ORARIO_GENERALE!P29)+SEARCH(" ",ORARIO_GENERALE!P29)),"") | N27: =IFERROR(RIGHT(#REF!,LEN(#REF!)+SEARCH(" ",#REF!)),"") | O27: =IFERROR(RIGHT(#REF!,LEN(#REF!)+SEARCH(" ",#REF!)),"") | P27: =IFERROR(RIGHT(#REF!,LEN(#REF!)+SEARCH(" ",#REF!)),"") | Q27: =IFERROR(RIGHT(#REF!,LEN(#REF!)-SEARCH(" ",#REF!)),"") | R27: =IFERROR(RIGHT(ORARIO_GENERALE!Q29,LEN(ORARIO_GENERALE!Q29)-SEARCH(" ",ORARIO_GENERALE!Q29)),"")
B28: MER | C28: =ORARIO_GENERALE!C30 -> 08:00-09:00 | D28: =IFERROR(RIGHT(ORARIO_GENERALE!D30,LEN(ORARIO_GENERALE!D30)+SEARCH(" ",ORARIO_GENERALE!D30)),"") | E28: =IFERROR(RIGHT(ORARIO_GENERALE!E30,LEN(ORARIO_GENERALE!E30)+SEARCH(" ",ORARIO_GENERALE!E30)),"") | F28: =IFERROR(RIGHT(ORARIO_GENERALE!F30,LEN(ORARIO_GENERALE!F30)+SEARCH(" ",ORARIO_GENERALE!F30)),"") | G28: =IFERROR(RIGHT(ORARIO_GENERALE!G30,LEN(ORARIO_GENERALE!G30)+SEARCH(" ",ORARIO_GENERALE!G30)),"") | H28: =IFERROR(RIGHT(ORARIO_GENERALE!H30,LEN(ORARIO_GENERALE!H30)+SEARCH(" ",ORARIO_GENERALE!H30)),"") | I28: =IFERROR(RIGHT(ORARIO_GENERALE!I30,LEN(ORARIO_GENERALE!I30)+SEARCH(" ",ORARIO_GENERALE!I30)),"") | J28: =#REF! -> #REF! | K28: =IFERROR(RIGHT(ORARIO_GENERALE!K30,LEN(ORARIO_GENERALE!K30)+SEARCH(" ",ORARIO_GENERALE!K30)),"") | L28: =IFERROR(RIGHT(ORARIO_GENERALE!L30,LEN(ORARIO_GENERALE!L30)+SEARCH(" ",ORARIO_GENERALE!L30)),"") | M28: =IFERROR(RIGHT(ORARIO_GENERALE!P30,LEN(ORARIO_GENERALE!P30)+SEARCH(" ",ORARIO_GENERALE!P30)),"") | N28: =IFERROR(RIGHT(#REF!,LEN(#REF!)+SEARCH(" ",#REF!)),"") | O28: =IFERROR(RIGHT(#REF!,LEN(#REF!)+SEARCH(" ",#REF!)),"") | P28: =IFERROR(RIGHT(#REF!,LEN(#REF!)+SEARCH(" ",#REF!)),"") | Q28: =IFERROR(RIGHT(#REF!,LEN(#REF!)-SEARCH(" ",#REF!)),"") | R28: =IFERROR(RIGHT(ORARIO_GENERALE!Q30,LEN(ORARIO_GENERALE!Q30)-SEARCH(" ",ORARIO_GENERALE!Q30)),"")
C29: =ORARIO_GENERALE!C31 -> 09:00-10:00 | D29: =IFERROR(RIGHT(#REF!,LEN(#REF!)+SEARCH(" ",#REF!)),"") | E29: =IFERROR(RIGHT(ORARIO_GENERALE!E31,LEN(ORARIO_GENERALE!E31)+SEARCH(" ",ORARIO_GENERALE!E31)),"") | F29: =IFERROR(RIGHT(ORARIO_GENERALE!F31,LEN(ORARIO_GENERALE!F31)+SEARCH(" ",ORARIO_GENERALE!F31)),"") | G29: =IFERROR(RIGHT(ORARIO_GENERALE!G31,LEN(ORARIO_GENERALE!G31)+SEARCH(" ",ORARIO_GENERALE!G31)),"") | H29: =IFERROR(RIGHT(ORARIO_GENERALE!H31,LEN(ORARIO_GENERALE!H31)+SEARCH(" ",ORARIO_GENERALE!H31)),"") | I29: =IFERROR(RIGHT(ORARIO_GENERALE!I31,LEN(ORARIO_GENERALE!I31)+SEARCH(" ",ORARIO_GENERALE!I31)),"") | J29: =#REF! -> #REF! | K29: =IFERROR(RIGHT(ORARIO_GENERALE!K33,LEN(ORARIO_GENERALE!K33)+SEARCH(" ",ORARIO_GENERALE!K33)),"") | L29: =IFERROR(RIGHT(ORARIO_GENERALE!E18,LEN(ORARIO_GENERALE!E18)+SEARCH(" ",ORARIO_GENERALE!E18)),"") | M29: =IFERROR(RIGHT(#REF!,LEN(#REF!)+SEARCH(" ",#REF!)),"") | N29: =IFERROR(RIGHT(#REF!,LEN(#REF!)+SEARCH(" ",#REF!)),"") | O29: =IFERROR(RIGHT(#REF!,LEN(#REF!)+SEARCH(" ",#REF!)),"") | P29: =IFERROR(RIGHT(#REF!,LEN(#REF!)+SEARCH(" ",#REF!)),"") | Q29: =IFERROR(RIGHT(#REF!,LEN(#REF!)-SEARCH(" ",#REF!)),"") | R29: =IFERROR(RIGHT(ORARIO_GENERALE!Q31,LEN(ORARIO_GENERALE!Q31)-SEARCH(" ",ORARIO_GENERALE!Q31)),"")
C30: =ORARIO_GENERALE!C32 -> 10:00-11:00 | D30: =IFERROR(RIGHT(ORARIO_GENERALE!D32,LEN(ORARIO_GENERALE!D32)+SEARCH(" ",ORARIO_GENERALE!D32)),"") | E30: =IFERROR(RIGHT(ORARIO_GENERALE!E32,LEN(ORARIO_GENERALE!E32)+SEARCH(" ",ORARIO_GENERALE!E32)),"") | F30: =IFERROR(RIGHT(ORARIO_GENERALE!F32,LEN(ORARIO_GENERALE!F32)+SEARCH(" ",ORARIO_GENERALE!F32)),"") | G30: =IFERROR(RIGHT(ORARIO_GENERALE!G32,LEN(ORARIO_GENERALE!G32)+SEARCH(" ",ORARIO_GENERALE!G32)),"") | H30: =IFERROR(RIGHT(#REF!,LEN(#REF!)+SEARCH(" ",#REF!)),"") | I30: =IFERROR(RIGHT(ORARIO_GENERALE!I32,LEN(ORARIO_GENERALE!I32)+SEARCH(" ",ORARIO_GENERALE!I32)),"") | J30: =#REF! -> #REF! | K30: =IFERROR(RIGHT(ORARIO_GENERALE!K34,LEN(ORARIO_GENERALE!K34)+SEARCH(" ",ORARIO_GENERALE!K34)),"") | L30: =IFERROR(RIGHT(#REF!,LEN(#REF!)+SEARCH(" ",#REF!)),"") | M30: =IFERROR(RIGHT(#REF!,LEN(#REF!)+SEARCH(" ",#REF!)),"") | N30: =IFERROR(RIGHT(#REF!,LEN(#REF!)+SEARCH(" ",#REF!)),"") | O30: =IFERROR(RIGHT(#REF!,LEN(#REF!)+SEARCH(" ",#REF!)),"") | P30: =IFERROR(RIGHT(#REF!,LEN(#REF!)+SEARCH(" ",#REF!)),"") | Q30: =IFERROR(RIGHT(#REF!,LEN(#REF!)-SEARCH(" ",#REF!)),"") | R30: =IFERROR(RIGHT(ORARIO_GENERALE!Q32,LEN(ORARIO_GENERALE!Q32)-SEARCH(" ",ORARIO_GENERALE!Q32)),"")
C31: =ORARIO_GENERALE!C33 -> 11:00-12:00 | D31: =IFERROR(RIGHT(#REF!,LEN(#REF!)+SEARCH(" ",#REF!)),"") | E31: =IFERROR(RIGHT(ORARIO_GENERALE!E33,LEN(ORARIO_GENERALE!E33)+SEARCH(" ",ORARIO_GENERALE!E33)),"") | F31: =IFERROR(RIGHT(#REF!,LEN(#REF!)+SEARCH(" ",#REF!)),"") | G31: =IFERROR(RIGHT(ORARIO_GENERALE!G33,LEN(ORARIO_GENERALE!G33)+SEARCH(" ",ORARIO_GENERALE!G33)),"") | H31: =IFERROR(RIGHT(ORARIO_GENERALE!H32,LEN(ORARIO_GENERALE!H32)+SEARCH(" ",ORARIO_GENERALE!H32)),"") | I31: =IFERROR(RIGHT(ORARIO_GENERALE!I33,LEN(ORARIO_GENERALE!I33)+SEARCH(" ",ORARIO_GENERALE!I33)),"") | J31: =#REF! -> #REF! | K31: =IFERROR(RIGHT(#REF!,LEN(#REF!)+SEARCH(" ",#REF!)),"") | L31: =IFERROR(RIGHT(#REF!,LEN(#REF!)+SEARCH(" ",#REF!)),"") | M31: =IFERROR(RIGHT(#REF!,LEN(#REF!)+SEARCH(" ",#REF!)),"") | N31: =IFERROR(RIGHT(#REF!,LEN(#REF!)+SEARCH(" ",#REF!)),"") | O31: =IFERROR(RIGHT(#REF!,LEN(#REF!)+SEARCH(" ",#REF!)),"") | P31: =IFERROR(RIGHT(#REF!,LEN(#REF!)+SEARCH(" ",#REF!)),"") | Q31: =IFERROR(RIGHT(#REF!,LEN(#REF!)-SEARCH(" ",#REF!)),"") | R31: =IFERROR(RIGHT(ORARIO_GENERALE!Q33,LEN(ORARIO_GENERALE!Q33)-SEARCH(" ",ORARIO_GENERALE!Q33)),"")
C32: =ORARIO_GENERALE!C34 -> 12:00-13:00 | D32: =IFERROR(RIGHT(#REF!,LEN(#REF!)+SEARCH(" ",#REF!)),"") | E32: =IFERROR(RIGHT(ORARIO_GENERALE!E34,LEN(ORARIO_GENERALE!E34)+SEARCH(" ",ORARIO_GENERALE!E34)),"") | F32: =IFERROR(RIGHT(ORARIO_GENERALE!F34,LEN(ORARIO_GENERALE!F34)+SEARCH(" ",ORARIO_GENERALE!F34)),"") | G32: =IFERROR(RIGHT(ORARIO_GENERALE!G34,LEN(ORARIO_GENERALE!G34)+SEARCH(" ",ORARIO_GENERALE!G34)),"") | H32: =IFERROR(RIGHT(ORARIO_GENERALE!H34,LEN(ORARIO_GENERALE!H34)+SEARCH(" ",ORARIO_GENERALE!H34)),"") | I32: =IFERROR(RIGHT(ORARIO_GENERALE!I35,LEN(ORARIO_GENERALE!I35)+SEARCH(" ",ORARIO_GENERALE!I35)),"") | J32: =#REF! -> #REF! | K32: =IFERROR(RIGHT(#REF!,LEN(#REF!)+SEARCH(" ",#REF!)),"") | L32: =IFERROR(RIGHT(ORARIO_GENERALE!L34,LEN(ORARIO_GENERALE!L34)+SEARCH(" ",ORARIO_GENERALE!L34)),"") | M32: =IFERROR(RIGHT(ORARIO_GENERALE!P34,LEN(ORARIO_GENERALE!P34)+SEARCH(" ",ORARIO_GENERALE!P34)),"") | N32: =IFERROR(RIGHT(#REF!,LEN(#REF!)+SEARCH(" ",#REF!)),"") | O32: =IFERROR(RIGHT(#REF!,LEN(#REF!)+SEARCH(" ",#REF!)),"") | P32: =IFERROR(RIGHT(#REF!,LEN(#REF!)+SEARCH(" ",#REF!)),"") | Q32: =IFERROR(RIGHT(#REF!,LEN(#REF!)-SEARCH(" ",#REF!)),"") | R32: =IFERROR(RIGHT(ORARIO_GENERALE!Q34,LEN(ORARIO_GENERALE!Q34)-SEARCH(" ",ORARIO_GENERALE!Q34)),"")
C33: =ORARIO_GENERALE!C35 -> 13:00-14:00 | D33: =IFERROR(RIGHT(ORARIO_GENERALE!D34,LEN(ORARIO_GENERALE!D34)+SEARCH(" ",ORARIO_GENERALE!D34)),"") | E33: =IFERROR(RIGHT(ORARIO_GENERALE!E35,LEN(ORARIO_GENERALE!E35)+SEARCH(" ",ORARIO_GENERALE!E35)),"") | F33: =IFERROR(RIGHT(ORARIO_GENERALE!F35,LEN(ORARIO_GENERALE!F35)+SEARCH(" ",ORARIO_GENERALE!F35)),"") | G33: =IFERROR(RIGHT(ORARIO_GENERALE!G35,LEN(ORARIO_GENERALE!G35)+SEARCH(" ",ORARIO_GENERALE!G35)),"") | H33: =IFERROR(RIGHT(#REF!,LEN(#REF!)+SEARCH(" ",#REF!)),"") | I33: =IFERROR(RIGHT(#REF!,LEN(#REF!)+SEARCH(" ",#REF!)),"") | J33: =#REF! -> #REF! | K33: =IFERROR(RIGHT(ORARIO_GENERALE!K35,LEN(ORARIO_GENERALE!K35)+SEARCH(" ",ORARIO_GENERALE!K35)),"") | L33: =IFERROR(RIGHT(ORARIO_GENERALE!L35,LEN(ORARIO_GENERALE!L35)+SEARCH(" ",ORARIO_GENERALE!L35)),"") | M33: =IFERROR(RIGHT(ORARIO_GENERALE!P35,LEN(ORARIO_GENERALE!P35)+SEARCH(" ",ORARIO_GENERALE!P35)),"") | N33: =IFERROR(RIGHT(#REF!,LEN(#REF!)+SEARCH(" ",#REF!)),"") | O33: =IFERROR(RIGHT(#REF!,LEN(#REF!)+SEARCH(" ",#REF!)),"") | P33: =IFERROR(RIGHT(#REF!,LEN(#REF!)+SEARCH(" ",#REF!)),"") | Q33: =IFERROR(RIGHT(#REF!,LEN(#REF!)-SEARCH(" ",#REF!)),"") | R33: =IFERROR(RIGHT(ORARIO_GENERALE!Q35,LEN(ORARIO_GENERALE!Q35)-SEARCH(" ",ORARIO_GENERALE!Q35)),"")
C34: =ORARIO_GENERALE!C36 -> 14:00-15:00 | D34: =IFERROR(RIGHT(ORARIO_GENERALE!D35,LEN(ORARIO_GENERALE!D35)+SEARCH(" ",ORARIO_GENERALE!D35)),"") | E34: =IFERROR(RIGHT(ORARIO_GENERALE!E36,LEN(ORARIO_GENERALE!E36)+SEARCH(" ",ORARIO_GENERALE!E36)),"") | F34: =IFERROR(RIGHT(ORARIO_GENERALE!F36,LEN(ORARIO_GENERALE!F36)+SEARCH(" ",ORARIO_GENERALE!F36)),"") | G34: =IFERROR(RIGHT(ORARIO_GENERALE!G36,LEN(ORARIO_GENERALE!G36)+SEARCH(" ",ORARIO_GENERALE!G36)),"") | H34: =IFERROR(RIGHT(ORARIO_GENERALE!H36,LEN(ORARIO_GENERALE!H36)+SEARCH(" ",ORARIO_GENERALE!H36)),"") | I34: =IFERROR(RIGHT(ORARIO_GENERALE!I36,LEN(ORARIO_GENERALE!I36)+SEARCH(" ",ORARIO_GENERALE!I36)),"") | J34: =#REF! -> #REF! | K34: =IFERROR(RIGHT(ORARIO_GENERALE!K36,LEN(ORARIO_GENERALE!K36)+SEARCH(" ",ORARIO_GENERALE!K36)),"") | L34: =IFERROR(RIGHT(ORARIO_GENERALE!L36,LEN(ORARIO_GENERALE!L36)+SEARCH(" ",ORARIO_GENERALE!L36)),"") | M34: =IFERROR(RIGHT(ORARIO_GENERALE!M36,LEN(ORARIO_GENERALE!M36)+SEARCH(" ",ORARIO_GENERALE!M36)),"") | N34: =IFERROR(RIGHT(#REF!,LEN(#REF!)+SEARCH(" ",#REF!)),"") | O34: =IFERROR(RIGHT(#REF!,LEN(#REF!)+SEARCH(" ",#REF!)),"") | P34: =IFERROR(RIGHT(#REF!,LEN(#REF!)+SEARCH(" ",#REF!)),"") | Q34: =IFERROR(RIGHT(#REF!,LEN(#REF!)-SEARCH(" ",#REF!)),"") | R34: =IFERROR(RIGHT(ORARIO_GENERALE!Q36,LEN(ORARIO_GENERALE!Q36)-SEARCH(" ",ORARIO_GENERALE!Q36)),"")
C35: =ORARIO_GENERALE!C37 -> 15:00-16:00 | D35: =IFERROR(RIGHT(ORARIO_GENERALE!D37,LEN(ORARIO_GENERALE!D37)+SEARCH(" ",ORARIO_GENERALE!D37)),"") | E35: =IFERROR(RIGHT(ORARIO_GENERALE!E37,LEN(ORARIO_GENERALE!E37)+SEARCH(" ",ORARIO_GENERALE!E37)),"") | F35: =IFERROR(RIGHT(ORARIO_GENERALE!F37,LEN(ORARIO_GENERALE!F37)+SEARCH(" ",ORARIO_GENERALE!F37)),"") | G35: =IFERROR(RIGHT(ORARIO_GENERALE!G40,LEN(ORARIO_GENERALE!G40)+SEARCH(" ",ORARIO_GENERALE!G40)),"") | H35: =IFERROR(RIGHT(ORARIO_GENERALE!H37,LEN(ORARIO_GENERALE!H37)+SEARCH(" ",ORARIO_GENERALE!H37)),"") | I35: =IFERROR(RIGHT(ORARIO_GENERALE!I37,LEN(ORARIO_GENERALE!I37)+SEARCH(" ",ORARIO_GENERALE!I37)),"") | J35: =#REF! -> #REF! | K35: =IFERROR(RIGHT(ORARIO_GENERALE!K37,LEN(ORARIO_GENERALE!K37)+SEARCH(" ",ORARIO_GENERALE!K37)),"") | L35: =IFERROR(RIGHT(ORARIO_GENERALE!L33,LEN(ORARIO_GENERALE!L33)+SEARCH(" ",ORARIO_GENERALE!L33)),"") | M35: =IFERROR(RIGHT(ORARIO_GENERALE!M37,LEN(ORARIO_GENERALE!M37)+SEARCH(" ",ORARIO_GENERALE!M37)),"") | N35: =IFERROR(RIGHT(#REF!,LEN(#REF!)+SEARCH(" ",#REF!)),"") | O35: =IFERROR(RIGHT(#REF!,LEN(#REF!)+SEARCH(" ",#REF!)),"") | P35: =IFERROR(RIGHT(#REF!,LEN(#REF!)+SEARCH(" ",#REF!)),"") | Q35: =IFERROR(RIGHT(#REF!,LEN(#REF!)-SEARCH(" ",#REF!)),"") | R35: =IFERROR(RIGHT(ORARIO_GENERALE!Q37,LEN(ORARIO_GENERALE!Q37)-SEARCH(" ",ORARIO_GENERALE!Q37)),"")
C36: =ORARIO_GENERALE!C38 -> 16:00-17:00 | D36: =IFERROR(RIGHT(ORARIO_GENERALE!D38,LEN(ORARIO_GENERALE!D38)+SEARCH(" ",ORARIO_GENERALE!D38)),"") | E36: =IFERROR(RIGHT(ORARIO_GENERALE!E38,LEN(ORARIO_GENERALE!E38)+SEARCH(" ",ORARIO_GENERALE!E38)),"") | F36: =IFERROR(RIGHT(ORARIO_GENERALE!F38,LEN(ORARIO_GENERALE!F38)+SEARCH(" ",ORARIO_GENERALE!F38)),"") | G36: =IFERROR(RIGHT(#REF!,LEN(#REF!)+SEARCH(" ",#REF!)),"") | H36: =IFERROR(RIGHT(ORARIO_GENERALE!H38,LEN(ORARIO_GENERALE!H38)+SEARCH(" ",ORARIO_GENERALE!H38)),"") | I36: =IFERROR(RIGHT(ORARIO_GENERALE!I38,LEN(ORARIO_GENERALE!I38)+SEARCH(" ",ORARIO_GENERALE!I38)),"") | J36: =#REF! -> #REF! | K36: =IFERROR(RIGHT(ORARIO_GENERALE!K38,LEN(ORARIO_GENERALE!K38)+SEARCH(" ",ORARIO_GENERALE!K38)),"") | L36: =IFERROR(RIGHT(ORARIO_GENERALE!L32,LEN(ORARIO_GENERALE!L32)+SEARCH(" ",ORARIO_GENERALE!L32)),"") | M36: =IFERROR(RIGHT(ORARIO_GENERALE!P38,LEN(ORARIO_GENERALE!P38)+SEARCH(" ",ORARIO_GENERALE!P38)),"") | N36: =IFERROR(RIGHT(#REF!,LEN(#REF!)+SEARCH(" ",#REF!)),"") | O36: =IFERROR(RIGHT(#REF!,LEN(#REF!)+SEARCH(" ",#REF!)),"") | P36: =IFERROR(RIGHT(#REF!,LEN(#REF!)+SEARCH(" ",#REF!)),"") | Q36: =IFERROR(RIGHT(#REF!,LEN(#REF!)-SEARCH(" ",#REF!)),"") | R36: =IFERROR(RIGHT(ORARIO_GENERALE!Q38,LEN(ORARIO_GENERALE!Q38)-SEARCH(" ",ORARIO_GENERALE!Q38)),"")
C37: =ORARIO_GENERALE!C39 -> 17:00-18-00 | D37: =IFERROR(RIGHT(ORARIO_GENERALE!F39,LEN(ORARIO_GENERALE!F39)+SEARCH(" ",ORARIO_GENERALE!F39)),"") | E37: =IFERROR(RIGHT(ORARIO_GENERALE!E39,LEN(ORARIO_GENERALE!E39)+SEARCH(" ",ORARIO_GENERALE!E39)),"") | F37: =IFERROR(RIGHT(#REF!,LEN(#REF!)+SEARCH(" ",#REF!)),"") | G37: =IFERROR(RIGHT(ORARIO_GENERALE!G39,LEN(ORARIO_GENERALE!G39)+SEARCH(" ",ORARIO_GENERALE!G39)),"") | H37: =IFERROR(RIGHT(ORARIO_GENERALE!H39,LEN(ORARIO_GENERALE!H39)+SEARCH(" ",ORARIO_GENERALE!H39)),"") | I37: =IFERROR(RIGHT(ORARIO_GENERALE!I39,LEN(ORARIO_GENERALE!I39)+SEARCH(" ",ORARIO_GENERALE!I39)),"") | J37: =#REF! -> #REF! | K37: =IFERROR(RIGHT(ORARIO_GENERALE!K39,LEN(ORARIO_GENERALE!K39)+SEARCH(" ",ORARIO_GENERALE!K39)),"") | L37: =IFERROR(RIGHT(ORARIO_GENERALE!L39,LEN(ORARIO_GENERALE!L39)+SEARCH(" ",ORARIO_GENERALE!L39)),"") | M37: =IFERROR(RIGHT(ORARIO_GENERALE!P39,LEN(ORARIO_GENERALE!P39)+SEARCH(" ",ORARIO_GENERALE!P39)),"") | N37: =IFERROR(RIGHT(#REF!,LEN(#REF!)+SEARCH(" ",#REF!)),"") | O37: =IFERROR(RIGHT(#REF!,LEN(#REF!)+SEARCH(" ",#REF!)),"") | P37: =IFERROR(RIGHT(#REF!,LEN(#REF!)+SEARCH(" ",#REF!)),"") | Q37: =IFERROR(RIGHT(#REF!,LEN(#REF!)-SEARCH(" ",#REF!)),"") | R37: =IFERROR(RIGHT(ORARIO_GENERALE!Q39,LEN(ORARIO_GENERALE!Q39)-SEARCH(" ",ORARIO_GENERALE!Q39)),"")
C38: =ORARIO_GENERALE!C40 -> 18:00-19:00 | D38: =IFERROR(RIGHT(ORARIO_GENERALE!D40,LEN(ORARIO_GENERALE!D40)+SEARCH(" ",ORARIO_GENERALE!D40)),"") | E38: =IFERROR(RIGHT(ORARIO_GENERALE!E40,LEN(ORARIO_GENERALE!E40)+SEARCH(" ",ORARIO_GENERALE!E40)),"") | F38: =IFERROR(RIGHT(ORARIO_GENERALE!F40,LEN(ORARIO_GENERALE!F40)+SEARCH(" ",ORARIO_GENERALE!F40)),"") | G38: =IFERROR(RIGHT(#REF!,LEN(#REF!)+SEARCH(" ",#REF!)),"") | H38: =IFERROR(RIGHT(ORARIO_GENERALE!H40,LEN(ORARIO_GENERALE!H40)+SEARCH(" ",ORARIO_GENERALE!H40)),"") | I38: =IFERROR(RIGHT(ORARIO_GENERALE!I40,LEN(ORARIO_GENERALE!I40)+SEARCH(" ",ORARIO_GENERALE!I40)),"") | J38: =#REF! -> #REF! | K38: =IFERROR(RIGHT(ORARIO_GENERALE!K40,LEN(ORARIO_GENERALE!K40)+SEARCH(" ",ORARIO_GENERALE!K40)),"") | L38: =IFERROR(RIGHT(ORARIO_GENERALE!L40,LEN(ORARIO_GENERALE!L40)+SEARCH(" ",ORARIO_GENERALE!L40)),"") | M38: =IFERROR(RIGHT(ORARIO_GENERALE!P40,LEN(ORARIO_GENERALE!P40)+SEARCH(" ",ORARIO_GENERALE!P40)),"") | N38: =IFERROR(RIGHT(#REF!,LEN(#REF!)+SEARCH(" ",#REF!)),"") | O38: =IFERROR(RIGHT(#REF!,LEN(#REF!)+SEARCH(" ",#REF!)),"") | P38: =IFERROR(RIGHT(#REF!,LEN(#REF!)+SEARCH(" ",#REF!)),"") | Q38: =IFERROR(RIGHT(#REF!,LEN(#REF!)-SEARCH(" ",#REF!)),"") | R38: =IFERROR(RIGHT(ORARIO_GENERALE!Q40,LEN(ORARIO_GENERALE!Q40)-SEARCH(" ",ORARIO_GENERALE!Q40)),"")
C39: =ORARIO_GENERALE!C41 -> 19:00-20:00 | D39: =IFERROR(RIGHT(ORARIO_GENERALE!D41,LEN(ORARIO_GENERALE!D41)+SEARCH(" ",ORARIO_GENERALE!D41)),"") | E39: =IFERROR(RIGHT(ORARIO_GENERALE!E41,LEN(ORARIO_GENERALE!E41)+SEARCH(" ",ORARIO_GENERALE!E41)),"") | F39: =IFERROR(RIGHT(ORARIO_GENERALE!F41,LEN(ORARIO_GENERALE!F41)+SEARCH(" ",ORARIO_GENERALE!F41)),"") | G39: =IFERROR(RIGHT(ORARIO_GENERALE!G41,LEN(ORARIO_GENERALE!G41)+SEARCH(" ",ORARIO_GENERALE!G41)),"") | H39: =IFERROR(RIGHT(ORARIO_GENERALE!H41,LEN(ORARIO_GENERALE!H41)+SEARCH(" ",ORARIO_GENERALE!H41)),"") | I39: =IFERROR(RIGHT(ORARIO_GENERALE!I41,LEN(ORARIO_GENERALE!I41)+SEARCH(" ",ORARIO_GENERALE!I41)),"") | J39: =#REF! -> #REF! | K39: =IFERROR(RIGHT(ORARIO_GENERALE!K41,LEN(ORARIO_GENERALE!K41)+SEARCH(" ",ORARIO_GENERALE!K41)),"") | L39: =IFERROR(RIGHT(ORARIO_GENERALE!L41,LEN(ORARIO_GENERALE!L41)+SEARCH(" ",ORARIO_GENERALE!L41)),"") | M39: =IFERROR(RIGHT(ORARIO_GENERALE!P41,LEN(ORARIO_GENERALE!P41)+SEARCH(" ",ORARIO_GENERALE!P41)),"") | N39: =IFERROR(RIGHT(#REF!,LEN(#REF!)+SEARCH(" ",#REF!)),"") | O39: =IFERROR(RIGHT(#REF!,LEN(#REF!)+SEARCH(" ",#REF!)),"") | P39: =IFERROR(RIGHT(#REF!,LEN(#REF!)+SEARCH(" ",#REF!)),"") | Q39: =IFERROR(RIGHT(#REF!,LEN(#REF!)-SEARCH(" ",#REF!)),"") | R39: =IFERROR(RIGHT(ORARIO_GENERALE!Q41,LEN(ORARIO_GENERALE!Q41)-SEARCH(" ",ORARIO_GENERALE!Q41)),"")
C40: =ORARIO_GENERALE!C42 -> 20:00-21:00 | D40: =IFERROR(RIGHT(ORARIO_GENERALE!D42,LEN(ORARIO_GENERALE!D42)+SEARCH(" ",ORARIO_GENERALE!D42)),"") | E40: =IFERROR(RIGHT(ORARIO_GENERALE!E42,LEN(ORARIO_GENERALE!E42)+SEARCH(" ",ORARIO_GENERALE!E42)),"") | F40: =IFERROR(RIGHT(ORARIO_GENERALE!F42,LEN(ORARIO_GENERALE!F42)+SEARCH(" ",ORARIO_GENERALE!F42)),"") | G40: =IFERROR(RIGHT(ORARIO_GENERALE!G42,LEN(ORARIO_GENERALE!G42)+SEARCH(" ",ORARIO_GENERALE!G42)),"") | H40: =IFERROR(RIGHT(ORARIO_GENERALE!H42,LEN(ORARIO_GENERALE!H42)+SEARCH(" ",ORARIO_GENERALE!H42)),"") | I40: =IFERROR(RIGHT(ORARIO_GENERALE!I42,LEN(ORARIO_GENERALE!I42)+SEARCH(" ",ORARIO_GENERALE!I42)),"") | J40: =#REF! -> #REF! | K40: =IFERROR(RIGHT(ORARIO_GENERALE!K42,LEN(ORARIO_GENERALE!K42)+SEARCH(" ",ORARIO_GENERALE!K42)),"") | L40: =IFERROR(RIGHT(ORARIO_GENERALE!L42,LEN(ORARIO_GENERALE!L42)+SEARCH(" ",ORARIO_GENERALE!L42)),"") | M40: =IFERROR(RIGHT(ORARIO_GENERALE!P42,LEN(ORARIO_GENERALE!P42)+SEARCH(" ",ORARIO_GENERALE!P42)),"") | N40: =IFERROR(RIGHT(#REF!,LEN(#REF!)+SEARCH(" ",#REF!)),"") | O40: =IFERROR(RIGHT(#REF!,LEN(#REF!)+SEARCH(" ",#REF!)),"") | P40: =IFERROR(RIGHT(#REF!,LEN(#REF!)+SEARCH(" ",#REF!)),"") | Q40: =IFERROR(RIGHT(#REF!,LEN(#REF!)-SEARCH(" ",#REF!)),"") | R40: =IFERROR(RIGHT(ORARIO_GENERALE!Q42,LEN(ORARIO_GENERALE!Q42)-SEARCH(" ",ORARIO_GENERALE!Q42)),"")
B41: GIO | C41: =ORARIO_GENERALE!C43 -> 08:00-09:00 | D41: =IFERROR(RIGHT(ORARIO_GENERALE!D43,LEN(ORARIO_GENERALE!D43)+SEARCH(" ",ORARIO_GENERALE!D43)),"") | E41: =IFERROR(RIGHT(ORARIO_GENERALE!E43,LEN(ORARIO_GENERALE!E43)+SEARCH(" ",ORARIO_GENERALE!E43)),"") | F41: =IFERROR(RIGHT(ORARIO_GENERALE!F43,LEN(ORARIO_GENERALE!F43)+SEARCH(" ",ORARIO_GENERALE!F43)),"") | G41: =IFERROR(RIGHT(ORARIO_GENERALE!G43,LEN(ORARIO_GENERALE!G43)+SEARCH(" ",ORARIO_GENERALE!G43)),"") | H41: =IFERROR(RIGHT(ORARIO_GENERALE!H43,LEN(ORARIO_GENERALE!H43)+SEARCH(" ",ORARIO_GENERALE!H43)),"") | I41: =IFERROR(RIGHT(ORARIO_GENERALE!I43,LEN(ORARIO_GENERALE!I43)+SEARCH(" ",ORARIO_GENERALE!I43)),"") | J41: =#REF! -> #REF! | K41: =IFERROR(RIGHT(ORARIO_GENERALE!K43,LEN(ORARIO_GENERALE!K43)+SEARCH(" ",ORARIO_GENERALE!K43)),"") | L41: =IFERROR(RIGHT(ORARIO_GENERALE!L43,LEN(ORARIO_GENERALE!L43)+SEARCH(" ",ORARIO_GENERALE!L43)),"") | M41: =IFERROR(RIGHT(ORARIO_GENERALE!P43,LEN(ORARIO_GENERALE!P43)+SEARCH(" ",ORARIO_GENERALE!P43)),"") | N41: =IFERROR(RIGHT(#REF!,LEN(#REF!)+SEARCH(" ",#REF!)),"") | O41: =IFERROR(RIGHT(#REF!,LEN(#REF!)+SEARCH(" ",#REF!)),"") | P41: =IFERROR(RIGHT(#REF!,LEN(#REF!)+SEARCH(" ",#REF!)),"") | Q41: =IFERROR(RIGHT(#REF!,LEN(#REF!)-SEARCH(" ",#REF!)),"") | R41: =IFERROR(RIGHT(ORARIO_GENERALE!Q43,LEN(ORARIO_GENERALE!Q43)-SEARCH(" ",ORARIO_GENERALE!Q43)),"")
C42: =ORARIO_GENERALE!C44 -> 09:00-10:00 | D42: =IFERROR(RIGHT(ORARIO_GENERALE!D44,LEN(ORARIO_GENERALE!D44)+SEARCH(" ",ORARIO_GENERALE!D44)),"") | E42: =IFERROR(RIGHT(ORARIO_GENERALE!E44,LEN(ORARIO_GENERALE!E44)+SEARCH(" ",ORARIO_GENERALE!E44)),"") | F42: =IFERROR(RIGHT(#REF!,LEN(#REF!)+SEARCH(" ",#REF!)),"") | G42: =IFERROR(RIGHT(ORARIO_GENERALE!G44,LEN(ORARIO_GENERALE!G44)+SEARCH(" ",ORARIO_GENERALE!G44)),"") | H42: =IFERROR(RIGHT(ORARIO_GENERALE!H44,LEN(ORARIO_GENERALE!H44)+SEARCH(" ",ORARIO_GENERALE!H44)),"") | I42: =IFERROR(RIGHT(ORARIO_GENERALE!I44,LEN(ORARIO_GENERALE!I44)+SEARCH(" ",ORARIO_GENERALE!I44)),"") | J42: =#REF! -> #REF! | K42: =IFERROR(RIGHT(#REF!,LEN(#REF!)+SEARCH(" ",#REF!)),"") | L42: =IFERROR(RIGHT(ORARIO_GENERALE!L31,LEN(ORARIO_GENERALE!L31)+SEARCH(" ",ORARIO_GENERALE!L31)),"") | M42: =IFERROR(RIGHT(#REF!,LEN(#REF!)+SEARCH(" ",#REF!)),"") | N42: =IFERROR(RIGHT(#REF!,LEN(#REF!)+SEARCH(" ",#REF!)),"") | O42: =IFERROR(RIGHT(#REF!,LEN(#REF!)+SEARCH(" ",#REF!)),"") | P42: =IFERROR(RIGHT(#REF!,LEN(#REF!)+SEARCH(" ",#REF!)),"") | Q42: =IFERROR(RIGHT(#REF!,LEN(#REF!)-SEARCH(" ",#REF!)),"") | R42: =IFERROR(RIGHT(ORARIO_GENERALE!Q44,LEN(ORARIO_GENERALE!Q44)-SEARCH(" ",ORARIO_GENERALE!Q44)),"")
C43: =ORARIO_GENERALE!C45 -> 10:00-11:00 | D43: =IFERROR(RIGHT(ORARIO_GENERALE!D45,LEN(ORARIO_GENERALE!D45)+SEARCH(" ",ORARIO_GENERALE!D45)),"") | E43: =IFERROR(RIGHT(ORARIO_GENERALE!E45,LEN(ORARIO_GENERALE!E45)+SEARCH(" ",ORARIO_GENERALE!E45)),"") | F43: =IFERROR(RIGHT(#REF!,LEN(#REF!)+SEARCH(" ",#REF!)),"") | G43: =IFERROR(RIGHT(ORARIO_GENERALE!G45,LEN(ORARIO_GENERALE!G45)+SEARCH(" ",ORARIO_GENERALE!G45)),"") | H43: =IFERROR(RIGHT(ORARIO_GENERALE!H45,LEN(ORARIO_GENERALE!H45)+SEARCH(" ",ORARIO_GENERALE!H45)),"") | I43: =IFERROR(RIGHT(ORARIO_GENERALE!I45,LEN(ORARIO_GENERALE!I45)+SEARCH(" ",ORARIO_GENERALE!I45)),"") | J43: =#REF! -> #REF! | K43: =IFERROR(RIGHT(#REF!,LEN(#REF!)+SEARCH(" ",#REF!)),"") | L43: =IFERROR(RIGHT(#REF!,LEN(#REF!)+SEARCH(" ",#REF!)),"") | M43: =IFERROR(RIGHT(#REF!,LEN(#REF!)+SEARCH(" ",#REF!)),"") | N43: =IFERROR(RIGHT(#REF!,LEN(#REF!)+SEARCH(" ",#REF!)),"") | O43: =IFERROR(RIGHT(#REF!,LEN(#REF!)+SEARCH(" ",#REF!)),"") | P43: =IFERROR(RIGHT(#REF!,LEN(#REF!)+SEARCH(" ",#REF!)),"") | Q43: =IFERROR(RIGHT(#REF!,LEN(#REF!)-SEARCH(" ",#REF!)),"") | R43: =IFERROR(RIGHT(ORARIO_GENERALE!Q45,LEN(ORARIO_GENERALE!Q45)-SEARCH(" ",ORARIO_GENERALE!Q45)),"")
C44: =ORARIO_GENERALE!C46 -> 11:00-12:00 | D44: =IFERROR(RIGHT(ORARIO_GENERALE!D46,LEN(ORARIO_GENERALE!D46)+SEARCH(" ",ORARIO_GENERALE!D46)),"") | E44: =IFERROR(RIGHT(ORARIO_GENERALE!E46,LEN(ORARIO_GENERALE!E46)+SEARCH(" ",ORARIO_GENERALE!E46)),"") | F44: =IFERROR(RIGHT(ORARIO_GENERALE!F46,LEN(ORARIO_GENERALE!F46)+SEARCH(" ",ORARIO_GENERALE!F46)),"") | G44: =IFERROR(RIGHT(ORARIO_GENERALE!G46,LEN(ORARIO_GENERALE!G46)+SEARCH(" ",ORARIO_GENERALE!G46)),"") | H44: =IFERROR(RIGHT(ORARIO_GENERALE!H46,LEN(ORARIO_GENERALE!H46)+SEARCH(" ",ORARIO_GENERALE!H46)),"") | I44: =IFERROR(RIGHT(ORARIO_GENERALE!I46,LEN(ORARIO_GENERALE!I46)+SEARCH(" ",ORARIO_GENERALE!I46)),"") | J44: =#REF! -> #REF! | K44: =IFERROR(RIGHT(#REF!,LEN(#REF!)+SEARCH(" ",#REF!)),"") | L44: =IFERROR(RIGHT(#REF!,LEN(#REF!)+SEARCH(" ",#REF!)),"") | M44: =IFERROR(RIGHT(#REF!,LEN(#REF!)+SEARCH(" ",#REF!)),"") | N44: =IFERROR(RIGHT(#REF!,LEN(#REF!)+SEARCH(" ",#REF!)),"") | O44: =IFERROR(RIGHT(#REF!,LEN(#REF!)+SEARCH(" ",#REF!)),"") | P44: =IFERROR(RIGHT(#REF!,LEN(#REF!)+SEARCH(" ",#REF!)),"") | Q44: =IFERROR(RIGHT(#REF!,LEN(#REF!)-SEARCH(" ",#REF!)),"") | R44: =IFERROR(RIGHT(ORARIO_GENERALE!Q46,LEN(ORARIO_GENERALE!Q46)-SEARCH(" ",ORARIO_GENERALE!Q46)),"")
C45: =ORARIO_GENERALE!C47 -> 12:00-13:00 | D45: =IFERROR(RIGHT(ORARIO_GENERALE!D47,LEN(ORARIO_GENERALE!D47)+SEARCH(" ",ORARIO_GENERALE!D47)),"") | E45: =IFERROR(RIGHT(ORARIO_GENERALE!E47,LEN(ORARIO_GENERALE!E47)+SEARCH(" ",ORARIO_GENERALE!E47)),"") | F45: =IFERROR(RIGHT(ORARIO_GENERALE!F47,LEN(ORARIO_GENERALE!F47)+SEARCH(" ",ORARIO_GENERALE!F47)),"") | G45: =IFERROR(RIGHT(ORARIO_GENERALE!G47,LEN(ORARIO_GENERALE!G47)+SEARCH(" ",ORARIO_GENERALE!G47)),"") | H45: =IFERROR(RIGHT(ORARIO_GENERALE!H47,LEN(ORARIO_GENERALE!H47)+SEARCH(" ",ORARIO_GENERALE!H47)),"") | I45: =IFERROR(RIGHT(ORARIO_GENERALE!I47,LEN(ORARIO_GENERALE!I47)+SEARCH(" ",ORARIO_GENERALE!I47)),"") | J45: =#REF! -> #REF! | K45: =IFERROR(RIGHT(#REF!,LEN(#REF!)+SEARCH(" ",#REF!)),"") | L45: =IFERROR(RIGHT(#REF!,LEN(#REF!)+SEARCH(" ",#REF!)),"") | M45: =IFERROR(RIGHT(ORARIO_GENERALE!M44,LEN(ORARIO_GENERALE!M44)+SEARCH(" ",ORARIO_GENERALE!M44)),"") | N45: =IFERROR(RIGHT(#REF!,LEN(#REF!)+SEARCH(" ",#REF!)),"") | O45: =IFERROR(RIGHT(#REF!,LEN(#REF!)+SEARCH(" ",#REF!)),"") | P45: =IFERROR(RIGHT(#REF!,LEN(#REF!)+SEARCH(" ",#REF!)),"") | Q45: =IFERROR(RIGHT(#REF!,LEN(#REF!)-SEARCH(" ",#REF!)),"") | R45: =IFERROR(RIGHT(ORARIO_GENERALE!Q47,LEN(ORARIO_GENERALE!Q47)-SEARCH(" ",ORARIO_GENERALE!Q47)),"")
C46: =ORARIO_GENERALE!C48 -> 13:00-14:00 | D46: =IFERROR(RIGHT(ORARIO_GENERALE!D48,LEN(ORARIO_GENERALE!D48)+SEARCH(" ",ORARIO_GENERALE!D48)),"") | E46: =IFERROR(RIGHT(ORARIO_GENERALE!E48,LEN(ORARIO_GENERALE!E48)+SEARCH(" ",ORARIO_GENERALE!E48)),"") | F46: =IFERROR(RIGHT(ORARIO_GENERALE!F48,LEN(ORARIO_GENERALE!F48)+SEARCH(" ",ORARIO_GENERALE!F48)),"") | G46: =IFERROR(RIGHT(ORARIO_GENERALE!G48,LEN(ORARIO_GENERALE!G48)+SEARCH(" ",ORARIO_GENERALE!G48)),"") | H46: =IFERROR(RIGHT(ORARIO_GENERALE!H48,LEN(ORARIO_GENERALE!H48)+SEARCH(" ",ORARIO_GENERALE!H48)),"") | I46: =IFERROR(RIGHT(ORARIO_GENERALE!I48,LEN(ORARIO_GENERALE!I48)+SEARCH(" ",ORARIO_GENERALE!I48)),"") | J46: =#REF! -> #REF! | K46: =IFERROR(RIGHT(#REF!,LEN(#REF!)+SEARCH(" ",#REF!)),"") | L46: =IFERROR(RIGHT(#REF!,LEN(#REF!)+SEARCH(" ",#REF!)),"") | M46: =IFERROR(RIGHT(ORARIO_GENERALE!M46,LEN(ORARIO_GENERALE!M46)+SEARCH(" ",ORARIO_GENERALE!M46)),"") | N46: =IFERROR(RIGHT(#REF!,LEN(#REF!)+SEARCH(" ",#REF!)),"") | O46: =IFERROR(RIGHT(#REF!,LEN(#REF!)+SEARCH(" ",#REF!)),"") | P46: =IFERROR(RIGHT(#REF!,LEN(#REF!)+SEARCH(" ",#REF!)),"") | Q46: =IFERROR(RIGHT(#REF!,LEN(#REF!)-SEARCH(" ",#REF!)),"") | R46: =IFERROR(RIGHT(ORARIO_GENERALE!Q48,LEN(ORARIO_GENERALE!Q48)-SEARCH(" ",ORARIO_GENERALE!Q48)),"")
C47: =ORARIO_GENERALE!C49 -> 14:00-15:00 | D47: =IFERROR(RIGHT(ORARIO_GENERALE!D49,LEN(ORARIO_GENERALE!D49)+SEARCH(" ",ORARIO_GENERALE!D49)),"") | E47: =IFERROR(RIGHT(ORARIO_GENERALE!E49,LEN(ORARIO_GENERALE!E49)+SEARCH(" ",ORARIO_GENERALE!E49)),"") | F47: =IFERROR(RIGHT(ORARIO_GENERALE!F49,LEN(ORARIO_GENERALE!F49)+SEARCH(" ",ORARIO_GENERALE!F49)),"") | G47: =IFERROR(RIGHT(ORARIO_GENERALE!G49,LEN(ORARIO_GENERALE!G49)+SEARCH(" ",ORARIO_GENERALE!G49)),"") | H47: =IFERROR(RIGHT(ORARIO_GENERALE!H49,LEN(ORARIO_GENERALE!H49)+SEARCH(" ",ORARIO_GENERALE!H49)),"") | I47: =IFERROR(RIGHT(ORARIO_GENERALE!I49,LEN(ORARIO_GENERALE!I49)+SEARCH(" ",ORARIO_GENERALE!I49)),"") | J47: =#REF! -> #REF! | K47: =IFERROR(RIGHT(ORARIO_GENERALE!K44,LEN(ORARIO_GENERALE!K44)+SEARCH(" ",ORARIO_GENERALE!K44)),"") | L47: =IFERROR(RIGHT(#REF!,LEN(#REF!)+SEARCH(" ",#REF!)),"") | M47: =IFERROR(RIGHT(#REF!,LEN(#REF!)+SEARCH(" ",#REF!)),"") | N47: =IFERROR(RIGHT(#REF!,LEN(#REF!)+SEARCH(" ",#REF!)),"") | O47: =IFERROR(RIGHT(#REF!,LEN(#REF!)+SEARCH(" ",#REF!)),"") | P47: =IFERROR(RIGHT(#REF!,LEN(#REF!)+SEARCH(" ",#REF!)),"") | Q47: =IFERROR(RIGHT(#REF!,LEN(#REF!)-SEARCH(" ",#REF!)),"") | R47: =IFERROR(RIGHT(ORARIO_GENERALE!Q49,LEN(ORARIO_GENERALE!Q49)-SEARCH(" ",ORARIO_GENERALE!Q49)),"")
C48: =ORARIO_GENERALE!C50 -> 15:00-16:00 | D48: =IFERROR(RIGHT(ORARIO_GENERALE!D12,LEN(ORARIO_GENERALE!D12)+SEARCH(" ",ORARIO_GENERALE!D12)),"") | E48: =IFERROR(RIGHT(ORARIO_GENERALE!E50,LEN(ORARIO_GENERALE!E50)+SEARCH(" ",ORARIO_GENERALE!E50)),"") | F48: =IFERROR(RIGHT(ORARIO_GENERALE!F50,LEN(ORARIO_GENERALE!F50)+SEARCH(" ",ORARIO_GENERALE!F50)),"") | G48: =IFERROR(RIGHT(ORARIO_GENERALE!G50,LEN(ORARIO_GENERALE!G50)+SEARCH(" ",ORARIO_GENERALE!G50)),"") | H48: =IFERROR(RIGHT(ORARIO_GENERALE!H50,LEN(ORARIO_GENERALE!H50)+SEARCH(" ",ORARIO_GENERALE!H50)),"") | I48: =IFERROR(RIGHT(ORARIO_GENERALE!I50,LEN(ORARIO_GENERALE!I50)+SEARCH(" ",ORARIO_GENERALE!I50)),"") | J48: =#REF! -> #REF! | K48: =IFERROR(RIGHT(ORARIO_GENERALE!K45,LEN(ORARIO_GENERALE!K45)+SEARCH(" ",ORARIO_GENERALE!K45)),"") | L48: =IFERROR(RIGHT(#REF!,LEN(#REF!)+SEARCH(" ",#REF!)),"") | M48: =IFERROR(RIGHT(#REF!,LEN(#REF!)+SEARCH(" ",#REF!)),"") | N48: =IFERROR(RIGHT(#REF!,LEN(#REF!)+SEARCH(" ",#REF!)),"") | O48: =IFERROR(RIGHT(#REF!,LEN(#REF!)+SEARCH(" ",#REF!)),"") | P48: =IFERROR(RIGHT(#REF!,LEN(#REF!)+SEARCH(" ",#REF!)),"") | Q48: =IFERROR(RIGHT(#REF!,LEN(#REF!)-SEARCH(" ",#REF!)),"") | R48: =IFERROR(RIGHT(ORARIO_GENERALE!Q50,LEN(ORARIO_GENERALE!Q50)-SEARCH(" ",ORARIO_GENERALE!Q50)),"")
C49: =ORARIO_GENERALE!C51 -> 16:00-17:00 | D49: =IFERROR(RIGHT(ORARIO_GENERALE!D51,LEN(ORARIO_GENERALE!D51)+SEARCH(" ",ORARIO_GENERALE!D51)),"") | E49: =IFERROR(RIGHT(ORARIO_GENERALE!E51,LEN(ORARIO_GENERALE!E51)+SEARCH(" ",ORARIO_GENERALE!E51)),"") | F49: =IFERROR(RIGHT(ORARIO_GENERALE!F51,LEN(ORARIO_GENERALE!F51)+SEARCH(" ",ORARIO_GENERALE!F51)),"") | G49: =IFERROR(RIGHT(ORARIO_GENERALE!G51,LEN(ORARIO_GENERALE!G51)+SEARCH(" ",ORARIO_GENERALE!G51)),"") | H49: =IFERROR(RIGHT(ORARIO_GENERALE!H51,LEN(ORARIO_GENERALE!H51)+SEARCH(" ",ORARIO_GENERALE!H51)),"") | I49: =IFERROR(RIGHT(ORARIO_GENERALE!I51,LEN(ORARIO_GENERALE!I51)+SEARCH(" ",ORARIO_GENERALE!I51)),"") | J49: =#REF! -> #REF! | K49: =IFERROR(RIGHT(ORARIO_GENERALE!K46,LEN(ORARIO_GENERALE!K46)+SEARCH(" ",ORARIO_GENERALE!K46)),"") | L49: =IFERROR(RIGHT(ORARIO_GENERALE!L46,LEN(ORARIO_GENERALE!L46)+SEARCH(" ",ORARIO_GENERALE!L46)),"") | M49: =IFERROR(RIGHT(#REF!,LEN(#REF!)+SEARCH(" ",#REF!)),"") | N49: =IFERROR(RIGHT(#REF!,LEN(#REF!)+SEARCH(" ",#REF!)),"") | O49: =IFERROR(RIGHT(#REF!,LEN(#REF!)+SEARCH(" ",#REF!)),"") | P49: =IFERROR(RIGHT(#REF!,LEN(#REF!)+SEARCH(" ",#REF!)),"") | Q49: =IFERROR(RIGHT(#REF!,LEN(#REF!)-SEARCH(" ",#REF!)),"") | R49: =IFERROR(RIGHT(ORARIO_GENERALE!Q51,LEN(ORARIO_GENERALE!Q51)-SEARCH(" ",ORARIO_GENERALE!Q51)),"")
C50: =ORARIO_GENERALE!C52 -> 17:00-18-00 | D50: =IFERROR(RIGHT(ORARIO_GENERALE!D52,LEN(ORARIO_GENERALE!D52)+SEARCH(" ",ORARIO_GENERALE!D52)),"") | E50: =IFERROR(RIGHT(ORARIO_GENERALE!E52,LEN(ORARIO_GENERALE!E52)+SEARCH(" ",ORARIO_GENERALE!E52)),"") | F50: =IFERROR(RIGHT(ORARIO_GENERALE!F52,LEN(ORARIO_GENERALE!F52)+SEARCH(" ",ORARIO_GENERALE!F52)),"") | G50: =IFERROR(RIGHT(ORARIO_GENERALE!G52,LEN(ORARIO_GENERALE!G52)+SEARCH(" ",ORARIO_GENERALE!G52)),"") | H50: =IFERROR(RIGHT(ORARIO_GENERALE!H55,LEN(ORARIO_GENERALE!H55)+SEARCH(" ",ORARIO_GENERALE!H55)),"") | I50: =IFERROR(RIGHT(ORARIO_GENERALE!I52,LEN(ORARIO_GENERALE!I52)+SEARCH(" ",ORARIO_GENERALE!I52)),"") | J50: =#REF! -> #REF! | K50: =IFERROR(RIGHT(ORARIO_GENERALE!K47,LEN(ORARIO_GENERALE!K47)+SEARCH(" ",ORARIO_GENERALE!K47)),"") | L50: =IFERROR(RIGHT(ORARIO_GENERALE!L47,LEN(ORARIO_GENERALE!L47)+SEARCH(" ",ORARIO_GENERALE!L47)),"") | M50: =IFERROR(RIGHT(ORARIO_GENERALE!M47,LEN(ORARIO_GENERALE!M47)+SEARCH(" ",ORARIO_GENERALE!M47)),"") | N50: =IFERROR(RIGHT(#REF!,LEN(#REF!)+SEARCH(" ",#REF!)),"") | O50: =IFERROR(RIGHT(#REF!,LEN(#REF!)+SEARCH(" ",#REF!)),"") | P50: =IFERROR(RIGHT(#REF!,LEN(#REF!)+SEARCH(" ",#REF!)),"") | Q50: =IFERROR(RIGHT(#REF!,LEN(#REF!)-SEARCH(" ",#REF!)),"") | R50: =IFERROR(RIGHT(ORARIO_GENERALE!Q52,LEN(ORARIO_GENERALE!Q52)-SEARCH(" ",ORARIO_GENERALE!Q52)),"")
C51: =ORARIO_GENERALE!C53 -> 18:00-19:00 | D51: =IFERROR(RIGHT(#REF!,LEN(#REF!)+SEARCH(" ",#REF!)),"") | E51: =IFERROR(RIGHT(ORARIO_GENERALE!E53,LEN(ORARIO_GENERALE!E53)+SEARCH(" ",ORARIO_GENERALE!E53)),"") | F51: =IFERROR(RIGHT(ORARIO_GENERALE!D53,LEN(ORARIO_GENERALE!D53)+SEARCH(" ",ORARIO_GENERALE!D53)),"") | G51: =IFERROR(RIGHT(ORARIO_GENERALE!G53,LEN(ORARIO_GENERALE!G53)+SEARCH(" ",ORARIO_GENERALE!G53)),"") | H51: =IFERROR(RIGHT(ORARIO_GENERALE!H53,LEN(ORARIO_GENERALE!H53)+SEARCH(" ",ORARIO_GENERALE!H53)),"") | I51: =IFERROR(RIGHT(ORARIO_GENERALE!I53,LEN(ORARIO_GENERALE!I53)+SEARCH(" ",ORARIO_GENERALE!I53)),"") | J51: =#REF! -> #REF! | K51: =IFERROR(RIGHT(ORARIO_GENERALE!M48,LEN(ORARIO_GENERALE!M48)+SEARCH(" ",ORARIO_GENERALE!M48)),"") | L51: =IFERROR(RIGHT(ORARIO_GENERALE!L48,LEN(ORARIO_GENERALE!L48)+SEARCH(" ",ORARIO_GENERALE!L48)),"") | M51: =IFERROR(RIGHT(#REF!,LEN(#REF!)+SEARCH(" ",#REF!)),"") | N51: =IFERROR(RIGHT(#REF!,LEN(#REF!)+SEARCH(" ",#REF!)),"") | O51: =IFERROR(RIGHT(#REF!,LEN(#REF!)+SEARCH(" ",#REF!)),"") | P51: =IFERROR(RIGHT(#REF!,LEN(#REF!)+SEARCH(" ",#REF!)),"") | Q51: =IFERROR(RIGHT(#REF!,LEN(#REF!)-SEARCH(" ",#REF!)),"") | R51: =IFERROR(RIGHT(ORARIO_GENERALE!Q53,LEN(ORARIO_GENERALE!Q53)-SEARCH(" ",ORARIO_GENERALE!Q53)),"")
C52: =ORARIO_GENERALE!C54 -> 19:00-20:00 | D52: =IFERROR(RIGHT(ORARIO_GENERALE!D54,LEN(ORARIO_GENERALE!D54)+SEARCH(" ",ORARIO_GENERALE!D54)),"") | E52: =IFERROR(RIGHT(ORARIO_GENERALE!E54,LEN(ORARIO_GENERALE!E54)+SEARCH(" ",ORARIO_GENERALE!E54)),"") | F52: =IFERROR(RIGHT(#REF!,LEN(#REF!)+SEARCH(" ",#REF!)),"") | G52: =IFERROR(RIGHT(ORARIO_GENERALE!G54,LEN(ORARIO_GENERALE!G54)+SEARCH(" ",ORARIO_GENERALE!G54)),"") | H52: =IFERROR(RIGHT(ORARIO_GENERALE!I54,LEN(ORARIO_GENERALE!I54)+SEARCH(" ",ORARIO_GENERALE!I54)),"") | I52: =IFERROR(RIGHT(#REF!,LEN(#REF!)+SEARCH(" ",#REF!)),"") | J52: =#REF! -> #REF! | K52: =IFERROR(RIGHT(ORARIO_GENERALE!M54,LEN(ORARIO_GENERALE!M54)+SEARCH(" ",ORARIO_GENERALE!M54)),"") | L52: =IFERROR(RIGHT(ORARIO_GENERALE!L54,LEN(ORARIO_GENERALE!L54)+SEARCH(" ",ORARIO_GENERALE!L54)),"") | M52: =IFERROR(RIGHT(ORARIO_GENERALE!K48,LEN(ORARIO_GENERALE!K48)+SEARCH(" ",ORARIO_GENERALE!K48)),"") | N52: =IFERROR(RIGHT(#REF!,LEN(#REF!)+SEARCH(" ",#REF!)),"") | O52: =IFERROR(RIGHT(#REF!,LEN(#REF!)+SEARCH(" ",#REF!)),"") | P52: =IFERROR(RIGHT(#REF!,LEN(#REF!)+SEARCH(" ",#REF!)),"") | Q52: =IFERROR(RIGHT(#REF!,LEN(#REF!)-SEARCH(" ",#REF!)),"") | R52: =IFERROR(RIGHT(ORARIO_GENERALE!Q54,LEN(ORARIO_GENERALE!Q54)-SEARCH(" ",ORARIO_GENERALE!Q54)),"")
C53: =ORARIO_GENERALE!C55 -> 20:00-21:00 | D53: =IFERROR(RIGHT(#REF!,LEN(#REF!)+SEARCH(" ",#REF!)),"") | E53: =IFERROR(RIGHT(#REF!,LEN(#REF!)+SEARCH(" ",#REF!)),"") | F53: =IFERROR(RIGHT(#REF!,LEN(#REF!)+SEARCH(" ",#REF!)),"") | G53: =IFERROR(RIGHT(#REF!,LEN(#REF!)+SEARCH(" ",#REF!)),"") | H53: =IFERROR(RIGHT(#REF!,LEN(#REF!)+SEARCH(" ",#REF!)),"") | I53: =IFERROR(RIGHT(#REF!,LEN(#REF!)+SEARCH(" ",#REF!)),"") | J53: =#REF! -> #REF! | K53: =IFERROR(RIGHT(#REF!,LEN(#REF!)+SEARCH(" ",#REF!)),"") | L53: =IFERROR(RIGHT(#REF!,LEN(#REF!)+SEARCH(" ",#REF!)),"") | M53: =IFERROR(RIGHT(#REF!,LEN(#REF!)+SEARCH(" ",#REF!)),"") | N53: =IFERROR(RIGHT(#REF!,LEN(#REF!)+SEARCH(" ",#REF!)),"") | O53: =IFERROR(RIGHT(#REF!,LEN(#REF!)+SEARCH(" ",#REF!)),"") | P53: =IFERROR(RIGHT(#REF!,LEN(#REF!)+SEARCH(" ",#REF!)),"") | Q53: =IFERROR(RIGHT(#REF!,LEN(#REF!)-SEARCH(" ",#REF!)),"") | R53: =IFERROR(RIGHT(#REF!,LEN(#REF!)-SEARCH(" ",#REF!)),"")
B54: VEN | C54: =ORARIO_GENERALE!C56 -> 08:00-09:00 | D54: =IFERROR(RIGHT(ORARIO_GENERALE!D56,LEN(ORARIO_GENERALE!D56)-SEARCH(" ",ORARIO_GENERALE!D56)),"") | E54: =IFERROR(RIGHT(ORARIO_GENERALE!E56,LEN(ORARIO_GENERALE!E56)-SEARCH(" ",ORARIO_GENERALE!E56)),"") | F54: =IFERROR(RIGHT(ORARIO_GENERALE!F56,LEN(ORARIO_GENERALE!F56)-SEARCH(" ",ORARIO_GENERALE!F56)),"") | G54: =IFERROR(RIGHT(ORARIO_GENERALE!G56,LEN(ORARIO_GENERALE!G56)-SEARCH(" ",ORARIO_GENERALE!G56)),"") | H54: =IFERROR(RIGHT(#REF!,LEN(#REF!)-SEARCH(" ",#REF!)),"") | I54: =IFERROR(RIGHT(ORARIO_GENERALE!I56,LEN(ORARIO_GENERALE!I56)-SEARCH(" ",ORARIO_GENERALE!I56)),"") | J54: =#REF! -> #REF! | K54: =IFERROR(RIGHT(ORARIO_GENERALE!K56,LEN(ORARIO_GENERALE!K56)+SEARCH(" ",ORARIO_GENERALE!K56)),"") | L54: =IFERROR(RIGHT(ORARIO_GENERALE!L56,LEN(ORARIO_GENERALE!L56)+SEARCH(" ",ORARIO_GENERALE!L56)),"") | M54: =IFERROR(RIGHT(ORARIO_GENERALE!P56,LEN(ORARIO_GENERALE!P56)+SEARCH(" ",ORARIO_GENERALE!P56)),"") | N54: =IFERROR(RIGHT(#REF!,LEN(#REF!)+SEARCH(" ",#REF!)),"") | O54: =IFERROR(RIGHT(#REF!,LEN(#REF!)+SEARCH(" ",#REF!)),"") | P54: =IFERROR(RIGHT(#REF!,LEN(#REF!)+SEARCH(" ",#REF!)),"") | Q54: =IFERROR(RIGHT(#REF!,LEN(#REF!)-SEARCH(" ",#REF!)),"") | R54: =IFERROR(RIGHT(ORARIO_GENERALE!Q56,LEN(ORARIO_GENERALE!Q56)-SEARCH(" ",ORARIO_GENERALE!Q56)),"")
C55: =ORARIO_GENERALE!C57 -> 09:00-10:00 | D55: =IFERROR(RIGHT(ORARIO_GENERALE!D57,LEN(ORARIO_GENERALE!D57)-SEARCH(" ",ORARIO_GENERALE!D57)),"") | E55: =IFERROR(RIGHT(ORARIO_GENERALE!E57,LEN(ORARIO_GENERALE!E57)-SEARCH(" ",ORARIO_GENERALE!E57)),"") | F55: =IFERROR(RIGHT(ORARIO_GENERALE!F57,LEN(ORARIO_GENERALE!F57)-SEARCH(" ",ORARIO_GENERALE!F57)),"") | G55: =IFERROR(RIGHT(ORARIO_GENERALE!G57,LEN(ORARIO_GENERALE!G57)-SEARCH(" ",ORARIO_GENERALE!G57)),"") | H55: =IFERROR(RIGHT(#REF!,LEN(#REF!)-SEARCH(" ",#REF!)),"") | I55: =IFERROR(RIGHT(ORARIO_GENERALE!I57,LEN(ORARIO_GENERALE!I57)-SEARCH(" ",ORARIO_GENERALE!I57)),"") | J55: =#REF! -> #REF! | K55: =IFERROR(RIGHT(ORARIO_GENERALE!K58,LEN(ORARIO_GENERALE!K58)+SEARCH(" ",ORARIO_GENERALE!K58)),"") | L55: =IFERROR(RIGHT(ORARIO_GENERALE!L57,LEN(ORARIO_GENERALE!L57)+SEARCH(" ",ORARIO_GENERALE!L57)),"") | M55: =IFERROR(RIGHT(#REF!,LEN(#REF!)+SEARCH(" ",#REF!)),"") | N55: =IFERROR(RIGHT(#REF!,LEN(#REF!)+SEARCH(" ",#REF!)),"") | O55: =IFERROR(RIGHT(#REF!,LEN(#REF!)+SEARCH(" ",#REF!)),"") | P55: =IFERROR(RIGHT(#REF!,LEN(#REF!)+SEARCH(" ",#REF!)),"") | Q55: =IFERROR(RIGHT(#REF!,LEN(#REF!)-SEARCH(" ",#REF!)),"") | R55: =IFERROR(RIGHT(ORARIO_GENERALE!Q57,LEN(ORARIO_GENERALE!Q57)-SEARCH(" ",ORARIO_GENERALE!Q57)),"")
C56: =ORARIO_GENERALE!C58 -> 10:00-11:00 | D56: =IFERROR(RIGHT(ORARIO_GENERALE!D58,LEN(ORARIO_GENERALE!D58)-SEARCH(" ",ORARIO_GENERALE!D58)),"") | E56: =IFERROR(RIGHT(ORARIO_GENERALE!E58,LEN(ORARIO_GENERALE!E58)-SEARCH(" ",ORARIO_GENERALE!E58)),"") | F56: =IFERROR(RIGHT(ORARIO_GENERALE!F58,LEN(ORARIO_GENERALE!F58)-SEARCH(" ",ORARIO_GENERALE!F58)),"") | G56: =IFERROR(RIGHT(ORARIO_GENERALE!G58,LEN(ORARIO_GENERALE!G58)-SEARCH(" ",ORARIO_GENERALE!G58)),"") | H56: =IFERROR(RIGHT(ORARIO_GENERALE!H22,LEN(ORARIO_GENERALE!H22)-SEARCH(" ",ORARIO_GENERALE!H22)),"") | I56: =IFERROR(RIGHT(ORARIO_GENERALE!I58,LEN(ORARIO_GENERALE!I58)-SEARCH(" ",ORARIO_GENERALE!I58)),"") | J56: =#REF! -> #REF! | K56: =IFERROR(RIGHT(ORARIO_GENERALE!K59,LEN(ORARIO_GENERALE!K59)+SEARCH(" ",ORARIO_GENERALE!K59)),"") | L56: =IFERROR(RIGHT(ORARIO_GENERALE!L58,LEN(ORARIO_GENERALE!L58)+SEARCH(" ",ORARIO_GENERALE!L58)),"") | M56: =IFERROR(RIGHT(ORARIO_GENERALE!P58,LEN(ORARIO_GENERALE!P58)+SEARCH(" ",ORARIO_GENERALE!P58)),"") | N56: =IFERROR(RIGHT(#REF!,LEN(#REF!)+SEARCH(" ",#REF!)),"") | O56: =IFERROR(RIGHT(#REF!,LEN(#REF!)+SEARCH(" ",#REF!)),"") | P56: =IFERROR(RIGHT(#REF!,LEN(#REF!)+SEARCH(" ",#REF!)),"") | Q56: =IFERROR(RIGHT(#REF!,LEN(#REF!)-SEARCH(" ",#REF!)),"") | R56: =IFERROR(RIGHT(ORARIO_GENERALE!Q58,LEN(ORARIO_GENERALE!Q58)-SEARCH(" ",ORARIO_GENERALE!Q58)),"")
C57: =ORARIO_GENERALE!C59 -> 11:00-12:00 | D57: =IFERROR(RIGHT(ORARIO_GENERALE!D59,LEN(ORARIO_GENERALE!D59)-SEARCH(" ",ORARIO_GENERALE!D59)),"") | E57: =IFERROR(RIGHT(ORARIO_GENERALE!E59,LEN(ORARIO_GENERALE!E59)-SEARCH(" ",ORARIO_GENERALE!E59)),"") | F57: =IFERROR(RIGHT(ORARIO_GENERALE!F59,LEN(ORARIO_GENERALE!F59)-SEARCH(" ",ORARIO_GENERALE!F59)),"") | G57: =IFERROR(RIGHT(ORARIO_GENERALE!G59,LEN(ORARIO_GENERALE!G59)-SEARCH(" ",ORARIO_GENERALE!G59)),"") | H57: =IFERROR(RIGHT(ORARIO_GENERALE!H59,LEN(ORARIO_GENERALE!H59)-SEARCH(" ",ORARIO_GENERALE!H59)),"") | I57: =IFERROR(RIGHT(ORARIO_GENERALE!I59,LEN(ORARIO_GENERALE!I59)-SEARCH(" ",ORARIO_GENERALE!I59)),"") | J57: =#REF! -> #REF! | K57: =IFERROR(RIGHT(ORARIO_GENERALE!K60,LEN(ORARIO_GENERALE!K60)+SEARCH(" ",ORARIO_GENERALE!K60)),"") | L57: =IFERROR(RIGHT(ORARIO_GENERALE!L59,LEN(ORARIO_GENERALE!L59)+SEARCH(" ",ORARIO_GENERALE!L59)),"") | M57: =IFERROR(RIGHT(ORARIO_GENERALE!P59,LEN(ORARIO_GENERALE!P59)+SEARCH(" ",ORARIO_GENERALE!P59)),"") | N57: =IFERROR(RIGHT(#REF!,LEN(#REF!)+SEARCH(" ",#REF!)),"") | O57: =IFERROR(RIGHT(#REF!,LEN(#REF!)+SEARCH(" ",#REF!)),"") | P57: =IFERROR(RIGHT(#REF!,LEN(#REF!)+SEARCH(" ",#REF!)),"") | Q57: =IFERROR(RIGHT(#REF!,LEN(#REF!)-SEARCH(" ",#REF!)),"") | R57: =IFERROR(RIGHT(ORARIO_GENERALE!Q59,LEN(ORARIO_GENERALE!Q59)-SEARCH(" ",ORARIO_GENERALE!Q59)),"")
C58: =ORARIO_GENERALE!C60 -> 12:00-13:00 | D58: =IFERROR(RIGHT(ORARIO_GENERALE!D60,LEN(ORARIO_GENERALE!D60)-SEARCH(" ",ORARIO_GENERALE!D60)),"") | E58: =IFERROR(RIGHT(ORARIO_GENERALE!E60,LEN(ORARIO_GENERALE!E60)-SEARCH(" ",ORARIO_GENERALE!E60)),"") | F58: =IFERROR(RIGHT(ORARIO_GENERALE!F60,LEN(ORARIO_GENERALE!F60)-SEARCH(" ",ORARIO_GENERALE!F60)),"") | G58: =IFERROR(RIGHT(ORARIO_GENERALE!G60,LEN(ORARIO_GENERALE!G60)-SEARCH(" ",ORARIO_GENERALE!G60)),"") | H58: =IFERROR(RIGHT(ORARIO_GENERALE!H60,LEN(ORARIO_GENERALE!H60)-SEARCH(" ",ORARIO_GENERALE!H60)),"") | I58: =IFERROR(RIGHT(ORARIO_GENERALE!I60,LEN(ORARIO_GENERALE!I60)-SEARCH(" ",ORARIO_GENERALE!I60)),"") | J58: =#REF! -> #REF! | K58: =IFERROR(RIGHT(#REF!,LEN(#REF!)+SEARCH(" ",#REF!)),"") | L58: =IFERROR(RIGHT(ORARIO_GENERALE!L60,LEN(ORARIO_GENERALE!L60)+SEARCH(" ",ORARIO_GENERALE!L60)),"") | M58: =IFERROR(RIGHT(ORARIO_GENERALE!P60,LEN(ORARIO_GENERALE!P60)+SEARCH(" ",ORARIO_GENERALE!P60)),"") | N58: =IFERROR(RIGHT(#REF!,LEN(#REF!)+SEARCH(" ",#REF!)),"") | O58: =IFERROR(RIGHT(#REF!,LEN(#REF!)+SEARCH(" ",#REF!)),"") | P58: =IFERROR(RIGHT(#REF!,LEN(#REF!)+SEARCH(" ",#REF!)),"") | Q58: =IFERROR(RIGHT(#REF!,LEN(#REF!)-SEARCH(" ",#REF!)),"") | R58: =IFERROR(RIGHT(ORARIO_GENERALE!Q60,LEN(ORARIO_GENERALE!Q60)-SEARCH(" ",ORARIO_GENERALE!Q60)),"")
C59: =ORARIO_GENERALE!C61 -> 13:00-14:00 | D59: =IFERROR(RIGHT(ORARIO_GENERALE!D61,LEN(ORARIO_GENERALE!D61)-SEARCH(" ",ORARIO_GENERALE!D61)),"") | E59: =IFERROR(RIGHT(ORARIO_GENERALE!E61,LEN(ORARIO_GENERALE!E61)-SEARCH(" ",ORARIO_GENERALE!E61)),"") | F59: =IFERROR(RIGHT(ORARIO_GENERALE!F61,LEN(ORARIO_GENERALE!F61)-SEARCH(" ",ORARIO_GENERALE!F61)),"") | G59: =IFERROR(RIGHT(ORARIO_GENERALE!G61,LEN(ORARIO_GENERALE!G61)-SEARCH(" ",ORARIO_GENERALE!G61)),"") | H59: =IFERROR(RIGHT(ORARIO_GENERALE!H61,LEN(ORARIO_GENERALE!H61)-SEARCH(" ",ORARIO_GENERALE!H61)),"") | I59: =IFERROR(RIGHT(ORARIO_GENERALE!I61,LEN(ORARIO_GENERALE!I61)-SEARCH(" ",ORARIO_GENERALE!I61)),"") | J59: =#REF! -> #REF! | K59: =IFERROR(RIGHT(ORARIO_GENERALE!K61,LEN(ORARIO_GENERALE!K61)+SEARCH(" ",ORARIO_GENERALE!K61)),"") | L59: =IFERROR(RIGHT(ORARIO_GENERALE!L61,LEN(ORARIO_GENERALE!L61)+SEARCH(" ",ORARIO_GENERALE!L61)),"") | M59: =IFERROR(RIGHT(ORARIO_GENERALE!P61,LEN(ORARIO_GENERALE!P61)+SEARCH(" ",ORARIO_GENERALE!P61)),"") | N59: =IFERROR(RIGHT(#REF!,LEN(#REF!)+SEARCH(" ",#REF!)),"") | O59: =IFERROR(RIGHT(#REF!,LEN(#REF!)+SEARCH(" ",#REF!)),"") | P59: =IFERROR(RIGHT(#REF!,LEN(#REF!)+SEARCH(" ",#REF!)),"") | Q59: =IFERROR(RIGHT(#REF!,LEN(#REF!)-SEARCH(" ",#REF!)),"") | R59: =IFERROR(RIGHT(ORARIO_GENERALE!Q61,LEN(ORARIO_GENERALE!Q61)-SEARCH(" ",ORARIO_GENERALE!Q61)),"")
C60: =ORARIO_GENERALE!C64 -> 0 | D60: =IFERROR(RIGHT(ORARIO_GENERALE!D64,LEN(ORARIO_GENERALE!D64)-SEARCH(" ",ORARIO_GENERALE!D64)),"") | E60: =IFERROR(RIGHT(ORARIO_GENERALE!F64,LEN(ORARIO_GENERALE!F64)-SEARCH(" ",ORARIO_GENERALE!F64)),"") | F60: =IFERROR(RIGHT(ORARIO_GENERALE!G64,LEN(ORARIO_GENERALE!G64)-SEARCH(" ",ORARIO_GENERALE!G64)),"") | K60: =IFERROR(RIGHT(ORARIO_GENERALE!K64,LEN(ORARIO_GENERALE!K64)-SEARCH(" ",ORARIO_GENERALE!K64)),"") | L60: =IFERROR(RIGHT(ORARIO_GENERALE!L64,LEN(ORARIO_GENERALE!L64)-SEARCH(" ",ORARIO_GENERALE!L64)),"") | M60: =IFERROR(RIGHT(ORARIO_GENERALE!P64,LEN(ORARIO_GENERALE!P64)-SEARCH(" ",ORARIO_GENERALE!P64)),"") | N60: =IFERROR(RIGHT(#REF!,LEN(#REF!)-SEARCH(" ",#REF!)),"") | O60: =IFERROR(RIGHT(#REF!,LEN(#REF!)-SEARCH(" ",#REF!)),"") | P60: =IFERROR(RIGHT(#REF!,LEN(#REF!)-SEARCH(" ",#REF!)),"") | Q60: =IFERROR(RIGHT(#REF!,LEN(#REF!)-SEARCH(" ",#REF!)),"") | R60: =IFERROR(RIGHT(ORARIO_GENERALE!Q64,LEN(ORARIO_GENERALE!Q64)-SEARCH(" ",ORARIO_GENERALE!Q64)),"")
C61: =ORARIO_GENERALE!C64 -> 0 | K61: =IFERROR(RIGHT(ORARIO_GENERALE!K65,LEN(ORARIO_GENERALE!K65)-SEARCH(" ",ORARIO_GENERALE!K65)),"") | L61: =IFERROR(RIGHT(ORARIO_GENERALE!L65,LEN(ORARIO_GENERALE!L65)-SEARCH(" ",ORARIO_GENERALE!L65)),"") | M61: =IFERROR(RIGHT(ORARIO_GENERALE!P65,LEN(ORARIO_GENERALE!P65)-SEARCH(" ",ORARIO_GENERALE!P65)),"") | N61: =IFERROR(RIGHT(#REF!,LEN(#REF!)-SEARCH(" ",#REF!)),"") | O61: =IFERROR(RIGHT(#REF!,LEN(#REF!)-SEARCH(" ",#REF!)),"") | P61: =IFERROR(RIGHT(#REF!,LEN(#REF!)-SEARCH(" ",#REF!)),"") | Q61: =IFERROR(RIGHT(#REF!,LEN(#REF!)-SEARCH(" ",#REF!)),"") | R61: =IFERROR(RIGHT(ORARIO_GENERALE!Q65,LEN(ORARIO_GENERALE!Q65)-SEARCH(" ",ORARIO_GENERALE!Q65)),"")
C62: =ORARIO_GENERALE!C65 -> 0 | K62: =IFERROR(RIGHT(ORARIO_GENERALE!K66,LEN(ORARIO_GENERALE!K66)-SEARCH(" ",ORARIO_GENERALE!K66)),"") | L62: =IFERROR(RIGHT(ORARIO_GENERALE!L66,LEN(ORARIO_GENERALE!L66)-SEARCH(" ",ORARIO_GENERALE!L66)),"") | M62: =IFERROR(RIGHT(ORARIO_GENERALE!P66,LEN(ORARIO_GENERALE!P66)-SEARCH(" ",ORARIO_GENERALE!P66)),"") | N62: =IFERROR(RIGHT(#REF!,LEN(#REF!)-SEARCH(" ",#REF!)),"") | O62: =IFERROR(RIGHT(#REF!,LEN(#REF!)-SEARCH(" ",#REF!)),"") | P62: =IFERROR(RIGHT(#REF!,LEN(#REF!)-SEARCH(" ",#REF!)),"") | Q62: =IFERROR(RIGHT(#REF!,LEN(#REF!)-SEARCH(" ",#REF!)),"") | R62: =IFERROR(RIGHT(ORARIO_GENERALE!Q66,LEN(ORARIO_GENERALE!Q66)-SEARCH(" ",ORARIO_GENERALE!Q66)),"")
C63: =ORARIO_GENERALE!C66 -> 0 | K63: =IFERROR(RIGHT(ORARIO_GENERALE!K67,LEN(ORARIO_GENERALE!K67)-SEARCH(" ",ORARIO_GENERALE!K67)),"") | L63: =IFERROR(RIGHT(ORARIO_GENERALE!L67,LEN(ORARIO_GENERALE!L67)-SEARCH(" ",ORARIO_GENERALE!L67)),"") | M63: =IFERROR(RIGHT(ORARIO_GENERALE!P67,LEN(ORARIO_GENERALE!P67)-SEARCH(" ",ORARIO_GENERALE!P67)),"") | N63: =IFERROR(RIGHT(#REF!,LEN(#REF!)-SEARCH(" ",#REF!)),"") | O63: =IFERROR(RIGHT(#REF!,LEN(#REF!)-SEARCH(" ",#REF!)),"") | P63: =IFERROR(RIGHT(#REF!,LEN(#REF!)-SEARCH(" ",#REF!)),"") | Q63: =IFERROR(RIGHT(#REF!,LEN(#REF!)-SEARCH(" ",#REF!)),"") | R63: =IFERROR(RIGHT(ORARIO_GENERALE!Q67,LEN(ORARIO_GENERALE!Q67)-SEARCH(" ",ORARIO_GENERALE!Q67)),"")
K64: =IFERROR(RIGHT(ORARIO_GENERALE!K68,LEN(ORARIO_GENERALE!K68)-SEARCH(" ",ORARIO_GENERALE!K68)),"") | L64: =IFERROR(RIGHT(ORARIO_GENERALE!L68,LEN(ORARIO_GENERALE!L68)-SEARCH(" ",ORARIO_GENERALE!L68)),"") | M64: =IFERROR(RIGHT(ORARIO_GENERALE!P68,LEN(ORARIO_GENERALE!P68)-SEARCH(" ",ORARIO_GENERALE!P68)),"") | N64: =IFERROR(RIGHT(#REF!,LEN(#REF!)-SEARCH(" ",#REF!)),"") | O64: =IFERROR(RIGHT(#REF!,LEN(#REF!)-SEARCH(" ",#REF!)),"") | P64: =IFERROR(RIGHT(#REF!,LEN(#REF!)-SEARCH(" ",#REF!)),"") | Q64: =IFERROR(RIGHT(#REF!,LEN(#REF!)-SEARCH(" ",#REF!)),"") | R64: =IFERROR(RIGHT(ORARIO_GENERALE!Q68,LEN(ORARIO_GENERALE!Q68)-SEARCH(" ",ORARIO_GENERALE!Q68)),"")
K65: =IFERROR(RIGHT(ORARIO_GENERALE!K69,LEN(ORARIO_GENERALE!K69)-SEARCH(" ",ORARIO_GENERALE!K69)),"") | L65: =IFERROR(RIGHT(ORARIO_GENERALE!L69,LEN(ORARIO_GENERALE!L69)-SEARCH(" ",ORARIO_GENERALE!L69)),"") | M65: =IFERROR(RIGHT(ORARIO_GENERALE!P69,LEN(ORARIO_GENERALE!P69)-SEARCH(" ",ORARIO_GENERALE!P69)),"") | N65: =IFERROR(RIGHT(#REF!,LEN(#REF!)-SEARCH(" ",#REF!)),"") | O65: =IFERROR(RIGHT(#REF!,LEN(#REF!)-SEARCH(" ",#REF!)),"") | P65: =IFERROR(RIGHT(#REF!,LEN(#REF!)-SEARCH(" ",#REF!)),"") | Q65: =IFERROR(RIGHT(#REF!,LEN(#REF!)-SEARCH(" ",#REF!)),"") | R65: =IFERROR(RIGHT(ORARIO_GENERALE!Q69,LEN(ORARIO_GENERALE!Q69)-SEARCH(" ",ORARIO_GENERALE!Q69)),"")
K66: =IFERROR(RIGHT(ORARIO_GENERALE!K70,LEN(ORARIO_GENERALE!K70)-SEARCH(" ",ORARIO_GENERALE!K70)),"") | L66: =IFERROR(RIGHT(ORARIO_GENERALE!L70,LEN(ORARIO_GENERALE!L70)-SEARCH(" ",ORARIO_GENERALE!L70)),"") | M66: =IFERROR(RIGHT(ORARIO_GENERALE!P70,LEN(ORARIO_GENERALE!P70)-SEARCH(" ",ORARIO_GENERALE!P70)),"") | N66: =IFERROR(RIGHT(#REF!,LEN(#REF!)-SEARCH(" ",#REF!)),"") | O66: =IFERROR(RIGHT(#REF!,LEN(#REF!)-SEARCH(" ",#REF!)),"") | P66: =IFERROR(RIGHT(#REF!,LEN(#REF!)-SEARCH(" ",#REF!)),"") | Q66: =IFERROR(RIGHT(#REF!,LEN(#REF!)-SEARCH(" ",#REF!)),"") | R66: =IFERROR(RIGHT(ORARIO_GENERALE!Q70,LEN(ORARIO_GENERALE!Q70)-SEARCH(" ",ORARIO_GENERALE!Q70)),"")
K67: =IFERROR(RIGHT(ORARIO_GENERALE!K71,LEN(ORARIO_GENERALE!K71)-SEARCH(" ",ORARIO_GENERALE!K71)),"") | L67: =IFERROR(RIGHT(ORARIO_GENERALE!L71,LEN(ORARIO_GENERALE!L71)-SEARCH(" ",ORARIO_GENERALE!L71)),"") | M67: =IFERROR(RIGHT(ORARIO_GENERALE!P71,LEN(ORARIO_GENERALE!P71)-SEARCH(" ",ORARIO_GENERALE!P71)),"") | N67: =IFERROR(RIGHT(#REF!,LEN(#REF!)-SEARCH(" ",#REF!)),"") | O67: =IFERROR(RIGHT(#REF!,LEN(#REF!)-SEARCH(" ",#REF!)),"") | P67: =IFERROR(RIGHT(#REF!,LEN(#REF!)-SEARCH(" ",#REF!)),"") | Q67: =IFERROR(RIGHT(#REF!,LEN(#REF!)-SEARCH(" ",#REF!)),"") | R67: =IFERROR(RIGHT(ORARIO_GENERALE!Q71,LEN(ORARIO_GENERALE!Q71)-SEARCH(" ",ORARIO_GENERALE!Q71)),"")

Sheet CORSI
B3: RPPA | H3: RPPB | N3: RA2A
C4: LUN | D4: MAR | E4: MER | F4: GIO | I4: LUN | J4: MAR | K4: MER | L4: GIO | O4: LUN | P4: MAR | Q4: MER | R4: GIO | S4: VEN
B5: =ORARIO_GENERALE!C5 -> 09:00-10:00 | C5: {=IFERROR(INDEX(ORARIO_GENERALE!$D$3:$I$3,MATCH("*"&$B$3&"*",ORARIO_GENERALE!D5:I5,0)),"")} -> ROCCO | D5: {=IFERROR(INDEX(ORARIO_GENERALE!$D$3:$I$3,MATCH("*"&$B$3&"*",ORARIO_GENERALE!D18:I18,0)),"")} -> IGNACCOLO | E5: {=IFERROR(INDEX(ORARIO_GENERALE!$D$3:$I$3,MATCH("*"&$B$3&"*",ORARIO_GENERALE!D31:I31,0)),"")} -> IGNACCOLO | F5: {=IFERROR(INDEX(ORARIO_GENERALE!$D$3:$I$3,MATCH("*"&$B$3&"*",ORARIO_GENERALE!D44:I44,0)),"")} -> AQUILA | G5: {=IFERROR(INDEX(ORARIO_GENERALE!H3,MATCH($B$3&"*",ORARIO_GENERALE!$D5:$I5,1),""),"")} | H5: =ORARIO_GENERALE!C5 -> 09:00-10:00 | I5: {=IFERROR(INDEX(ORARIO_GENERALE!$D$3:$I$3,MATCH("*"&$H$3&"*",ORARIO_GENERALE!D5:I5,0)),"")} -> AQUILA | J5: {=IFERROR(INDEX(ORARIO_GENERALE!$D$3:$I$3,MATCH("*"&$H$3&"*",ORARIO_GENERALE!D18:I18,0)),"")} -> VALFRE' | K5: {=IFERROR(INDEX(ORARIO_GENERALE!$D$3:$I$3,MATCH("*"&$H$3&"*",ORARIO_GENERALE!D31:I31,0)),"")} -> CELI | L5: {=IFERROR(INDEX(ORARIO_GENERALE!$D$3:$I$3,MATCH("*"&$H$3&"*",ORARIO_GENERALE!D44:I44,0)),"")} | N5: =#REF! -> #REF! | O5: {=IFERROR(INDEX(ORARIO_GENERALE!$K$3:$P$3,MATCH("*"&$N$3&"*",ORARIO_GENERALE!L5:P5,0)),"")} | P5: {=IFERROR(INDEX(ORARIO_GENERALE!$K$3:$P$3,MATCH("*"&$N$3&"*",ORARIO_GENERALE!L18:P18,0)),"")} | Q5: {=IFERROR(INDEX(ORARIO_GENERALE!$K$3:$P$3,MATCH("*"&$N$3&"*",ORARIO_GENERALE!K31:P31,0)),"")} -> RANGHETTI | R5: {=IFERROR(INDEX(ORARIO_GENERALE!$K$3:$P$3,MATCH("*"&$N$3&"*",#REF!,0)),"")} | S5: {=IFERROR(INDEX(ORARIO_GENERALE!$K$3:$P$3,MATCH("*"&$N$3&"*",ORARIO_GENERALE!K57:P57,0)),"")}
B6: =ORARIO_GENERALE!C6 -> 10:00-11:00 | C6: {=IFERROR(INDEX(ORARIO_GENERALE!$D$3:$I$3,MATCH("*"&$B$3&"*",ORARIO_GENERALE!D6:I6,0)),"")} -> ROCCO | D6: {=IFERROR(INDEX(ORARIO_GENERALE!$D$3:$I$3,MATCH("*"&$B$3&"*",ORARIO_GENERALE!D19:I19,0)),"")} -> IGNACCOLO | E6: {=IFERROR(INDEX(ORARIO_GENERALE!$D$3:$I$3,MATCH("*"&$B$3&"*",ORARIO_GENERALE!D32:I32,0)),"")} -> CELI | F6: {=IFERROR(INDEX(ORARIO_GENERALE!$D$3:$I$3,MATCH("*"&$B$3&"*",ORARIO_GENERALE!D45:I45,0)),"")} -> AQUILA | H6: =ORARIO_GENERALE!C6 -> 10:00-11:00 | I6: {=IFERROR(INDEX(ORARIO_GENERALE!$D$3:$I$3,MATCH("*"&$H$3&"*",ORARIO_GENERALE!D6:I6,0)),"")} -> AQUILA | J6: {=IFERROR(INDEX(ORARIO_GENERALE!$D$3:$I$3,MATCH("*"&$H$3&"*",ORARIO_GENERALE!D19:I19,0)),"")} -> VALFRE' | K6: {=IFERROR(INDEX(ORARIO_GENERALE!$D$3:$I$3,MATCH("*"&$H$3&"*",ORARIO_GENERALE!D32:I32,0)),"")} -> IGNACCOLO | L6: {=IFERROR(INDEX(ORARIO_GENERALE!$D$3:$I$3,MATCH("*"&$H$3&"*",ORARIO_GENERALE!D45:I45,0)),"")} -> CELI | N6: =#REF! -> #REF! | O6: {=IFERROR(INDEX(ORARIO_GENERALE!$K$3:$P$3,MATCH("*"&$N$3&"*",ORARIO_GENERALE!K6:P6,0)),"")} -> MERONI | P6: {=IFERROR(INDEX(ORARIO_GENERALE!$K$3:$P$3,MATCH("*"&$N$3&"*",ORARIO_GENERALE!L19:P19,0)),"")} -> FREYRIE | Q6: {=IFERROR(INDEX(ORARIO_GENERALE!$K$3:$P$3,MATCH("*"&$N$3&"*",ORARIO_GENERALE!K32:P32,0)),"")} -> RANGHETTI | R6: {=IFERROR(INDEX(ORARIO_GENERALE!$K$3:$P$3,MATCH("*"&$N$3&"*",#REF!,0)),"")} | S6: {=IFERROR(INDEX(ORARIO_GENERALE!$K$3:$P$3,MATCH("*"&$N$3&"*",ORARIO_GENERALE!K58:P58,0)),"")}
B7: =ORARIO_GENERALE!C7 -> 11:00-12:00 | C7: {=IFERROR(INDEX(ORARIO_GENERALE!$D$3:$I$3,MATCH("*"&$B$3&"*",ORARIO_GENERALE!D7:I7,0)),"")} -> AQUILA | D7: {=IFERROR(INDEX(ORARIO_GENERALE!$D$3:$I$3,MATCH("*"&$B$3&"*",ORARIO_GENERALE!D20:I20,0)),"")} -> VALFRE' | E7: {=IFERROR(INDEX(ORARIO_GENERALE!$D$3:$I$3,MATCH("*"&$B$3&"*",ORARIO_GENERALE!D33:I33,0)),"")} -> CELI | F7: {=IFERROR(INDEX(ORARIO_GENERALE!$D$3:$I$3,MATCH("*"&$B$3&"*",ORARIO_GENERALE!D46:I46,0)),"")} | H7: =ORARIO_GENERALE!C7 -> 11:00-12:00 | I7: {=IFERROR(INDEX(ORARIO_GENERALE!$D$3:$I$3,MATCH("*"&$H$3&"*",ORARIO_GENERALE!D7:I7,0)),"")} -> ROCCO | J7: {=IFERROR(INDEX(ORARIO_GENERALE!$D$3:$I$3,MATCH("*"&$H$3&"*",ORARIO_GENERALE!D20:I20,0)),"")} -> IGNACCOLO | K7: {=IFERROR(INDEX(ORARIO_GENERALE!$D$3:$I$3,MATCH("*"&$H$3&"*",ORARIO_GENERALE!D33:I33,0)),"")} -> IGNACCOLO | L7: {=IFERROR(INDEX(ORARIO_GENERALE!$D$3:$I$3,MATCH("*"&$H$3&"*",ORARIO_GENERALE!D46:I46,0)),"")} -> AQUILA | N7: =#REF! -> #REF! | O7: {=IFERROR(INDEX(ORARIO_GENERALE!$K$3:$P$3,MATCH("*"&$N$3&"*",ORARIO_GENERALE!K7:P7,0)),"")} -> MERONI | P7: {=IFERROR(INDEX(ORARIO_GENERALE!$K$3:$P$3,MATCH("*"&$N$3&"*",ORARIO_GENERALE!K20:P20,0)),"")} -> FERRANTE | Q7: {=IFERROR(INDEX(ORARIO_GENERALE!$K$3:$P$3,MATCH("*"&$N$3&"*",ORARIO_GENERALE!K33:P33,0)),"")} -> RANGHETTI | R7: {=IFERROR(INDEX(ORARIO_GENERALE!$K$3:$P$3,MATCH("*"&$N$3&"*",#REF!,0)),"")} | S7: {=IFERROR(INDEX(ORARIO_GENERALE!$K$3:$P$3,MATCH("*"&$N$3&"*",ORARIO_GENERALE!K59:P59,0)),"")}
B8: =ORARIO_GENERALE!C8 -> 12:00-13:00 | C8: {=IFERROR(INDEX(ORARIO_GENERALE!$D$3:$I$3,MATCH("*"&$B$3&"*",ORARIO_GENERALE!D8:I8,0)),"")} -> ROCCO | D8: {=IFERROR(INDEX(ORARIO_GENERALE!$D$3:$I$3,MATCH("*"&$B$3&"*",ORARIO_GENERALE!D21:I21,0)),"")} | E8: {=IFERROR(INDEX(ORARIO_GENERALE!$D$3:$I$3,MATCH("*"&$B$3&"*",ORARIO_GENERALE!D34:I34,0)),"")} | F8: {=IFERROR(INDEX(ORARIO_GENERALE!$D$3:$I$3,MATCH("*"&$B$3&"*",ORARIO_GENERALE!D47:I47,0)),"")} | H8: =ORARIO_GENERALE!C8 -> 12:00-13:00 | I8: {=IFERROR(INDEX(ORARIO_GENERALE!$D$3:$I$3,MATCH("*"&$H$3&"*",ORARIO_GENERALE!D8:I8,0)),"")} | J8: {=IFERROR(INDEX(ORARIO_GENERALE!$D$3:$I$3,MATCH("*"&$H$3&"*",ORARIO_GENERALE!D21:I21,0)),"")} -> IGNACCOLO | K8: {=IFERROR(INDEX(ORARIO_GENERALE!$D$3:$I$3,MATCH("*"&$H$3&"*",ORARIO_GENERALE!D34:I34,0)),"")} | L8: {=IFERROR(INDEX(ORARIO_GENERALE!$D$3:$I$3,MATCH("*"&$H$3&"*",ORARIO_GENERALE!D47:I47,0)),"")} | N8: =#REF! -> #REF! | O8: {=IFERROR(INDEX(ORARIO_GENERALE!$K$3:$P$3,MATCH("*"&$N$3&"*",ORARIO_GENERALE!K8:P8,0)),"")} | P8: {=IFERROR(INDEX(ORARIO_GENERALE!$K$3:$P$3,MATCH("*"&$N$3&"*",ORARIO_GENERALE!K21:P21,0)),"")} | Q8: {=IFERROR(INDEX(ORARIO_GENERALE!$K$3:$P$3,MATCH("*"&$N$3&"*",ORARIO_GENERALE!K34:P34,0)),"")} | R8: {=IFERROR(INDEX(ORARIO_GENERALE!$K$3:$P$3,MATCH("*"&$N$3&"*",#REF!,0)),"")} | S8: {=IFERROR(INDEX(ORARIO_GENERALE!$K$3:$P$3,MATCH("*"&$N$3&"*",ORARIO_GENERALE!K60:P60,0)),"")}
B9: =ORARIO_GENERALE!C9 -> 13:00-14:00 | C9: {=IFERROR(INDEX(ORARIO_GENERALE!$D$3:$I$3,MATCH("*"&$B$3&"*",ORARIO_GENERALE!D9:I9,0)),"")} | D9: {=IFERROR(INDEX(ORARIO_GENERALE!$D$3:$I$3,MATCH("*"&$B$3&"*",ORARIO_GENERALE!D22:I22,0)),"")} | E9: {=IFERROR(INDEX(ORARIO_GENERALE!$D$3:$I$3,MATCH("*"&$B$3&"*",ORARIO_GENERALE!D35:I35,0)),"")} | F9: {=IFERROR(INDEX(ORARIO_GENERALE!$D$3:$I$3,MATCH("*"&$B$3&"*",ORARIO_GENERALE!D48:I48,0)),"")} | H9: =ORARIO_GENERALE!C9 -> 13:00-14:00 | I9: {=IFERROR(INDEX(ORARIO_GENERALE!$D$3:$I$3,MATCH("*"&$H$3&"*",ORARIO_GENERALE!D9:I9,0)),"")} | J9: {=IFERROR(INDEX(ORARIO_GENERALE!$D$3:$I$3,MATCH("*"&$H$3&"*",ORARIO_GENERALE!D22:I22,0)),"")} | K9: {=IFERROR(INDEX(ORARIO_GENERALE!$D$3:$I$3,MATCH("*"&$H$3&"*",ORARIO_GENERALE!D35:I35,0)),"")} | L9: {=IFERROR(INDEX(ORARIO_GENERALE!$D$3:$I$3,MATCH("*"&$H$3&"*",ORARIO_GENERALE!D48:I48,0)),"")} | N9: =#REF! -> #REF! | O9: {=IFERROR(INDEX(ORARIO_GENERALE!$K$3:$P$3,MATCH("*"&$N$3&"*",ORARIO_GENERALE!K9:P9,0)),"")} | P9: {=IFERROR(INDEX(ORARIO_GENERALE!$K$3:$P$3,MATCH("*"&$N$3&"*",ORARIO_GENERALE!K22:P22,0)),"")} | Q9: {=IFERROR(INDEX(ORARIO_GENERALE!$K$3:$P$3,MATCH("*"&$N$3&"*",ORARIO_GENERALE!K35:P35,0)),"")} | R9: {=IFERROR(INDEX(ORARIO_GENERALE!$K$3:$P$3,MATCH("*"&$N$3&"*",ORARIO_GENERALE!K44:P44,0)),"")} | S9: {=IFERROR(INDEX(ORARIO_GENERALE!$K$3:$P$3,MATCH("*"&$N$3&"*",ORARIO_GENERALE!K61:P61,0)),"")}
B10: =ORARIO_GENERALE!C10 -> 14:00-15:00 | C10: {=IFERROR(INDEX(ORARIO_GENERALE!$D$3:$I$3,MATCH("*"&$B$3&"*",ORARIO_GENERALE!D10:I10,0)),"")} | D10: {=IFERROR(INDEX(ORARIO_GENERALE!$D$3:$I$3,MATCH("*"&$B$3&"*",ORARIO_GENERALE!D23:I23,0)),"")} | E10: {=IFERROR(INDEX(ORARIO_GENERALE!$D$3:$I$3,MATCH("*"&$B$3&"*",ORARIO_GENERALE!D36:I36,0)),"")} | F10: {=IFERROR(INDEX(ORARIO_GENERALE!$D$3:$I$3,MATCH("*"&$B$3&"*",ORARIO_GENERALE!D49:I49,0)),"")} | H10: =ORARIO_GENERALE!C10 -> 14:00-15:00 | I10: {=IFERROR(INDEX(ORARIO_GENERALE!$D$3:$I$3,MATCH("*"&$H$3&"*",ORARIO_GENERALE!D10:I10,0)),"")} | J10: {=IFERROR(INDEX(ORARIO_GENERALE!$D$3:$I$3,MATCH("*"&$H$3&"*",ORARIO_GENERALE!D23:I23,0)),"")} | K10: {=IFERROR(INDEX(ORARIO_GENERALE!$D$3:$I$3,MATCH("*"&$H$3&"*",ORARIO_GENERALE!D36:I36,0)),"")} | L10: {=IFERROR(INDEX(ORARIO_GENERALE!$D$3:$I$3,MATCH("*"&$H$3&"*",ORARIO_GENERALE!D49:I49,0)),"")} | N10: =#REF! -> #REF! | O10: {=IFERROR(INDEX(ORARIO_GENERALE!$K$3:$P$3,MATCH("*"&$N$3&"*",ORARIO_GENERALE!K10:P10,0)),"")} | P10: {=IFERROR(INDEX(ORARIO_GENERALE!$K$3:$P$3,MATCH("*"&$N$3&"*",ORARIO_GENERALE!K23:P23,0)),"")} | Q10: {=IFERROR(INDEX(ORARIO_GENERALE!$K$3:$P$3,MATCH("*"&$N$3&"*",ORARIO_GENERALE!K36:P36,0)),"")} | R10: {=IFERROR(INDEX(ORARIO_GENERALE!$K$3:$P$3,MATCH("*"&$N$3&"*",ORARIO_GENERALE!K45:P45,0)),"")} | S10: {=IFERROR(INDEX(ORARIO_GENERALE!$K$3:$P$3,MATCH("*"&$N$3&"*",ORARIO_GENERALE!K64:P64,0)),"")}
B11: =ORARIO_GENERALE!C11 -> 15:00-16:00 | C11: {=IFERROR(INDEX(ORARIO_GENERALE!$D$3:$I$3,MATCH("*"&$B$3&"*",ORARIO_GENERALE!D11:I11,0)),"")} | D11: {=IFERROR(INDEX(ORARIO_GENERALE!$D$3:$I$3,MATCH("*"&$B$3&"*",ORARIO_GENERALE!D24:I24,0)),"")} | E11: {=IFERROR(INDEX(ORARIO_GENERALE!$D$3:$I$3,MATCH("*"&$B$3&"*",ORARIO_GENERALE!D37:I37,0)),"")} | F11: {=IFERROR(INDEX(ORARIO_GENERALE!$D$3:$I$3,MATCH("*"&$B$3&"*",ORARIO_GENERALE!D50:I50,0)),"")} | H11: =ORARIO_GENERALE!C11 -> 15:00-16:00 | I11: {=IFERROR(INDEX(ORARIO_GENERALE!$D$3:$I$3,MATCH("*"&$H$3&"*",ORARIO_GENERALE!D11:I11,0)),"")} | J11: {=IFERROR(INDEX(ORARIO_GENERALE!$D$3:$I$3,MATCH("*"&$H$3&"*",ORARIO_GENERALE!D24:I24,0)),"")} | K11: {=IFERROR(INDEX(ORARIO_GENERALE!$D$3:$I$3,MATCH("*"&$H$3&"*",ORARIO_GENERALE!D37:I37,0)),"")} | L11: {=IFERROR(INDEX(ORARIO_GENERALE!$D$3:$I$3,MATCH("*"&$H$3&"*",ORARIO_GENERALE!D50:I50,0)),"")} | N11: =#REF! -> #REF! | O11: {=IFERROR(INDEX(ORARIO_GENERALE!$K$3:$P$3,MATCH("*"&$N$3&"*",ORARIO_GENERALE!K11:P11,0)),"")} | P11: {=IFERROR(INDEX(ORARIO_GENERALE!$K$3:$P$3,MATCH("*"&$N$3&"*",ORARIO_GENERALE!K24:P24,0)),"")} | Q11: {=IFERROR(INDEX(ORARIO_GENERALE!$K$3:$P$3,MATCH("*"&$N$3&"*",ORARIO_GENERALE!K37:P37,0)),"")} | R11: {=IFERROR(INDEX(ORARIO_GENERALE!$K$3:$P$3,MATCH("*"&$N$3&"*",ORARIO_GENERALE!K46:P46,0)),"")} | S11: {=IFERROR(INDEX(ORARIO_GENERALE!$K$3:$P$3,MATCH("*"&$N$3&"*",ORARIO_GENERALE!K65:P65,0)),"")}
B12: =ORARIO_GENERALE!C12 -> 16:00-17:00 | C12: {=IFERROR(INDEX(ORARIO_GENERALE!$D$3:$I$3,MATCH("*"&$B$3&"*",ORARIO_GENERALE!D12:I12,0)),"")} | D12: {=IFERROR(INDEX(ORARIO_GENERALE!$D$3:$I$3,MATCH("*"&$B$3&"*",ORARIO_GENERALE!D25:I25,0)),"")} | E12: {=IFERROR(INDEX(ORARIO_GENERALE!$D$3:$I$3,MATCH("*"&$B$3&"*",ORARIO_GENERALE!D38:I38,0)),"")} | F12: {=IFERROR(INDEX(ORARIO_GENERALE!$D$3:$I$3,MATCH("*"&$B$3&"*",ORARIO_GENERALE!D51:I51,0)),"")} | H12: =ORARIO_GENERALE!C12 -> 16:00-17:00 | I12: {=IFERROR(INDEX(ORARIO_GENERALE!$D$3:$I$3,MATCH("*"&$H$3&"*",ORARIO_GENERALE!D12:I12,0)),"")} | J12: {=IFERROR(INDEX(ORARIO_GENERALE!$D$3:$I$3,MATCH("*"&$H$3&"*",ORARIO_GENERALE!D25:I25,0)),"")} | K12: {=IFERROR(INDEX(ORARIO_GENERALE!$D$3:$I$3,MATCH("*"&$H$3&"*",ORARIO_GENERALE!D38:I38,0)),"")} | L12: {=IFERROR(INDEX(ORARIO_GENERALE!$D$3:$I$3,MATCH("*"&$H$3&"*",ORARIO_GENERALE!D51:I51,0)),"")} | N12: =#REF! -> #REF! | O12: {=IFERROR(INDEX(ORARIO_GENERALE!$K$3:$P$3,MATCH("*"&$N$3&"*",ORARIO_GENERALE!K12:P12,0)),"")} | P12: {=IFERROR(INDEX(ORARIO_GENERALE!$K$3:$P$3,MATCH("*"&$N$3&"*",ORARIO_GENERALE!K25:P25,0)),"")} | Q12: {=IFERROR(INDEX(ORARIO_GENERALE!$K$3:$P$3,MATCH("*"&$N$3&"*",ORARIO_GENERALE!K38:P38,0)),"")} | R12: {=IFERROR(INDEX(ORARIO_GENERALE!$K$3:$P$3,MATCH("*"&$N$3&"*",ORARIO_GENERALE!K47:P47,0)),"")} | S12: {=IFERROR(INDEX(ORARIO_GENERALE!$K$3:$P$3,MATCH("*"&$N$3&"*",ORARIO_GENERALE!K66:P66,0)),"")}
B13: =ORARIO_GENERALE!C13 -> 17:00-18-00 | C13: {=IFERROR(INDEX(ORARIO_GENERALE!$D$3:$I$3,MATCH("*"&$B$3&"*",ORARIO_GENERALE!D13:I13,0)),"")} | D13: {=IFERROR(INDEX(ORARIO_GENERALE!$D$3:$I$3,MATCH("*"&$B$3&"*",ORARIO_GENERALE!D26:I26,0)),"")} | E13: {=IFERROR(INDEX(ORARIO_GENERALE!$D$3:$I$3,MATCH("*"&$B$3&"*",ORARIO_GENERALE!E39:I39,0)),"")} | F13: {=IFERROR(INDEX(ORARIO_GENERALE!$D$3:$I$3,MATCH("*"&$B$3&"*",ORARIO_GENERALE!D52:I52,0)),"")} | H13: =ORARIO_GENERALE!C13 -> 17:00-18-00 | I13: {=IFERROR(INDEX(ORARIO_GENERALE!$D$3:$I$3,MATCH("*"&$H$3&"*",ORARIO_GENERALE!D13:I13,0)),"")} | J13: {=IFERROR(INDEX(ORARIO_GENERALE!$D$3:$I$3,MATCH("*"&$H$3&"*",ORARIO_GENERALE!D26:I26,0)),"")} | K13: {=IFERROR(INDEX(ORARIO_GENERALE!$D$3:$I$3,MATCH("*"&$H$3&"*",ORARIO_GENERALE!E39:I39,0)),"")} | L13: {=IFERROR(INDEX(ORARIO_GENERALE!$D$3:$I$3,MATCH("*"&$H$3&"*",ORARIO_GENERALE!D52:I52,0)),"")} | N13: =#REF! -> #REF! | O13: {=IFERROR(INDEX(ORARIO_GENERALE!$K$3:$P$3,MATCH("*"&$N$3&"*",ORARIO_GENERALE!K13:P13,0)),"")} | P13: {=IFERROR(INDEX(ORARIO_GENERALE!$K$3:$P$3,MATCH("*"&$N$3&"*",ORARIO_GENERALE!K26:P26,0)),"")} | Q13: {=IFERROR(INDEX(ORARIO_GENERALE!$K$3:$P$3,MATCH("*"&$N$3&"*",ORARIO_GENERALE!K39:P39,0)),"")} | R13: {=IFERROR(INDEX(ORARIO_GENERALE!$K$3:$P$3,MATCH("*"&$N$3&"*",ORARIO_GENERALE!L48:P48,0)),"")} | S13: {=IFERROR(INDEX(ORARIO_GENERALE!$K$3:$P$3,MATCH("*"&$N$3&"*",ORARIO_GENERALE!K67:P67,0)),"")}
B14: =ORARIO_GENERALE!C14 -> 18:00-19:00 | C14: {=IFERROR(INDEX(ORARIO_GENERALE!$D$3:$I$3,MATCH("*"&$B$3&"*",ORARIO_GENERALE!D14:I14,0)),"")} | D14: {=IFERROR(INDEX(ORARIO_GENERALE!$D$3:$I$3,MATCH("*"&$B$3&"*",ORARIO_GENERALE!D27:I27,0)),"")} | E14: {=IFERROR(INDEX(ORARIO_GENERALE!$D$3:$I$3,MATCH("*"&$B$3&"*",ORARIO_GENERALE!D40:I40,0)),"")} | F14: {=IFERROR(INDEX(ORARIO_GENERALE!$D$3:$I$3,MATCH("*"&$B$3&"*",ORARIO_GENERALE!D53:I53,0)),"")} | H14: =ORARIO_GENERALE!C14 -> 18:00-19:00 | I14: {=IFERROR(INDEX(ORARIO_GENERALE!$D$3:$I$3,MATCH("*"&$H$3&"*",ORARIO_GENERALE!D14:I14,0)),"")} | J14: {=IFERROR(INDEX(ORARIO_GENERALE!$D$3:$I$3,MATCH("*"&$H$3&"*",ORARIO_GENERALE!D27:I27,0)),"")} | K14: {=IFERROR(INDEX(ORARIO_GENERALE!$D$3:$I$3,MATCH("*"&$H$3&"*",ORARIO_GENERALE!D40:I40,0)),"")} | L14: {=IFERROR(INDEX(ORARIO_GENERALE!$D$3:$I$3,MATCH("*"&$H$3&"*",ORARIO_GENERALE!D53:I53,0)),"")} | N14: =#REF! -> #REF! | O14: {=IFERROR(INDEX(ORARIO_GENERALE!$K$3:$P$3,MATCH("*"&$N$3&"*",ORARIO_GENERALE!K14:P14,0)),"")} | P14: {=IFERROR(INDEX(ORARIO_GENERALE!$K$3:$P$3,MATCH("*"&$N$3&"*",ORARIO_GENERALE!K27:P27,0)),"")} | Q14: {=IFERROR(INDEX(ORARIO_GENERALE!$K$3:$P$3,MATCH("*"&$N$3&"*",ORARIO_GENERALE!K40:P40,0)),"")} | R14: {=IFERROR(INDEX(ORARIO_GENERALE!$K$3:$P$3,MATCH("*"&$N$3&"*",ORARIO_GENERALE!L54:P54,0)),"")} | S14: {=IFERROR(INDEX(ORARIO_GENERALE!$K$3:$P$3,MATCH("*"&$N$3&"*",ORARIO_GENERALE!K68:P68,0)),"")}
B15: =ORARIO_GENERALE!C15 -> 19:00-20:00 | C15: {=IFERROR(INDEX(ORARIO_GENERALE!$D$3:$I$3,MATCH("*"&$B$3&"*",ORARIO_GENERALE!D15:I15,0)),"")} | D15: {=IFERROR(INDEX(ORARIO_GENERALE!$D$3:$I$3,MATCH("*"&$B$3&"*",ORARIO_GENERALE!D28:I28,0)),"")} | E15: {=IFERROR(INDEX(ORARIO_GENERALE!$D$3:$I$3,MATCH("*"&$B$3&"*",ORARIO_GENERALE!D41:I41,0)),"")} | F15: {=IFERROR(INDEX(ORARIO_GENERALE!$D$3:$I$3,MATCH("*"&$B$3&"*",ORARIO_GENERALE!D54:I54,0)),"")} | H15: =ORARIO_GENERALE!C15 -> 19:00-20:00 | I15: {=IFERROR(INDEX(ORARIO_GENERALE!$D$3:$I$3,MATCH("*"&$H$3&"*",ORARIO_GENERALE!D15:I15,0)),"")} | J15: {=IFERROR(INDEX(ORARIO_GENERALE!$D$3:$I$3,MATCH("*"&$H$3&"*",ORARIO_GENERALE!D28:I28,0)),"")} | K15: {=IFERROR(INDEX(ORARIO_GENERALE!$D$3:$I$3,MATCH("*"&$H$3&"*",ORARIO_GENERALE!D41:I41,0)),"")} | L15: {=IFERROR(INDEX(ORARIO_GENERALE!$D$3:$I$3,MATCH("*"&$H$3&"*",ORARIO_GENERALE!D54:I54,0)),"")} | N15: =#REF! -> #REF! | O15: {=IFERROR(INDEX(ORARIO_GENERALE!$K$3:$P$3,MATCH("*"&$N$3&"*",ORARIO_GENERALE!K15:P15,0)),"")} | P15: {=IFERROR(INDEX(ORARIO_GENERALE!$K$3:$P$3,MATCH("*"&$N$3&"*",ORARIO_GENERALE!K28:P28,0)),"")} | Q15: {=IFERROR(INDEX(ORARIO_GENERALE!$K$3:$P$3,MATCH("*"&$N$3&"*",ORARIO_GENERALE!K41:P41,0)),"")} | R15: {=IFERROR(INDEX(ORARIO_GENERALE!$K$3:$P$3,MATCH("*"&$N$3&"*",#REF!,0)),"")} | S15: {=IFERROR(INDEX(ORARIO_GENERALE!$K$3:$P$3,MATCH("*"&$N$3&"*",ORARIO_GENERALE!K69:P69,0)),"")}
B16: =ORARIO_GENERALE!C16 -> 20:00-21:00 | C16: {=IFERROR(INDEX(ORARIO_GENERALE!$D$3:$I$3,MATCH("*"&$B$3&"*",ORARIO_GENERALE!D16:I16,0)),"")} | D16: {=IFERROR(INDEX(ORARIO_GENERALE!$D$3:$I$3,MATCH("*"&$B$3&"*",ORARIO_GENERALE!D29:I29,0)),"")} | E16: {=IFERROR(INDEX(ORARIO_GENERALE!$D$3:$I$3,MATCH("*"&$B$3&"*",ORARIO_GENERALE!D42:I42,0)),"")} | F16: {=IFERROR(INDEX(ORARIO_GENERALE!$D$3:$I$3,MATCH("*"&$B$3&"*",#REF!,0)),"")} | H16: =ORARIO_GENERALE!C16 -> 20:00-21:00 | I16: {=IFERROR(INDEX(ORARIO_GENERALE!$D$3:$I$3,MATCH("*"&$H$3&"*",ORARIO_GENERALE!D16:I16,0)),"")} | J16: {=IFERROR(INDEX(ORARIO_GENERALE!$D$3:$I$3,MATCH("*"&$H$3&"*",ORARIO_GENERALE!D29:I29,0)),"")} | K16: {=IFERROR(INDEX(ORARIO_GENERALE!$D$3:$I$3,MATCH("*"&$H$3&"*",ORARIO_GENERALE!D42:I42,0)),"")} | L16: {=IFERROR(INDEX(ORARIO_GENERALE!$D$3:$I$3,MATCH("*"&$H$3&"*",#REF!,0)),"")} | N16: =#REF! -> #REF! | O16: {=IFERROR(INDEX(ORARIO_GENERALE!$K$3:$P$3,MATCH("*"&$N$3&"*",ORARIO_GENERALE!K16:P16,0)),"")} | P16: {=IFERROR(INDEX(ORARIO_GENERALE!$K$3:$P$3,MATCH("*"&$N$3&"*",ORARIO_GENERALE!K29:P29,0)),"")} | Q16: {=IFERROR(INDEX(ORARIO_GENERALE!$K$3:$P$3,MATCH("*"&$N$3&"*",ORARIO_GENERALE!K42:P42,0)),"")} | R16: {=IFERROR(INDEX(ORARIO_GENERALE!$K$3:$P$3,MATCH("*"&$N$3&"*",ORARIO_GENERALE!K56:P56,0)),"")} | S16: {=IFERROR(INDEX(ORARIO_GENERALE!$K$3:$P$3,MATCH("*"&$N$3&"*",ORARIO_GENERALE!K70:P70,0)),"")}
B19: RPPC | H19: RPPD | N19: RA2B
C20: LUN | D20: MAR | E20: MER | F20: GIO | I20: LUN | J20: MAR | K20: MER | L20: GIO | O20: LUN | P20: MAR | Q20: MER | R20: GIO | S20: VEN
B21: =ORARIO_GENERALE!C5 -> 09:00-10:00 | C21: {=IFERROR(INDEX(ORARIO_GENERALE!$D$3:$I$3,MATCH("*"&$B$19&"*",ORARIO_GENERALE!D5:I5,0)),"")} | D21: {=IFERROR(INDEX(ORARIO_GENERALE!$D$3:$I$3,MATCH("*"&$B$19&"*",ORARIO_GENERALE!D18:I18,0)),"")} | E21: {=IFERROR(INDEX(ORARIO_GENERALE!$D$3:$I$3,MATCH("*"&$B$19&"*",ORARIO_GENERALE!D31:I31,0)),"")} | F21: {=IFERROR(INDEX(ORARIO_GENERALE!$D$3:$I$3,MATCH("*"&$B$19&"*",ORARIO_GENERALE!D44:I44,0)),"")} | H21: =ORARIO_GENERALE!C5 -> 09:00-10:00 | I21: {=IFERROR(INDEX(ORARIO_GENERALE!$D$3:$I$3,MATCH("*"&$H$19&"*",ORARIO_GENERALE!D5:I5,0)),"")} | J21: {=IFERROR(INDEX(ORARIO_GENERALE!$D$3:$I$3,MATCH("*"&$H$19&"*",ORARIO_GENERALE!D18:I18,0)),"")} | K21: {=IFERROR(INDEX(ORARIO_GENERALE!$D$3:$I$3,MATCH("*"&$H$19&"*",ORARIO_GENERALE!D31:I31,0)),"")} | L21: {=IFERROR(INDEX(ORARIO_GENERALE!$D$3:$I$3,MATCH("*"&$H$19&"*",ORARIO_GENERALE!D44:I44,0)),"")} | N21: =#REF! -> #REF! | O21: {=IFERROR(INDEX(ORARIO_GENERALE!$K$3:$P$3,MATCH("*"&$N$19&"*",ORARIO_GENERALE!L5:P5,0)),"")} | P21: {=IFERROR(INDEX(ORARIO_GENERALE!$K$3:$P$3,MATCH("*"&$N$19&"*",ORARIO_GENERALE!L18:P18,0)),"")} | Q21: {=IFERROR(INDEX(ORARIO_GENERALE!$K$3:$P$3,MATCH("*"&$N$19&"*",ORARIO_GENERALE!K31:P31,0)),"")} | R21: {=IFERROR(INDEX(ORARIO_GENERALE!$K$3:$P$3,MATCH("*"&$N$19&"*",#REF!,0)),"")} | S21: {=IFERROR(INDEX(ORARIO_GENERALE!$K$3:$P$3,MATCH("*"&$N$19&"*",ORARIO_GENERALE!K57:P57,0)),"")} -> RANGHETTI
B22: =ORARIO_GENERALE!C6 -> 10:00-11:00 | C22: {=IFERROR(INDEX(ORARIO_GENERALE!$D$3:$I$3,MATCH("*"&$B$19&"*",ORARIO_GENERALE!D6:I6,0)),"")} | D22: {=IFERROR(INDEX(ORARIO_GENERALE!$D$3:$I$3,MATCH("*"&$B$19&"*",ORARIO_GENERALE!D19:I19,0)),"")} | E22: {=IFERROR(INDEX(ORARIO_GENERALE!$D$3:$I$3,MATCH("*"&$B$19&"*",ORARIO_GENERALE!D32:I32,0)),"")} | F22: {=IFERROR(INDEX(ORARIO_GENERALE!$D$3:$I$3,MATCH("*"&$B$19&"*",ORARIO_GENERALE!D45:I45,0)),"")} | H22: =ORARIO_GENERALE!C6 -> 10:00-11:00 | I22: {=IFERROR(INDEX(ORARIO_GENERALE!$D$3:$I$3,MATCH("*"&$H$19&"*",ORARIO_GENERALE!D6:I6,0)),"")} | J22: {=IFERROR(INDEX(ORARIO_GENERALE!$D$3:$I$3,MATCH("*"&$H$19&"*",ORARIO_GENERALE!D19:I19,0)),"")} | K22: {=IFERROR(INDEX(ORARIO_GENERALE!$D$3:$I$3,MATCH("*"&$H$19&"*",ORARIO_GENERALE!D32:I32,0)),"")} | L22: {=IFERROR(INDEX(ORARIO_GENERALE!$D$3:$I$3,MATCH("*"&$H$19&"*",ORARIO_GENERALE!D45:I45,0)),"")} | N22: =#REF! -> #REF! | O22: {=IFERROR(INDEX(ORARIO_GENERALE!$K$3:$P$3,MATCH("*"&$N$19&"*",ORARIO_GENERALE!K6:P6,0)),"")} | P22: {=IFERROR(INDEX(ORARIO_GENERALE!$K$3:$P$3,MATCH("*"&$N$19&"*",ORARIO_GENERALE!L19:P19,0)),"")} | Q22: {=IFERROR(INDEX(ORARIO_GENERALE!$K$3:$P$3,MATCH("*"&$N$19&"*",ORARIO_GENERALE!K32:P32,0)),"")} -> ABBADESSA | R22: {=IFERROR(INDEX(ORARIO_GENERALE!$K$3:$P$3,MATCH("*"&$N$19&"*",#REF!,0)),"")} | S22: {=IFERROR(INDEX(ORARIO_GENERALE!$K$3:$P$3,MATCH("*"&$N$19&"*",ORARIO_GENERALE!K58:P58,0)),"")} -> RANGHETTI
B23: =ORARIO_GENERALE!C7 -> 11:00-12:00 | C23: {=IFERROR(INDEX(ORARIO_GENERALE!$D$3:$I$3,MATCH("*"&$B$19&"*",ORARIO_GENERALE!D7:I7,0)),"")} | D23: {=IFERROR(INDEX(ORARIO_GENERALE!$D$3:$I$3,MATCH("*"&$B$19&"*",ORARIO_GENERALE!D20:I20,0)),"")} | E23: {=IFERROR(INDEX(ORARIO_GENERALE!$D$3:$I$3,MATCH("*"&$B$19&"*",ORARIO_GENERALE!D33:I33,0)),"")} | F23: {=IFERROR(INDEX(ORARIO_GENERALE!$D$3:$I$3,MATCH("*"&$B$19&"*",ORARIO_GENERALE!D46:I46,0)),"")} | H23: =ORARIO_GENERALE!C7 -> 11:00-12:00 | I23: {=IFERROR(INDEX(ORARIO_GENERALE!$D$3:$I$3,MATCH("*"&$H$19&"*",ORARIO_GENERALE!D7:I7,0)),"")} | J23: {=IFERROR(INDEX(ORARIO_GENERALE!$D$3:$I$3,MATCH("*"&$H$19&"*",ORARIO_GENERALE!D20:I20,0)),"")} | K23: {=IFERROR(INDEX(ORARIO_GENERALE!$D$3:$I$3,MATCH("*"&$H$19&"*",ORARIO_GENERALE!D33:I33,0)),"")} | L23: {=IFERROR(INDEX(ORARIO_GENERALE!$D$3:$I$3,MATCH("*"&$H$19&"*",ORARIO_GENERALE!D46:I46,0)),"")} | N23: =#REF! -> #REF! | O23: {=IFERROR(INDEX(ORARIO_GENERALE!$K$3:$P$3,MATCH("*"&$N$19&"*",ORARIO_GENERALE!K7:P7,0)),"")} | P23: {=IFERROR(INDEX(ORARIO_GENERALE!$K$3:$P$3,MATCH("*"&$N$19&"*",ORARIO_GENERALE!K20:P20,0)),"")} | Q23: {=IFERROR(INDEX(ORARIO_GENERALE!$K$3:$P$3,MATCH("*"&$N$19&"*",ORARIO_GENERALE!K33:P33,0)),"")} -> ABBADESSA | R23: {=IFERROR(INDEX(ORARIO_GENERALE!$K$3:$P$3,MATCH("*"&$N$19&"*",#REF!,0)),"")} | S23: {=IFERROR(INDEX(ORARIO_GENERALE!$K$3:$P$3,MATCH("*"&$N$19&"*",ORARIO_GENERALE!K59:P59,0)),"")}
B24: =ORARIO_GENERALE!C8 -> 12:00-13:00 | C24: {=IFERROR(INDEX(ORARIO_GENERALE!$D$3:$I$3,MATCH("*"&$B$19&"*",ORARIO_GENERALE!D8:I8,0)),"")} | D24: {=IFERROR(INDEX(ORARIO_GENERALE!$D$3:$I$3,MATCH("*"&$B$19&"*",ORARIO_GENERALE!D21:I21,0)),"")} | E24: {=IFERROR(INDEX(ORARIO_GENERALE!$D$3:$I$3,MATCH("*"&$B$19&"*",ORARIO_GENERALE!D34:I34,0)),"")} | F24: {=IFERROR(INDEX(ORARIO_GENERALE!$D$3:$I$3,MATCH("*"&$B$19&"*",ORARIO_GENERALE!D47:I47,0)),"")} | H24: =ORARIO_GENERALE!C8 -> 12:00-13:00 | I24: {=IFERROR(INDEX(ORARIO_GENERALE!$D$3:$I$3,MATCH("*"&$H$19&"*",ORARIO_GENERALE!D8:I8,0)),"")} | J24: {=IFERROR(INDEX(ORARIO_GENERALE!$D$3:$I$3,MATCH("*"&$H$19&"*",ORARIO_GENERALE!D21:I21,0)),"")} | K24: {=IFERROR(INDEX(ORARIO_GENERALE!$D$3:$I$3,MATCH("*"&$H$19&"*",ORARIO_GENERALE!D34:I34,0)),"")} | L24: {=IFERROR(INDEX(ORARIO_GENERALE!$D$3:$I$3,MATCH("*"&$H$19&"*",ORARIO_GENERALE!D47:I47,0)),"")} | N24: =#REF! -> #REF! | O24: {=IFERROR(INDEX(ORARIO_GENERALE!$K$3:$P$3,MATCH("*"&$N$19&"*",ORARIO_GENERALE!K8:P8,0)),"")} | P24: {=IFERROR(INDEX(ORARIO_GENERALE!$K$3:$P$3,MATCH("*"&$N$19&"*",ORARIO_GENERALE!K21:P21,0)),"")} | Q24: {=IFERROR(INDEX(ORARIO_GENERALE!$K$3:$P$3,MATCH("*"&$N$19&"*",ORARIO_GENERALE!K34:P34,0)),"")} -> ABBADESSA | R24: {=IFERROR(INDEX(ORARIO_GENERALE!$K$3:$P$3,MATCH("*"&$N$19&"*",#REF!,0)),"")} | S24: {=IFERROR(INDEX(ORARIO_GENERALE!$K$3:$P$3,MATCH("*"&$N$19&"*",ORARIO_GENERALE!K60:P60,0)),"")}
B25: =ORARIO_GENERALE!C9 -> 13:00-14:00 | C25: {=IFERROR(INDEX(ORARIO_GENERALE!$D$3:$I$3,MATCH("*"&$B$19&"*",ORARIO_GENERALE!D9:I9,0)),"")} | D25: {=IFERROR(INDEX(ORARIO_GENERALE!$D$3:$I$3,MATCH("*"&$B$19&"*",ORARIO_GENERALE!D22:I22,0)),"")} | E25: {=IFERROR(INDEX(ORARIO_GENERALE!$D$3:$I$3,MATCH("*"&$B$19&"*",ORARIO_GENERALE!D35:I35,0)),"")} | F25: {=IFERROR(INDEX(ORARIO_GENERALE!$D$3:$I$3,MATCH("*"&$B$19&"*",ORARIO_GENERALE!D48:I48,0)),"")} | H25: =ORARIO_GENERALE!C9 -> 13:00-14:00 | I25: {=IFERROR(INDEX(ORARIO_GENERALE!$D$3:$I$3,MATCH("*"&$H$19&"*",ORARIO_GENERALE!D9:I9,0)),"")} | J25: {=IFERROR(INDEX(ORARIO_GENERALE!$D$3:$I$3,MATCH("*"&$H$19&"*",ORARIO_GENERALE!D22:I22,0)),"")} | K25: {=IFERROR(INDEX(ORARIO_GENERALE!$D$3:$I$3,MATCH("*"&$H$19&"*",ORARIO_GENERALE!D35:I35,0)),"")} | L25: {=IFERROR(INDEX(ORARIO_GENERALE!$D$3:$I$3,MATCH("*"&$H$19&"*",ORARIO_GENERALE!D48:I48,0)),"")} | N25: =#REF! -> #REF! | O25: {=IFERROR(INDEX(ORARIO_GENERALE!$K$3:$P$3,MATCH("*"&$N$19&"*",ORARIO_GENERALE!K9:P9,0)),"")} | P25: {=IFERROR(INDEX(ORARIO_GENERALE!$K$3:$P$3,MATCH("*"&$N$19&"*",ORARIO_GENERALE!K22:P22,0)),"")} | Q25: {=IFERROR(INDEX(ORARIO_GENERALE!$K$3:$P$3,MATCH("*"&$N$19&"*",ORARIO_GENERALE!K35:P35,0)),"")} | R25: {=IFERROR(INDEX(ORARIO_GENERALE!$K$3:$P$3,MATCH("*"&$N$19&"*",ORARIO_GENERALE!K44:P44,0)),"")} -> ABBADESSA | S25: {=IFERROR(INDEX(ORARIO_GENERALE!$K$3:$P$3,MATCH("*"&$N$19&"*",ORARIO_GENERALE!K61:P61,0)),"")}
B26: =ORARIO_GENERALE!C10 -> 14:00-15:00 | C26: {=IFERROR(INDEX(ORARIO_GENERALE!$D$3:$I$3,MATCH("*"&$B$19&"*",ORARIO_GENERALE!D10:I10,0)),"")} | D26: {=IFERROR(INDEX(ORARIO_GENERALE!$D$3:$I$3,MATCH("*"&$B$19&"*",ORARIO_GENERALE!D23:I23,0)),"")} | E26: {=IFERROR(INDEX(ORARIO_GENERALE!$D$3:$I$3,MATCH("*"&$B$19&"*",ORARIO_GENERALE!D36:I36,0)),"")} | F26: {=IFERROR(INDEX(ORARIO_GENERALE!$D$3:$I$3,MATCH("*"&$B$19&"*",ORARIO_GENERALE!D49:I49,0)),"")} | H26: =ORARIO_GENERALE!C10 -> 14:00-15:00 | I26: {=IFERROR(INDEX(ORARIO_GENERALE!$D$3:$I$3,MATCH("*"&$H$19&"*",ORARIO_GENERALE!D10:I10,0)),"")} -> CELI | J26: {=IFERROR(INDEX(ORARIO_GENERALE!$D$3:$I$3,MATCH("*"&$H$19&"*",ORARIO_GENERALE!D23:I23,0)),"")} -> CELI | K26: {=IFERROR(INDEX(ORARIO_GENERALE!$D$3:$I$3,MATCH("*"&$H$19&"*",ORARIO_GENERALE!D36:I36,0)),"")} -> ROCCO | L26: {=IFERROR(INDEX(ORARIO_GENERALE!$D$3:$I$3,MATCH("*"&$H$19&"*",ORARIO_GENERALE!D49:I49,0)),"")} -> IGNACCOLO | N26: =#REF! -> #REF! | O26: {=IFERROR(INDEX(ORARIO_GENERALE!$K$3:$P$3,MATCH("*"&$N$19&"*",ORARIO_GENERALE!K10:P10,0)),"")} | P26: {=IFERROR(INDEX(ORARIO_GENERALE!$K$3:$P$3,MATCH("*"&$N$19&"*",ORARIO_GENERALE!K23:P23,0)),"")} | Q26: {=IFERROR(INDEX(ORARIO_GENERALE!$K$3:$P$3,MATCH("*"&$N$19&"*",ORARIO_GENERALE!K36:P36,0)),"")} | R26: {=IFERROR(INDEX(ORARIO_GENERALE!$K$3:$P$3,MATCH("*"&$N$19&"*",ORARIO_GENERALE!K45:P45,0)),"")} -> FERRANTE | S26: {=IFERROR(INDEX(ORARIO_GENERALE!$K$3:$P$3,MATCH("*"&$N$19&"*",ORARIO_GENERALE!K64:P64,0)),"")}
B27: =ORARIO_GENERALE!C11 -> 15:00-16:00 | C27: {=IFERROR(INDEX(ORARIO_GENERALE!$D$3:$I$3,MATCH("*"&$B$19&"*",ORARIO_GENERALE!D11:I11,0)),"")} | D27: {=IFERROR(INDEX(ORARIO_GENERALE!$D$3:$I$3,MATCH("*"&$B$19&"*",ORARIO_GENERALE!D24:I24,0)),"")} | E27: {=IFERROR(INDEX(ORARIO_GENERALE!$D$3:$I$3,MATCH("*"&$B$19&"*",ORARIO_GENERALE!D37:I37,0)),"")} | F27: {=IFERROR(INDEX(ORARIO_GENERALE!$D$3:$I$3,MATCH("*"&$B$19&"*",ORARIO_GENERALE!D50:I50,0)),"")} | H27: =ORARIO_GENERALE!C11 -> 15:00-16:00 | I27: {=IFERROR(INDEX(ORARIO_GENERALE!$D$3:$I$3,MATCH("*"&$H$19&"*",ORARIO_GENERALE!D11:I11,0)),"")} -> VALFRE' | J27: {=IFERROR(INDEX(ORARIO_GENERALE!$D$3:$I$3,MATCH("*"&$H$19&"*",ORARIO_GENERALE!D24:I24,0)),"")} -> AQUILA | K27: {=IFERROR(INDEX(ORARIO_GENERALE!$D$3:$I$3,MATCH("*"&$H$19&"*",ORARIO_GENERALE!D37:I37,0)),"")} -> ROCCO | L27: {=IFERROR(INDEX(ORARIO_GENERALE!$D$3:$I$3,MATCH("*"&$H$19&"*",ORARIO_GENERALE!D50:I50,0)),"")} -> IGNACCOLO | N27: =#REF! -> #REF! | O27: {=IFERROR(INDEX(ORARIO_GENERALE!$K$3:$P$3,MATCH("*"&$N$19&"*",ORARIO_GENERALE!K11:P11,0)),"")} | P27: {=IFERROR(INDEX(ORARIO_GENERALE!$K$3:$P$3,MATCH("*"&$N$19&"*",ORARIO_GENERALE!K24:P24,0)),"")} | Q27: {=IFERROR(INDEX(ORARIO_GENERALE!$K$3:$P$3,MATCH("*"&$N$19&"*",ORARIO_GENERALE!K37:P37,0)),"")} | R27: {=IFERROR(INDEX(ORARIO_GENERALE!$K$3:$P$3,MATCH("*"&$N$19&"*",ORARIO_GENERALE!K46:P46,0)),"")} -> FERRANTE | S27: {=IFERROR(INDEX(ORARIO_GENERALE!$K$3:$P$3,MATCH("*"&$N$19&"*",ORARIO_GENERALE!K65:P65,0)),"")}
B28: =ORARIO_GENERALE!C12 -> 16:00-17:00 | C28: {=IFERROR(INDEX(ORARIO_GENERALE!$D$3:$I$3,MATCH("*"&$B$19&"*",ORARIO_GENERALE!D12:I12,0)),"")} | D28: {=IFERROR(INDEX(ORARIO_GENERALE!$D$3:$I$3,MATCH("*"&$B$19&"*",ORARIO_GENERALE!D25:I25,0)),"")} | E28: {=IFERROR(INDEX(ORARIO_GENERALE!$D$3:$I$3,MATCH("*"&$B$19&"*",ORARIO_GENERALE!D38:I38,0)),"")} | F28: {=IFERROR(INDEX(ORARIO_GENERALE!$D$3:$I$3,MATCH("*"&$B$19&"*",ORARIO_GENERALE!D51:I51,0)),"")} | H28: =ORARIO_GENERALE!C12 -> 16:00-17:00 | I28: {=IFERROR(INDEX(ORARIO_GENERALE!$D$3:$I$3,MATCH("*"&$H$19&"*",ORARIO_GENERALE!D12:I12,0)),"")} -> VALFRE' | J28: {=IFERROR(INDEX(ORARIO_GENERALE!$D$3:$I$3,MATCH("*"&$H$19&"*",ORARIO_GENERALE!D25:I25,0)),"")} -> ROCCO | K28: {=IFERROR(INDEX(ORARIO_GENERALE!$D$3:$I$3,MATCH("*"&$H$19&"*",ORARIO_GENERALE!D38:I38,0)),"")} -> AQUILA | L28: {=IFERROR(INDEX(ORARIO_GENERALE!$D$3:$I$3,MATCH("*"&$H$19&"*",ORARIO_GENERALE!D51:I51,0)),"")} -> VALFRE' | N28: =#REF! -> #REF! | O28: {=IFERROR(INDEX(ORARIO_GENERALE!$K$3:$P$3,MATCH("*"&$N$19&"*",ORARIO_GENERALE!K12:P12,0)),"")} | P28: {=IFERROR(INDEX(ORARIO_GENERALE!$K$3:$P$3,MATCH("*"&$N$19&"*",ORARIO_GENERALE!K25:P25,0)),"")} | Q28: {=IFERROR(INDEX(ORARIO_GENERALE!$K$3:$P$3,MATCH("*"&$N$19&"*",ORARIO_GENERALE!K38:P38,0)),"")} | R28: {=IFERROR(INDEX(ORARIO_GENERALE!$K$3:$P$3,MATCH("*"&$N$19&"*",ORARIO_GENERALE!K47:P47,0)),"")} | S28: {=IFERROR(INDEX(ORARIO_GENERALE!$K$3:$P$3,MATCH("*"&$N$19&"*",ORARIO_GENERALE!K66:P66,0)),"")}
B29: =ORARIO_GENERALE!C13 -> 17:00-18-00 | C29: {=IFERROR(INDEX(ORARIO_GENERALE!$D$3:$I$3,MATCH("*"&$B$19&"*",ORARIO_GENERALE!D13:I13,0)),"")} -> CELI | D29: {=IFERROR(INDEX(ORARIO_GENERALE!$D$3:$I$3,MATCH("*"&$B$19&"*",ORARIO_GENERALE!D26:I26,0)),"")} -> ROCCO | E29: {=IFERROR(INDEX(ORARIO_GENERALE!$D$3:$I$3,MATCH("*"&$B$19&"*",ORARIO_GENERALE!E39:I39,0)),"")} | F29: {=IFERROR(INDEX(ORARIO_GENERALE!$D$3:$I$3,MATCH("*"&$B$19&"*",ORARIO_GENERALE!D52:I52,0)),"")} | H29: =ORARIO_GENERALE!C13 -> 17:00-18-00 | I29: {=IFERROR(INDEX(ORARIO_GENERALE!$D$3:$I$3,MATCH("*"&$H$19&"*",ORARIO_GENERALE!D13:I13,0)),"")} | J29: {=IFERROR(INDEX(ORARIO_GENERALE!$D$3:$I$3,MATCH("*"&$H$19&"*",ORARIO_GENERALE!D26:I26,0)),"")} | K29: {=IFERROR(INDEX(ORARIO_GENERALE!$D$3:$I$3,MATCH("*"&$H$19&"*",ORARIO_GENERALE!E39:I39,0)),"")} | L29: {=IFERROR(INDEX(ORARIO_GENERALE!$D$3:$I$3,MATCH("*"&$H$19&"*",ORARIO_GENERALE!D52:I52,0)),"")} -> VALFRE' | N29: =#REF! -> #REF! | O29: {=IFERROR(INDEX(ORARIO_GENERALE!$K$3:$P$3,MATCH("*"&$N$19&"*",ORARIO_GENERALE!K13:P13,0)),"")} | P29: {=IFERROR(INDEX(ORARIO_GENERALE!$K$3:$P$3,MATCH("*"&$N$19&"*",ORARIO_GENERALE!K26:P26,0)),"")} | Q29: {=IFERROR(INDEX(ORARIO_GENERALE!$K$3:$P$3,MATCH("*"&$N$19&"*",ORARIO_GENERALE!K39:P39,0)),"")} | R29: {=IFERROR(INDEX(ORARIO_GENERALE!$K$3:$P$3,MATCH("*"&$N$19&"*",ORARIO_GENERALE!L48:P48,0)),"")} | S29: {=IFERROR(INDEX(ORARIO_GENERALE!$K$3:$P$3,MATCH("*"&$N$19&"*",ORARIO_GENERALE!K67:P67,0)),"")}
B30: =ORARIO_GENERALE!C14 -> 18:00-19:00 | C30: {=IFERROR(INDEX(ORARIO_GENERALE!$D$3:$I$3,MATCH("*"&$B$19&"*",ORARIO_GENERALE!D14:I14,0)),"")} -> CELI | D30: {=IFERROR(INDEX(ORARIO_GENERALE!$D$3:$I$3,MATCH("*"&$B$19&"*",ORARIO_GENERALE!D27:I27,0)),"")} -> ROCCO | E30: {=IFERROR(INDEX(ORARIO_GENERALE!$D$3:$I$3,MATCH("*"&$B$19&"*",ORARIO_GENERALE!D40:I40,0)),"")} -> AQUILA | F30: {=IFERROR(INDEX(ORARIO_GENERALE!$D$3:$I$3,MATCH("*"&$B$19&"*",ORARIO_GENERALE!D53:I53,0)),"")} -> IGNACCOLO | H30: =ORARIO_GENERALE!C14 -> 18:00-19:00 | I30: {=IFERROR(INDEX(ORARIO_GENERALE!$D$3:$I$3,MATCH("*"&$H$19&"*",ORARIO_GENERALE!D14:I14,0)),"")} | J30: {=IFERROR(INDEX(ORARIO_GENERALE!$D$3:$I$3,MATCH("*"&$H$19&"*",ORARIO_GENERALE!D27:I27,0)),"")} | K30: {=IFERROR(INDEX(ORARIO_GENERALE!$D$3:$I$3,MATCH("*"&$H$19&"*",ORARIO_GENERALE!D40:I40,0)),"")} | L30: {=IFERROR(INDEX(ORARIO_GENERALE!$D$3:$I$3,MATCH("*"&$H$19&"*",ORARIO_GENERALE!D53:I53,0)),"")} | N30: =#REF! -> #REF! | O30: {=IFERROR(INDEX(ORARIO_GENERALE!$K$3:$P$3,MATCH("*"&$N$19&"*",ORARIO_GENERALE!K14:P14,0)),"")} | P30: {=IFERROR(INDEX(ORARIO_GENERALE!$K$3:$P$3,MATCH("*"&$N$19&"*",ORARIO_GENERALE!K27:P27,0)),"")} | Q30: {=IFERROR(INDEX(ORARIO_GENERALE!$K$3:$P$3,MATCH("*"&$N$19&"*",ORARIO_GENERALE!K40:P40,0)),"")} | R30: {=IFERROR(INDEX(ORARIO_GENERALE!$K$3:$P$3,MATCH("*"&$N$19&"*",ORARIO_GENERALE!L54:P54,0)),"")} | S30: {=IFERROR(INDEX(ORARIO_GENERALE!$K$3:$P$3,MATCH("*"&$N$19&"*",ORARIO_GENERALE!K68:P68,0)),"")}
B31: =ORARIO_GENERALE!C15 -> 19:00-20:00 | C31: {=IFERROR(INDEX(ORARIO_GENERALE!$D$3:$I$3,MATCH("*"&$B$19&"*",ORARIO_GENERALE!D15:I15,0)),"")} -> VALFRE' | D31: {=IFERROR(INDEX(ORARIO_GENERALE!$D$3:$I$3,MATCH("*"&$B$19&"*",ORARIO_GENERALE!D28:I28,0)),"")} -> AQUILA | E31: {=IFERROR(INDEX(ORARIO_GENERALE!$D$3:$I$3,MATCH("*"&$B$19&"*",ORARIO_GENERALE!D41:I41,0)),"")} -> AQUILA | F31: {=IFERROR(INDEX(ORARIO_GENERALE!$D$3:$I$3,MATCH("*"&$B$19&"*",ORARIO_GENERALE!D54:I54,0)),"")} -> VALFRE' | H31: =ORARIO_GENERALE!C15 -> 19:00-20:00 | I31: {=IFERROR(INDEX(ORARIO_GENERALE!$D$3:$I$3,MATCH("*"&$H$19&"*",ORARIO_GENERALE!D15:I15,0)),"")} | J31: {=IFERROR(INDEX(ORARIO_GENERALE!$D$3:$I$3,MATCH("*"&$H$19&"*",ORARIO_GENERALE!D28:I28,0)),"")} | K31: {=IFERROR(INDEX(ORARIO_GENERALE!$D$3:$I$3,MATCH("*"&$H$19&"*",ORARIO_GENERALE!D41:I41,0)),"")} | L31: {=IFERROR(INDEX(ORARIO_GENERALE!$D$3:$I$3,MATCH("*"&$H$19&"*",ORARIO_GENERALE!D54:I54,0)),"")} | N31: =#REF! -> #REF! | O31: {=IFERROR(INDEX(ORARIO_GENERALE!$K$3:$P$3,MATCH("*"&$N$19&"*",ORARIO_GENERALE!K15:P15,0)),"")} | P31: {=IFERROR(INDEX(ORARIO_GENERALE!$K$3:$P$3,MATCH("*"&$N$19&"*",ORARIO_GENERALE!K28:P28,0)),"")} | Q31: {=IFERROR(INDEX(ORARIO_GENERALE!$K$3:$P$3,MATCH("*"&$N$19&"*",ORARIO_GENERALE!K41:P41,0)),"")} | R31: {=IFERROR(INDEX(ORARIO_GENERALE!$K$3:$P$3,MATCH("*"&$N$19&"*",#REF!,0)),"")} | S31: {=IFERROR(INDEX(ORARIO_GENERALE!$K$3:$P$3,MATCH("*"&$N$19&"*",ORARIO_GENERALE!K69:P69,0)),"")}
B32: =ORARIO_GENERALE!C16 -> 20:00-21:00 | C32: {=IFERROR(INDEX(ORARIO_GENERALE!$D$3:$I$3,MATCH("*"&$B$19&"*",ORARIO_GENERALE!D16:I16,0)),"")} -> IGNACCOLO | D32: {=IFERROR(INDEX(ORARIO_GENERALE!$D$3:$I$3,MATCH("*"&$B$19&"*",ORARIO_GENERALE!D29:I29,0)),"")} -> ROCCO | E32: {=IFERROR(INDEX(ORARIO_GENERALE!$D$3:$I$3,MATCH("*"&$B$19&"*",ORARIO_GENERALE!D42:I42,0)),"")} -> VALFRE' | F32: {=IFERROR(INDEX(ORARIO_GENERALE!$D$3:$I$3,MATCH("*"&$B$19&"*",#REF!,0)),"")} | H32: =ORARIO_GENERALE!C16 -> 20:00-21:00 | I32: {=IFERROR(INDEX(ORARIO_GENERALE!$D$3:$I$3,MATCH("*"&$H$19&"*",ORARIO_GENERALE!D16:I16,0)),"")} | J32: {=IFERROR(INDEX(ORARIO_GENERALE!$D$3:$I$3,MATCH("*"&$H$19&"*",ORARIO_GENERALE!D29:I29,0)),"")} | K32: {=IFERROR(INDEX(ORARIO_GENERALE!$D$3:$I$3,MATCH("*"&$H$19&"*",ORARIO_GENERALE!D42:I42,0)),"")} | L32: {=IFERROR(INDEX(ORARIO_GENERALE!$D$3:$I$3,MATCH("*"&$H$19&"*",#REF!,0)),"")} | N32: =#REF! -> #REF! | O32: {=IFERROR(INDEX(ORARIO_GENERALE!$K$3:$P$3,MATCH("*"&$N$19&"*",ORARIO_GENERALE!K16:P16,0)),"")} | P32: {=IFERROR(INDEX(ORARIO_GENERALE!$K$3:$P$3,MATCH("*"&$N$19&"*",ORARIO_GENERALE!K29:P29,0)),"")} | Q32: {=IFERROR(INDEX(ORARIO_GENERALE!$K$3:$P$3,MATCH("*"&$N$19&"*",ORARIO_GENERALE!K42:P42,0)),"")} | R32: {=IFERROR(INDEX(ORARIO_GENERALE!$K$3:$P$3,MATCH("*"&$N$19&"*",ORARIO_GENERALE!K56:P56,0)),"")} | S32: {=IFERROR(INDEX(ORARIO_GENERALE!$K$3:$P$3,MATCH("*"&$N$19&"*",ORARIO_GENERALE!K70:P70,0)),"")}
B35: RA1A | I35: RA1B | P35: RA2C
C36: LUN | D36: MAR | E36: MER | F36: GIO | G36: VEN | J36: LUN | K36: MAR | L36: MER | M36: GIO | N36: VEN | Q36: LUN | R36: MAR | S36: MER | T36: GIO | U36: VEN
B37: =#REF! -> #REF! | C37: {=IFERROR(INDEX(ORARIO_GENERALE!$K$3:$P$3,MATCH("*"&$B$35&"*",ORARIO_GENERALE!L5:P5,0)),"")} | D37: {=IFERROR(INDEX(ORARIO_GENERALE!$K$3:$P$3,MATCH("*"&$B$35&"*",ORARIO_GENERALE!L18:P18,0)),"")} | E37: {=IFERROR(INDEX(ORARIO_GENERALE!$K$3:$P$3,MATCH("*"&$B$35&"*",ORARIO_GENERALE!K31:P31,0)),"")} | F37: {=IFERROR(INDEX(ORARIO_GENERALE!$K$3:$P$3,MATCH("*"&$B$35&"*",#REF!,0)),"")} | G37: {=IFERROR(INDEX(ORARIO_GENERALE!$K$3:$P$3,MATCH("*"&$B$35&"*",ORARIO_GENERALE!K57:P57,0)),"")} -> FREYRIE | I37: =#REF! -> #REF! | J37: {=IFERROR(INDEX(ORARIO_GENERALE!$K$3:$P$3,MATCH("*"&$I$35&"*",ORARIO_GENERALE!L5:P5,0)),"")} | K37: {=IFERROR(INDEX(ORARIO_GENERALE!$K$3:$P$3,MATCH("*"&$I$35&"*",ORARIO_GENERALE!L18:P18,0)),"")} -> ABBADESSA | L37: {=IFERROR(INDEX(ORARIO_GENERALE!$K$3:$P$3,MATCH("*"&$I$35&"*",ORARIO_GENERALE!K31:P31,0)),"")} | M37: {=IFERROR(INDEX(ORARIO_GENERALE!$K$3:$P$3,MATCH("*"&$I$35&"*",#REF!,0)),"")} | N37: {=IFERROR(INDEX(ORARIO_GENERALE!$K$3:$P$3,MATCH("*"&$I$35&"*",ORARIO_GENERALE!K57:P57,0)),"")} | P37: =#REF! -> #REF! | Q37: {=IFERROR(INDEX(ORARIO_GENERALE!$K$3:$P$3,MATCH("*"&$P$35&"*",ORARIO_GENERALE!L5:P5,0)),"")} | R37: {=IFERROR(INDEX(ORARIO_GENERALE!$K$3:$P$3,MATCH("*"&$P$35&"*",ORARIO_GENERALE!L18:P18,0)),"")} | S37: {=IFERROR(INDEX(ORARIO_GENERALE!$K$3:$P$3,MATCH("*"&$P$35&"*",ORARIO_GENERALE!K31:P31,0)),"")} | T37: {=IFERROR(INDEX(ORARIO_GENERALE!$K$3:$P$3,MATCH("*"&$P$35&"*",#REF!,0)),"")} | U37: {=IFERROR(INDEX(ORARIO_GENERALE!$K$3:$P$3,MATCH("*"&$P$35&"*",ORARIO_GENERALE!K57:P57,0)),"")}
B38: =#REF! -> #REF! | C38: {=IFERROR(INDEX(ORARIO_GENERALE!$K$3:$P$3,MATCH("*"&$B$35&"*",ORARIO_GENERALE!K6:P6,0)),"")} -> ABBADESSA | D38: {=IFERROR(INDEX(ORARIO_GENERALE!$K$3:$P$3,MATCH("*"&$B$35&"*",ORARIO_GENERALE!L19:P19,0)),"")} | E38: {=IFERROR(INDEX(ORARIO_GENERALE!$K$3:$P$3,MATCH("*"&$B$35&"*",ORARIO_GENERALE!K32:P32,0)),"")} | F38: {=IFERROR(INDEX(ORARIO_GENERALE!$K$3:$P$3,MATCH("*"&$B$35&"*",#REF!,0)),"")} | G38: {=IFERROR(INDEX(ORARIO_GENERALE!$K$3:$P$3,MATCH("*"&$B$35&"*",ORARIO_GENERALE!K58:P58,0)),"")} -> FREYRIE | I38: =#REF! -> #REF! | J38: {=IFERROR(INDEX(ORARIO_GENERALE!$K$3:$P$3,MATCH("*"&$I$35&"*",ORARIO_GENERALE!K6:P6,0)),"")} -> RANGHETTI | K38: {=IFERROR(INDEX(ORARIO_GENERALE!$K$3:$P$3,MATCH("*"&$I$35&"*",ORARIO_GENERALE!L19:P19,0)),"")} -> ABBADESSA | L38: {=IFERROR(INDEX(ORARIO_GENERALE!$K$3:$P$3,MATCH("*"&$I$35&"*",ORARIO_GENERALE!K32:P32,0)),"")} | M38: {=IFERROR(INDEX(ORARIO_GENERALE!$K$3:$P$3,MATCH("*"&$I$35&"*",#REF!,0)),"")} | N38: {=IFERROR(INDEX(ORARIO_GENERALE!$K$3:$P$3,MATCH("*"&$I$35&"*",ORARIO_GENERALE!K58:P58,0)),"")} | P38: =#REF! -> #REF! | Q38: {=IFERROR(INDEX(ORARIO_GENERALE!$K$3:$P$3,MATCH("*"&$P$35&"*",ORARIO_GENERALE!K6:P6,0)),"")} | R38: {=IFERROR(INDEX(ORARIO_GENERALE!$K$3:$P$3,MATCH("*"&$P$35&"*",ORARIO_GENERALE!L19:P19,0)),"")} | S38: {=IFERROR(INDEX(ORARIO_GENERALE!$K$3:$P$3,MATCH("*"&$P$35&"*",ORARIO_GENERALE!K32:P32,0)),"")} | T38: {=IFERROR(INDEX(ORARIO_GENERALE!$K$3:$P$3,MATCH("*"&$P$35&"*",#REF!,0)),"")} | U38: {=IFERROR(INDEX(ORARIO_GENERALE!$K$3:$P$3,MATCH("*"&$P$35&"*",ORARIO_GENERALE!K58:P58,0)),"")}
B39: =#REF! -> #REF! | C39: {=IFERROR(INDEX(ORARIO_GENERALE!$K$3:$P$3,MATCH("*"&$B$35&"*",ORARIO_GENERALE!K7:P7,0)),"")} -> ABBADESSA | D39: {=IFERROR(INDEX(ORARIO_GENERALE!$K$3:$P$3,MATCH("*"&$B$35&"*",ORARIO_GENERALE!K20:P20,0)),"")} | E39: {=IFERROR(INDEX(ORARIO_GENERALE!$K$3:$P$3,MATCH("*"&$B$35&"*",ORARIO_GENERALE!K33:P33,0)),"")} | F39: {=IFERROR(INDEX(ORARIO_GENERALE!$K$3:$P$3,MATCH("*"&$B$35&"*",#REF!,0)),"")} | G39: {=IFERROR(INDEX(ORARIO_GENERALE!$K$3:$P$3,MATCH("*"&$B$35&"*",ORARIO_GENERALE!K59:P59,0)),"")} | I39: =#REF! -> #REF! | J39: {=IFERROR(INDEX(ORARIO_GENERALE!$K$3:$P$3,MATCH("*"&$I$35&"*",ORARIO_GENERALE!K7:P7,0)),"")} -> RANGHETTI | K39: {=IFERROR(INDEX(ORARIO_GENERALE!$K$3:$P$3,MATCH("*"&$I$35&"*",ORARIO_GENERALE!K20:P20,0)),"")} -> RANGHETTI | L39: {=IFERROR(INDEX(ORARIO_GENERALE!$K$3:$P$3,MATCH("*"&$I$35&"*",ORARIO_GENERALE!K33:P33,0)),"")} | M39: {=IFERROR(INDEX(ORARIO_GENERALE!$K$3:$P$3,MATCH("*"&$I$35&"*",#REF!,0)),"")} | N39: {=IFERROR(INDEX(ORARIO_GENERALE!$K$3:$P$3,MATCH("*"&$I$35&"*",ORARIO_GENERALE!K59:P59,0)),"")} | P39: =#REF! -> #REF! | Q39: {=IFERROR(INDEX(ORARIO_GENERALE!$K$3:$P$3,MATCH("*"&$P$35&"*",ORARIO_GENERALE!K7:P7,0)),"")} | R39: {=IFERROR(INDEX(ORARIO_GENERALE!$K$3:$P$3,MATCH("*"&$P$35&"*",ORARIO_GENERALE!K20:P20,0)),"")} | S39: {=IFERROR(INDEX(ORARIO_GENERALE!$K$3:$P$3,MATCH("*"&$P$35&"*",ORARIO_GENERALE!K33:P33,0)),"")} | T39: {=IFERROR(INDEX(ORARIO_GENERALE!$K$3:$P$3,MATCH("*"&$P$35&"*",#REF!,0)),"")} | U39: {=IFERROR(INDEX(ORARIO_GENERALE!$K$3:$P$3,MATCH("*"&$P$35&"*",ORARIO_GENERALE!K59:P59,0)),"")}
B40: =#REF! -> #REF! | C40: {=IFERROR(INDEX(ORARIO_GENERALE!$K$3:$P$3,MATCH("*"&$B$35&"*",ORARIO_GENERALE!K8:P8,0)),"")} | D40: {=IFERROR(INDEX(ORARIO_GENERALE!$K$3:$P$3,MATCH("*"&$B$35&"*",ORARIO_GENERALE!K21:P21,0)),"")} | E40: {=IFERROR(INDEX(ORARIO_GENERALE!$K$3:$P$3,MATCH("*"&$B$35&"*",ORARIO_GENERALE!K34:P34,0)),"")} | F40: {=IFERROR(INDEX(ORARIO_GENERALE!$K$3:$P$3,MATCH("*"&$B$35&"*",#REF!,0)),"")} | G40: {=IFERROR(INDEX(ORARIO_GENERALE!$K$3:$P$3,MATCH("*"&$B$35&"*",ORARIO_GENERALE!K60:P60,0)),"")} | I40: =#REF! -> #REF! | J40: {=IFERROR(INDEX(ORARIO_GENERALE!$K$3:$P$3,MATCH("*"&$I$35&"*",ORARIO_GENERALE!K8:P8,0)),"")} | K40: {=IFERROR(INDEX(ORARIO_GENERALE!$K$3:$P$3,MATCH("*"&$I$35&"*",ORARIO_GENERALE!K21:P21,0)),"")} | L40: {=IFERROR(INDEX(ORARIO_GENERALE!$K$3:$P$3,MATCH("*"&$I$35&"*",ORARIO_GENERALE!K34:P34,0)),"")} | M40: {=IFERROR(INDEX(ORARIO_GENERALE!$K$3:$P$3,MATCH("*"&$I$35&"*",#REF!,0)),"")} | N40: {=IFERROR(INDEX(ORARIO_GENERALE!$K$3:$P$3,MATCH("*"&$I$35&"*",ORARIO_GENERALE!K60:P60,0)),"")} | P40: =#REF! -> #REF! | Q40: {=IFERROR(INDEX(ORARIO_GENERALE!$K$3:$P$3,MATCH("*"&$P$35&"*",ORARIO_GENERALE!K8:P8,0)),"")} | R40: {=IFERROR(INDEX(ORARIO_GENERALE!$K$3:$P$3,MATCH("*"&$P$35&"*",ORARIO_GENERALE!K21:P21,0)),"")} | S40: {=IFERROR(INDEX(ORARIO_GENERALE!$K$3:$P$3,MATCH("*"&$P$35&"*",ORARIO_GENERALE!K34:P34,0)),"")} | T40: {=IFERROR(INDEX(ORARIO_GENERALE!$K$3:$P$3,MATCH("*"&$P$35&"*",#REF!,0)),"")} | U40: {=IFERROR(INDEX(ORARIO_GENERALE!$K$3:$P$3,MATCH("*"&$P$35&"*",ORARIO_GENERALE!K60:P60,0)),"")}
B41: =#REF! -> #REF! | C41: {=IFERROR(INDEX(ORARIO_GENERALE!$K$3:$P$3,MATCH("*"&$B$35&"*",ORARIO_GENERALE!K9:P9,0)),"")} | D41: {=IFERROR(INDEX(ORARIO_GENERALE!$K$3:$P$3,MATCH("*"&$B$35&"*",ORARIO_GENERALE!K22:P22,0)),"")} | E41: {=IFERROR(INDEX(ORARIO_GENERALE!$K$3:$P$3,MATCH("*"&$B$35&"*",ORARIO_GENERALE!K35:P35,0)),"")} | F41: {=IFERROR(INDEX(ORARIO_GENERALE!$K$3:$P$3,MATCH("*"&$B$35&"*",ORARIO_GENERALE!K44:P44,0)),"")} | G41: {=IFERROR(INDEX(ORARIO_GENERALE!$K$3:$P$3,MATCH("*"&$B$35&"*",ORARIO_GENERALE!K61:P61,0)),"")} | I41: =#REF! -> #REF! | J41: {=IFERROR(INDEX(ORARIO_GENERALE!$K$3:$P$3,MATCH("*"&$I$35&"*",ORARIO_GENERALE!K9:P9,0)),"")} | K41: {=IFERROR(INDEX(ORARIO_GENERALE!$K$3:$P$3,MATCH("*"&$I$35&"*",ORARIO_GENERALE!K22:P22,0)),"")} | L41: {=IFERROR(INDEX(ORARIO_GENERALE!$K$3:$P$3,MATCH("*"&$I$35&"*",ORARIO_GENERALE!K35:P35,0)),"")} | M41: {=IFERROR(INDEX(ORARIO_GENERALE!$K$3:$P$3,MATCH("*"&$I$35&"*",ORARIO_GENERALE!K44:P44,0)),"")} | N41: {=IFERROR(INDEX(ORARIO_GENERALE!$K$3:$P$3,MATCH("*"&$I$35&"*",ORARIO_GENERALE!K61:P61,0)),"")} | P41: =#REF! -> #REF! | Q41: {=IFERROR(INDEX(ORARIO_GENERALE!$K$3:$P$3,MATCH("*"&$P$35&"*",ORARIO_GENERALE!K9:P9,0)),"")} | R41: {=IFERROR(INDEX(ORARIO_GENERALE!$K$3:$P$3,MATCH("*"&$P$35&"*",ORARIO_GENERALE!K22:P22,0)),"")} | S41: {=IFERROR(INDEX(ORARIO_GENERALE!$K$3:$P$3,MATCH("*"&$P$35&"*",ORARIO_GENERALE!K35:P35,0)),"")} | T41: {=IFERROR(INDEX(ORARIO_GENERALE!$K$3:$P$3,MATCH("*"&$P$35&"*",ORARIO_GENERALE!K44:P44,0)),"")} | U41: {=IFERROR(INDEX(ORARIO_GENERALE!$K$3:$P$3,MATCH("*"&$P$35&"*",ORARIO_GENERALE!K61:P61,0)),"")}
B42: =#REF! -> #REF! | C42: {=IFERROR(INDEX(ORARIO_GENERALE!$K$3:$P$3,MATCH("*"&$B$35&"*",ORARIO_GENERALE!K10:P10,0)),"")} | D42: {=IFERROR(INDEX(ORARIO_GENERALE!$K$3:$P$3,MATCH("*"&$B$35&"*",ORARIO_GENERALE!K23:P23,0)),"")} | E42: {=IFERROR(INDEX(ORARIO_GENERALE!$K$3:$P$3,MATCH("*"&$B$35&"*",ORARIO_GENERALE!K36:P36,0)),"")} | F42: {=IFERROR(INDEX(ORARIO_GENERALE!$K$3:$P$3,MATCH("*"&$B$35&"*",ORARIO_GENERALE!K45:P45,0)),"")} | G42: {=IFERROR(INDEX(ORARIO_GENERALE!$K$3:$P$3,MATCH("*"&$B$35&"*",ORARIO_GENERALE!K64:P64,0)),"")} | I42: =#REF! -> #REF! | J42: {=IFERROR(INDEX(ORARIO_GENERALE!$K$3:$P$3,MATCH("*"&$I$35&"*",ORARIO_GENERALE!K10:P10,0)),"")} | K42: {=IFERROR(INDEX(ORARIO_GENERALE!$K$3:$P$3,MATCH("*"&$I$35&"*",ORARIO_GENERALE!K23:P23,0)),"")} | L42: {=IFERROR(INDEX(ORARIO_GENERALE!$K$3:$P$3,MATCH("*"&$I$35&"*",ORARIO_GENERALE!K36:P36,0)),"")} | M42: {=IFERROR(INDEX(ORARIO_GENERALE!$K$3:$P$3,MATCH("*"&$I$35&"*",ORARIO_GENERALE!K45:P45,0)),"")} -> FREYRIE | N42: {=IFERROR(INDEX(ORARIO_GENERALE!$K$3:$P$3,MATCH("*"&$I$35&"*",ORARIO_GENERALE!K64:P64,0)),"")} | P42: =#REF! -> #REF! | Q42: {=IFERROR(INDEX(ORARIO_GENERALE!$K$3:$P$3,MATCH("*"&$P$35&"*",ORARIO_GENERALE!K10:P10,0)),"")} -> MERONI | R42: {=IFERROR(INDEX(ORARIO_GENERALE!$K$3:$P$3,MATCH("*"&$P$35&"*",ORARIO_GENERALE!K23:P23,0)),"")} -> ABBADESSA | S42: {=IFERROR(INDEX(ORARIO_GENERALE!$K$3:$P$3,MATCH("*"&$P$35&"*",ORARIO_GENERALE!K36:P36,0)),"")} | T42: {=IFERROR(INDEX(ORARIO_GENERALE!$K$3:$P$3,MATCH("*"&$P$35&"*",ORARIO_GENERALE!K45:P45,0)),"")} | U42: {=IFERROR(INDEX(ORARIO_GENERALE!$K$3:$P$3,MATCH("*"&$P$35&"*",ORARIO_GENERALE!K64:P64,0)),"")}
B43: =#REF! -> #REF! | C43: {=IFERROR(INDEX(ORARIO_GENERALE!$K$3:$P$3,MATCH("*"&$B$35&"*",ORARIO_GENERALE!K11:P11,0)),"")} | D43: {=IFERROR(INDEX(ORARIO_GENERALE!$K$3:$P$3,MATCH("*"&$B$35&"*",ORARIO_GENERALE!K24:P24,0)),"")} | E43: {=IFERROR(INDEX(ORARIO_GENERALE!$K$3:$P$3,MATCH("*"&$B$35&"*",ORARIO_GENERALE!K37:P37,0)),"")} | F43: {=IFERROR(INDEX(ORARIO_GENERALE!$K$3:$P$3,MATCH("*"&$B$35&"*",ORARIO_GENERALE!K46:P46,0)),"")} -> ABBADESSA | G43: {=IFERROR(INDEX(ORARIO_GENERALE!$K$3:$P$3,MATCH("*"&$B$35&"*",ORARIO_GENERALE!K65:P65,0)),"")} | I43: =#REF! -> #REF! | J43: {=IFERROR(INDEX(ORARIO_GENERALE!$K$3:$P$3,MATCH("*"&$I$35&"*",ORARIO_GENERALE!K11:P11,0)),"")} | K43: {=IFERROR(INDEX(ORARIO_GENERALE!$K$3:$P$3,MATCH("*"&$I$35&"*",ORARIO_GENERALE!K24:P24,0)),"")} | L43: {=IFERROR(INDEX(ORARIO_GENERALE!$K$3:$P$3,MATCH("*"&$I$35&"*",ORARIO_GENERALE!K37:P37,0)),"")} | M43: {=IFERROR(INDEX(ORARIO_GENERALE!$K$3:$P$3,MATCH("*"&$I$35&"*",ORARIO_GENERALE!K46:P46,0)),"")} -> FREYRIE | N43: {=IFERROR(INDEX(ORARIO_GENERALE!$K$3:$P$3,MATCH("*"&$I$35&"*",ORARIO_GENERALE!K65:P65,0)),"")} | P43: =#REF! -> #REF! | Q43: {=IFERROR(INDEX(ORARIO_GENERALE!$K$3:$P$3,MATCH("*"&$P$35&"*",ORARIO_GENERALE!K11:P11,0)),"")} -> MERONI | R43: {=IFERROR(INDEX(ORARIO_GENERALE!$K$3:$P$3,MATCH("*"&$P$35&"*",ORARIO_GENERALE!K24:P24,0)),"")} -> ABBADESSA | S43: {=IFERROR(INDEX(ORARIO_GENERALE!$K$3:$P$3,MATCH("*"&$P$35&"*",ORARIO_GENERALE!K37:P37,0)),"")} | T43: {=IFERROR(INDEX(ORARIO_GENERALE!$K$3:$P$3,MATCH("*"&$P$35&"*",ORARIO_GENERALE!K46:P46,0)),"")} | U43: {=IFERROR(INDEX(ORARIO_GENERALE!$K$3:$P$3,MATCH("*"&$P$35&"*",ORARIO_GENERALE!K65:P65,0)),"")}
B44: =#REF! -> #REF! | C44: {=IFERROR(INDEX(ORARIO_GENERALE!$K$3:$P$3,MATCH("*"&$B$35&"*",ORARIO_GENERALE!K12:P12,0)),"")} | D44: {=IFERROR(INDEX(ORARIO_GENERALE!$K$3:$P$3,MATCH("*"&$B$35&"*",ORARIO_GENERALE!K25:P25,0)),"")} | E44: {=IFERROR(INDEX(ORARIO_GENERALE!$K$3:$P$3,MATCH("*"&$B$35&"*",ORARIO_GENERALE!K38:P38,0)),"")} | F44: {=IFERROR(INDEX(ORARIO_GENERALE!$K$3:$P$3,MATCH("*"&$B$35&"*",ORARIO_GENERALE!K47:P47,0)),"")} -> ABBADESSA | G44: {=IFERROR(INDEX(ORARIO_GENERALE!$K$3:$P$3,MATCH("*"&$B$35&"*",ORARIO_GENERALE!K66:P66,0)),"")} | I44: =#REF! -> #REF! | J44: {=IFERROR(INDEX(ORARIO_GENERALE!$K$3:$P$3,MATCH("*"&$I$35&"*",ORARIO_GENERALE!K12:P12,0)),"")} | K44: {=IFERROR(INDEX(ORARIO_GENERALE!$K$3:$P$3,MATCH("*"&$I$35&"*",ORARIO_GENERALE!K25:P25,0)),"")} | L44: {=IFERROR(INDEX(ORARIO_GENERALE!$K$3:$P$3,MATCH("*"&$I$35&"*",ORARIO_GENERALE!K38:P38,0)),"")} | M44: {=IFERROR(INDEX(ORARIO_GENERALE!$K$3:$P$3,MATCH("*"&$I$35&"*",ORARIO_GENERALE!K47:P47,0)),"")} | N44: {=IFERROR(INDEX(ORARIO_GENERALE!$K$3:$P$3,MATCH("*"&$I$35&"*",ORARIO_GENERALE!K66:P66,0)),"")} | P44: =#REF! -> #REF! | Q44: {=IFERROR(INDEX(ORARIO_GENERALE!$K$3:$P$3,MATCH("*"&$P$35&"*",ORARIO_GENERALE!K12:P12,0)),"")} -> FERRANTE | R44: {=IFERROR(INDEX(ORARIO_GENERALE!$K$3:$P$3,MATCH("*"&$P$35&"*",ORARIO_GENERALE!K25:P25,0)),"")} | S44: {=IFERROR(INDEX(ORARIO_GENERALE!$K$3:$P$3,MATCH("*"&$P$35&"*",ORARIO_GENERALE!K38:P38,0)),"")} | T44: {=IFERROR(INDEX(ORARIO_GENERALE!$K$3:$P$3,MATCH("*"&$P$35&"*",ORARIO_GENERALE!K47:P47,0)),"")} | U44: {=IFERROR(INDEX(ORARIO_GENERALE!$K$3:$P$3,MATCH("*"&$P$35&"*",ORARIO_GENERALE!K66:P66,0)),"")}
B45: =#REF! -> #REF! | C45: {=IFERROR(INDEX(ORARIO_GENERALE!$K$3:$P$3,MATCH("*"&$B$35&"*",ORARIO_GENERALE!K13:P13,0)),"")} | D45: {=IFERROR(INDEX(ORARIO_GENERALE!$K$3:$P$3,MATCH("*"&$B$35&"*",ORARIO_GENERALE!K26:P26,0)),"")} | E45: {=IFERROR(INDEX(ORARIO_GENERALE!$K$3:$P$3,MATCH("*"&$B$35&"*",ORARIO_GENERALE!K39:P39,0)),"")} | F45: {=IFERROR(INDEX(ORARIO_GENERALE!$K$3:$P$3,MATCH("*"&$B$35&"*",ORARIO_GENERALE!L48:P48,0)),"")} -> FREYRIE | G45: {=IFERROR(INDEX(ORARIO_GENERALE!$K$3:$P$3,MATCH("*"&$B$35&"*",ORARIO_GENERALE!K67:P67,0)),"")} | I45: =#REF! -> #REF! | J45: {=IFERROR(INDEX(ORARIO_GENERALE!$K$3:$P$3,MATCH("*"&$I$35&"*",ORARIO_GENERALE!K13:P13,0)),"")} | K45: {=IFERROR(INDEX(ORARIO_GENERALE!$K$3:$P$3,MATCH("*"&$I$35&"*",ORARIO_GENERALE!K26:P26,0)),"")} | L45: {=IFERROR(INDEX(ORARIO_GENERALE!$K$3:$P$3,MATCH("*"&$I$35&"*",ORARIO_GENERALE!K39:P39,0)),"")} | M45: {=IFERROR(INDEX(ORARIO_GENERALE!$K$3:$P$3,MATCH("*"&$I$35&"*",ORARIO_GENERALE!L48:P48,0)),"")} | N45: {=IFERROR(INDEX(ORARIO_GENERALE!$K$3:$P$3,MATCH("*"&$I$35&"*",ORARIO_GENERALE!K67:P67,0)),"")} | P45: =#REF! -> #REF! | Q45: {=IFERROR(INDEX(ORARIO_GENERALE!$K$3:$P$3,MATCH("*"&$P$35&"*",ORARIO_GENERALE!K13:P13,0)),"")} | R45: {=IFERROR(INDEX(ORARIO_GENERALE!$K$3:$P$3,MATCH("*"&$P$35&"*",ORARIO_GENERALE!K26:P26,0)),"")} | S45: {=IFERROR(INDEX(ORARIO_GENERALE!$K$3:$P$3,MATCH("*"&$P$35&"*",ORARIO_GENERALE!K39:P39,0)),"")} | T45: {=IFERROR(INDEX(ORARIO_GENERALE!$K$3:$P$3,MATCH("*"&$P$35&"*",ORARIO_GENERALE!L48:P48,0)),"")} | U45: {=IFERROR(INDEX(ORARIO_GENERALE!$K$3:$P$3,MATCH("*"&$P$35&"*",ORARIO_GENERALE!K67:P67,0)),"")}
B46: =#REF! -> #REF! | C46: {=IFERROR(INDEX(ORARIO_GENERALE!$K$3:$P$3,MATCH("*"&$B$35&"*",ORARIO_GENERALE!K14:P14,0)),"")} | D46: {=IFERROR(INDEX(ORARIO_GENERALE!$K$3:$P$3,MATCH("*"&$B$35&"*",ORARIO_GENERALE!K27:P27,0)),"")} | E46: {=IFERROR(INDEX(ORARIO_GENERALE!$K$3:$P$3,MATCH("*"&$B$35&"*",ORARIO_GENERALE!K40:P40,0)),"")} | F46: {=IFERROR(INDEX(ORARIO_GENERALE!$K$3:$P$3,MATCH("*"&$B$35&"*",ORARIO_GENERALE!L54:P54,0)),"")} | G46: {=IFERROR(INDEX(ORARIO_GENERALE!$K$3:$P$3,MATCH("*"&$B$35&"*",ORARIO_GENERALE!K68:P68,0)),"")} | I46: =#REF! -> #REF! | J46: {=IFERROR(INDEX(ORARIO_GENERALE!$K$3:$P$3,MATCH("*"&$I$35&"*",ORARIO_GENERALE!K14:P14,0)),"")} | K46: {=IFERROR(INDEX(ORARIO_GENERALE!$K$3:$P$3,MATCH("*"&$I$35&"*",ORARIO_GENERALE!K27:P27,0)),"")} | L46: {=IFERROR(INDEX(ORARIO_GENERALE!$K$3:$P$3,MATCH("*"&$I$35&"*",ORARIO_GENERALE!K40:P40,0)),"")} | M46: {=IFERROR(INDEX(ORARIO_GENERALE!$K$3:$P$3,MATCH("*"&$I$35&"*",ORARIO_GENERALE!L54:P54,0)),"")} | N46: {=IFERROR(INDEX(ORARIO_GENERALE!$K$3:$P$3,MATCH("*"&$I$35&"*",ORARIO_GENERALE!K68:P68,0)),"")} | P46: =#REF! -> #REF! | Q46: {=IFERROR(INDEX(ORARIO_GENERALE!$K$3:$P$3,MATCH("*"&$P$35&"*",ORARIO_GENERALE!K14:P14,0)),"")} | R46: {=IFERROR(INDEX(ORARIO_GENERALE!$K$3:$P$3,MATCH("*"&$P$35&"*",ORARIO_GENERALE!K27:P27,0)),"")} | S46: {=IFERROR(INDEX(ORARIO_GENERALE!$K$3:$P$3,MATCH("*"&$P$35&"*",ORARIO_GENERALE!K40:P40,0)),"")} | T46: {=IFERROR(INDEX(ORARIO_GENERALE!$K$3:$P$3,MATCH("*"&$P$35&"*",ORARIO_GENERALE!L54:P54,0)),"")} | U46: {=IFERROR(INDEX(ORARIO_GENERALE!$K$3:$P$3,MATCH("*"&$P$35&"*",ORARIO_GENERALE!K68:P68,0)),"")}
B47: =#REF! -> #REF! | C47: {=IFERROR(INDEX(ORARIO_GENERALE!$K$3:$P$3,MATCH("*"&$B$35&"*",ORARIO_GENERALE!K15:P15,0)),"")} | D47: {=IFERROR(INDEX(ORARIO_GENERALE!$K$3:$P$3,MATCH("*"&$B$35&"*",ORARIO_GENERALE!K28:P28,0)),"")} | E47: {=IFERROR(INDEX(ORARIO_GENERALE!$K$3:$P$3,MATCH("*"&$B$35&"*",ORARIO_GENERALE!K41:P41,0)),"")} | F47: {=IFERROR(INDEX(ORARIO_GENERALE!$K$3:$P$3,MATCH("*"&$B$35&"*",#REF!,0)),"")} | G47: {=IFERROR(INDEX(ORARIO_GENERALE!$K$3:$P$3,MATCH("*"&$B$35&"*",ORARIO_GENERALE!K69:P69,0)),"")} | I47: =#REF! -> #REF! | J47: {=IFERROR(INDEX(ORARIO_GENERALE!$K$3:$P$3,MATCH("*"&$I$35&"*",ORARIO_GENERALE!K15:P15,0)),"")} | K47: {=IFERROR(INDEX(ORARIO_GENERALE!$K$3:$P$3,MATCH("*"&$I$35&"*",ORARIO_GENERALE!K28:P28,0)),"")} | L47: {=IFERROR(INDEX(ORARIO_GENERALE!$K$3:$P$3,MATCH("*"&$I$35&"*",ORARIO_GENERALE!K41:P41,0)),"")} | M47: {=IFERROR(INDEX(ORARIO_GENERALE!$K$3:$P$3,MATCH("*"&$I$35&"*",#REF!,0)),"")} | N47: {=IFERROR(INDEX(ORARIO_GENERALE!$K$3:$P$3,MATCH("*"&$I$35&"*",ORARIO_GENERALE!K69:P69,0)),"")} | P47: =#REF! -> #REF! | Q47: {=IFERROR(INDEX(ORARIO_GENERALE!$K$3:$P$3,MATCH("*"&$P$35&"*",ORARIO_GENERALE!K15:P15,0)),"")} | R47: {=IFERROR(INDEX(ORARIO_GENERALE!$K$3:$P$3,MATCH("*"&$P$35&"*",ORARIO_GENERALE!K28:P28,0)),"")} | S47: {=IFERROR(INDEX(ORARIO_GENERALE!$K$3:$P$3,MATCH("*"&$P$35&"*",ORARIO_GENERALE!K41:P41,0)),"")} | T47: {=IFERROR(INDEX(ORARIO_GENERALE!$K$3:$P$3,MATCH("*"&$P$35&"*",#REF!,0)),"")} | U47: {=IFERROR(INDEX(ORARIO_GENERALE!$K$3:$P$3,MATCH("*"&$P$35&"*",ORARIO_GENERALE!K69:P69,0)),"")}
B48: =#REF! -> #REF! | C48: {=IFERROR(INDEX(ORARIO_GENERALE!$K$3:$P$3,MATCH("*"&$B$35&"*",ORARIO_GENERALE!K16:P16,0)),"")} | D48: {=IFERROR(INDEX(ORARIO_GENERALE!$K$3:$P$3,MATCH("*"&$B$35&"*",ORARIO_GENERALE!K29:P29,0)),"")} | E48: {=IFERROR(INDEX(ORARIO_GENERALE!$K$3:$P$3,MATCH("*"&$B$35&"*",ORARIO_GENERALE!K42:P42,0)),"")} | F48: {=IFERROR(INDEX(ORARIO_GENERALE!$K$3:$P$3,MATCH("*"&$B$35&"*",ORARIO_GENERALE!K56:P56,0)),"")} | G48: {=IFERROR(INDEX(ORARIO_GENERALE!$K$3:$P$3,MATCH("*"&$B$35&"*",ORARIO_GENERALE!K70:P70,0)),"")} | I48: =#REF! -> #REF! | J48: {=IFERROR(INDEX(ORARIO_GENERALE!$K$3:$P$3,MATCH("*"&$I$35&"*",ORARIO_GENERALE!K16:P16,0)),"")} | K48: {=IFERROR(INDEX(ORARIO_GENERALE!$K$3:$P$3,MATCH("*"&$I$35&"*",ORARIO_GENERALE!K29:P29,0)),"")} | L48: {=IFERROR(INDEX(ORARIO_GENERALE!$K$3:$P$3,MATCH("*"&$I$35&"*",ORARIO_GENERALE!K42:P42,0)),"")} | M48: {=IFERROR(INDEX(ORARIO_GENERALE!$K$3:$P$3,MATCH("*"&$I$35&"*",ORARIO_GENERALE!K56:P56,0)),"")} | N48: {=IFERROR(INDEX(ORARIO_GENERALE!$K$3:$P$3,MATCH("*"&$I$35&"*",ORARIO_GENERALE!K70:P70,0)),"")} | P48: =#REF! -> #REF! | Q48: {=IFERROR(INDEX(ORARIO_GENERALE!$K$3:$P$3,MATCH("*"&$P$35&"*",ORARIO_GENERALE!K16:P16,0)),"")} | R48: {=IFERROR(INDEX(ORARIO_GENERALE!$K$3:$P$3,MATCH("*"&$P$35&"*",ORARIO_GENERALE!K29:P29,0)),"")} | S48: {=IFERROR(INDEX(ORARIO_GENERALE!$K$3:$P$3,MATCH("*"&$P$35&"*",ORARIO_GENERALE!K42:P42,0)),"")} | T48: {=IFERROR(INDEX(ORARIO_GENERALE!$K$3:$P$3,MATCH("*"&$P$35&"*",ORARIO_GENERALE!K56:P56,0)),"")} | U48: {=IFERROR(INDEX(ORARIO_GENERALE!$K$3:$P$3,MATCH("*"&$P$35&"*",ORARIO_GENERALE!K70:P70,0)),"")}
B50: RA1C | I50: RA1D | P50: RA0B
C51: LUN | D51: MAR | E51: MER | F51: GIO | G51: VEN | J51: LUN | K51: MAR | L51: MER | M51: GIO | N51: VEN | Q51: LUN | R51: MAR | S51: MER | T51: GIO | U51: VEN
B52: =#REF! -> #REF! | C52: {=IFERROR(INDEX(ORARIO_GENERALE!$K$3:$P$3,MATCH("*"&$B$50&"*",ORARIO_GENERALE!L5:P5,0)),"")} | D52: {=IFERROR(INDEX(ORARIO_GENERALE!$K$3:$P$3,MATCH("*"&$B$50&"*",ORARIO_GENERALE!L18:P18,0)),"")} | E52: {=IFERROR(INDEX(ORARIO_GENERALE!$K$3:$P$3,MATCH("*"&$B$50&"*",ORARIO_GENERALE!K31:P31,0)),"")} | F52: {=IFERROR(INDEX(ORARIO_GENERALE!$K$3:$P$3,MATCH("*"&$B$50&"*",#REF!,0)),"")} | G52: {=IFERROR(INDEX(ORARIO_GENERALE!$K$3:$P$3,MATCH("*"&$B$50&"*",ORARIO_GENERALE!K57:P57,0)),"")} | I52: =#REF! -> #REF! | J52: {=IFERROR(INDEX(ORARIO_GENERALE!$K$3:$P$3,MATCH("*"&$I$50&"*",ORARIO_GENERALE!L5:P5,0)),"")} | K52: {=IFERROR(INDEX(ORARIO_GENERALE!$K$3:$P$3,MATCH("*"&$I$50&"*",ORARIO_GENERALE!L18:P18,0)),"")} | L52: {=IFERROR(INDEX(ORARIO_GENERALE!$K$3:$P$3,MATCH("*"&$I$50&"*",ORARIO_GENERALE!K31:P31,0)),"")} | M52: {=IFERROR(INDEX(ORARIO_GENERALE!$K$3:$P$3,MATCH("*"&$I$50&"*",#REF!,0)),"")} | N52: {=IFERROR(INDEX(ORARIO_GENERALE!$K$3:$P$3,MATCH("*"&$I$50&"*",ORARIO_GENERALE!K57:P57,0)),"")} | P52: =#REF! -> #REF! | Q52: {=IFERROR(INDEX(ORARIO_GENERALE!$K$3:$P$3,MATCH("*"&$P$50&"*",ORARIO_GENERALE!L5:P5,0)),"")} | R52: {=IFERROR(INDEX(ORARIO_GENERALE!$K$3:$P$3,MATCH("*"&$P$50&"*",ORARIO_GENERALE!L18:P18,0)),"")} | S52: {=IFERROR(INDEX(ORARIO_GENERALE!$K$3:$P$3,MATCH("*"&$P$50&"*",ORARIO_GENERALE!K31:P31,0)),"")} | T52: {=IFERROR(INDEX(ORARIO_GENERALE!$K$3:$P$3,MATCH("*"&$P$50&"*",#REF!,0)),"")} | U52: {=IFERROR(INDEX(ORARIO_GENERALE!$K$3:$P$3,MATCH("*"&$P$50&"*",ORARIO_GENERALE!K57:P57,0)),"")}
