Workbook

Sheet ORARIO_GENERALE
B2: SEDE DI MAGENTA - ORARIO DAL 3 novembreBRE 2026
D3: ITALIANO R | E3: ITALIANO P | F3: INGLESE | G3: MAT/SCIENZE | H3: TECNOLOGIA | I3: POTENZIAMENTO | K3: ALFABETIZZAZIONE M | L3: ALFABETIZZAZIONE R | M3: ALFABETIZZAZIONE Q
B4: LUNEDÌ | C4: 09:00-10:00 | D4: MPPA 4 | E4: MPPC 7 | I4: MA1E 3 | L4: MA1D 2
C5: 10:00-11:00 | D5: MPPA 4 | E5: MPPC 7 | I5: MA1E 3 | L5: MA1D 2
C6: 11:00-12:00 | D6: MPPA 4 | E6: MPPC 7 | G6: D/A | I6: MA0A 3 | L6: MA2A 2
C7: 12:00-13:00 | F7: R/P D | G7: MPPB 4 | H7: MPPD 7 | I7: MA0A 3 | L7: MA2A 2
C8: 13:00-14:00 | F8: R/P D | G8: MPPB 4 | H8: MPPD 7 | L8: R/P B
C9: 14:00-15:00 | F9: MPPD 7 | G9: R/P D | H9: MPPB 4
C10: 15:00-16:00 | F10: R/P B | G10: MPPD 7 | H10: MPPB 4 | K10: R/P D
C11: 16:00-17:00 | K11: D/A | P11: D | Q11: DISPOSIZIONE
C12: 17:00-18:00 | K12: MA1C | M12: MA2C | P12: C/A | Q12: COORDINAMENTO O ACCOGLIENZA
C13: 18:00-19:00 | K13: MA1C | M13: MA2C | P13: P | Q13: PROGRAMMAZIONE
C14: 19:00-20:00 | K14: MA1C | M14: MA2C
B15: MARTEDÌ | C15: 09:00-10:00 | F15: MPPC 7 | G15: MPPA 4 | H15: R/P C | I15: MA1E L | K15: MA1D 3 | L15: MA0B 1 | M15: MA1B 2 | P15: PERCORSI DI PRIMO LIVELLO
C16: 10:00-11:00 | F16: MPPC 7 | G16: MPPA 4 | H16: R/P C | I16: MA1E L | K16: MA1D 3 | L16: MA0B 1 | M16: MA1B 2
C17: 11:00-12:00 | F17: MPPA 4 | G17: MPPC 7 | H17: R/P A | K17: R/P A0B | L17: MA0B 1 | M17: MA1B 2 | P17: MPPA | Q17: PERCORSI DI PRIMO PERIODO
C18: 12:00-13:00 | D18: R/P D | E18: MPPB 7 | F18: MPPD 1 | K18: P | L18: P | M18: P | P18: MPPB | Q18: PERCORSI DI PRIMO PERIODO
C19: 13:00-14:00 | D19: MPPD 1 | E19: MPPB 7 | F19: R/P B | K19: P | L19: P | M19: P | P19: MPPC | Q19: PERCORSI DI PRIMO PERIODO
C20: 14:00-15:00 | D20: MPPD 1 | E20: MPPB 7 | M20: R/P B | P20: MPPD | Q20: PERCORSI DI PRIMO PERIODO
C21: 15:00-16:00
C22: 16:00-17:00 | P22: PERCORSI DI ALFABETIZZAZIONE
C23: 17:00-18:00 | P23: A0 | Q23: PRE-A-1
C24: 18:00-19:00 | P24: A1 | Q24: A-1
C25: 19:00-20:00 | P25: A2 | Q25: A-2
B26: MERCOLEDÌ | C26: 09:00-10:00 | F26: MPPA 4 | G26: MPPC 7 | K26: MA2A 3 | M26: MA1B 2
C27: 10:00-11:00 | F27: MPPA 4 | G27: MPPC 7 | H27: R/P A | K27: MA2A 3 | M27: MA1B 2
C28: 11:00-12:00 | E28: D/A | F28: MPPC 7 | G28: MPPA 4 | H28: INF B | K28: MA1A 3 | M28: MA1B 2
C29: 12:00-13:00 | D29: MPPD 4 | E29: R/P C | F29: MPPB 7 | H29: INF A | K29: MA1A 3 | M29: MA2B 2 | P29: PERCORSI DI AMPLIAMENTO
C30: 13:00-14:00 | D30: MPPD 4 | E30: MPPB 7 | K30: R/P A2 | M30: MA2B 2
C31: 14:00-15:00 | D31: MPPD 4 | E31: MPPB 7
C32: 15:00-16:00 | I32: POT D 1 | L32: R/P D | P32: LAB | Q32: LABORATORIO- PROGETTI: AI,
C33: 16:00-17:00 | I33: POT D 1 | L33: R/P D | P33: POT | Q33: POTENZIAMENTO
C34: 17:00-18:00 | I34: MA1C 3 | L34: MA2C | P34: R/P | Q34: RECUPERO, POTENZIAMENTO IN COMPRESENZA
C35: 18:00-19:00 | I35: MA1C 3 | L35: MA2C | P35: INF | Q35: INFORMATICA
C36: 19:00-20:00 | I36: MA1C 3 | L36: MA2C
B37: GIOVEDÌ | C37: 09:00-10:00 | D37: R/P D | E37: MPPC 7 | H37: MPPA 4 | K37: MA2A 3 | L37: MA1E 1 | M37: MA2B 2
C38: 10:00-11:00 | D38: D/A | E38: MPPC 7 | H38: MPPA 4 | I38: POT D L | K38: MA2A 3 | L38: MA1E 1 | M38: MA2B 2
C39: 11:00-12:00 | D39: MPPA 4 | E39: MPPC 7 | H39: R/P D | I39: POT D L | K39: R/P D | L39: D | M39: MA1A 2
C40: 12:00-13:00 | D40: MPPD 1 | E40: MPPB 7 | I40: POT C L | K40: MA0A 3 | L40: MA1D 4 | M40: MA1A 2
C41: 13:00-14:00 | D41: MPPD 1 | G41: MPPB 7 | I41: POT C L | K41: MA0A 3 | L41: MA1D 4 | M41: R/P A 1
...

Sheet Foglio2

Sheet ORARIO_DOCENTICORSI
D2: I LIVELLO CORSI | J2: I LIVELLO DOCENTI
B3: MPPB | C3: LUN | D3: MAR | E3: MER | F3: GIO | H3: CUFFARO | I3: LUN | J3: MAR | K3: MER | L3: GIO | M3: VEN
H4: =ORARIO_GENERALE!C4:C14 -> 09:00-10:00 | I4: =HLOOKUP($H$3,ORARIO_GENERALE!$D$3:$I$53,2,0) -> #N/A | J4: =HLOOKUP($H$3,ORARIO_GENERALE!$D$3:$I$53,13,0) -> #N/A | K4: =HLOOKUP($H$3,ORARIO_GENERALE!$D$3:$I$53,24,0) -> #N/A | L4: =HLOOKUP($H$3,ORARIO_GENERALE!$D$3:$I$53,35,0) -> #N/A | M4: =HLOOKUP($H$3,ORARIO_GENERALE!$D$3:$I$53,46,0) -> #N/A
B5: =ORARIO_GENERALE!C4 -> 09:00-10:00 | C5: {=IFERROR(INDEX(ORARIO_GENERALE!$D$3:$I$3,MATCH("*"&$B$3&"*",ORARIO_GENERALE!D4:M4,0)),"")} | D5: {=IFERROR(INDEX(ORARIO_GENERALE!$D$3:$I$3,MATCH("*"&$B$3&"*",#REF!,0)),"")} | E5: {=IFERROR(INDEX(ORARIO_GENERALE!$D$3:$I$3,MATCH("*"&$B$3&"*",#REF!,0)),"")} | F5: {=IFERROR(INDEX(ORARIO_GENERALE!$D$3:$I$3,MATCH("*"&$B$3&"*",#REF!,0)),"")} | H5: =ORARIO_GENERALE!C4:C14 -> 10:00-11:00 | I5: =HLOOKUP($H$3,ORARIO_GENERALE!$D$3:$I$53,3,0) -> #N/A | J5: =HLOOKUP($H$3,ORARIO_GENERALE!$D$3:$I$53,14,0) -> #N/A | K5: =HLOOKUP($H$3,ORARIO_GENERALE!$D$3:$I$53,25,0) -> #N/A | L5: =HLOOKUP($H$3,ORARIO_GENERALE!$D$3:$I$53,36,0) -> #N/A | M5: =HLOOKUP($H$3,ORARIO_GENERALE!$D$3:$I$53,47,0) -> #N/A
B6: =ORARIO_GENERALE!C5 -> 10:00-11:00 | C6: {=IFERROR(INDEX(ORARIO_GENERALE!$D$3:$I$3,MATCH("*"&$B$3&"*",ORARIO_GENERALE!D5:M5,0)),"")} | D6: {=IFERROR(INDEX(ORARIO_GENERALE!$D$3:$I$3,MATCH("*"&$B$3&"*",ORARIO_GENERALE!D15:K15,0)),"")} | E6: {=IFERROR(INDEX(ORARIO_GENERALE!$D$3:$I$3,MATCH("*"&$B$3&"*",ORARIO_GENERALE!E15:J15,0)),"")} | F6: {=IFERROR(INDEX(ORARIO_GENERALE!$D$3:$I$3,MATCH("*"&$B$3&"*",ORARIO_GENERALE!F15:K15,0)),"")} | H6: =ORARIO_GENERALE!C5:C15 -> 11:00-12:00 | I6: =HLOOKUP($H$3,ORARIO_GENERALE!$D$3:$I$53,4,0) -> #N/A | J6: =HLOOKUP($H$3,ORARIO_GENERALE!$D$3:$I$53,15,0) -> #N/A | K6: =HLOOKUP($H$3,ORARIO_GENERALE!$D$3:$I$53,26,0) -> #N/A | L6: =HLOOKUP($H$3,ORARIO_GENERALE!$D$3:$I$53,37,0) -> #N/A | M6: =HLOOKUP($H$3,ORARIO_GENERALE!$D$3:$I$53,48,0) -> #N/A
B7: =ORARIO_GENERALE!C6 -> 11:00-12:00 | C7: {=IFERROR(INDEX(ORARIO_GENERALE!$D$3:$I$3,MATCH("*"&$B$3&"*",ORARIO_GENERALE!D6:M6,0)),"")} | D7: {=IFERROR(INDEX(ORARIO_GENERALE!$D$3:$I$3,MATCH("*"&$B$3&"*",ORARIO_GENERALE!D16:K16,0)),"")} | E7: {=IFERROR(INDEX(ORARIO_GENERALE!$D$3:$I$3,MATCH("*"&$B$3&"*",ORARIO_GENERALE!E16:J16,0)),"")} | F7: {=IFERROR(INDEX(ORARIO_GENERALE!$D$3:$I$3,MATCH("*"&$B$3&"*",ORARIO_GENERALE!F16:K16,0)),"")} | H7: =ORARIO_GENERALE!C6:C16 -> 12:00-13:00 | I7: =HLOOKUP($H$3,ORARIO_GENERALE!$D$3:$I$53,5,0) -> #N/A | J7: =HLOOKUP($H$3,ORARIO_GENERALE!$D$3:$I$53,16,0) -> #N/A | K7: =HLOOKUP($H$3,ORARIO_GENERALE!$D$3:$I$53,27,0) -> #N/A | L7: =HLOOKUP($H$3,ORARIO_GENERALE!$D$3:$I$53,38,0) -> #N/A | M7: =HLOOKUP($H$3,ORARIO_GENERALE!$D$3:$I$53,49,0) -> #N/A
B8: =ORARIO_GENERALE!C7 -> 12:00-13:00 | C8: {=IFERROR(INDEX(ORARIO_GENERALE!$D$3:$I$3,MATCH("*"&$B$3&"*",ORARIO_GENERALE!D7:I7,0)),"")} -> MAT/SCIENZE | D8: {=IFERROR(INDEX(ORARIO_GENERALE!$D$3:$I$3,MATCH("*"&$B$3&"*",ORARIO_GENERALE!D17:K17,0)),"")} | E8: {=IFERROR(INDEX(ORARIO_GENERALE!$D$3:$I$3,MATCH("*"&$B$3&"*",ORARIO_GENERALE!E17:J17,0)),"")} | F8: {=IFERROR(INDEX(ORARIO_GENERALE!$D$3:$I$3,MATCH("*"&$B$3&"*",ORARIO_GENERALE!E17:K17,0)),"")} | H8: =ORARIO_GENERALE!C7:C17 -> 13:00-14:00 | I8: =HLOOKUP($H$3,ORARIO_GENERALE!$D$3:$I$53,6,0) -> #N/A | J8: =HLOOKUP($H$3,ORARIO_GENERALE!$D$3:$I$53,17,0) -> #N/A | K8: =HLOOKUP($H$3,ORARIO_GENERALE!$D$3:$I$53,28,0) -> #N/A | L8: =HLOOKUP($H$3,ORARIO_GENERALE!$D$3:$I$53,39,0) -> #N/A | M8: =HLOOKUP($H$3,ORARIO_GENERALE!$D$3:$I$53,50,0) -> #N/A
B9: =ORARIO_GENERALE!C8 -> 13:00-14:00 | C9: {=IFERROR(INDEX(ORARIO_GENERALE!$D$3:$I$3,MATCH("*"&$B$3&"*",ORARIO_GENERALE!D8:I8,0)),"")} -> MAT/SCIENZE | D9: {=IFERROR(INDEX(ORARIO_GENERALE!$D$3:$I$3,MATCH("*"&$B$3&"*",ORARIO_GENERALE!D18:I18,0)),"")} -> ITALIANO P | E9: {=IFERROR(INDEX(ORARIO_GENERALE!$D$3:$I$3,MATCH("*"&$B$3&"*",ORARIO_GENERALE!E18:J18,0)),"")} -> ITALIANO R | F9: {=IFERROR(INDEX(ORARIO_GENERALE!$D$3:$I$3,MATCH("*"&$B$3&"*",ORARIO_GENERALE!F18:K18,0)),"")} | H9: =ORARIO_GENERALE!C8:C18 -> 14:00-15:00 | I9: =HLOOKUP($H$3,ORARIO_GENERALE!$D$3:$I$53,7,0) -> #N/A | J9: =HLOOKUP($H$3,ORARIO_GENERALE!$D$3:$I$53,18,0) -> #N/A | K9: =HLOOKUP($H$3,ORARIO_GENERALE!$D$3:$I$53,29,0) -> #N/A | L9: =HLOOKUP($H$3,ORARIO_GENERALE!$D$3:$I$53,40,0) -> #N/A | M9: =HLOOKUP($H$3,ORARIO_GENERALE!$D$3:$I$53,51,0) -> #N/A
B10: =ORARIO_GENERALE!C9 -> 14:00-15:00 | C10: {=IFERROR(INDEX(ORARIO_GENERALE!$D$3:$I$3,MATCH("*"&$B$3&"*",ORARIO_GENERALE!D9:I9,0)),"")} -> TECNOLOGIA | D10: {=IFERROR(INDEX(ORARIO_GENERALE!$D$3:$I$3,MATCH("*"&$B$3&"*",ORARIO_GENERALE!D19:I19,0)),"")} -> ITALIANO P | E10: {=IFERROR(INDEX(ORARIO_GENERALE!$D$3:$I$3,MATCH("*"&$B$3&"*",ORARIO_GENERALE!F19:J19,0)),"")} | F10: {=IFERROR(INDEX(ORARIO_GENERALE!$D$3:$I$3,MATCH("*"&$B$3&"*",ORARIO_GENERALE!F19:K19,0)),"")} | H10: =ORARIO_GENERALE!C9:C19 -> 15:00-16:00 | I10: =HLOOKUP($H$3,ORARIO_GENERALE!$D$3:$I$53,8,0) -> #N/A | J10: =HLOOKUP($H$3,ORARIO_GENERALE!$D$3:$I$53,19,0) -> #N/A | K10: =HLOOKUP($H$3,ORARIO_GENERALE!$D$3:$I$53,30,0) -> #N/A | L10: =HLOOKUP($H$3,ORARIO_GENERALE!$D$3:$I$53,41,0) -> #N/A
B11: =ORARIO_GENERALE!C10 -> 15:00-16:00 | C11: {=IFERROR(INDEX(ORARIO_GENERALE!$D$3:$I$3,MATCH("*"&$B$3&"*",ORARIO_GENERALE!D10:I10,0)),"")} -> TECNOLOGIA | D11: {=IFERROR(INDEX(ORARIO_GENERALE!$D$3:$I$3,MATCH("*"&$B$3&"*",ORARIO_GENERALE!D20:I20,0)),"")} -> ITALIANO P | E11: {=IFERROR(INDEX(ORARIO_GENERALE!$D$3:$I$3,MATCH("*"&$B$3&"*",ORARIO_GENERALE!D30:I30,0)),"")} -> ITALIANO P | F11: {=IFERROR(INDEX(ORARIO_GENERALE!$D$3:$I$3,MATCH("*"&$B$3&"*",ORARIO_GENERALE!D40:I40,0)),"")} -> ITALIANO P | H11: =ORARIO_GENERALE!C10:C20 -> 16:00-17:00 | I11: =HLOOKUP($H$3,ORARIO_GENERALE!$D$3:$I$53,9,0) -> #N/A | J11: =HLOOKUP($H$3,ORARIO_GENERALE!$D$3:$I$53,20,0) -> #N/A | K11: =HLOOKUP($H$3,ORARIO_GENERALE!$D$3:$I$53,31,0) -> #N/A | L11: =HLOOKUP($H$3,ORARIO_GENERALE!$D$3:$I$53,42,0) -> #N/A
B12: =ORARIO_GENERALE!C11 -> 16:00-17:00 | C12: {=IFERROR(INDEX(ORARIO_GENERALE!$D$3:$I$3,MATCH("*"&$B$3&"*",ORARIO_GENERALE!D11:I11,0)),"")} | D12: {=IFERROR(INDEX(ORARIO_GENERALE!$D$3:$I$3,MATCH("*"&$B$3&"*",ORARIO_GENERALE!D21:I21,0)),"")} | E12: {=IFERROR(INDEX(ORARIO_GENERALE!$D$3:$I$3,MATCH("*"&$B$3&"*",ORARIO_GENERALE!D31:I31,0)),"")} -> ITALIANO P | F12: {=IFERROR(INDEX(ORARIO_GENERALE!$D$3:$I$3,MATCH("*"&$B$3&"*",ORARIO_GENERALE!D41:I41,0)),"")} -> MAT/SCIENZE | H12: =ORARIO_GENERALE!C11:C21 -> 17:00-18:00 | I12: =HLOOKUP($H$3,ORARIO_GENERALE!$D$3:$I$53,10,0) -> #N/A | J12: =HLOOKUP($H$3,ORARIO_GENERALE!$D$3:$I$53,21,0) -> #N/A | K12: =HLOOKUP($H$3,ORARIO_GENERALE!$D$3:$I$53,32,0) -> #N/A | L12: =HLOOKUP($H$3,ORARIO_GENERALE!$D$3:$I$53,43,0) -> #N/A
B13: =ORARIO_GENERALE!C12 -> 17:00-18:00 | C13: {=IFERROR(INDEX(ORARIO_GENERALE!$D$3:$I$3,MATCH("*"&$B$3&"*",ORARIO_GENERALE!D12:I12,0)),"")} | D13: {=IFERROR(INDEX(ORARIO_GENERALE!$D$3:$I$3,MATCH("*"&$B$3&"*",ORARIO_GENERALE!D23:I23,0)),"")} | E13: {=IFERROR(INDEX(ORARIO_GENERALE!$D$3:$I$3,MATCH("*"&$B$3&"*",ORARIO_GENERALE!D34:I34,0)),"")} | F13: {=IFERROR(INDEX(ORARIO_GENERALE!$D$3:$I$3,MATCH("*"&$B$3&"*",ORARIO_GENERALE!D42:I42,0)),"")} -> INGLESE | H13: =ORARIO_GENERALE!C12:C22 -> 18:00-19:00 | I13: =HLOOKUP($H$3,ORARIO_GENERALE!$D$3:$I$53,11,0) -> #N/A | J13: =HLOOKUP($H$3,ORARIO_GENERALE!$D$3:$I$53,22,0) -> #N/A | L13: =HLOOKUP($H$3,ORARIO_GENERALE!$D$3:$I$53,44,0) -> #N/A
B14: =ORARIO_GENERALE!C13 -> 18:00-19:00 | C14: {=IFERROR(INDEX(ORARIO_GENERALE!$D$3:$I$3,MATCH("*"&$B$3&"*",ORARIO_GENERALE!D13:I13,0)),"")} | D14: {=IFERROR(INDEX(ORARIO_GENERALE!$D$3:$I$3,MATCH("*"&$B$3&"*",ORARIO_GENERALE!D24:I24,0)),"")} | E14: {=IFERROR(INDEX(ORARIO_GENERALE!$D$3:$I$3,MATCH("*"&$B$3&"*",ORARIO_GENERALE!D35:I35,0)),"")} | F14: {=IFERROR(INDEX(ORARIO_GENERALE!$D$3:$I$3,MATCH("*"&$B$3&"*",ORARIO_GENERALE!D43:I43,0)),"")} -> INGLESE | H14: =ORARIO_GENERALE!C13:C23 -> 19:00-20:00 | I14: =HLOOKUP($H$3,ORARIO_GENERALE!$D$3:$I$53,12,0) -> #N/A | J14: =HLOOKUP($H$3,ORARIO_GENERALE!$D$3:$I$53,23,0) -> #N/A | K14: =HLOOKUP($H$3,ORARIO_GENERALE!$D$3:$I$53,33,0) -> #N/A | L14: =HLOOKUP($H$3,ORARIO_GENERALE!$D$3:$I$53,45,0) -> #N/A
B15: =ORARIO_GENERALE!C14 -> 19:00-20:00 | C15: {=IFERROR(INDEX(ORARIO_GENERALE!$D$3:$I$3,MATCH("*"&$B$3&"*",ORARIO_GENERALE!D14:I14,0)),"")} | D15: {=IFERROR(INDEX(ORARIO_GENERALE!$D$3:$I$3,MATCH("*"&$B$3&"*",ORARIO_GENERALE!D25:I25,0)),"")} | E15: {=IFERROR(INDEX(ORARIO_GENERALE!$D$3:$I$3,MATCH("*"&$B$3&"*",ORARIO_GENERALE!D36:I36,0)),"")} | F15: {=IFERROR(INDEX(ORARIO_GENERALE!$D$3:$I$3,MATCH("*"&$B$3&"*",ORARIO_GENERALE!D47:I47,0)),"")} | H15: =ORARIO_GENERALE!C14:C24 -> 09:00-10:00 | L15: =HLOOKUP($H$3,ORARIO_GENERALE!$D$3:$I$53,46,0) -> #N/A
C16: {=IFERROR(INDEX(ORARIO_GENERALE!$D$3:$I$3,MATCH("*"&$B$3&"*",#REF!,0)),"")} | D16: {=IFERROR(INDEX(ORARIO_GENERALE!$D$3:$I$3,MATCH("*"&$B$3&"*",#REF!,0)),"")} | E16: {=IFERROR(INDEX(ORARIO_GENERALE!$D$3:$I$3,MATCH("*"&$B$3&"*",#REF!,0)),"")} | F16: {=IFERROR(INDEX(ORARIO_GENERALE!$D$3:$I$3,MATCH("*"&$B$3&"*",#REF!,0)),"")} | H16: =ORARIO_GENERALE!C15:C25 -> 10:00-11:00
D18: L 2 CORSI | K18: L 2 DOCENTI
B19: MA1A | C19: LUN | D19: MAR | E19: MER | F19: GIO | G19: VEN | I19: BORGO | J19: LUN | K19: MAR | L19: MER | M19: GIO | N19: VEN
B20: =ORARIO_GENERALE!J4 | I20: 08:00-09:00
B21: =ORARIO_GENERALE!C4 -> 09:00-10:00 | C21: {=IFERROR(INDEX(ORARIO_GENERALE!$D$3:$M$3,MATCH("*"&$B$19&"*",ORARIO_GENERALE!$D4:$M4,0)),"")} | D21: {=IFERROR(INDEX(ORARIO_GENERALE!$D$3:$M$3,MATCH("*"&$B$19&"*",ORARIO_GENERALE!$D15:$M15,0)),"")} | E21: {=(IFERROR(INDEX(ORARIO_GENERALE!$D$3:$M$3,MATCH("*"&$B$19&"*",ORARIO_GENERALE!$E26:$M26,0)),""))} | F21: {=IFERROR(INDEX(ORARIO_GENERALE!$D$3:$M$3,MATCH("*"&$B$19&"*",ORARIO_GENERALE!$D37:$O37,0)),"")} | G21: {=IFERROR(INDEX(ORARIO_GENERALE!$D$3:$M$3,MATCH("*"&$B$19&"*",ORARIO_GENERALE!$D48:$M48,0)),"")} -> ALFABETIZZAZIONE Q | I21: 09:00-10:00 | J21: =HLOOKUP($I$19,ORARIO_GENERALE!$K$3:$M$53,2,0) -> #N/A | K21: =HLOOKUP($I$19,ORARIO_GENERALE!$K$3:$M$53,14,0) -> #N/A | L21: =HLOOKUP($I$19,ORARIO_GENERALE!$K$3:$M$53,24,0) -> #N/A | M21: =HLOOKUP($I$19,ORARIO_GENERALE!$K$3:$M$53,34,0) -> #N/A | N21: =HLOOKUP($I$19,ORARIO_GENERALE!$K$3:$M$53,46,0) -> #N/A
B22: =ORARIO_GENERALE!C5 -> 10:00-11:00 | C22: {=IFERROR(INDEX(ORARIO_GENERALE!$D$3:$M$3,MATCH("*"&$B$19&"*",ORARIO_GENERALE!$D5:$M5,0)),"")} | D22: {=IFERROR(INDEX(ORARIO_GENERALE!$D$3:$M$3,MATCH("*"&$B$19&"*",ORARIO_GENERALE!$D16:$M16,0)),"")} | E22: {=IFERROR(INDEX(ORARIO_GENERALE!$D$3:$M$3,MATCH("*"&$B$19&"*",ORARIO_GENERALE!$E27:$M27,0)),"")} | F22: {=IFERROR(INDEX(ORARIO_GENERALE!$D$3:$M$3,MATCH("*"&$B$19&"*",ORARIO_GENERALE!$D38:$O38,0)),"")} | G22: {=IFERROR(INDEX(ORARIO_GENERALE!$D$3:$M$3,MATCH("*"&$B$19&"*",ORARIO_GENERALE!$D49:$M49,0)),"")} -> ALFABETIZZAZIONE Q | I22: 10:00-11:00 | J22: =HLOOKUP($I$19,ORARIO_GENERALE!$K$3:$M$53,3,0) -> #N/A | K22: =HLOOKUP($I$19,ORARIO_GENERALE!$K$3:$M$53,14,0) -> #N/A | L22: =HLOOKUP($I$19,ORARIO_GENERALE!$K$3:$M$53,25,0) -> #N/A | M22: =HLOOKUP($I$19,ORARIO_GENERALE!$K$3:$M$53,35,0) -> #N/A | N22: =HLOOKUP($I$19,ORARIO_GENERALE!$K$3:$M$53,47,0) -> #N/A
B23: =ORARIO_GENERALE!C6 -> 11:00-12:00 | C23: {=IFERROR(INDEX(ORARIO_GENERALE!$D$3:$M$3,MATCH("*"&$B$19&"*",ORARIO_GENERALE!$D6:$M6,0)),"")} | D23: {=IFERROR(INDEX(ORARIO_GENERALE!$D$3:$M$3,MATCH("*"&$B$19&"*",ORARIO_GENERALE!$D17:$M17,0)),"")} | E23: {=IFERROR(INDEX(ORARIO_GENERALE!$D$3:$M$3,MATCH("*"&$B$19&"*",ORARIO_GENERALE!$D28:$M28,0)),"")} -> ALFABETIZZAZIONE M | F23: {=IFERROR(INDEX(ORARIO_GENERALE!$D$3:$M$3,MATCH("*"&$B$19&"*",ORARIO_GENERALE!$D39:$O39,0)),"")} -> ALFABETIZZAZIONE Q | G23: {=IFERROR(INDEX(ORARIO_GENERALE!$D$3:$M$3,MATCH("*"&$B$19&"*",ORARIO_GENERALE!$D50:$M50,0)),"")} | I23: 11:00-12:00 | J23: =HLOOKUP($I$19,ORARIO_GENERALE!$K$3:$M$53,4,0) -> #N/A | K23: =HLOOKUP($I$19,ORARIO_GENERALE!$K$3:$M$53,15,0) -> #N/A | L23: =HLOOKUP($I$19,ORARIO_GENERALE!$K$3:$M$53,26,0) -> #N/A | M23: =HLOOKUP($I$19,ORARIO_GENERALE!$K$3:$M$53,36,0) -> #N/A | N23: =HLOOKUP($I$19,ORARIO_GENERALE!$K$3:$M$53,48,0) -> #N/A
B24: =ORARIO_GENERALE!C7 -> 12:00-13:00 | C24: {=IFERROR(INDEX(ORARIO_GENERALE!$D$3:$M$3,MATCH("*"&$B$19&"*",ORARIO_GENERALE!$D7:$M7,0)),"")} | D24: {=IFERROR(INDEX(ORARIO_GENERALE!$D$3:$M$3,MATCH("*"&$B$19&"*",ORARIO_GENERALE!$D18:$M18,0)),"")} | E24: {=IFERROR(INDEX(ORARIO_GENERALE!$D$3:$M$3,MATCH("*"&$B$19&"*",ORARIO_GENERALE!$D29:$M29,0)),"")} -> ALFABETIZZAZIONE M | F24: {=IFERROR(INDEX(ORARIO_GENERALE!$D$3:$M$3,MATCH("*"&$B$19&"*",ORARIO_GENERALE!$D40:$M40,0)),"")} -> ALFABETIZZAZIONE Q | G24: {=IFERROR(INDEX(ORARIO_GENERALE!$D$3:$M$3,MATCH("*"&$B$19&"*",ORARIO_GENERALE!$D51:$M51,0)),"")} | I24: 12:00-13:00 | J24: =HLOOKUP($I$19,ORARIO_GENERALE!$K$3:$M$53,5,0) -> #N/A | K24: =HLOOKUP($I$19,ORARIO_GENERALE!$K$3:$M$53,16,0) -> #N/A | L24: =HLOOKUP($I$19,ORARIO_GENERALE!$K$3:$M$53,27,0) -> #N/A | M24: =HLOOKUP($I$19,ORARIO_GENERALE!$K$3:$M$53,37,0) -> #N/A | N24: =HLOOKUP($I$19,ORARIO_GENERALE!$K$3:$M$53,49,0) -> #N/A
B25: =ORARIO_GENERALE!C8 -> 13:00-14:00 | C25: {=IFERROR(INDEX(ORARIO_GENERALE!$D$3:$M$3,MATCH("*"&$B$19&"*",ORARIO_GENERALE!$D8:$M8,0)),"")} | D25: {=IFERROR(INDEX(ORARIO_GENERALE!$D$3:$M$3,MATCH("*"&$B$19&"*",ORARIO_GENERALE!$D19:$M19,0)),"")} | E25: {=IFERROR(INDEX(ORARIO_GENERALE!$D$3:$M$3,MATCH("*"&$B$19&"*",ORARIO_GENERALE!$D30:$M30,0)),"")} | F25: {=IFERROR(INDEX(ORARIO_GENERALE!$D$3:$M$3,MATCH("*"&$B$19&"*",ORARIO_GENERALE!$D41:$M41,0)),"")} | G25: {=IFERROR(INDEX(ORARIO_GENERALE!$D$3:$M$3,MATCH("*"&$B$19&"*",ORARIO_GENERALE!$D52:$M52,0)),"")} | I25: 13:00-14:00 | J25: =HLOOKUP($I$19,ORARIO_GENERALE!$K$3:$M$53,6,0) -> #N/A | K25: =HLOOKUP($I$19,ORARIO_GENERALE!$K$3:$M$53,17,0) -> #N/A | L25: =HLOOKUP($I$19,ORARIO_GENERALE!$K$3:$M$53,28,0) -> #N/A | M25: =HLOOKUP($I$19,ORARIO_GENERALE!$K$3:$M$53,38,0) -> #N/A | N25: =HLOOKUP($I$19,ORARIO_GENERALE!$K$3:$M$53,50,0) -> #N/A
B26: =ORARIO_GENERALE!C9 -> 14:00-15:00 | C26: {=IFERROR(INDEX(ORARIO_GENERALE!$D$3:$M$3,MATCH("*"&$B$19&"*",ORARIO_GENERALE!$D9:$M9,0)),"")} | D26: {=IFERROR(INDEX(ORARIO_GENERALE!$D$3:$M$3,MATCH("*"&$B$19&"*",ORARIO_GENERALE!$D20:$M20,0)),"")} | E26: {=IFERROR(INDEX(ORARIO_GENERALE!$D$3:$M$3,MATCH("*"&$B$19&"*",ORARIO_GENERALE!$D31:$M31,0)),"")} | F26: {=IFERROR(INDEX(ORARIO_GENERALE!$D$3:$M$3,MATCH("*"&$B$19&"*",ORARIO_GENERALE!$D42:$M42,0)),"")} | G26: {=IFERROR(INDEX(ORARIO_GENERALE!$D$3:$M$3,MATCH("*"&$B$19&"*",ORARIO_GENERALE!$D53:$M53,0)),"")} | I26: 14:00-15:00 | J26: =HLOOKUP($I$19,ORARIO_GENERALE!$K$3:$M$53,7,0) -> #N/A | K26: =HLOOKUP($I$19,ORARIO_GENERALE!$K$3:$M$53,18,0) -> #N/A | L26: =HLOOKUP($I$19,ORARIO_GENERALE!$K$3:$M$53,29,0) -> #N/A | M26: =HLOOKUP($I$19,ORARIO_GENERALE!$K$3:$M$53,39,0) -> #N/A | N26: =HLOOKUP($I$19,ORARIO_GENERALE!$K$3:$M$53,51,0) -> #N/A
B27: =ORARIO_GENERALE!C10 -> 15:00-16:00 | C27: {=IFERROR(INDEX(ORARIO_GENERALE!$D$3:$M$3,MATCH("*"&$B$19&"*",ORARIO_GENERALE!$D10:$M10,0)),"")} | D27: {=IFERROR(INDEX(ORARIO_GENERALE!$D$3:$M$3,MATCH("*"&$B$19&"*",ORARIO_GENERALE!$D21:$M21,0)),"")} | E27: {=IFERROR(INDEX(ORARIO_GENERALE!$D$3:$M$3,MATCH("*"&$B$19&"*",ORARIO_GENERALE!$D32:$M32,0)),"")} | F27: {=IFERROR(INDEX(ORARIO_GENERALE!$D$3:$M$3,MATCH("*"&$B$19&"*",ORARIO_GENERALE!$D43:$M43,0)),"")} | G27: {=IFERROR(INDEX(ORARIO_GENERALE!$D$3:$M$3,MATCH("*"&$B$19&"*",ORARIO_GENERALE!$D54:$M54,0)),"")} | I27: 15:00-16:00 | J27: =HLOOKUP($I$19,ORARIO_GENERALE!$K$3:$M$53,8,0) -> #N/A | K27: =HLOOKUP($I$19,ORARIO_GENERALE!$K$3:$M$53,19,0) -> #N/A | L27: =HLOOKUP($I$19,ORARIO_GENERALE!$K$3:$M$53,30,0) -> #N/A | M27: =HLOOKUP($I$19,ORARIO_GENERALE!$K$3:$M$53,41,0) -> #N/A
B28: =ORARIO_GENERALE!C11 -> 16:00-17:00 | C28: {=IFERROR(INDEX(ORARIO_GENERALE!$D$3:$M$3,MATCH("*"&$B$19&"*",ORARIO_GENERALE!$D11:$M11,0)),"")} | D28: {=IFERROR(INDEX(ORARIO_GENERALE!$D$3:$M$3,MATCH("*"&$B$19&"*",ORARIO_GENERALE!$D22:$M22,0)),"")} | E28: {=IFERROR(INDEX(ORARIO_GENERALE!$D$3:$M$3,MATCH("*"&$B$19&"*",ORARIO_GENERALE!$D33:$M33,0)),"")} | F28: {=IFERROR(INDEX(ORARIO_GENERALE!$D$3:$M$3,MATCH("*"&$B$19&"*",ORARIO_GENERALE!$D44:$M44,0)),"")} | G28: {=IFERROR(INDEX(ORARIO_GENERALE!$D$3:$M$3,MATCH("*"&$B$19&"*",ORARIO_GENERALE!$D55:$M55,0)),"")} | I28: 16:00-17:00 | J28: =HLOOKUP($I$19,ORARIO_GENERALE!$K$3:$M$53,9,0) -> #N/A | K28: =HLOOKUP($I$19,ORARIO_GENERALE!$K$3:$M$53,20,0) -> #N/A | L28: =HLOOKUP($I$19,ORARIO_GENERALE!$K$3:$M$53,31,0) -> #N/A | M28: =HLOOKUP($I$19,ORARIO_GENERALE!$K$3:$M$53,42,0) -> #N/A
B29: =ORARIO_GENERALE!C12 -> 17:00-18:00 | C29: {=IFERROR(INDEX(ORARIO_GENERALE!$D$3:$M$3,MATCH("*"&$B$19&"*",ORARIO_GENERALE!$D12:$K12,0)),"")} | D29: {=IFERROR(INDEX(ORARIO_GENERALE!$D$3:$M$3,MATCH("*"&$B$19&"*",ORARIO_GENERALE!$D23:$M23,0)),"")} | E29: {=IFERROR(INDEX(ORARIO_GENERALE!$D$3:$M$3,MATCH("*"&$B$19&"*",ORARIO_GENERALE!$D34:$M34,0)),"")} | F29: {=IFERROR(INDEX(ORARIO_GENERALE!$D$3:$M$3,MATCH("*"&$B$19&"*",ORARIO_GENERALE!$D45:$M45,0)),"")} | G29: {=IFERROR(INDEX(ORARIO_GENERALE!$D$3:$M$3,MATCH("*"&$B$19&"*",ORARIO_GENERALE!$D56:$M56,0)),"")} | I29: 17:00-18-00 | J29: =HLOOKUP($I$19,ORARIO_GENERALE!$K$3:$M$53,10,0) -> #N/A | K29: =HLOOKUP($I$19,ORARIO_GENERALE!$K$3:$M$53,21,0) -> #N/A | L29: =HLOOKUP($I$19,ORARIO_GENERALE!$K$3:$M$53,32,0) -> #N/A | M29: =HLOOKUP($I$19,ORARIO_GENERALE!$K$3:$M$53,43,0) -> #N/A
B30: =ORARIO_GENERALE!C13 -> 18:00-19:00 | C30: {=IFERROR(INDEX(ORARIO_GENERALE!$D$3:$M$3,MATCH("*"&$B$19&"*",ORARIO_GENERALE!$D13:$K13,0)),"")} | D30: {=IFERROR(INDEX(ORARIO_GENERALE!$D$3:$M$3,MATCH("*"&$B$19&"*",ORARIO_GENERALE!$D24:$M24,0)),"")} | E30: {=IFERROR(INDEX(ORARIO_GENERALE!$D$3:$M$3,MATCH("*"&$B$19&"*",ORARIO_GENERALE!$D35:$M35,0)),"")} | F30: {=IFERROR(INDEX(ORARIO_GENERALE!$D$3:$M$3,MATCH("*"&$B$19&"*",ORARIO_GENERALE!$D46:$M46,0)),"")} | G30: {=IFERROR(INDEX(ORARIO_GENERALE!$D$3:$M$3,MATCH("*"&$B$19&"*",ORARIO_GENERALE!$D57:$M57,0)),"")} | I30: 18:00-19:00 | J30: =HLOOKUP($I$19,ORARIO_GENERALE!$K$3:$M$53,11,0) -> #N/A | K30: =HLOOKUP($I$19,ORARIO_GENERALE!$K$3:$M$53,22,0) -> #N/A | L30: =HLOOKUP($I$19,ORARIO_GENERALE!$K$3:$M$53,33,0) -> #N/A | M30: =HLOOKUP($I$19,ORARIO_GENERALE!$K$3:$M$53,44,0) -> #N/A
B31: =ORARIO_GENERALE!C14 -> 19:00-20:00 | C31: {=IFERROR(INDEX(ORARIO_GENERALE!$D$3:$M$3,MATCH("*"&$B$19&"*",ORARIO_GENERALE!$D14:$K14,0)),"")} | D31: {=IFERROR(INDEX(ORARIO_GENERALE!$D$3:$M$3,MATCH("*"&$B$19&"*",ORARIO_GENERALE!$D25:$M25,0)),"")} | E31: {=IFERROR(INDEX(ORARIO_GENERALE!$D$3:$M$3,MATCH("*"&$B$19&"*",ORARIO_GENERALE!$D36:$M36,0)),"")} | F31: {=IFERROR(INDEX(ORARIO_GENERALE!$D$3:$M$3,MATCH("*"&$B$19&"*",ORARIO_GENERALE!$D47:$M47,0)),"")} | G31: {=IFERROR(INDEX(ORARIO_GENERALE!$D$3:$M$3,MATCH("*"&$B$19&"*",ORARIO_GENERALE!$D58:$M58,0)),"")} | I31: 19:00-20:00 | J31: =HLOOKUP($I$19,ORARIO_GENERALE!$K$3:$M$53,12,0) -> #N/A | K31: =HLOOKUP($I$19,ORARIO_GENERALE!$K$3:$M$53,23,0) -> #N/A | L31: =HLOOKUP($I$19,ORARIO_GENERALE!$K$3:$M$53,34,0) -> #N/A | M31: =HLOOKUP($I$19,ORARIO_GENERALE!$K$3:$M$53,45,0) -> #N/A
F32: {=IFERROR(INDEX(ORARIO_GENERALE!$K$3:$M$3,MATCH("*"&$B$19&"*",ORARIO_GENERALE!$N37:$O37,0)),"")} | I32: 20:00-21:00
D47: MPPA | E47: CARDINI
D48: MPPB | E48: TROMBELLA
D49: MPPC | E49: GIURAZZI
D50: MPPD | E50: CUFFARO
D51: MA1A | E51: PICONE
D52: MA1B
D53: MA1C
D54: MA1D | E54: MARIOTTO
D55: MA1E | E55: ROSSI
D56: MA1F | E56: BORGO
...

Sheet Foglio1

Sheet ANALISI CORSI
C1: =ORARIO_GENERALE!D3 -> ITALIANO R | D1: =ORARIO_GENERALE!E3 -> ITALIANO P | E1: =ORARIO_GENERALE!F3 -> INGLESE | F1: =ORARIO_GENERALE!G3 -> MAT/SCIENZE | G1: =ORARIO_GENERALE!I3 -> POTENZIAMENTO | H1: =ORARIO_GENERALE!K3 -> ALFABETIZZAZIONE M | I1: =#REF! -> #REF! | J1: TOTALE CORSO
B2: MPPA | C2: =COUNTIF(ORARIO_GENERALE!D$4:D$53,"*"&$B2&"*") -> 6 | D2: =COUNTIF(ORARIO_GENERALE!E$5:E$53,"*"&$B2&"*") -> 0 | E2: =COUNTIF(ORARIO_GENERALE!F$4:F$53,"*"&$B2&"*") -> 3 | F2: =COUNTIF(ORARIO_GENERALE!G$4:G$53,"*"&$B2&"*") -> 3 | G2: =COUNTIF(ORARIO_GENERALE!I$4:I$53,"*"&$B2&"*") -> 0 | H2: =COUNTIF(ORARIO_GENERALE!K$4:K$53,"*"&$B2&"*") -> 0 | I2: =COUNTIF(#REF!,"*"&$B2&"*") -> #REF! | J2: =SUM(C2:I2) -> #REF!
B3: MPPB | C3: =COUNTIF(ORARIO_GENERALE!D$4:D$53,"*"&$B3&"*") -> 0 | D3: =COUNTIF(ORARIO_GENERALE!E$5:E$53,"*"&$B3&"*") -> 6 | E3: =COUNTIF(ORARIO_GENERALE!F$4:F$53,"*"&$B3&"*") -> 3 | F3: =COUNTIF(ORARIO_GENERALE!G$4:G$53,"*"&$B3&"*") -> 3 | G3: =COUNTIF(ORARIO_GENERALE!I$4:I$53,"*"&$B3&"*") -> 0 | H3: =COUNTIF(ORARIO_GENERALE!K$4:K$53,"*"&$B3&"*") -> 0 | I3: =COUNTIF(#REF!,"*"&$B3&"*") -> #REF! | J3: =SUM(C3:I3) -> #REF!
B4: MPPC | C4: =COUNTIF(ORARIO_GENERALE!D$4:D$53,"*"&$B4&"*") -> 0 | D4: =COUNTIF(ORARIO_GENERALE!E$5:E$53,"*"&$B4&"*") -> 5 | E4: =COUNTIF(ORARIO_GENERALE!F$4:F$53,"*"&$B4&"*") -> 3 | F4: =COUNTIF(ORARIO_GENERALE!G$4:G$53,"*"&$B4&"*") -> 3 | G4: =COUNTIF(ORARIO_GENERALE!I$4:I$53,"*"&$B4&"*") -> 0 | H4: =COUNTIF(ORARIO_GENERALE!K$4:K$53,"*"&$B4&"*") -> 0 | I4: =COUNTIF(#REF!,"*"&$B4&"*") -> #REF! | J4: =SUM(C4:I4) -> #REF!
B5: MPPD | C5: =COUNTIF(ORARIO_GENERALE!D$4:D$53,"*"&$B5&"*") -> 7 | D5: =COUNTIF(ORARIO_GENERALE!E$5:E$53,"*"&$B5&"*") -> 0 | E5: =COUNTIF(ORARIO_GENERALE!F$4:F$53,"*"&$B5&"*") -> 2 | F5: =COUNTIF(ORARIO_GENERALE!G$4:G$53,"*"&$B5&"*") -> 3 | G5: =COUNTIF(ORARIO_GENERALE!I$4:I$53,"*"&$B5&"*") -> 0 | H5: =COUNTIF(ORARIO_GENERALE!K$4:K$53,"*"&$B5&"*") -> 0 | I5: =COUNTIF(#REF!,"*"&$B5&"*") -> #REF! | J5: =SUM(C5:I5) -> #REF!
B6: MA1A | C6: =COUNTIF(ORARIO_GENERALE!D$4:D$53,"*"&$B6&"*") -> 0 | D6: =COUNTIF(ORARIO_GENERALE!E$5:E$53,"*"&$B6&"*") -> 0 | E6: =COUNTIF(ORARIO_GENERALE!F$4:F$53,"*"&$B6&"*") -> 0 | F6: =COUNTIF(ORARIO_GENERALE!G$4:G$53,"*"&$B6&"*") -> 0 | G6: =COUNTIF(ORARIO_GENERALE!I$4:I$53,"*"&$B6&"*") -> 0 | H6: =COUNTIF(ORARIO_GENERALE!K$4:K$53,"*"&$B6&"*") -> 2 | I6: =COUNTIF(#REF!,"*"&$B6&"*") -> #REF! | J6: =SUM(C6:I6) -> #REF!
B7: MA1B | C7: =COUNTIF(ORARIO_GENERALE!D$4:D$53,"*"&$B7&"*") -> 0 | D7: =COUNTIF(ORARIO_GENERALE!E$5:E$53,"*"&$B7&"*") -> 0 | E7: =COUNTIF(ORARIO_GENERALE!F$4:F$53,"*"&$B7&"*") -> 0 | F7: =COUNTIF(ORARIO_GENERALE!G$4:G$53,"*"&$B7&"*") -> 0 | G7: =COUNTIF(ORARIO_GENERALE!I$4:I$53,"*"&$B7&"*") -> 0 | H7: =COUNTIF(ORARIO_GENERALE!K$4:K$53,"*"&$B7&"*") -> 0 | I7: =COUNTIF(#REF!,"*"&$B7&"*") -> #REF! | J7: =SUM(C7:I7) -> #REF!
B8: MA1C | C8: =COUNTIF(ORARIO_GENERALE!D$4:D$53,"*"&$B8&"*") -> 0 | D8: =COUNTIF(ORARIO_GENERALE!E$5:E$53,"*"&$B8&"*") -> 0 | E8: =COUNTIF(ORARIO_GENERALE!F$4:F$53,"*"&$B8&"*") -> 0 | F8: =COUNTIF(ORARIO_GENERALE!G$4:G$53,"*"&$B8&"*") -> 0 | G8: =COUNTIF(ORARIO_GENERALE!I$4:I$53,"*"&$B8&"*") -> 3 | H8: =COUNTIF(ORARIO_GENERALE!K$4:K$53,"*"&$B8&"*") -> 3 | I8: =COUNTIF(#REF!,"*"&$B8&"*") -> #REF! | J8: =SUM(C8:I8) -> #REF!
B9: MA1G | C9: =COUNTIF(ORARIO_GENERALE!D$4:D$53,"*"&$B9&"*") -> 0 | D9: =COUNTIF(ORARIO_GENERALE!E$5:E$53,"*"&$B9&"*") -> 0 | E9: =COUNTIF(ORARIO_GENERALE!F$4:F$53,"*"&$B9&"*") -> 0 | F9: =COUNTIF(ORARIO_GENERALE!G$4:G$53,"*"&$B9&"*") -> 0 | G9: =COUNTIF(ORARIO_GENERALE!I$4:I$53,"*"&$B9&"*") -> 0 | H9: =COUNTIF(ORARIO_GENERALE!K$4:K$53,"*"&$B9&"*") -> 0 | I9: =COUNTIF(#REF!,"*"&$B9&"*") -> #REF! | J9: =SUM(C9:I9) -> #REF!
B10: MA1E | C10: =COUNTIF(ORARIO_GENERALE!D$4:D$53,"*"&$B10&"*") -> 0 | D10: =COUNTIF(ORARIO_GENERALE!E$5:E$53,"*"&$B10&"*") -> 0 | E10: =COUNTIF(ORARIO_GENERALE!F$4:F$53,"*"&$B10&"*") -> 0 | F10: =COUNTIF(ORARIO_GENERALE!G$4:G$53,"*"&$B10&"*") -> 0 | G10: =COUNTIF(ORARIO_GENERALE!I$4:I$53,"*"&$B10&"*") -> 4 | H10: =COUNTIF(ORARIO_GENERALE!K$4:K$53,"*"&$B10&"*") -> 0 | I10: =COUNTIF(#REF!,"*"&$B10&"*") -> #REF! | J10: =SUM(C10:I10) -> #REF!
B11: RA1F | C11: =COUNTIF(ORARIO_GENERALE!D$4:D$53,"*"&$B11&"*") -> 0 | D11: =COUNTIF(ORARIO_GENERALE!E$5:E$53,"*"&$B11&"*") -> 0 | E11: =COUNTIF(ORARIO_GENERALE!F$4:F$53,"*"&$B11&"*") -> 0 | F11: =COUNTIF(ORARIO_GENERALE!G$4:G$53,"*"&$B11&"*") -> 0 | G11: =COUNTIF(ORARIO_GENERALE!I$4:I$53,"*"&$B11&"*") -> 0 | H11: =COUNTIF(ORARIO_GENERALE!K$4:K$53,"*"&$B11&"*") -> 0 | I11: =COUNTIF(#REF!,"*"&$B11&"*") -> #REF! | J11: =SUM(C11:I11) -> #REF!
B12: MA2A | C12: =COUNTIF(ORARIO_GENERALE!D$4:D$53,"*"&$B12&"*") -> 0 | D12: =COUNTIF(ORARIO_GENERALE!E$5:E$53,"*"&$B12&"*") -> 0 | E12: =COUNTIF(ORARIO_GENERALE!F$4:F$53,"*"&$B12&"*") -> 0 | F12: =COUNTIF(ORARIO_GENERALE!G$4:G$53,"*"&$B12&"*") -> 0 | G12: =COUNTIF(ORARIO_GENERALE!I$4:I$53,"*"&$B12&"*") -> 0 | H12: =COUNTIF(ORARIO_GENERALE!K$4:K$53,"*"&$B12&"*") -> 4 | I12: =COUNTIF(#REF!,"*"&$B12&"*") -> #REF! | J12: =SUM(C12:I12) -> #REF!
B13: MA2B | C13: =COUNTIF(ORARIO_GENERALE!D$4:D$53,"*"&$B13&"*") -> 0 | D13: =COUNTIF(ORARIO_GENERALE!E$5:E$53,"*"&$B13&"*") -> 0 | E13: =COUNTIF(ORARIO_GENERALE!F$4:F$53,"*"&$B13&"*") -> 0 | F13: =COUNTIF(ORARIO_GENERALE!G$4:G$53,"*"&$B13&"*") -> 0 | G13: =COUNTIF(ORARIO_GENERALE!I$4:I$53,"*"&$B13&"*") -> 0 | H13: =COUNTIF(ORARIO_GENERALE!K$4:K$53,"*"&$B13&"*") -> 2 | I13: =COUNTIF(#REF!,"*"&$B13&"*") -> #REF! | J13: =SUM(C13:I13) -> #REF!
... B16: MA0B | C16: =COUNTIF(ORARIO_GENERALE!D$4:D$53,"*"&$B16&"*") -> 0 | D16: =COUNTIF(ORARIO_GENERALE!E$5:E$53,"*"&$B16&"*") -> 0 | E16: =COUNTIF(ORARIO_GENERALE!F$4:F$53,"*"&$B16&"*") -> 0 | F16: =COUNTIF(ORARIO_GENERALE!G$4:G$53,"*"&$B16&"*") -> 0 | G16: =COUNTIF(ORARIO_GENERALE!I$4:I$53,"*"&$B16&"*") -> 0 | H16: =COUNTIF(ORARIO_GENERALE!K$4:K$53,"*"&$B16&"*") -> 0 | I16: =COUNTIF(#REF!,"*"&$B16&"*") -> #REF! | J16: =SUM(C16:I16) -> #REF!
B17: MA0C | C17: =COUNTIF(ORARIO_GENERALE!D$5:D$53,"*"&$B17&"*") -> 0 | D17: =COUNTIF(ORARIO_GENERALE!E$5:E$53,"*"&$B17&"*") -> 0 | E17: =COUNTIF(ORARIO_GENERALE!F$4:F$53,"*"&$B17&"*") -> 0 | F17: =COUNTIF(ORARIO_GENERALE!G$4:G$53,"*"&$B17&"*") -> 0 | G17: =COUNTIF(ORARIO_GENERALE!I$4:I$53,"*"&$B17&"*") -> 0 | H17: =COUNTIF(ORARIO_GENERALE!K$4:K$53,"*"&$B17&"*") -> 0 | I17: =COUNTIF(#REF!,"*"&$B17&"*") -> #REF! | J17: =SUM(C17:I17) -> #REF!
B18: RANA | C18: =COUNTIF(ORARIO_GENERALE!D$5:D$53,"*"&$B18&"*") -> 0 | D18: =COUNTIF(ORARIO_GENERALE!E$5:E$53,"*"&$B18&"*") -> 0 | E18: =COUNTIF(ORARIO_GENERALE!F$4:F$53,"*"&$B18&"*") -> 0 | F18: =COUNTIF(ORARIO_GENERALE!G$4:G$53,"*"&$B18&"*") -> 0 | G18: =COUNTIF(ORARIO_GENERALE!I$4:I$53,"*"&$B18&"*") -> 0 | H18: =COUNTIF(ORARIO_GENERALE!K$4:K$53,"*"&$B18&"*") -> 0 | I18: =COUNTIF(#REF!,"*"&$B18&"*") -> #REF! | J18: =SUM(C18:I18) -> #REF!
B19: LAB | C19: =COUNTIF(ORARIO_GENERALE!D$5:D$53,"*"&$B19&"*") -> 0 | D19: =COUNTIF(ORARIO_GENERALE!E$5:E$53,"*"&$B19&"*") -> 1 | E19: =COUNTIF(ORARIO_GENERALE!F$4:F$53,"*"&$B19&"*") -> 0 | F19: =COUNTIF(ORARIO_GENERALE!G$4:G$53,"*"&$B19&"*") -> 2 | G19: =COUNTIF(ORARIO_GENERALE!I$4:I$53,"*"&$B19&"*") -> 0 | H19: =COUNTIF(ORARIO_GENERALE!K$4:K$53,"*"&$B19&"*") -> 0 | I19: =COUNTIF(#REF!,"*"&$B19&"*") -> #REF! | J19: =SUM(C19:I19) -> #REF!
B20: POT | C20: =COUNTIF(ORARIO_GENERALE!D$5:D$53,"*"&$B20&"*") -> 0 | D20: =COUNTIF(ORARIO_GENERALE!E$5:E$53,"*"&$B20&"*") -> 0 | E20: =COUNTIF(ORARIO_GENERALE!F$4:F$53,"*"&$B20&"*") -> 0 | F20: =COUNTIF(ORARIO_GENERALE!G$4:G$53,"*"&$B20&"*") -> 0 | G20: =COUNTIF(ORARIO_GENERALE!I$4:I$53,"*"&$B20&"*") -> 6 | H20: =COUNTIF(ORARIO_GENERALE!K$4:K$53,"*"&$B20&"*") -> 0 | I20: =COUNTIF(#REF!,"*"&$B20&"*") -> #REF! | J20: =SUM(C20:I20) -> #REF!
B21: L2C | C21: =COUNTIF(ORARIO_GENERALE!D$5:D$53,"*"&$B21&"*") -> 0 | D21: =COUNTIF(ORARIO_GENERALE!E$5:E$53,"*"&$B21&"*") -> 0 | E21: =COUNTIF(ORARIO_GENERALE!F$4:F$53,"*"&$B21&"*") -> 0 | F21: =COUNTIF(ORARIO_GENERALE!G$4:G$53,"*"&$B21&"*") -> 0 | G21: =COUNTIF(ORARIO_GENERALE!I$4:I$53,"*"&$B21&"*") -> 0 | H21: =COUNTIF(ORARIO_GENERALE!K$4:K$53,"*"&$B21&"*") -> 0 | I21: =COUNTIF(#REF!,"*"&$B21&"*") -> #REF! | J21: =SUM(C21:I21) -> #REF!
B22: POT.L2 | C22: =COUNTIF(ORARIO_GENERALE!D$5:D$53,"*"&$B22&"*") -> 0 | D22: =COUNTIF(ORARIO_GENERALE!E$5:E$53,"*"&$B22&"*") -> 0 | E22: =COUNTIF(ORARIO_GENERALE!F$4:F$53,"*"&$B22&"*") -> 0 | F22: =COUNTIF(ORARIO_GENERALE!G$4:G$53,"*"&$B22&"*") -> 0 | G22: =COUNTIF(ORARIO_GENERALE!I$4:I$53,"*"&$B22&"*") -> 0 | H22: =COUNTIF(ORARIO_GENERALE!K$4:K$53,"*"&$B22&"*") -> 0 | I22: =COUNTIF(#REF!,"*"&$B22&"*") -> #REF! | J22: =SUM(C22:I22) -> #REF!
B23: WR | C23: =COUNTIF(ORARIO_GENERALE!D$5:D$53,"*"&$B23&"*") -> 0 | D23: =COUNTIF(ORARIO_GENERALE!E$5:E$53,"*"&$B23&"*") -> 0 | E23: =COUNTIF(ORARIO_GENERALE!F$4:F$53,"*"&$B23&"*") -> 0 | F23: =COUNTIF(ORARIO_GENERALE!G$4:G$53,"*"&$B23&"*") -> 0 | G23: =COUNTIF(ORARIO_GENERALE!I$4:I$53,"*"&$B23&"*") -> 0 | H23: =COUNTIF(ORARIO_GENERALE!K$4:K$53,"*"&$B23&"*") -> 0 | I23: =COUNTIF(#REF!,"*"&$B23&"*") -> #REF! | J23: =SUM(C23:I23) -> #REF!
B24: ING. | C24: =COUNTIF(ORARIO_GENERALE!D$5:D$53,"*"&$B24&"*") -> 0 | D24: =COUNTIF(ORARIO_GENERALE!E$5:E$53,"*"&$B24&"*") -> 0 | E24: =COUNTIF(ORARIO_GENERALE!F$4:F$53,"*"&$B24&"*") -> 0 | F24: =COUNTIF(ORARIO_GENERALE!G$4:G$53,"*"&$B24&"*") -> 0 | G24: =COUNTIF(ORARIO_GENERALE!I$4:I$53,"*"&$B24&"*") -> 0 | H24: =COUNTIF(ORARIO_GENERALE!K$4:K$53,"*"&$B24&"*") -> 0 | I24: =COUNTIF(#REF!,"*"&$B24&"*") -> #REF! | J24: =SUM(C24:I24) -> #REF!
B25: SOLARO | C25: =COUNTIF(ORARIO_GENERALE!D$5:D$53,"*"&$B25&"*") -> 0 | D25: =COUNTIF(ORARIO_GENERALE!E$5:E$53,"*"&$B25&"*") -> 0 | E25: =COUNTIF(ORARIO_GENERALE!F$4:F$53,"*"&$B25&"*") -> 0 | F25: =COUNTIF(ORARIO_GENERALE!G$4:G$53,"*"&$B25&"*") -> 0 | G25: =COUNTIF(ORARIO_GENERALE!I$4:I$53,"*"&$B25&"*") -> 0 | H25: =COUNTIF(ORARIO_GENERALE!K$4:K$53,"*"&$B25&"*") -> 0 | I25: =COUNTIF(#REF!,"*"&$B25&"*") -> #REF! | J25: =SUM(C25:I25) -> #REF!
B26: PUECHER1 | C26: =COUNTIF(ORARIO_GENERALE!D$5:D$53,"*"&$B26&"*") -> 0 | D26: =COUNTIF(ORARIO_GENERALE!E$5:E$53,"*"&$B26&"*") -> 0 | E26: =COUNTIF(ORARIO_GENERALE!F$4:F$53,"*"&$B26&"*") -> 0 | F26: =COUNTIF(ORARIO_GENERALE!G$4:G$53,"*"&$B26&"*") -> 0 | G26: =COUNTIF(ORARIO_GENERALE!I$4:I$53,"*"&$B26&"*") -> 0 | H26: =COUNTIF(ORARIO_GENERALE!J$4:J$53,"*"&$B26&"*") -> 0 | I26: =COUNTIF(#REF!,"*"&$B26&"*") -> #REF! | J26: =SUM(C26:I26) -> #REF!
B27: PUECHER2 | C27: =COUNTIF(ORARIO_GENERALE!D$5:D$53,"*"&$B27&"*") -> 0 | D27: =COUNTIF(ORARIO_GENERALE!E$5:E$53,"*"&$B27&"*") -> 0 | E27: =COUNTIF(ORARIO_GENERALE!F$4:F$53,"*"&$B27&"*") -> 0 | F27: =COUNTIF(ORARIO_GENERALE!G$4:G$53,"*"&$B27&"*") -> 0 | G27: =COUNTIF(ORARIO_GENERALE!I$4:I$53,"*"&$B27&"*") -> 0 | H27: =COUNTIF(ORARIO_GENERALE!J$4:J$53,"*"&$B27&"*") -> 0 | I27: =COUNTIF(#REF!,"*"&$B27&"*") -> #REF!
B28: PONTE | C28: =COUNTIF(ORARIO_GENERALE!D$5:D$53,"*"&$B28&"*") -> 0 | D28: =COUNTIF(ORARIO_GENERALE!E$5:E$53,"*"&$B28&"*") -> 0 | E28: =COUNTIF(ORARIO_GENERALE!F$4:F$53,"*"&$B28&"*") -> 0 | F28: =COUNTIF(ORARIO_GENERALE!G$4:G$53,"*"&$B28&"*") -> 0 | G28: =COUNTIF(ORARIO_GENERALE!I$4:I$53,"*"&$B28&"*") -> 0 | H28: =COUNTIF(ORARIO_GENERALE!J$4:J$53,"*"&$B28&"*") -> 0 | I28: =COUNTIF(#REF!,"*"&$B28&"*") -> #REF!
B29: MATTEI1 | C29: =COUNTIF(ORARIO_GENERALE!D$5:D$53,"*"&$B29&"*") -> 0 | D29: =COUNTIF(ORARIO_GENERALE!E$5:E$53,"*"&$B29&"*") -> 0 | E29: =COUNTIF(ORARIO_GENERALE!F$4:F$53,"*"&$B29&"*") -> 0 | F29: =COUNTIF(ORARIO_GENERALE!G$4:G$53,"*"&$B29&"*") -> 0 | G29: =COUNTIF(ORARIO_GENERALE!I$4:I$53,"*"&$B29&"*") -> 0 | H29: =COUNTIF(ORARIO_GENERALE!J$4:J$53,"*"&$B29&"*") -> 0 | I29: =COUNTIF(ORARIO_GENERALE!K$4:K$53,"*"&$B29&"*") -> 0
B30: R/P | C30: =COUNTIF(ORARIO_GENERALE!D$5:D$53,"*"&$B30&"*") -> 2 | D30: =COUNTIF(ORARIO_GENERALE!E$5:E$53,"*"&$B30&"*") -> 1 | E30: =COUNTIF(ORARIO_GENERALE!F$4:F$53,"*"&$B30&"*") -> 4 | F30: =COUNTIF(ORARIO_GENERALE!G$4:G$53,"*"&$B30&"*") -> 1 | G30: =COUNTIF(ORARIO_GENERALE!I$4:I$53,"*"&$B30&"*") -> 0 | H30: =COUNTIF(ORARIO_GENERALE!J$4:J$53,"*"&$B30&"*") -> 0 | I30: =COUNTIF(ORARIO_GENERALE!K$4:K$53,"*"&$B30&"*") -> 4
B31: POT | C31: =COUNTIF(ORARIO_GENERALE!D$5:D$53,"*"&$B31&"*") -> 0 | D31: =COUNTIF(ORARIO_GENERALE!E$5:E$53,"*"&$B31&"*") -> 0 | E31: =COUNTIF(ORARIO_GENERALE!F$4:F$53,"*"&$B31&"*") -> 0 | F31: =COUNTIF(ORARIO_GENERALE!G$4:G$53,"*"&B31&"*") -> 0 | G31: =COUNTIF(ORARIO_GENERALE!I$4:I$53,"*"&$B31&"*") -> 6 | H31: =COUNTIF(ORARIO_GENERALE!J$4:J$53,"*"&$B31&"*") -> 0 | I31: =COUNTIF(#REF!,"*"&$B31&"*") -> #REF! | J31: =SUM(C31:I31) -> #REF!
B32: LAB | C32: =COUNTIF(ORARIO_GENERALE!D$5:D$53,"*"&$B32&"*") -> 0 | D32: =COUNTIF(ORARIO_GENERALE!E$5:E$53,"*"&$B32&"*") -> 1 | E32: =COUNTIF(ORARIO_GENERALE!F$4:F$53,"*"&$B32&"*") -> 0 | F32: =COUNTIF(ORARIO_GENERALE!G$4:G$53,"*"&$B32&"*") -> 2 | G32: =COUNTIF(ORARIO_GENERALE!I$4:I$53,"*"&$B32&"*") -> 0 | H32: =COUNTIF(ORARIO_GENERALE!K$4:K$53,"*"&$B32&"*") -> 0 | I32: =COUNTIF(#REF!,"*"&$B32&"*") -> #REF! | J32: =SUM(C32:I32) -> #REF!
B33: D/A | C33: =COUNTIF(ORARIO_GENERALE!D$5:D$53,B33) -> 1 | D33: =COUNTIF(ORARIO_GENERALE!E$4:E$53,B33) -> 2 | E33: =COUNTIF(ORARIO_GENERALE!F$4:F$53,$B33) -> 1 | F33: =COUNTIF(ORARIO_GENERALE!G$4:G$53,$B33) -> 1 | G33: =COUNTIF(ORARIO_GENERALE!I$4:I$53,$B33) -> 1 | H33: =COUNTIF(ORARIO_GENERALE!K$4:K$53,$B33) -> 1 | I33: =COUNTIF(#REF!,$B33) -> #REF! | J33: =SUM(C33:I33) -> #REF!
B34: P | C34: =COUNTIF(ORARIO_GENERALE!D$5:D$53,B34) -> 0 | D34: =COUNTIF(ORARIO_GENERALE!E$4:E$53,B34) -> 0 | E34: =COUNTIF(ORARIO_GENERALE!F$4:F$53,B34) -> 0 | F34: =COUNTIF(ORARIO_GENERALE!G$4:G$53,B34) -> 0 | G34: =COUNTIF(ORARIO_GENERALE!I$4:I$53,B34) -> 0 | H34: =COUNTIF(ORARIO_GENERALE!K$4:K$53,$B34) -> 2 | I34: =COUNTIF(#REF!,$B34) -> #REF! | J34: =SUM(C34:I34) -> #REF!
B35: C | C35: =COUNTIF(ORARIO_GENERALE!D$5:D$53,B35) -> 2 | D35: =COUNTIF(ORARIO_GENERALE!E$4:E$53,B35) -> 2 | E35: =COUNTIF(ORARIO_GENERALE!F$4:F$53,B35) -> 2 | F35: =COUNTIF(ORARIO_GENERALE!G$4:G$53,B35) -> 2 | G35: =COUNTIF(ORARIO_GENERALE!I$4:I$53,B35) -> 2 | H35: =COUNTIF(ORARIO_GENERALE!K$4:K$53,$B35) -> 2 | I35: =COUNTIF(#REF!,$B35) -> #REF! | J35: =SUM(C35:I35) -> #REF!
B36: TOTALE DOCENTE | C36: =SUM(C2:C35) -> 18 | D36: =SUM(D2:D35) -> 18 | E36: =SUM(E2:E35) -> 18 | F36: =SUM(F2:F35) -> 20 | G36: =SUM(G2:G35) -> 24 | H36: =SUM(H2:H35) -> 18 | I36: =SUM(I2:I35) -> #REF!
B37: TOTALE LEZIONI | C37: =SUM(C2:C24) -> 13 | D37: =SUM(D2:D24) -> 12 | E37: =SUM(E2:E24) -> 11 | F37: =SUM(F2:F24) -> 14 | G37: =SUM(G2:G24) -> 15 | H37: =SUM(H2:H24) -> 13 | I37: =SUM(I2:I24) -> #REF!

Sheet INSEGNANTI
AF1: g
B2: =ORARIO_GENERALE!D3 -> ITALIANO R | C2: LUN | D2: MAR | E2: MER | F2: GIO | G2: VEN | I2: =ORARIO_GENERALE!E3 -> ITALIANO P | J2: LUN | K2: MAR | L2: MER | M2: GIO | N2: VEN | P2: =#REF! -> #REF! | Q2: LUN | R2: MAR | S2: MER | T2: GIO | U2: VEN | W2: =ORARIO_GENERALE!F3 -> INGLESE | X2: LUN | Y2: MAR | Z2: MER | AA2: GIO | AB2: VEN | AD2: =#REF! -> #REF! | AE2: LUN | AF2: MAR | AG2: MER | AH2: GIO | AI2: VEN | AK2: =ORARIO_GENERALE!G3 -> MAT/SCIENZE | AL2: LUN | AM2: MAR | AN2: MER | AO2: GIO | AP2: VEN | AR2: =ORARIO_GENERALE!I3 -> POTENZIAMENTO | AS2: LUN | AT2: MAR | AU2: MER | AV2: GIO | AW2: VEN | AY2: =#REF! -> #REF! | AZ2: LUN | BA2: MAR | BB2: MER | BC2: GIO | BD2: VEN | BF2: =ORARIO_GENERALE!K3 -> ALFABETIZZAZIONE M | BG2: LUN | BH2: MAR | BI2: MER | BJ2: GIO | BK2: VEN | BM2: =#REF! -> #REF! | BN2: LUN | BO2: MAR | BP2: MER | BQ2: GIO | BR2: VEN | BT2: =#REF! -> #REF! | BU2: LUN | BV2: MAR | BW2: MER | BX2: GIO | BY2: VEN | CA2: =#REF! -> #REF! | CB2: LUN | CC2: MAR | CD2: MER | CE2: GIO | CF2: VEN | CH2: =#REF! -> #REF! | CI2: LUN | CJ2: MAR | CK2: MER | CL2: GIO | CM2: VEN
B3: 08:30-09:30 | C3: =#REF! -> #REF! | D3: =#REF! -> #REF! | E3: =#REF! -> #REF! | F3: =#REF! -> #REF! | G3: =#REF! -> #REF! | I3: 08:30-09:30 | J3: =#REF! -> #REF! | K3: =#REF! -> #REF! | L3: =#REF! -> #REF! | M3: =#REF! -> #REF! | N3: =#REF! -> #REF! | P3: 08:30-09:30 | Q3: =#REF! -> #REF! | R3: =#REF! -> #REF! | S3: =#REF! -> #REF! | T3: =#REF! -> #REF! | U3: =#REF! -> #REF! | W3: 08:30-09:30 | X3: =#REF! -> #REF! | Y3: =#REF! -> #REF! | Z3: =#REF! -> #REF! | AA3: =#REF! -> #REF! | AB3: =#REF! -> #REF! | AD3: 08:30-09:30 | AE3: =#REF! -> #REF! | AF3: =#REF! -> #REF! | AG3: =#REF! -> #REF! | AH3: =#REF! -> #REF! | AI3: =#REF! -> #REF! | AK3: 08:30-09:30 | AL3: =#REF! -> #REF! | AM3: =#REF! -> #REF! | AN3: =#REF! -> #REF! | AO3: =#REF! -> #REF! | AP3: =#REF! -> #REF! | AR3: 08:30-09:30 | AS3: =#REF! -> #REF! | AT3: =#REF! -> #REF! | AU3: =#REF! -> #REF! | AV3: =#REF! -> #REF! | AW3: =#REF! -> #REF! | AY3: 08:30-09:30 | AZ3: =#REF! -> #REF! | BA3: =#REF! -> #REF! | BB3: =#REF! -> #REF! | BC3: =#REF! -> #REF! | BD3: =#REF! -> #REF! | BF3: 08:30-09:30 | BG3: =#REF! -> #REF! | BH3: =#REF! -> #REF! | BI3: =#REF! -> #REF! | BJ3: =#REF! -> #REF! | BK3: =#REF! -> #REF! | BM3: 08:30-09:30 | BN3: =#REF! -> #REF! | BO3: =#REF! -> #REF! | BP3: =#REF! -> #REF! | BQ3: =#REF! -> #REF! | BR3: =#REF! -> #REF! | BT3: 08:30-09:30 | BU3: =#REF! -> #REF! | BV3: =#REF! -> #REF! | BW3: =#REF! -> #REF! | BX3: =#REF! -> #REF! | BY3: =#REF! -> #REF! | CA3: 08:30-09:30 | CB3: =#REF! -> #REF! | CC3: =#REF! -> #REF! | CD3: =#REF! -> #REF! | CE3: =#REF! -> #REF! | CF3: =#REF! -> #REF! | CH3: 08:30-09:30 | CI3: =#REF! -> #REF! | CJ3: =#REF! -> #REF! | CK3: =#REF! -> #REF! | CL3: =#REF! -> #REF! | CM3: =#REF! -> #REF!
B4: 09:30-10:30 | C4: =ORARIO_GENERALE!D7 | D4: =#REF! -> #REF! | E4: =#REF! -> #REF! | F4: =#REF! -> #REF! | G4: =ORARIO_GENERALE!D48 -> MPPA 7 | I4: 09:30-10:30 | J4: =ORARIO_GENERALE!E7 | K4: =#REF! -> #REF! | L4: =#REF! -> #REF! | M4: =#REF! -> #REF! | N4: =ORARIO_GENERALE!E48 -> D/A | P4: 09:30-10:30 | Q4: =#REF! -> #REF! | R4: =#REF! -> #REF! | S4: =#REF! -> #REF! | T4: =#REF! -> #REF! | U4: =#REF! -> #REF! | W4: 09:30-10:30 | X4: =ORARIO_GENERALE!F4 | Y4: =#REF! -> #REF! | Z4: =#REF! -> #REF! | AA4: =#REF! -> #REF! | AB4: =ORARIO_GENERALE!F48 | AD4: 09:30-10:30 | AE4: =#REF! -> #REF! | AF4: =#REF! -> #REF! | AG4: =#REF! -> #REF! | AH4: =#REF! -> #REF! | AI4: =#REF! -> #REF! | AK4: 09:30-10:30 | AL4: =ORARIO_GENERALE!G4 | AM4: =#REF! -> #REF! | AN4: =#REF! -> #REF! | AO4: =#REF! -> #REF! | AP4: =ORARIO_GENERALE!G48 -> LAB | AR4: 09:30-10:30 | AS4: =#REF! -> #REF! | AT4: =#REF! -> #REF! | AU4: =#REF! -> #REF! | AV4: =#REF! -> #REF! | AW4: =ORARIO_GENERALE!I48 | AY4: 09:30-10:30 | AZ4: =#REF! -> #REF! | BA4: =#REF! -> #REF! | BB4: =#REF! -> #REF! | BC4: =#REF! -> #REF! | BD4: =#REF! -> #REF! | BF4: 09:30-10:30 | BG4: =#REF! -> #REF! | BH4: =#REF! -> #REF! | BI4: =#REF! -> #REF! | BJ4: =#REF! -> #REF! | BK4: =#REF! -> #REF! | BM4: 09:30-10:30 | BN4: =#REF! -> #REF! | BO4: =#REF! -> #REF! | BP4: =#REF! -> #REF! | BQ4: =#REF! -> #REF! | BR4: =#REF! -> #REF! | BT4: 09:30-10:30 | BU4: =#REF! -> #REF! | BV4: =#REF! -> #REF! | BW4: =#REF! -> #REF! | BX4: =#REF! -> #REF! | BY4: =#REF! -> #REF! | CA4: 09:30-10:30 | CB4: =#REF! -> #REF! | CC4: =#REF! -> #REF! | CD4: =#REF! -> #REF! | CE4: =#REF! -> #REF! | CF4: =#REF! -> #REF! | CH4: 09:30-10:30 | CI4: =#REF! -> #REF! | CJ4: =#REF! -> #REF! | CK4: =#REF! -> #REF! | CL4: =ORARIO_GENERALE!K38 -> MA2A 3 | CM4: =ORARIO_GENERALE!K48 -> MA2B L
B5: 10:30-11:30 | C5: =ORARIO_GENERALE!D5 -> MPPA 4 | D5: =ORARIO_GENERALE!D15 | E5: =#REF! -> #REF! | F5: =#REF! -> #REF! | G5: =ORARIO_GENERALE!D49 -> MPPA 7 | I5: 10:30-11:30 | J5: =ORARIO_GENERALE!E5 -> MPPC 7 | K5: =ORARIO_GENERALE!E15 | L5: =#REF! -> #REF! | M5: =#REF! -> #REF! | N5: =ORARIO_GENERALE!E49 -> LAB | P5: 10:30-11:30 | Q5: =#REF! -> #REF! | R5: =#REF! -> #REF! | S5: =#REF! -> #REF! | T5: =#REF! -> #REF! | U5: =#REF! -> #REF! | W5: 10:30-11:30 | X5: =ORARIO_GENERALE!F5 | Y5: =ORARIO_GENERALE!F15 -> MPPC 7 | Z5: =#REF! -> #REF! | AA5: =#REF! -> #REF! | AB5: =ORARIO_GENERALE!F49 -> D/A | AD5: 10:30-11:30 | AE5: =#REF! -> #REF! | AF5: =#REF! -> #REF! | AG5: =#REF! -> #REF! | AH5: =#REF! -> #REF! | AI5: =#REF! -> #REF! | AK5: 10:30-11:30 | AL5: =ORARIO_GENERALE!G5 | AM5: =ORARIO_GENERALE!G15 -> MPPA 4 | AN5: =#REF! -> #REF! | AO5: =#REF! -> #REF! | AP5: =ORARIO_GENERALE!G49 -> LAB | AR5: 10:30-11:30 | AS5: =#REF! -> #REF! | AT5: =ORARIO_GENERALE!D37 -> R/P D | AU5: =#REF! -> #REF! | AV5: =#REF! -> #REF! | AW5: =ORARIO_GENERALE!I49 -> D/A | AY5: 10:30-11:30 | AZ5: =#REF! -> #REF! | BA5: =#REF! -> #REF! | BB5: =#REF! -> #REF! | BC5: =#REF! -> #REF! | BD5: =#REF! -> #REF! | BF5: 10:30-11:30 | BG5: =#REF! -> #REF! | BH5: =#REF! -> #REF! | BI5: =#REF! -> #REF! | BJ5: =#REF! -> #REF! | BK5: =#REF! -> #REF! | BM5: 10:30-11:30 | BN5: =#REF! -> #REF! | BO5: =#REF! -> #REF! | BP5: =#REF! -> #REF! | BQ5: =#REF! -> #REF! | BR5: =#REF! -> #REF! | BT5: 10:30-11:30 | BU5: =#REF! -> #REF! | BV5: =#REF! -> #REF! | BW5: =#REF! -> #REF! | BX5: =#REF! -> #REF! | BY5: =#REF! -> #REF! | CA5: 10:30-11:30 | CB5: =#REF! -> #REF! | CC5: =#REF! -> #REF! | CD5: =#REF! -> #REF! | CE5: =#REF! -> #REF! | CF5: =#REF! -> #REF! | CH5: 10:30-11:30 | CI5: =#REF! -> #REF! | CJ5: =#REF! -> #REF! | CK5: =#REF! -> #REF! | CL5: =#REF! -> #REF! | CM5: =ORARIO_GENERALE!K49 -> MA2B L
B6: 11:30-12:30 | C6: =ORARIO_GENERALE!D6 -> MPPA 4 | D6: =ORARIO_GENERALE!D16 | E6: =#REF! -> #REF! | F6: =#REF! -> #REF! | G6: =ORARIO_GENERALE!D50 -> C | I6: 11:30-12:30 | J6: =ORARIO_GENERALE!E6 -> MPPC 7 | K6: =ORARIO_GENERALE!E16 | L6: =ORARIO_GENERALE!E26 | M6: =#REF! -> #REF! | N6: =ORARIO_GENERALE!E50 -> C | P6: 11:30-12:30 | Q6: =#REF! -> #REF! | R6: =#REF! -> #REF! | S6: =#REF! -> #REF! | T6: =#REF! -> #REF! | U6: =#REF! -> #REF! | W6: 11:30-12:30 | X6: =ORARIO_GENERALE!F6 | Y6: =ORARIO_GENERALE!F16 -> MPPC 7 | Z6: =#REF! -> #REF! | AA6: =#REF! -> #REF! | AB6: =ORARIO_GENERALE!F50 -> C | AD6: 11:30-12:30 | AE6: =#REF! -> #REF! | AF6: =#REF! -> #REF! | AG6: =#REF! -> #REF! | AH6: =#REF! -> #REF! | AI6: =#REF! -> #REF! | AK6: 11:30-12:30 | AL6: =#REF! -> #REF! | AM6: =ORARIO_GENERALE!G16 -> MPPA 4 | AN6: =ORARIO_GENERALE!F26 -> MPPA 4 | AO6: =#REF! -> #REF! | AP6: =ORARIO_GENERALE!G50 -> C | AR6: 11:30-12:30 | AS6: =#REF! -> #REF! | AT6: =ORARIO_GENERALE!D38 -> D/A | AU6: =ORARIO_GENERALE!K15 -> MA1D 3 | AV6: =#REF! -> #REF! | AW6: =ORARIO_GENERALE!I50 -> C | AY6: 11:30-12:30 | AZ6: =#REF! -> #REF! | BA6: =#REF! -> #REF! | BB6: =#REF! -> #REF! | BC6: =#REF! -> #REF! | BD6: =#REF! -> #REF! | BF6: 11:30-12:30 | BG6: =#REF! -> #REF! | BH6: =#REF! -> #REF! | BI6: =#REF! -> #REF! | BJ6: =#REF! -> #REF! | BK6: =ORARIO_GENERALE!K50 -> C | BM6: 11:30-12:30 | BN6: =#REF! -> #REF! | BO6: =#REF! -> #REF! | BP6: =#REF! -> #REF! | BQ6: =#REF! -> #REF! | BR6: =#REF! -> #REF! | BT6: 11:30-12:30 | BU6: =#REF! -> #REF! | BV6: =#REF! -> #REF! | BW6: =#REF! -> #REF! | BX6: =#REF! -> #REF! | BY6: =#REF! -> #REF! | CA6: 11:30-12:30 | CB6: =#REF! -> #REF! | CC6: =#REF! -> #REF! | CD6: =#REF! -> #REF! | CE6: =#REF! -> #REF! | CF6: =#REF! -> #REF! | CH6: 11:30-12:30 | CI6: =#REF! -> #REF! | CJ6: =#REF! -> #REF! | CK6: =#REF! -> #REF! | CL6: =ORARIO_GENERALE!K39 -> R/P D | CM6: =#REF! -> #REF!
B7: 12:30-13:30 | C7: =#REF! -> #REF! | D7: =ORARIO_GENERALE!D17 | E7: =#REF! -> #REF! | F7: =#REF! -> #REF! | G7: =ORARIO_GENERALE!D51 -> C | I7: 12:30-13:30 | J7: =#REF! -> #REF! | K7: =#REF! -> #REF! | L7: =ORARIO_GENERALE!E33 | M7: =#REF! -> #REF! | N7: =ORARIO_GENERALE!E51 -> C | P7: 12:30-13:30 | Q7: =#REF! -> #REF! | R7: =#REF! -> #REF! | S7: =#REF! -> #REF! | T7: =#REF! -> #REF! | U7: =#REF! -> #REF! | W7: 12:30-13:30 | X7: =ORARIO_GENERALE!F18 -> MPPD 1 | Y7: =ORARIO_GENERALE!E18 -> MPPB 7 | Z7: =ORARIO_GENERALE!F27 -> MPPA 4 | AA7: =ORARIO_GENERALE!F37 | AB7: =ORARIO_GENERALE!F51 -> C | AD7: 12:30-13:30 | AE7: =#REF! -> #REF! | AF7: =#REF! -> #REF! | AG7: =#REF! -> #REF! | AH7: =#REF! -> #REF! | AI7: =#REF! -> #REF! | AK7: 12:30-13:30 | AL7: =ORARIO_GENERALE!G6 -> D/A | AM7: =ORARIO_GENERALE!G17 -> MPPC 7 | AN7: =ORARIO_GENERALE!G27 -> MPPC 7 | AO7: =ORARIO_GENERALE!E37 -> MPPC 7 | AP7: =ORARIO_GENERALE!G51 -> C | AR7: 12:30-13:30 | AS7: =ORARIO_GENERALE!I6 -> MA0A 3 | AT7: =#REF! -> #REF! | AU7: =ORARIO_GENERALE!K16 -> MA1D 3 | AV7: =ORARIO_GENERALE!I27 | AW7: =ORARIO_GENERALE!I51 -> C | AY7: 12:30-13:30 | AZ7: =#REF! -> #REF! | BA7: =#REF! -> #REF! | BB7: =#REF! -> #REF! | BC7: =#REF! -> #REF! | BD7: =#REF! -> #REF! | BF7: 12:30-13:30 | BG7: =#REF! -> #REF! | BH7: =#REF! -> #REF! | BI7: =#REF! -> #REF! | BJ7: =#REF! -> #REF! | BK7: =ORARIO_GENERALE!K51 -> C | BM7: 12:30-13:30 | BN7: =#REF! -> #REF! | BO7: =#REF! -> #REF! | BP7: =#REF! -> #REF! | BQ7: =#REF! -> #REF! | BR7: =#REF! -> #REF! | BT7: 12:30-13:30 | BU7: =#REF! -> #REF! | BV7: =#REF! -> #REF! | BW7: =#REF! -> #REF! | BX7: =#REF! -> #REF! | BY7: =#REF! -> #REF! | CA7: 12:30-13:30 | CB7: =#REF! -> #REF! | CC7: =#REF! -> #REF! | CD7: =#REF! -> #REF! | CE7: =#REF! -> #REF! | CF7: =#REF! -> #REF! | CH7: 12:30-13:30 | CI7: =#REF! -> #REF! | CJ7: =#REF! -> #REF! | CK7: =#REF! -> #REF! | CL7: =#REF! -> #REF! | CM7: =#REF! -> #REF!
B8: 13:30-14:30 | C8: =ORARIO_GENERALE!D8 | D8: =#REF! -> #REF! | E8: =#REF! -> #REF! | F8: =#REF! -> #REF! | G8: =ORARIO_GENERALE!D53 | I8: 13:30-14:30 | J8: =ORARIO_GENERALE!E8 | K8: =#REF! -> #REF! | L8: =ORARIO_GENERALE!F28 -> MPPC 7 | M8: =ORARIO_GENERALE!E38 -> MPPC 7 | N8: =ORARIO_GENERALE!E53 | P8: 13:30-14:30 | Q8: =#REF! -> #REF! | R8: =#REF! -> #REF! | S8: =#REF! -> #REF! | T8: =#REF! -> #REF! | U8: =#REF! -> #REF! | W8: 13:30-14:30 | X8: =ORARIO_GENERALE!F8 -> R/P D | Y8: =#REF! -> #REF! | Z8: =#REF! -> #REF! | AA8: =ORARIO_GENERALE!F38 | AB8: =ORARIO_GENERALE!F53 | AD8: 13:30-14:30 | AE8: =#REF! -> #REF! | AF8: =#REF! -> #REF! | AG8: =#REF! -> #REF! | AH8: =#REF! -> #REF! | AI8: =#REF! -> #REF! | AK8: 13:30-14:30 | AL8: =ORARIO_GENERALE!G8 -> MPPB 4 | AM8: =ORARIO_GENERALE!G18 | AN8: =ORARIO_GENERALE!G28 -> MPPA 4 | AO8: =ORARIO_GENERALE!G38 | AP8: =ORARIO_GENERALE!G53 | AR8: 13:30-14:30 | AS8: =ORARIO_GENERALE!I29 | AT8: =ORARIO_GENERALE!I18 | AU8: =ORARIO_GENERALE!K17 -> R/P A0B | AV8: =ORARIO_GENERALE!I15 -> MA1E L | AW8: =ORARIO_GENERALE!I53 | AY8: 13:30-14:30 | AZ8: =#REF! -> #REF! | BA8: =#REF! -> #REF! | BB8: =#REF! -> #REF! | BC8: =#REF! -> #REF! | BD8: =#REF! -> #REF! | BF8: 13:30-14:30 | BG8: =#REF! -> #REF! | BH8: =#REF! -> #REF! | BI8: =#REF! -> #REF! | BJ8: =#REF! -> #REF! | BK8: =#REF! -> #REF! | BM8: 13:30-14:30 | BN8: =#REF! -> #REF! | BO8: =#REF! -> #REF! | BP8: =#REF! -> #REF! | BQ8: =#REF! -> #REF! | BR8: =#REF! -> #REF! | BT8: 13:30-14:30 | BU8: =#REF! -> #REF! | BV8: =#REF! -> #REF! | BW8: =#REF! -> #REF! | BX8: =#REF! -> #REF! | BY8: =#REF! -> #REF! | CA8: 13:30-14:30 | CB8: =#REF! -> #REF! | CC8: =#REF! -> #REF! | CD8: =#REF! -> #REF! | CE8: =#REF! -> #REF! | CF8: =#REF! -> #REF! | CH8: 13:30-14:30 | CI8: =#REF! -> #REF! | CJ8: =ORARIO_GENERALE!Q18 -> PERCORSI DI PRIMO PERIODO | CK8: =#REF! -> #REF! | CL8: =#REF! -> #REF! | CM8: =#REF! -> #REF!
B9: 14:00-15:00 | C9: =ORARIO_GENERALE!D9 | D9: =ORARIO_GENERALE!D18 -> R/P D | E9: =#REF! -> #REF! | F9: =#REF! -> #REF! | G9: =ORARIO_GENERALE!D54 | I9: 14:00-15:00 | J9: =ORARIO_GENERALE!E9 | K9: =ORARIO_GENERALE!G19 | L9: =ORARIO_GENERALE!E35 | M9: =#REF! -> #REF! | N9: =ORARIO_GENERALE!E54 | P9: 14:00-15:00 | Q9: =#REF! -> #REF! | R9: =#REF! -> #REF! | S9: =#REF! -> #REF! | T9: =#REF! -> #REF! | U9: =#REF! -> #REF! | W9: 14:00-15:00 | X9: =ORARIO_GENERALE!F9 -> MPPD 7 | Y9: =ORARIO_GENERALE!F19 -> R/P B | Z9: =ORARIO_GENERALE!F29 -> MPPB 7 | AA9: =ORARIO_GENERALE!F39 | AB9: =ORARIO_GENERALE!F54 | AD9: 14:00-15:00 | AE9: =#REF! -> #REF! | AF9: =#REF! -> #REF! | AG9: =#REF! -> #REF! | AH9: =#REF! -> #REF! | AI9: =#REF! -> #REF! | AK9: 14:00-15:00 | AL9: =ORARIO_GENERALE!G9 -> R/P D | AM9: =#REF! -> #REF! | AN9: =#REF! -> #REF! | AO9: =ORARIO_GENERALE!G39 | AP9: =ORARIO_GENERALE!G54 | AR9: 14:00-15:00 | AS9: =ORARIO_GENERALE!I9 | AT9: =ORARIO_GENERALE!I19 | AU9: =ORARIO_GENERALE!D27 | AV9: =ORARIO_GENERALE!I16 -> MA1E L | AW9: =ORARIO_GENERALE!I54 | AY9: 14:00-15:00 | AZ9: =#REF! -> #REF! | BA9: =#REF! -> #REF! | BB9: =#REF! -> #REF! | BC9: =#REF! -> #REF! | BD9: =#REF! -> #REF! | BF9: 14:00-15:00 | BG9: =ORARIO_GENERALE!K7 | BH9: =#REF! -> #REF! | BI9: =ORARIO_GENERALE!K43 | BJ9: =#REF! -> #REF! | BK9: =ORARIO_GENERALE!K54 | BM9: 14:00-15:00 | BN9: =#REF! -> #REF! | BO9: =#REF! -> #REF! | BP9: =#REF! -> #REF! | BQ9: =#REF! -> #REF! | BR9: =#REF! -> #REF! | BT9: 14:00-15:00 | BU9: =#REF! -> #REF! | BV9: =#REF! -> #REF! | BW9: =#REF! -> #REF! | BX9: =#REF! -> #REF! | BY9: =#REF! -> #REF! | CA9: 14:00-15:00 | CB9: =#REF! -> #REF! | CC9: =#REF! -> #REF! | CD9: =#REF! -> #REF! | CE9: =#REF! -> #REF! | CF9: =#REF! -> #REF! | CH9: 14:00-15:00 | CI9: =#REF! -> #REF! | CJ9: =#REF! -> #REF! | CK9: =#REF! -> #REF! | CL9: =#REF! -> #REF! | CM9: =#REF! -> #REF!
B10: 15:00-16:00 | C10: =ORARIO_GENERALE!D28 | D10: =ORARIO_GENERALE!D20 -> MPPD 1 | E10: =ORARIO_GENERALE!D30 -> MPPD 4 | F10: =ORARIO_GENERALE!D40 -> MPPD 1 | G10: =ORARIO_GENERALE!D55 | I10: 15:00-16:00 | J10: =ORARIO_GENERALE!E10 | K10: =ORARIO_GENERALE!E20 -> MPPB 7 | L10: =ORARIO_GENERALE!E30 -> MPPB 7 | M10: =ORARIO_GENERALE!E40 -> MPPB 7 | N10: =ORARIO_GENERALE!E55 | P10: 15:00-16:00 | Q10: =#REF! -> #REF! | R10: =#REF! -> #REF! | S10: =#REF! -> #REF! | T10: =#REF! -> #REF! | U10: =#REF! -> #REF! | W10: 15:00-16:00 | X10: =ORARIO_GENERALE!F10 -> R/P B | Y10: =ORARIO_GENERALE!F20 | Z10: =ORARIO_GENERALE!F30 | AA10: =#REF! -> #REF! | AB10: =ORARIO_GENERALE!F55 | AD10: 15:00-16:00 | AE10: =#REF! -> #REF! | AF10: =#REF! -> #REF! | AG10: =#REF! -> #REF! | AH10: =#REF! -> #REF! | AI10: =#REF! -> #REF! | AK10: 15:00-16:00 | AL10: =#REF! -> #REF! | AM10: =ORARIO_GENERALE!G20 | AN10: =ORARIO_GENERALE!G30 | AO10: =ORARIO_GENERALE!G40 | AP10: =ORARIO_GENERALE!G55 | AR10: 15:00-16:00 | AS10: =ORARIO_GENERALE!I10 | AT10: =#REF! -> #REF! | AU10: =#REF! -> #REF! | AV10: =ORARIO_GENERALE!I41 -> POT C L | AW10: =ORARIO_GENERALE!I55 | AY10: 15:00-16:00 | AZ10: =#REF! -> #REF! | BA10: =#REF! -> #REF! | BB10: =#REF! -> #REF! | BC10: =#REF! -> #REF! | BD10: =#REF! -> #REF! | BF10: 15:00-16:00 | BG10: =ORARIO_GENERALE!K8 | BH10: =ORARIO_GENERALE!K21 | BI10: =ORARIO_GENERALE!K44 | BJ10: =#REF! -> #REF! | BK10: =ORARIO_GENERALE!K55 | BM10: 15:00-16:00 | BN10: =#REF! -> #REF! | BO10: =#REF! -> #REF! | BP10: =#REF! -> #REF! | BQ10: =#REF! -> #REF! | BR10: =#REF! -> #REF! | BT10: 15:00-16:00 | BU10: =#REF! -> #REF! | BV10: =#REF! -> #REF! | BW10: =#REF! -> #REF! | BX10: =#REF! -> #REF! | BY10: =#REF! -> #REF! | CA10: 15:00-16:00 | CB10: =#REF! -> #REF! | CC10: =#REF! -> #REF! | CD10: =#REF! -> #REF! | CE10: =#REF! -> #REF! | CF10: =#REF! -> #REF! | CH10: 15:00-16:00 | CI10: =#REF! -> #REF! | CJ10: =#REF! -> #REF! | CK10: =#REF! -> #REF! | CL10: =#REF! -> #REF! | CM10: =#REF! -> #REF!
B11: 16:00-17:00 | C11: =ORARIO_GENERALE!D11 | D11: =ORARIO_GENERALE!D21 | E11: =ORARIO_GENERALE!D39 -> MPPA 4 | F11: =ORARIO_GENERALE!D41 -> MPPD 1 | G11: =ORARIO_GENERALE!D56 | I11: 16:00-17:00 | J11: =ORARIO_GENERALE!E11 | K11: =ORARIO_GENERALE!E21 | L11: =ORARIO_GENERALE!E17 | M11: =ORARIO_GENERALE!E41 | N11: =ORARIO_GENERALE!E56 | P11: 16:00-17:00 | Q11: =#REF! -> #REF! | R11: =#REF! -> #REF! | S11: =#REF! -> #REF! | T11: =#REF! -> #REF! | U11: =#REF! -> #REF! | W11: 16:00-17:00 | X11: =ORARIO_GENERALE!F11 | Y11: =ORARIO_GENERALE!F21 | Z11: =ORARIO_GENERALE!F31 | AA11: =ORARIO_GENERALE!F40 | AB11: =ORARIO_GENERALE!F56 | AD11: 16:00-17:00 | AE11: =#REF! -> #REF! | AF11: =#REF! -> #REF! | AG11: =#REF! -> #REF! | AH11: =#REF! -> #REF! | AI11: =#REF! -> #REF! | AK11: 16:00-17:00 | AL11: =ORARIO_GENERALE!G11 | AM11: =ORARIO_GENERALE!G21 | AN11: =ORARIO_GENERALE!G31 | AO11: =ORARIO_GENERALE!G41 -> MPPB 7 | AP11: =ORARIO_GENERALE!G56 | AR11: 16:00-17:00 | AS11: =ORARIO_GENERALE!I11 | AT11: =ORARIO_GENERALE!I21 | AU11: =ORARIO_GENERALE!I31 | AV11: =ORARIO_GENERALE!I42 | AW11: =ORARIO_GENERALE!I56 | AY11: 16:00-17:00 | AZ11: =#REF! -> #REF! | BA11: =#REF! -> #REF! | BB11: =#REF! -> #REF! | BC11: =#REF! -> #REF! | BD11: =#REF! -> #REF! | BF11: 16:00-17:00 | BG11: =ORARIO_GENERALE!K9 | BH11: =ORARIO_GENERALE!K22 | BI11: =ORARIO_GENERALE!K45 | BJ11: =#REF! -> #REF! | BK11: =ORARIO_GENERALE!K56 | BM11: 16:00-17:00 | BN11: =#REF! -> #REF! | BO11: =#REF! -> #REF! | BP11: =#REF! -> #REF! | BQ11: =#REF! -> #REF! | BR11: =#REF! -> #REF! | BT11: 16:00-17:00 | BU11: =#REF! -> #REF! | BV11: =#REF! -> #REF! | BW11: =#REF! -> #REF! | BX11: =#REF! -> #REF! | BY11: =#REF! -> #REF! | CA11: 16:00-17:00 | CB11: =#REF! -> #REF! | CC11: =#REF! -> #REF! | CD11: =#REF! -> #REF! | CE11: =#REF! -> #REF! | CF11: =#REF! -> #REF! | CH11: 16:00-17:00 | CI11: =#REF! -> #REF! | CJ11: =#REF! -> #REF! | CK11: =#REF! -> #REF! | CL11: =#REF! -> #REF! | CM11: =#REF! -> #REF!
B12: 17:00-18-00 | C12: =ORARIO_GENERALE!D12 | D12: =ORARIO_GENERALE!D23 | E12: =ORARIO_GENERALE!D34 | F12: =ORARIO_GENERALE!D42 | G12: =ORARIO_GENERALE!D57 | I12: 17:00-18-00 | J12: =ORARIO_GENERALE!E12 | K12: =ORARIO_GENERALE!E23 | L12: =#REF! -> #REF! | M12: =ORARIO_GENERALE!E39 -> MPPC 7 | N12: =ORARIO_GENERALE!E57 | P12: 17:00-18-00 | Q12: =#REF! -> #REF! | R12: =#REF! -> #REF! | S12: =#REF! -> #REF! | T12: =#REF! -> #REF! | U12: =#REF! -> #REF! | W12: 17:00-18-00 | X12: =ORARIO_GENERALE!F12 | Y12: =ORARIO_GENERALE!F23 | Z12: =ORARIO_GENERALE!G23 | AA12: =ORARIO_GENERALE!F42 -> MPPB 7 | AB12: =ORARIO_GENERALE!F57 | AD12: 17:00-18-00 | AE12: =#REF! -> #REF! | AF12: =#REF! -> #REF! | AG12: =#REF! -> #REF! | AH12: =#REF! -> #REF! | AI12: =#REF! -> #REF! | AK12: 17:00-18-00 | AL12: =ORARIO_GENERALE!G12 | AM12: =#REF! -> #REF! | AN12: =ORARIO_GENERALE!G34 | AO12: =ORARIO_GENERALE!O43 | AP12: =ORARIO_GENERALE!G57 | AR12: 17:00-18-00 | AS12: =#REF! -> #REF! | AT12: =ORARIO_GENERALE!I23 | AU12: =#REF! -> #REF! | AV12: =#REF! -> #REF! | AW12: =ORARIO_GENERALE!I57 | AY12: 17:00-18-00 | AZ12: =#REF! -> #REF! | BA12: =#REF! -> #REF! | BB12: =#REF! -> #REF! | BC12: =#REF! -> #REF! | BD12: =#REF! -> #REF! | BF12: 17:00-18-00 | BG12: =ORARIO_GENERALE!K10 -> R/P D | BH12: =ORARIO_GENERALE!K23 | BI12: =#REF! -> #REF! | BJ12: =#REF! -> #REF! | BK12: =ORARIO_GENERALE!K57 | BM12: 17:00-18-00 | BN12: =#REF! -> #REF! | BO12: =#REF! -> #REF! | BP12: =#REF! -> #REF! | BQ12: =#REF! -> #REF! | BR12: =#REF! -> #REF! | BT12: 17:00-18-00 | BU12: =#REF! -> #REF! | BV12: =#REF! -> #REF! | BW12: =#REF! -> #REF! | BX12: =#REF! -> #REF! | BY12: =#REF! -> #REF! | CA12: 17:00-18-00 | CB12: =#REF! -> #REF! | CC12: =#REF! -> #REF! | CD12: =#REF! -> #REF! | CE12: =#REF! -> #REF! | CF12: =#REF! -> #REF! | CH12: 17:00-18-00 | CI12: =#REF! -> #REF! | CJ12: =#REF! -> #REF! | CK12: =ORARIO_GENERALE!K46 | CL12: =#REF! -> #REF! | CM12: =#REF! -> #REF!
B13: 18:00-19:00 | C13: =ORARIO_GENERALE!D13 | D13: =ORARIO_GENERALE!D24 | E13: =ORARIO_GENERALE!D35 | F13: =ORARIO_GENERALE!D43 | G13: =ORARIO_GENERALE!D58 | I13: 18:00-19:00 | J13: =ORARIO_GENERALE!E13 | K13: =ORARIO_GENERALE!E24 | L13: =#REF! -> #REF! | M13: =ORARIO_GENERALE!E43 | N13: =ORARIO_GENERALE!E58 | P13: 18:00-19:00 | Q13: =#REF! -> #REF! | R13: =#REF! -> #REF! | S13: =#REF! -> #REF! | T13: =#REF! -> #REF! | U13: =#REF! -> #REF! | W13: 18:00-19:00 | X13: =ORARIO_GENERALE!Q36 | Y13: =ORARIO_GENERALE!F24 | Z13: =ORARIO_GENERALE!F35 | AA13: =ORARIO_GENERALE!F43 -> MPPB 7 | AB13: =ORARIO_GENERALE!F58 | AD13: 18:00-19:00 | AE13: =#REF! -> #REF! | AF13: =#REF! -> #REF! | AG13: =#REF! -> #REF! | AH13: =#REF! -> #REF! | AI13: =#REF! -> #REF! | AK13: 18:00-19:00 | AL13: =ORARIO_GENERALE!G13 | AM13: =ORARIO_GENERALE!G24 | AN13: =ORARIO_GENERALE!G35 | AO13: =ORARIO_GENERALE!G43 -> MPPD 1 | AP13: =ORARIO_GENERALE!G58 | AR13: 18:00-19:00 | AS13: =#REF! -> #REF! | AT13: =ORARIO_GENERALE!I24 | AU13: =ORARIO_GENERALE!I35 -> MA1C 3 | AV13: =ORARIO_GENERALE!I43 | AW13: =ORARIO_GENERALE!I58 | AY13: 18:00-19:00 | AZ13: =#REF! -> #REF! | BA13: =#REF! -> #REF! | BB13: =#REF! -> #REF! | BC13: =#REF! -> #REF! | BD13: =#REF! -> #REF! | BF13: 18:00-19:00 | BG13: =ORARIO_GENERALE!K11 -> D/A | BH13: =ORARIO_GENERALE!K24 | BI13: =#REF! -> #REF! | BJ13: =#REF! -> #REF! | BK13: =ORARIO_GENERALE!K58 | BM13: 18:00-19:00 | BN13: =#REF! -> #REF! | BO13: =#REF! -> #REF! | BP13: =#REF! -> #REF! | BQ13: =#REF! -> #REF! | BR13: =#REF! -> #REF! | BT13: 18:00-19:00 | BU13: =#REF! -> #REF! | BV13: =#REF! -> #REF! | BW13: =#REF! -> #REF! | BX13: =#REF! -> #REF! | BY13: =#REF! -> #REF! | CA13: 18:00-19:00 | CB13: =#REF! -> #REF! | CC13: =#REF! -> #REF! | CD13: =#REF! -> #REF! | CE13: =#REF! -> #REF! | CF13: =#REF! -> #REF! | CH13: 18:00-19:00 | CI13: =#REF! -> #REF! | CJ13: =#REF! -> #REF! | CK13: =ORARIO_GENERALE!K47 | CL13: =#REF! -> #REF! | CM13: =#REF! -> #REF!
