Workbook

Sheet ORARIO_GENERALE
B2: SEDE DI MAGENTA - ORARIO DAL 3 novembreBRE 2026
D3: ITALIANO R | E3: ITALIANO P | F3: INGLESE | G3: MAT/SCIENZE | H3: TECNOLOGIA | I3: POTENZIAMENTO | K3: ALFABETIZZAZIONE M | L3: ALFABETIZZAZIONE R | M3: ALFABETIZZAZIONE Q
B4: LUNEDÌ | C4: 09:00-10:00 | D4: MPPA 4 | E4: MPPC 7 | I4: MA1E 3 | L4: MA1D 2
C5: 10:00-11:00 | D5: MPPA 4 | E5: MPPC 7 | I5: MA1E 3 | L5: MA1D 2
C6: 11:00-12:00 | D6: MPPA 4 | E6: MPPC 7 | G6: D/A | I6: MA0A 3 | L6: MA2A 2
C7: 12:00-13:00 | F7: R/P D | G7: MPPB 4 | H7: MPPD 7 | I7: MA0A 3 | L7: MA2A 2
C8: 13:00-14:00 | F8: R/P D | G8: MPPB 4 | H8: MPPD 7 | L8: R/P B
C9: 14:00-15:00 | F9: MPPD 7 | G9: R/P D | H9: MPPB 4
C10: 15:00-16:00 | F10: R/P B | G10: MPPD 7 | H10: MPPB 4 | K10: R/P D
C11: 16:00-17:00 | K11: D/A | P11: D | Q11: DISPOSIZIONE
C12: 17:00-18:00 | K12: MA1C | M12: MA2C | P12: C/A | Q12: COORDINAMENTO O ACCOGLIENZA
C13: 18:00-19:00 | K13: MA1C | M13: MA2C | P13: P | Q13: PROGRAMMAZIONE
C14: 19:00-20:00 | K14: MA1C | M14: MA2C
B15: MARTEDÌ | C15: 09:00-10:00 | F15: MPPC 7 | G15: MPPA 4 | H15: R/P C | I15: MA1E L | K15: MA1D 3 | L15: MA0B 1 | M15: MA1B 2 | P15: PERCORSI DI PRIMO LIVELLO
C16: 10:00-11:00 | F16: MPPC 7 | G16: MPPA 4 | H16: R/P C | I16: MA1E L | K16: MA1D 3 | L16: MA0B 1 | M16: MA1B 2
C17: 11:00-12:00 | F17: MPPA 4 | G17: MPPC 7 | H17: R/P A | K17: R/P A0B | L17: MA0B 1 | M17: MA1B 2 | P17: MPPA | Q17: PERCORSI DI PRIMO PERIODO
C18: 12:00-13:00 | D18: R/P D | E18: MPPB 7 | F18: MPPD 1 | K18: P | L18: P | M18: P | P18: MPPB | Q18: PERCORSI DI PRIMO PERIODO
C19: 13:00-14:00 | D19: MPPD 1 | E19: MPPB 7 | F19: R/P B | K19: P | L19: P | M19: P | P19: MPPC | Q19: PERCORSI DI PRIMO PERIODO
C20: 14:00-15:00 | D20: MPPD 1 | E20: MPPB 7 | M20: R/P B | P20: MPPD | Q20: PERCORSI DI PRIMO PERIODO
C21: 15:00-16:00
C22: 16:00-17:00 | P22: PERCORSI DI ALFABETIZZAZIONE
C23: 17:00-18:00 | P23: A0 | Q23: PRE-A-1
C24: 18:00-19:00 | P24: A1 | Q24: A-1
C25: 19:00-20:00 | P25: A2 | Q25: A-2
B26: MERCOLEDÌ | C26: 09:00-10:00 | F26: MPPA 4 | G26: MPPC 7 | K26: MA2A 3 | M26: MA1B 2
C27: 10:00-11:00 | F27: MPPA 4 | G27: MPPC 7 | H27: R/P A | K27: MA2A 3 | M27: MA1B 2
C28: 11:00-12:00 | E28: D/A | F28: MPPC 7 | G28: MPPA 4 | H28: INF B | K28: MA1A 3 | M28: MA1B 2
C29: 12:00-13:00 | D29: MPPD 4 | E29: R/P C | F29: MPPB 7 | H29: INF A | K29: MA1A 3 | M29: MA2B 2 | P29: PERCORSI DI AMPLIAMENTO
C30: 13:00-14:00 | D30: MPPD 4 | E30: MPPB 7 | K30: R/P A2 | M30: MA2B 2
C31: 14:00-15:00 | D31: MPPD 4 | E31: MPPB 7
C32: 15:00-16:00 | I32: POT D 1 | L32: R/P D | P32: LAB | Q32: LABORATORIO- PROGETTI: AI,
C33: 16:00-17:00 | I33: POT D 1 | L33: R/P D | P33: POT | Q33: POTENZIAMENTO
C34: 17:00-18:00 | I34: MA1C 3 | L34: MA2C | P34: R/P | Q34: RECUPERO, POTENZIAMENTO IN COMPRESENZA
C35: 18:00-19:00 | I35: MA1C 3 | L35: MA2C | P35: INF | Q35: INFORMATICA
C36: 19:00-20:00 | I36: MA1C 3 | L36: MA2C
B37: GIOVEDÌ | C37: 09:00-10:00 | D37: R/P D | E37: MPPC 7 | H37: MPPA 4 | K37: MA2A 3 | L37: MA1E 1 | M37: MA2B 2
C38: 10:00-11:00 | D38: D/A | E38: MPPC 7 | H38: MPPA 4 | I38: POT D L | K38: MA2A 3 | L38: MA1E 1 | M38: MA2B 2
C39: 11:00-12:00 | D39: MPPA 4 | E39: MPPC 7 | H39: R/P D | I39: POT D L | K39: R/P D | L39: D | M39: MA1A 2
C40: 12:00-13:00 | D40: MPPD 1 | E40: MPPB 7 | I40: POT C L | K40: MA0A 3 | L40: MA1D 4 | M40: MA1A 2
C41: 13:00-14:00 | D41: MPPD 1 | G41: MPPB 7 | I41: POT C L | K41: MA0A 3 | L41: MA1D 4 | M41: R/P A 1
C42: 14:00-15:00 | F42: MPPB 7 | G42: MPPD 1 | M42: D
C43: 15:00-16:00 | F43: MPPB 7 | G43: MPPD 1
C44: 16:00-17:00
C45: 17:00-18:00
C46: 18:00-19:00
C47: 19:00-20:00
B48: VENERDÌ | C48: 09:00-10:00 | D48: MPPA 7 | E48: D/A | G48: LAB | H48: MPPC 4 | K48: MA2B L | L48: MA0B 2 | M48: MA1A 3
C49: 10:00-11:00 | D49: MPPA 7 | E49: LAB | F49: D/A | G49: LAB | H49: MPPC 4 | I49: D/A | K49: MA2B L | L49: MA0B 2 | M49: MA1A 3
C50: 11:00-12:00 | D50: C | E50: C | F50: C | G50: C | H50: C | I50: C | K50: C | L50: C | M50: C
C51: 12:00-13:00 | D51: C | E51: C | F51: C | G51: C | H51: C | I51: C | K51: C | L51: C | M51: C
C52: 13:00-14:00
C53: 14:00-15:00
B55: Documento informatico ai sensi del D.L. 82/2005 e aggiornato al D.L. 217/2017 art 1.comma 1 lettera P
B57: IL D.S. prof. LUIGI AMBROSI

Sheet Foglio2

Sheet ORARIO_DOCENTICORSI
D2: I LIVELLO CORSI | J2: I LIVELLO DOCENTI
B3: MPPB | C3: LUN | D3: MAR | E3: MER | F3: GIO | H3: CUFFARO | I3: LUN | J3: MAR | K3: MER | L3: GIO | M3: VEN
H4: =ORARIO_GENERALE!C4:C14 -> 09:00-10:00 | I4: =HLOOKUP($H$3,ORARIO_GENERALE!$D$3:$I$53,2,0) -> #N/A | J4: =HLOOKUP($H$3,ORARIO_GENERALE!$D$3:$I$53,13,0) -> #N/A | K4: =HLOOKUP($H$3,ORARIO_GENERALE!$D$3:$I$53,24,0) -> #N/A | L4: =HLOOKUP($H$3,ORARIO_GENERALE!$D$3:$I$53,35,0) -> #N/A | M4: =HLOOKUP($H$3,ORARIO_GENERALE!$D$3:$I$53,46,0) -> #N/A
B5: =ORARIO_GENERALE!C4 -> 09:00-10:00 | C5: {=IFERROR(INDEX(ORARIO_GENERALE!$D$3:$I$3,MATCH("*"&$B$3&"*",ORARIO_GENERALE!D4:M4,0)),"")} | D5: {=IFERROR(INDEX(ORARIO_GENERALE!$D$3:$I$3,MATCH("*"&$B$3&"*",#REF!,0)),"")} | E5: {=IFERROR(INDEX(ORARIO_GENERALE!$D$3:$I$3,MATCH("*"&$B$3&"*",#REF!,0)),"")} | F5: {=IFERROR(INDEX(ORARIO_GENERALE!$D$3:$I$3,MATCH("*"&$B$3&"*",#REF!,0)),"")} | H5: =ORARIO_GENERALE!C4:C14 -> 10:00-11:00 | I5: =HLOOKUP($H$3,ORARIO_GENERALE!$D$3:$I$53,3,0) -> #N/A | J5: =HLOOKUP($H$3,ORARIO_GENERALE!$D$3:$I$53,14,0) -> #N/A | K5: =HLOOKUP($H$3,ORARIO_GENERALE!$D$3:$I$53,25,0) -> #N/A | L5: =HLOOKUP($H$3,ORARIO_GENERALE!$D$3:$I$53,36,0) -> #N/A | M5: =HLOOKUP($H$3,ORARIO_GENERALE!$D$3:$I$53,47,0) -> #N/A
B6: =ORARIO_GENERALE!C5 -> 10:00-11:00 | C6: {=IFERROR(INDEX(ORARIO_GENERALE!$D$3:$I$3,MATCH("*"&$B$3&"*",ORARIO_GENERALE!D5:M5,0)),"")} | D6: {=IFERROR(INDEX(ORARIO_GENERALE!$D$3:$I$3,MATCH("*"&$B$3&"*",ORARIO_GENERALE!D15:K15,0)),"")} | E6: {=IFERROR(INDEX(ORARIO_GENERALE!$D$3:$I$3,MATCH("*"&$B$3&"*",ORARIO_GENERALE!E15:J15,0)),"")} | F6: {=IFERROR(INDEX(ORARIO_GENERALE!$D$3:$I$3,MATCH("*"&$B$3&"*",ORARIO_GENERALE!F15:K15,0)),"")} | H6: =ORARIO_GENERALE!C5:C15 -> 11:00-12:00 | I6: =HLOOKUP($H$3,ORARIO_GENERALE!$D$3:$I$53,4,0) -> #N/A | J6: =HLOOKUP($H$3,ORARIO_GENERALE!$D$3:$I$53,15,0) -> #N/A | K6: =HLOOKUP($H$3,ORARIO_GENERALE!$D$3:$I$53,26,0) -> #N/A | L6: =HLOOKUP($H$3,ORARIO_GENERALE!$D$3:$I$53,37,0) -> #N/A | M6: =HLOOKUP($H$3,ORARIO_GENERALE!$D$3:$I$53,48,0) -> #N/A
B7: =ORARIO_GENERALE!C6 -> 11:00-12:00 | C7: {=IFERROR(INDEX(ORARIO_GENERALE!$D$3:$I$3,MATCH("*"&$B$3&"*",ORARIO_GENERALE!D6:M6,0)),"")} | D7: {=IFERROR(INDEX(ORARIO_GENERALE!$D$3:$I$3,MATCH("*"&$B$3&"*",ORARIO_GENERALE!D16:K16,0)),"")} | E7: {=IFERROR(INDEX(ORARIO_GENERALE!$D$3:$I$3,MATCH("*"&$B$3&"*",ORARIO_GENERALE!E16:J16,0)),"")} | F7: {=IFERROR(INDEX(ORARIO_GENERALE!$D$3:$I$3,MATCH("*"&$B$3&"*",ORARIO_GENERALE!F16:K16,0)),"")} | H7: =ORARIO_GENERALE!C6:C16 -> 12:00-13:00 | I7: =HLOOKUP($H$3,ORARIO_GENERALE!$D$3:$I$53,5,0) -> #N/A | J7: =HLOOKUP($H$3,ORARIO_GENERALE!$D$3:$I$53,16,0) -> #N/A | K7: =HLOOKUP($H$3,ORARIO_GENERALE!$D$3:$I$53,27,0) -> #N/A | L7: =HLOOKUP($H$3,ORARIO_GENERALE!$D$3:$I$53,38,0) -> #N/A | M7: =HLOOKUP($H$3,ORARIO_GENERALE!$D$3:$I$53,49,0) -> #N/A
B8: =ORARIO_GENERALE!C7 -> 12:00-13:00 | C8: {=IFERROR(INDEX(ORARIO_GENERALE!$D$3:$I$3,MATCH("*"&$B$3&"*",ORARIO_GENERALE!D7:I7,0)),"")} -> MAT/SCIENZE | D8: {=IFERROR(INDEX(ORARIO_GENERALE!$D$3:$I$3,MATCH("*"&$B$3&"*",ORARIO_GENERALE!D17:K17,0)),"")} | E8: {=IFERROR(INDEX(ORARIO_GENERALE!$D$3:$I$3,MATCH("*"&$B$3&"*",ORARIO_GENERALE!E17:J17,0)),"")} | F8: {=IFERROR(INDEX(ORARIO_GENERALE!$D$3:$I$3,MATCH("*"&$B$3&"*",ORARIO_GENERALE!E17:K17,0)),"")} | H8: =ORARIO_GENERALE!C7:C17 -> 13:00-14:00 | I8: =HLOOKUP($H$3,ORARIO_GENERALE!$D$3:$I$53,6,0) -> #N/A | J8: =HLOOKUP($H$3,ORARIO_GENERALE!$D$3:$I$53,17,0) -> #N/A | K8: =HLOOKUP($H$3,ORARIO_GENERALE!$D$3:$I$53,28,0) -> #N/A | L8: =HLOOKUP($H$3,ORARIO_GENERALE!$D$3:$I$53,39,0) -> #N/A | M8: =HLOOKUP($H$3,ORARIO_GENERALE!$D$3:$I$53,50,0) -> #N/A
B9: =ORARIO_GENERALE!C8 -> 13:00-14:00 | C9: {=IFERROR(INDEX(ORARIO_GENERALE!$D$3:$I$3,MATCH("*"&$B$3&"*",ORARIO_GENERALE!D8:I8,0)),"")} -> MAT/SCIENZE | D9: {=IFERROR(INDEX(ORARIO_GENERALE!$D$3:$I$3,MATCH("*"&$B$3&"*",ORARIO_GENERALE!D18:I18,0)),"")} -> ITALIANO P | E9: {=IFERROR(INDEX(ORARIO_GENERALE!$D$3:$I$3,MATCH("*"&$B$3&"*",ORARIO_GENERALE!E18:J18,0)),"")} -> ITALIANO R | F9: {=IFERROR(INDEX(ORARIO_GENERALE!$D$3:$I$3,MATCH("*"&$B$3&"*",ORARIO_GENERALE!F18:K18,0)),"")} | H9: =ORARIO_GENERALE!C8:C18 -> 14:00-15:00 | I9: =HLOOKUP($H$3,ORARIO_GENERALE!$D$3:$I$53,7,0) -> #N/A | J9: =HLOOKUP($H$3,ORARIO_GENERALE!$D$3:$I$53,18,0) -> #N/A | K9: =HLOOKUP($H$3,ORARIO_GENERALE!$D$3:$I$53,29,0) -> #N/A | L9: =HLOOKUP($H$3,ORARIO_GENERALE!$D$3:$I$53,40,0) -> #N/A | M9: =HLOOKUP($H$3,ORARIO_GENERALE!$D$3:$I$53,51,0) -> #N/A
B10: =ORARIO_GENERALE!C9 -> 14:00-15:00 | C10: {=IFERROR(INDEX(ORARIO_GENERALE!$D$3:$I$3,MATCH("*"&$B$3&"*",ORARIO_GENERALE!D9:I9,0)),"")} -> TECNOLOGIA | D10: {=IFERROR(INDEX(ORARIO_GENERALE!$D$3:$I$3,MATCH("*"&$B$3&"*",ORARIO_GENERALE!D19:I19,0)),"")} -> ITALIANO P | E10: {=IFERROR(INDEX(ORARIO_GENERALE!$D$3:$I$3,MATCH("*"&$B$3&"*",ORARIO_GENERALE!F19:J19,0)),"")} | F10: {=IFERROR(INDEX(ORARIO_GENERALE!$D$3:$I$3,MATCH("*"&$B$3&"*",ORARIO_GENERALE!F19:K19,0)),"")} | H10: =ORARIO_GENERALE!C9:C19 -> 15:00-16:00 | I10: =HLOOKUP($H$3,ORARIO_GENERALE!$D$3:$I$53,8,0) -> #N/A | J10: =HLOOKUP($H$3,ORARIO_GENERALE!$D$3:$I$53,19,0) -> #N/A | K10: =HLOOKUP($H$3,ORARIO_GENERALE!$D$3:$I$53,30,0) -> #N/A | L10: =HLOOKUP($H$3,ORARIO_GENERALE!$D$3:$I$53,41,0) -> #N/A
B11: =ORARIO_GENERALE!C10 -> 15:00-16:00 | C11: {=IFERROR(INDEX(ORARIO_GENERALE!$D$3:$I$3,MATCH("*"&$B$3&"*",ORARIO_GENERALE!D10:I10,0)),"")} -> TECNOLOGIA | D11: {=IFERROR(INDEX(ORARIO_GENERALE!$D$3:$I$3,MATCH("*"&$B$3&"*",ORARIO_GENERALE!D20:I20,0)),"")} -> ITALIANO P | E11: {=IFERROR(INDEX(ORARIO_GENERALE!$D$3:$I$3,MATCH("*"&$B$3&"*",ORARIO_GENERALE!D30:I30,0)),"")} -> ITALIANO P | F11: {=IFERROR(INDEX(ORARIO_GENERALE!$D$3:$I$3,MATCH("*"&$B$3&"*",ORARIO_GENERALE!D40:I40,0)),"")} -> ITALIANO P | H11: =ORARIO_GENERALE!C10:C20 -> 16:00-17:00 | I11: =HLOOKUP($H$3,ORARIO_GENERALE!$D$3:$I$53,9,0) -> #N/A | J11: =HLOOKUP($H$3,ORARIO_GENERALE!$D$3:$I$53,20,0) -> #N/A | K11: =HLOOKUP($H$3,ORARIO_GENERALE!$D$3:$I$53,31,0) -> #N/A | L11: =HLOOKUP($H$3,ORARIO_GENERALE!$D$3:$I$53,42,0) -> #N/A
B12: =ORARIO_GENERALE!C11 -> 16:00-17:00 | C12: {=IFERROR(INDEX(ORARIO_GENERALE!$D$3:$I$3,MATCH("*"&$B$3&"*",ORARIO_GENERALE!D11:I11,0)),"")} | D12: {=IFERROR(INDEX(ORARIO_GENERALE!$D$3:$I$3,MATCH("*"&$B$3&"*",ORARIO_GENERALE!D21:I21,0)),"")} | E12: {=IFERROR(INDEX(ORARIO_GENERALE!$D$3:$I$3,MATCH("*"&$B$3&"*",ORARIO_GENERALE!D31:I31,0)),"")} -> ITALIANO P | F12: {=IFERROR(INDEX(ORARIO_GENERALE!$D$3:$I$3,MATCH("*"&$B$3&"*",ORARIO_GENERALE!D41:I41,0)),"")} -> MAT/SCIENZE | H12: =ORARIO_GENERALE!C11:C21 -> 17:00-18:00 | I12: =HLOOKUP($H$3,ORARIO_GENERALE!$D$3:$I$53,10,0) -> #N/A | J12: =HLOOKUP($H$3,ORARIO_GENERALE!$D$3:$I$53,21,0) -> #N/A | K12: =HLOOKUP($H$3,ORARIO_GENERALE!$D$3:$I$53,32,0) -> #N/A | L12: =HLOOKUP($H$3,ORARIO_GENERALE!$D$3:$I$53,43,0) -> #N/A
B13: =ORARIO_GENERALE!C12 -> 17:00-18:00 | C13: {=IFERROR(INDEX(ORARIO_GENERALE!$D$3:$I$3,MATCH("*"&$B$3&"*",ORARIO_GENERALE!D12:I12,0)),"")} | D13: {=IFERROR(INDEX(ORARIO_GENERALE!$D$3:$I$3,MATCH("*"&$B$3&"*",ORARIO_GENERALE!D23:I23,0)),"")} | E13: {=IFERROR(INDEX(ORARIO_GENERALE!$D$3:$I$3,MATCH("*"&$B$3&"*",ORARIO_GENERALE!D34:I34,0)),"")} | F13: {=IFERROR(INDEX(ORARIO_GENERALE!$D$3:$I$3,MATCH("*"&$B$3&"*",ORARIO_GENERALE!D42:I42,0)),"")} -> INGLESE | H13: =ORARIO_GENERALE!C12:C22 -> 18:00-19:00 | I13: =HLOOKUP($H$3,ORARIO_GENERALE!$D$3:$I$53,11,0) -> #N/A | J13: =HLOOKUP($H$3,ORARIO_GENERALE!$D$3:$I$53,22,0) -> #N/A | L13: =HLOOKUP($H$3,ORARIO_GENERALE!$D$3:$I$53,44,0) -> #N/A
B14: =ORARIO_GENERALE!C13 -> 18:00-19:00 | C14: {=IFERROR(INDEX(ORARIO_GENERALE!$D$3:$I$3,MATCH("*"&$B$3&"*",ORARIO_GENERALE!D13:I13,0)),"")} | D14: {=IFERROR(INDEX(ORARIO_GENERALE!$D$3:$I$3,MATCH("*"&$B$3&"*",ORARIO_GENERALE!D24:I24,0)),"")} | E14: {=IFERROR(INDEX(ORARIO_GENERALE!$D$3:$I$3,MATCH("*"&$B$3&"*",ORARIO_GENERALE!D35:I35,0)),"")} | F14: {=IFERROR(INDEX(ORARIO_GENERALE!$D$3:$I$3,MATCH("*"&$B$3&"*",ORARIO_GENERALE!D43:I43,0)),"")} -> INGLESE | H14: =ORARIO_GENERALE!C13:C23 -> 19:00-20:00 | I14: =HLOOKUP($H$3,ORARIO_GENERALE!$D$3:$I$53,12,0) -> #N/A | J14: =HLOOKUP($H$3,ORARIO_GENERALE!$D$3:$I$53,23,0) -> #N/A | K14: =HLOOKUP($H$3,ORARIO_GENERALE!$D$3:$I$53,33,0) -> #N/A | L14: =HLOOKUP($H$3,ORARIO_GENERALE!$D$3:$I$53,45,0) -> #N/A
B15: =ORARIO_GENERALE!C14 -> 19:00-20:00 | C15: {=IFERROR(INDEX(ORARIO_GENERALE!$D$3:$I$3,MATCH("*"&$B$3&"*",ORARIO_GENERALE!D14:I14,0)),"")} | D15: {=IFERROR(INDEX(ORARIO_GENERALE!$D$3:$I$3,MATCH("*"&$B$3&"*",ORARIO_GENERALE!D25:I25,0)),"")} | E15: {=IFERROR(INDEX(ORARIO_GENERALE!$D$3:$I$3,MATCH("*"&$B$3&"*",ORARIO_GENERALE!D36:I36,0)),"")} | F15: {=IFERROR(INDEX(ORARIO_GENERALE!$D$3:$I$3,MATCH("*"&$B$3&"*",ORARIO_GENERALE!D47:I47,0)),"")} | H15: =ORARIO_GENERALE!C14:C24 -> 09:00-10:00 | L15: =HLOOKUP($H$3,ORARIO_GENERALE!$D$3:$I$53,46,0) -> #N/A
C16: {=IFERROR(INDEX(ORARIO_GENERALE!$D$3:$I$3,MATCH("*"&$B$3&"*",#REF!,0)),"")} | D16: {=IFERROR(INDEX(ORARIO_GENERALE!$D$3:$I$3,MATCH("*"&$B$3&"*",#REF!,0)),"")} | E16: {=IFERROR(INDEX(ORARIO_GENERALE!$D$3:$I$3,MATCH("*"&$B$3&"*",#REF!,0)),"")} | F16: {=IFERROR(INDEX(ORARIO_GENERALE!$D$3:$I$3,MATCH("*"&$B$3&"*",#REF!,0)),"")} | H16: =ORARIO_GENERALE!C15:C25 -> 10:00-11:00
D18: L 2 CORSI | K18: L 2 DOCENTI
B19: MA1A | C19: LUN | D19: MAR | E19: MER | F19: GIO | G19: VEN | I19: BORGO | J19: LUN | K19: MAR | L19: MER | M19: GIO | N19: VEN
B20: =ORARIO_GENERALE!J4 | I20: 08:00-09:00
B21: =ORARIO_GENERALE!C4 -> 09:00-10:00 | C21: {=IFERROR(INDEX(ORARIO_GENERALE!$D$3:$M$3,MATCH("*"&$B$19&"*",ORARIO_GENERALE!$D4:$M4,0)),"")} | D21: {=IFERROR(INDEX(ORARIO_GENERALE!$D$3:$M$3,MATCH("*"&$B$19&"*",ORARIO_GENERALE!$D15:$M15,0)),"")} | E21: {=(IFERROR(INDEX(ORARIO_GENERALE!$D$3:$M$3,MATCH("*"&$B$19&"*",ORARIO_GENERALE!$E26:$M26,0)),""))} | F21: {=IFERROR(INDEX(ORARIO_GENERALE!$D$3:$M$3,MATCH("*"&$B$19&"*",ORARIO_GENERALE!$D37:$O37,0)),"")} | G21: {=IFERROR(INDEX(ORARIO_GENERALE!$D$3:$M$3,MATCH("*"&$B$19&"*",ORARIO_GENERALE!$D48:$M48,0)),"")} -> ALFABETIZZAZIONE Q | I21: 09:00-10:00 | J21: =HLOOKUP($I$19,ORARIO_GENERALE!$K$3:$M$53,2,0) -> #N/A | K21: =HLOOKUP($I$19,ORARIO_GENERALE!$K$3:$M$53,14,0) -> #N/A | L21: =HLOOKUP($I$19,ORARIO_GENERALE!$K$3:$M$53,24,0) -> #N/A | M21: =HLOOKUP($I$19,ORARIO_GENERALE!$K$3:$M$53,34,0) -> #N/A | N21: =HLOOKUP($I$19,ORARIO_GENERALE!$K$3:$M$53,46,0) -> #N/A
B22: =ORARIO_GENERALE!C5 -> 10:00-11:00 | C22: {=IFERROR(INDEX(ORARIO_GENERALE!$D$3:$M$3,MATCH("*"&$B$19&"*",ORARIO_GENERALE!$D5:$M5,0)),"")} | D22: {=IFERROR(INDEX(ORARIO_GENERALE!$D$3:$M$3,MATCH("*"&$B$19&"*",ORARIO_GENERALE!$D16:$M16,0)),"")} | E22: {=IFERROR(INDEX(ORARIO_GENERALE!$D$3:$M$3,MATCH("*"&$B$19&"*",ORARIO_GENERALE!$E27:$M27,0)),"")} | F22: {=IFERROR(INDEX(ORARIO_GENERALE!$D$3:$M$3,MATCH("*"&$B$19&"*",ORARIO_GENERALE!$D38:$O38,0)),"")} | G22: {=IFERROR(INDEX(ORARIO_GENERALE!$D$3:$M$3,MATCH("*"&$B$19&"*",ORARIO_GENERALE!$D49:$M49,0)),"")} -> ALFABETIZZAZIONE Q | I22: 10:00-11:00 | J22: =HLOOKUP($I$19,ORARIO_GENERALE!$K$3:$M$53,3,0) -> #N/A | K22: =HLOOKUP($I$19,ORARIO_GENERALE!$K$3:$M$53,14,0) -> #N/A | L22: =HLOOKUP($I$19,ORARIO_GENERALE!$K$3:$M$53,25,0) -> #N/A | M22: =HLOOKUP($I$19,ORARIO_GENERALE!$K$3:$M$53,35,0) -> #N/A | N22: =HLOOKUP($I$19,ORARIO_GENERALE!$K$3:$M$53,47,0) -> #N/A
B23: =ORARIO_GENERALE!C6 -> 11:00-12:00 | C23: {=IFERROR(INDEX(ORARIO_GENERALE!$D$3:$M$3,MATCH("*"&$B$19&"*",ORARIO_GENERALE!$D6:$M6,0)),"")} | D23: {=IFERROR(INDEX(ORARIO_GENERALE!$D$3:$M$3,MATCH("*"&$B$19&"*",ORARIO_GENERALE!$D17:$M17,0)),"")} | E23: {=IFERROR(INDEX(ORARIO_GENERALE!$D$3:$M$3,MATCH("*"&$B$19&"*",ORARIO_GENERALE!$D28:$M28,0)),"")} -> ALFABETIZZAZIONE M | F23: {=IFERROR(INDEX(ORARIO_GENERALE!$D$3:$M$3,MATCH("*"&$B$19&"*",ORARIO_GENERALE!$D39:$O39,0)),"")} -> ALFABETIZZAZIONE Q | G23: {=IFERROR(INDEX(ORARIO_GENERALE!$D$3:$M$3,MATCH("*"&$B$19&"*",ORARIO_GENERALE!$D50:$M50,0)),"")} | I23: 11:00-12:00 | J23: =HLOOKUP($I$19,ORARIO_GENERALE!$K$3:$M$53,4,0) -> #N/A | K23: =HLOOKUP($I$19,ORARIO_GENERALE!$K$3:$M$53,15,0) -> #N/A | L23: =HLOOKUP($I$19,ORARIO_GENERALE!$K$3:$M$53,26,0) -> #N/A | M23: =HLOOKUP($I$19,ORARIO_GENERALE!$K$3:$M$53,36,0) -> #N/A | N23: =HLOOKUP($I$19,ORARIO_GENERALE!$K$3:$M$53,48,0) -> #N/A
B24: =ORARIO_GENERALE!C7 -> 12:00-13:00 | C24: {=IFERROR(INDEX(ORARIO_GENERALE!$D$3:$M$3,MATCH("*"&$B$19&"*",ORARIO_GENERALE!$D7:$M7,0)),"")} | D24: {=IFERROR(INDEX(ORARIO_GENERALE!$D$3:$M$3,MATCH("*"&$B$19&"*",ORARIO_GENERALE!$D18:$M18,0)),"")} | E24: {=IFERROR(INDEX(ORARIO_GENERALE!$D$3:$M$3,MATCH("*"&$B$19&"*",ORARIO_GENERALE!$D29:$M29,0)),"")} -> ALFABETIZZAZIONE M | F24: {=IFERROR(INDEX(ORARIO_GENERALE!$D$3:$M$3,MATCH("*"&$B$19&"*",ORARIO_GENERALE!$D40:$M40,0)),"")} -> ALFABETIZZAZIONE Q | G24: {=IFERROR(INDEX(ORARIO_GENERALE!$D$3:$M$3,MATCH("*"&$B$19&"*",ORARIO_GENERALE!$D51:$M51,0)),"")} | I24: 12:00-13:00 | J24: =HLOOKUP($I$19,ORARIO_GENERALE!$K$3:$M$53,5,0) -> #N/A | K24: =HLOOKUP($I$19,ORARIO_GENERALE!$K$3:$M$53,16,0) -> #N/A | L24: =HLOOKUP($I$19,ORARIO_GENERALE!$K$3:$M$53,27,0) -> #N/A | M24: =HLOOKUP($I$19,ORARIO_GENERALE!$K$3:$M$53,37,0) -> #N/A | N24: =HLOOKUP($I$19,ORARIO_GENERALE!$K$3:$M$53,49,0) -> #N/A
B25: =ORARIO_GENERALE!C8 -> 13:00-14:00 | C25: {=IFERROR(INDEX(ORARIO_GENERALE!$D$3:$M$3,MATCH("*"&$B$19&"*",ORARIO_GENERALE!$D8:$M8,0)),"")} | D25: {=IFERROR(INDEX(ORARIO_GENERALE!$D$3:$M$3,MATCH("*"&$B$19&"*",ORARIO_GENERALE!$D19:$M19,0)),"")} | E25: {=IFERROR(INDEX(ORARIO_GENERALE!$D$3:$M$3,MATCH("*"&$B$19&"*",ORARIO_GENERALE!$D30:$M30,0)),"")} | F25: {=IFERROR(INDEX(ORARIO_GENERALE!$D$3:$M$3,MATCH("*"&$B$19&"*",ORARIO_GENERALE!$D41:$M41,0)),"")} | G25: {=IFERROR(INDEX(ORARIO_GENERALE!$D$3:$M$3,MATCH("*"&$B$19&"*",ORARIO_GENERALE!$D52:$M52,0)),"")} | I25: 13:00-14:00 | J25: =HLOOKUP($I$19,ORARIO_GENERALE!$K$3:$M$53,6,0) -> #N/A | K25: =HLOOKUP($I$19,ORARIO_GENERALE!$K$3:$M$53,17,0) -> #N/A | L25: =HLOOKUP($I$19,ORARIO_GENERALE!$K$3:$M$53,28,0) -> #N/A | M25: =HLOOKUP($I$19,ORARIO_GENERALE!$K$3:$M$53,38,0) -> #N/A | N25: =HLOOKUP($I$19,ORARIO_GENERALE!$K$3:$M$53,50,0) -> #N/A
B26: =ORARIO_GENERALE!C9 -> 14:00-15:00 | C26: {=IFERROR(INDEX(ORARIO_GENERALE!$D$3:$M$3,MATCH("*"&$B$19&"*",ORARIO_GENERALE!$D9:$M9,0)),"")} | D26: {=IFERROR(INDEX(ORARIO_GENERALE!$D$3:$M$3,MATCH("*"&$B$19&"*",ORARIO_GENERALE!$D20:$M20,0)),"")} | E26: {=IFERROR(INDEX(ORARIO_GENERALE!$D$3:$M$3,MATCH("*"&$B$19&"*",ORARIO_GENERALE!$D31:$M31,0)),"")} | F26: {=IFERROR(INDEX(ORARIO_GENERALE!$D$3:$M$3,MATCH("*"&$B$19&"*",ORARIO_GENERALE!$D42:$M42,0)),"")} | G26: {=IFERROR(INDEX(ORARIO_GENERALE!$D$3:$M$3,MATCH("*"&$B$19&"*",ORARIO_GENERALE!$D53:$M53,0)),"")} | I26: 14:00-15:00 | J26: =HLOOKUP($I$19,ORARIO_GENERALE!$K$3:$M$53,7,0) -> #N/A | K26: =HLOOKUP($I$19,ORARIO_GENERALE!$K$3:$M$53,18,0) -> #N/A | L26: =HLOOKUP($I$19,ORARIO_GENERALE!$K$3:$M$53,29,0) -> #N/A | M26: =HLOOKUP($I$19,ORARIO_GENERALE!$K$3:$M$53,39,0) -> #N/A | N26: =HLOOKUP($I$19,ORARIO_GENERALE!$K$3:$M$53,51,0) -> #N/A
B27: =ORARIO_GENERALE!C10 -> 15:00-16:00 | C27: {=IFERROR(INDEX(ORARIO_GENERALE!$D$3:$M$3,MATCH("*"&$B$19&"*",ORARIO_GENERALE!$D10:$M10,0)),"")} | D27: {=IFERROR(INDEX(ORARIO_GENERALE!$D$3:$M$3,MATCH("*"&$B$19&"*",ORARIO_GENERALE!$D21:$M21,0)),"")} | E27: {=IFERROR(INDEX(ORARIO_GENERALE!$D$3:$M$3,MATCH("*"&$B$19&"*",ORARIO_GENERALE!$D32:$M32,0)),"")} | F27: {=IFERROR(INDEX(ORARIO_GENERALE!$D$3:$M$3,MATCH("*"&$B$19&"*",ORARIO_GENERALE!$D43:$M43,0)),"")} | G27: {=IFERROR(INDEX(ORARIO_GENERALE!$D$3:$M$3,MATCH("*"&$B$19&"*",ORARIO_GENERALE!$D54:$M54,0)),"")} | I27: 15:00-16:00 | J27: =HLOOKUP($I$19,ORARIO_GENERALE!$K$3:$M$53,8,0) -> #N/A | K27: =HLOOKUP($I$19,ORARIO_GENERALE!$K$3:$M$53,19,0) -> #N/A | L27: =HLOOKUP($I$19,ORARIO_GENERALE!$K$3:$M$53,30,0) -> #N/A | M27: =HLOOKUP($I$19,ORARIO_GENERALE!$K$3:$M$53,41,0) -> #N/A
B28: =ORARIO_GENERALE!C11 -> 16:00-17:00 | C28: {=IFERROR(INDEX(ORARIO_GENERALE!$D$3:$M$3,MATCH("*"&$B$19&"*",ORARIO_GENERALE!$D11:$M11,0)),"")} | D28: {=IFERROR(INDEX(ORARIO_GENERALE!$D$3:$M$3,MATCH("*"&$B$19&"*",ORARIO_GENERALE!$D22:$M22,0)),"")} | E28: {=IFERROR(INDEX(ORARIO_GENERALE!$D$3:$M$3,MATCH("*"&$B$19&"*",ORARIO_GENERALE!$D33:$M33,0)),"")} | F28: {=IFERROR(INDEX(ORARIO_GENERALE!$D$3:$M$3,MATCH("*"&$B$19&"*",ORARIO_GENERALE!$D44:$M44,0)),"")} | G28: {=IFERROR(INDEX(ORARIO_GENERALE!$D$3:$M$3,MATCH("*"&$B$19&"*",ORARIO_GENERALE!$D55:$M55,0)),"")} | I28: 16:00-17:00 | J28: =HLOOKUP($I$19,ORARIO_GENERALE!$K$3:$M$53,9,0) -> #N/A | K28: =HLOOKUP($I$19,ORARIO_GENERALE!$K$3:$M$53,20,0) -> #N/A | L28: =HLOOKUP($I$19,ORARIO_GENERALE!$K$3:$M$53,31,0) -> #N/A | M28: =HLOOKUP($I$19,ORARIO_GENERALE!$K$3:$M$53,42,0) -> #N/A
B29: =ORARIO_GENERALE!C12 -> 17:00-18:00 | C29: {=IFERROR(INDEX(ORARIO_GENERALE!$D$3:$M$3,MATCH("*"&$B$19&"*",ORARIO_GENERALE!$D12:$K12,0)),"")} | D29: {=IFERROR(INDEX(ORARIO_GENERALE!$D$3:$M$3,MATCH("*"&$B$19&"*",ORARIO_GENERALE!$D23:$M23,0)),"")} | E29: {=IFERROR(INDEX(ORARIO_GENERALE!$D$3:$M$3,MATCH("*"&$B$19&"*",ORARIO_GENERALE!$D34:$M34,0)),"")} | F29: {=IFERROR(INDEX(ORARIO_GENERALE!$D$3:$M$3,MATCH("*"&$B$19&"*",ORARIO_GENERALE!$D45:$M45,0)),"")} | G29: {=IFERROR(INDEX(ORARIO_GENERALE!$D$3:$M$3,MATCH("*"&$B$19&"*",ORARIO_GENERALE!$D56:$M56,0)),"")} | I29: 17:00-18-00 | J29: =HLOOKUP($I$19,ORARIO_GENERALE!$K$3:$M$53,10,0) -> #N/A | K29: =HLOOKUP($I$19,ORARIO_GENERALE!$K$3:$M$53,21,0) -> #N/A | L29: =HLOOKUP($I$19,ORARIO_GENERALE!$K$3:$M$53,32,0) -> #N/A | M29: =HLOOKUP($I$19,ORARIO_GENERALE!$K$3:$M$53,43,0) -> #N/A
B30: =ORARIO_GENERALE!C13 -> 18:00-19:00 | C30: {=IFERROR(INDEX(ORARIO_GENERALE!$D$3:$M$3,MATCH("*"&$B$19&"*",ORARIO_GENERALE!$D13:$K13,0)),"")} | D30: {=IFERROR(INDEX(ORARIO_GENERALE!$D$3:$M$3,MATCH("*"&$B$19&"*",ORARIO_GENERALE!$D24:$M24,0)),"")} | E30: {=IFERROR(INDEX(ORARIO_GENERALE!$D$3:$M$3,MATCH("*"&$B$19&"*",ORARIO_GENERALE!$D35:$M35,0)),"")} | F30: {=IFERROR(INDEX(ORARIO_GENERALE!$D$3:$M$3,MATCH("*"&$B$19&"*",ORARIO_GENERALE!$D46:$M46,0)),"")} | G30: {=IFERROR(INDEX(ORARIO_GENERALE!$D$3:$M$3,MATCH("*"&$B$19&"*",ORARIO_GENERALE!$D57:$M57,0)),"")} | I30: 18:00-19:00 | J30: =HLOOKUP($I$19,ORARIO_GENERALE!$K$3:$M$53,11,0) -> #N/A | K30: =HLOOKUP($I$19,ORARIO_GENERALE!$K$3:$M$53,22,0) -> #N/A | L30: =HLOOKUP($I$19,ORARIO_GENERALE!$K$3:$M$53,33,0) -> #N/A | M30: =HLOOKUP($I$19,ORARIO_GENERALE!$K$3:$M$53,44,0) -> #N/A
B31: =ORARIO_GENERALE!C14 -> 19:00-20:00 | C31: {=IFERROR(INDEX(ORARIO_GENERALE!$D$3:$M$3,MATCH("*"&$B$19&"*",ORARIO_GENERALE!$D14:$K14,0)),"")} | D31: {=IFERROR(INDEX(ORARIO_GENERALE!$D$3:$M$3,MATCH("*"&$B$19&"*",ORARIO_GENERALE!$D25:$M25,0)),"")} | E31: {=IFERROR(INDEX(ORARIO_GENERALE!$D$3:$M$3,MATCH("*"&$B$19&"*",ORARIO_GENERALE!$D36:$M36,0)),"")} | F31: {=IFERROR(INDEX(ORARIO_GENERALE!$D$3:$M$3,MATCH("*"&$B$19&"*",ORARIO_GENERALE!$D47:$M47,0)),"")} | G31: {=IFERROR(INDEX(ORARIO_GENERALE!$D$3:$M$3,MATCH("*"&$B$19&"*",ORARIO_GENERALE!$D58:$M58,0)),"")} | I31: 19:00-20:00 | J31: =HLOOKUP($I$19,ORARIO_GENERALE!$K$3:$M$53,12,0) -> #N/A | K31: =HLOOKUP($I$19,ORARIO_GENERALE!$K$3:$M$53,23,0) -> #N/A | L31: =HLOOKUP($I$19,ORARIO_GENERALE!$K$3:$M$53,34,0) -> #N/A | M31: =HLOOKUP($I$19,ORARIO_GENERALE!$K$3:$M$53,45,0) -> #N/A
F32: {=IFERROR(INDEX(ORARIO_GENERALE!$K$3:$M$3,MATCH("*"&$B$19&"*",ORARIO_GENERALE!$N37:$O37,0)),"")} | I32: 20:00-21:00
D47: MPPA | E47: CARDINI
D48: MPPB | E48: TROMBELLA
D49: MPPC | E49: GIURAZZI
D50: MPPD | E50: CUFFARO
D51: MA1A | E51: PICONE
D52: MA1B
D53: MA1C
D54: MA1D | E54: MARIOTTO
D55: MA1E | E55: ROSSI
D56: MA1F | E56: BORGO
D57: MA2A
D58: MA2B
D59: MA2C
D60: MA0A
D61: MA0B
D62: MANA

Sheet Foglio1

Sheet ANALISI CORSI
C1: =ORARIO_GENERALE!D3 -> ITALIANO R | D1: =ORARIO_GENERALE!E3 -> ITALIANO P | E1: =ORARIO_GENERALE!F3 -> INGLESE | F1: =ORARIO_GENERALE!G3 -> MAT/SCIENZE | G1: =ORARIO_GENERALE!I3 -> POTENZIAMENTO | H1: =ORARIO_GENERALE!K3 -> ALFABETIZZAZIONE M | I1: =#REF! -> #REF! | J1: TOTALE CORSO
B2: MPPA | C2: =COUNTIF(ORARIO_GENERALE!D$4:D$53,"*"&$B2&"*") -> 6 | D2: =COUNTIF(ORARIO_GENERALE!E$5:E$53,"*"&$B2&"*") -> 0 | E2: =COUNTIF(ORARIO_GENERALE!F$4:F$53,"*"&$B2&"*") -> 3 | F2: =COUNTIF(ORARIO_GENERALE!G$4:G$53,"*"&$B2&"*") -> 3 | G2: =COUNTIF(ORARIO_GENERALE!I$4:I$53,"*"&$B2&"*") -> 0 | H2: =COUNTIF(ORARIO_GENERALE!K$4:K$53,"*"&$B2&"*") -> 0 | I2: =COUNTIF(#REF!,"*"&$B2&"*") -> #REF! | J2: =SUM(C2:I2) -> #REF!
B3: MPPB | C3: =COUNTIF(ORARIO_GENERALE!D$4:D$53,"*"&$B3&"*") -> 0 | D3: =COUNTIF(ORARIO_GENERALE!E$5:E$53,"*"&$B3&"*") -> 6 | E3: =COUNTIF(ORARIO_GENERALE!F$4:F$53,"*"&$B3&"*") -> 3 | F3: =COUNTIF(ORARIO_GENERALE!G$4:G$53,"*"&$B3&"*") -> 3 | G3: =COUNTIF(ORARIO_GENERALE!I$4:I$53,"*"&$B3&"*") -> 0 | H3: =COUNTIF(ORARIO_GENERALE!K$4:K$53,"*"&$B3&"*") -> 0 | I3: =COUNTIF(#REF!,"*"&$B3&"*") -> #REF! | J3: =SUM(C3:I3) -> #REF!
B4: MPPC | C4: =COUNTIF(ORARIO_GENERALE!D$4:D$53,"*"&$B4&"*") -> 0 | D4: =COUNTIF(ORARIO_GENERALE!E$5:E$53,"*"&$B4&"*") -> 5 | E4: =COUNTIF(ORARIO_GENERALE!F$4:F$53,"*"&$B4&"*") -> 3 | F4: =COUNTIF(ORARIO_GENERALE!G$4:G$53,"*"&$B4&"*") -> 3 | G4: =COUNTIF(ORARIO_GENERALE!I$4:I$53,"*"&$B4&"*") -> 0 | H4: =COUNTIF(ORARIO_GENERALE!K$4:K$53,"*"&$B4&"*") -> 0 | I4: =COUNTIF(#REF!,"*"&$B4&"*") -> #REF! | J4: =SUM(C4:I4) -> #REF!
B5: MPPD | C5: =COUNTIF(ORARIO_GENERALE!D$4:D$53,"*"&$B5&"*") -> 7 | D5: =COUNTIF(ORARIO_GENERALE!E$5:E$53,"*"&$B5&"*") -> 0 | E5: =COUNTIF(ORARIO_GENERALE!F$4:F$53,"*"&$B5&"*") -> 2 | F5: =COUNTIF(ORARIO_GENERALE!G$4:G$53,"*"&$B5&"*") -> 3 | G5: =COUNTIF(ORARIO_GENERALE!I$4:I$53,"*"&$B5&"*") -> 0 | H5: =COUNTIF(ORARIO_GENERALE!K$4:K$53,"*"&$B5&"*") -> 0 | I5: =COUNTIF(#REF!,"*"&$B5&"*") -> #REF! | J5: =SUM(C5:I5) -> #REF!
B6: MA1A | C6: =COUNTIF(ORARIO_GENERALE!D$4:D$53,"*"&$B6&"*") -> 0 | D6: =COUNTIF(ORARIO_GENERALE!E$5:E$53,"*"&$B6&"*") -> 0 | E6: =COUNTIF(ORARIO_GENERALE!F$4:F$53,"*"&$B6&"*") -> 0 | F6: =COUNTIF(ORARIO_GENERALE!G$4:G$53,"*"&$B6&"*") -> 0 | G6: =COUNTIF(ORARIO_GENERALE!I$4:I$53,"*"&$B6&"*") -> 0 | H6: =COUNTIF(ORARIO_GENERALE!K$4:K$53,"*"&$B6&"*") -> 2 | I6: =COUNTIF(#REF!,"*"&$B6&"*") -> #REF! | J6: =SUM(C6:I6) -> #REF!
B7: MA1B | C7: =COUNTIF(ORARIO_GENERALE!D$4:D$53,"*"&$B7&"*") -> 0 | D7: =COUNTIF(ORARIO_GENERALE!E$5:E$53,"*"&$B7&"*") -> 0 | E7: =COUNTIF(ORARIO_GENERALE!F$4:F$53,"*"&$B7&"*") -> 0 | F7: =COUNTIF(ORARIO_GENERALE!G$4:G$53,"*"&$B7&"*") -> 0 | G7: =COUNTIF(ORARIO_GENERALE!I$4:I$53,"*"&$B7&"*") -> 0 | H7: =COUNTIF(ORARIO_GENERALE!K$4:K$53,"*"&$B7&"*") -> 0 | I7: =COUNTIF(#REF!,"*"&$B7&"*") -> #REF! | J7: =SUM(C7:I7) -> #REF!
B8: MA1C | C8: =COUNTIF(ORARIO_GENERALE!D$4:D$53,"*"&$B8&"*") -> 0 | D8: =COUNTIF(ORARIO_GENERALE!E$5:E$53,"*"&$B8&"*") -> 0 | E8: =COUNTIF(ORARIO_GENERALE!F$4:F$53,"*"&$B8&"*") -> 0 | F8: =COUNTIF(ORARIO_GENERALE!G$4:G$53,"*"&$B8&"*") -> 0 | G8: =COUNTIF(ORARIO_GENERALE!I$4:I$53,"*"&$B8&"*") -> 3 | H8: =COUNTIF(ORARIO_GENERALE!K$4:K$53,"*"&$B8&"*") -> 3 | I8: =COUNTIF(#REF!,"*"&$B8&"*") -> #REF! | J8: =SUM(C8:I8) -> #REF!
B9: MA1G | C9: =COUNTIF(ORARIO_GENERALE!D$4:D$53,"*"&$B9&"*") -> 0 | D9: =COUNTIF(ORARIO_GENERALE!E$5:E$53,"*"&$B9&"*") -> 0 | E9: =COUNTIF(ORARIO_GENERALE!F$4:F$53,"*"&$B9&"*") -> 0 | F9: =COUNTIF(ORARIO_GENERALE!G$4:G$53,"*"&$B9&"*") -> 0 | G9: =COUNTIF(ORARIO_GENERALE!I$4:I$53,"*"&$B9&"*") -> 0 | H9: =COUNTIF(ORARIO_GENERALE!K$4:K$53,"*"&$B9&"*") -> 0 | I9: =COUNTIF(#REF!,"*"&$B9&"*") -> #REF! | J9: =SUM(C9:I9) -> #REF!
B10: MA1E | C10: =COUNTIF(ORARIO_GENERALE!D$4:D$53,"*"&$B10&"*") -> 0 | D10: =COUNTIF(ORARIO_GENERALE!E$5:E$53,"*"&$B10&"*") -> 0 | E10: =COUNTIF(ORARIO_GENERALE!F$4:F$53,"*"&$B10&"*") -> 0 | F10: =COUNTIF(ORARIO_GENERALE!G$4:G$53,"*"&$B10&"*") -> 0 | G10: =COUNTIF(ORARIO_GENERALE!I$4:I$53,"*"&$B10&"*") -> 4 | H10: =COUNTIF(ORARIO_GENERALE!K$4:K$53,"*"&$B10&"*") -> 0 | I10: =COUNTIF(#REF!,"*"&$B10&"*") -> #REF! | J10: =SUM(C10:I10) -> #REF!
B11: RA1F | C11: =COUNTIF(ORARIO_GENERALE!D$4:D$53,"*"&$B11&"*") -> 0 | D11: =COUNTIF(ORARIO_GENERALE!E$5:E$53,"*"&$B11&"*") -> 0 | E11: =COUNTIF(ORARIO_GENERALE!F$4:F$53,"*"&$B11&"*") -> 0 | F11: =COUNTIF(ORARIO_GENERALE!G$4:G$53,"*"&$B11&"*") -> 0 | G11: =COUNTIF(ORARIO_GENERALE!I$4:I$53,"*"&$B11&"*") -> 0 | H11: =COUNTIF(ORARIO_GENERALE!K$4:K$53,"*"&$B11&"*") -> 0 | I11: =COUNTIF(#REF!,"*"&$B11&"*") -> #REF! | J11: =SUM(C11:I11) -> #REF!
B12: MA2A | C12: =COUNTIF(ORARIO_GENERALE!D$4:D$53,"*"&$B12&"*") -> 0 | D12: =COUNTIF(ORARIO_GENERALE!E$5:E$53,"*"&$B12&"*") -> 0 | E12: =COUNTIF(ORARIO_GENERALE!F$4:F$53,"*"&$B12&"*") -> 0 | F12: =COUNTIF(ORARIO_GENERALE!G$4:G$53,"*"&$B12&"*") -> 0 | G12: =COUNTIF(ORARIO_GENERALE!I$4:I$53,"*"&$B12&"*") -> 0 | H12: =COUNTIF(ORARIO_GENERALE!K$4:K$53,"*"&$B12&"*") -> 4 | I12: =COUNTIF(#REF!,"*"&$B12&"*") -> #REF! | J12: =SUM(C12:I12) -> #REF!
B13: MA2B | C13: =COUNTIF(ORARIO_GENERALE!D$4:D$53,"*"&$B13&"*") -> 0 | D13: =COUNTIF(ORARIO_GENERALE!E$5:E$53,"*"&$B13&"*") -> 0 | E13: =COUNTIF(ORARIO_GENERALE!F$4:F$53,"*"&$B13&"*") -> 0 | F13: =COUNTIF(ORARIO_GENERALE!G$4:G$53,"*"&$B13&"*") -> 0 | G13: =COUNTIF(ORARIO_GENERALE!I$4:I$53,"*"&$B13&"*") -> 0 | H13: =COUNTIF(ORARIO_GENERALE!K$4:K$53,"*"&$B13&"*") -> 2 | I13: =COUNTIF(#REF!,"*"&$B13&"*") -> #REF! | J13: =SUM(C13:I13) -> #REF!
... B16: MA0B | C16: =COUNTIF(ORARIO_GENERALE!D$4:D$53,"*"&$B16&"*") -> 0 | D16: =COUNTIF(ORARIO_GENERALE!E$5:E$53,"*"&$B16&"*") -> 0 | E16: =COUNTIF(ORARIO_GENERALE!F$4:F$53,"*"&$B16&"*") -> 0 | F16: =COUNTIF(ORARIO_GENERALE!G$4:G$53,"*"&$B16&"*") -> 0 | G16: =COUNTIF(ORARIO_GENERALE!I$4:I$53,"*"&$B16&"*") -> 0 | H16: =COUNTIF(ORARIO_GENERALE!K$4:K$53,"*"&$B16&"*") -> 0 | I16: =COUNTIF(#REF!,"*"&$B16&"*") -> #REF! | J16: =SUM(C16:I16) -> #REF!
B17: MA0C | C17: =COUNTIF(ORARIO_GENERALE!D$5:D$53,"*"&$B17&"*") -> 0 | D17: =COUNTIF(ORARIO_GENERALE!E$5:E$53,"*"&$B17&"*") -> 0 | E17: =COUNTIF(ORARIO_GENERALE!F$4:F$53,"*"&$B17&"*") -> 0 | F17: =COUNTIF(ORARIO_GENERALE!G$4:G$53,"*"&$B17&"*") -> 0 | G17: =COUNTIF(ORARIO_GENERALE!I$4:I$53,"*"&$B17&"*") -> 0 | H17: =COUNTIF(ORARIO_GENERALE!K$4:K$53,"*"&$B17&"*") -> 0 | I17: =COUNTIF(#REF!,"*"&$B17&"*") -> #REF! | J17: =SUM(C17:I17) -> #REF!
B18: RANA | C18: =COUNTIF(ORARIO_GENERALE!D$5:D$53,"*"&$B18&"*") -> 0 | D18: =COUNTIF(ORARIO_GENERALE!E$5:E$53,"*"&$B18&"*") -> 0 | E18: =COUNTIF(ORARIO_GENERALE!F$4:F$53,"*"&$B18&"*") -> 0 | F18: =COUNTIF(ORARIO_GENERALE!G$4:G$53,"*"&$B18&"*") -> 0 | G18: =COUNTIF(ORARIO_GENERALE!I$4:I$53,"*"&$B18&"*") -> 0 | H18: =COUNTIF(ORARIO_GENERALE!K$4:K$53,"*"&$B18&"*") -> 0 | I18: =COUNTIF(#REF!,"*"&$B18&"*") -> #REF! | J18: =SUM(C18:I18) -> #REF!
B19: LAB | C19: =COUNTIF(ORARIO_GENERALE!D$5:D$53,"*"&$B19&"*") -> 0 | D19: =COUNTIF(ORARIO_GENERALE!E$5:E$53,"*"&$B19&"*") -> 1 | E19: =COUNTIF(ORARIO_GENERALE!F$4:F$53,"*"&$B19&"*") -> 0 | F19: =COUNTIF(ORARIO_GENERALE!G$4:G$53,"*"&$B19&"*") -> 2 | G19: =COUNTIF(ORARIO_GENERALE!I$4:I$53,"*"&$B19&"*") -> 0 | H19: =COUNTIF(ORARIO_GENERALE!K$4:K$53,"*"&$B19&"*") -> 0 | I19: =COUNTIF(#REF!,"*"&$B19&"*") -> #REF! | J19: =SUM(C19:I19) -> #REF!
B20: POT | C20: =COUNTIF(ORARIO_GENERALE!D$5:D$53,"*"&$B20&"*") -> 0 | D20: =COUNTIF(ORARIO_GENERALE!E$5:E$53,"*"&$B20&"*") -> 0 | E20: =COUNTIF(ORARIO_GENERALE!F$4:F$53,"*"&$B20&"*") -> 0 | F20: =COUNTIF(ORARIO_GENERALE!G$4:G$53,"*"&$B20&"*") -> 0 | G20: =COUNTIF(ORARIO_GENERALE!I$4:I$53,"*"&$B20&"*") -> 6 | H20: =COUNTIF(ORARIO_GENERALE!K$4:K$53,"*"&$B20&"*") -> 0 | I20: =COUNTIF(#REF!,"*"&$B20&"*") -> #REF! | J20: =SUM(C20:I20) -> #REF!
B21: L2C | C21: =COUNTIF(ORARIO_GENERALE!D$5:D$53,"*"&$B21&"*") -> 0 | D21: =COUNTIF(ORARIO_GENERALE!E$5:E$53,"*"&$B21&"*") -> 0 | E21: =COUNTIF(ORARIO_GENERALE!F$4:F$53,"*"&$B21&"*") -> 0 | F21: =COUNTIF(ORARIO_GENERALE!G$4:G$53,"*"&$B21&"*") -> 0 | G21: =COUNTIF(ORARIO_GENERALE!I$4:I$53,"*"&$B21&"*") -> 0 | H21: =COUNTIF(ORARIO_GENERALE!K$4:K$53,"*"&$B21&"*") -> 0 | I21: =COUNTIF(#REF!,"*"&$B21&"*") -> #REF! | J21: =SUM(C21:I21) -> #REF!
B22: POT.L2 | C22: =COUNTIF(ORARIO_GENERALE!D$5:D$53,"*"&$B22&"*") -> 0 | D22: =COUNTIF(ORARIO_GENERALE!E$5:E$53,"*"&$B22&"*") -> 0 | E22: =COUNTIF(ORARIO_GENERALE!F$4:F$53,"*"&$B22&"*") -> 0 | F22: =COUNTIF(ORARIO_GENERALE!G$4:G$53,"*"&$B22&"*") -> 0 | G22: =COUNTIF(ORARIO_GENERALE!I$4:I$53,"*"&$B22&"*") -> 0 | H22: =COUNTIF(ORARIO_GENERALE!K$4:K$53,"*"&$B22&"*") -> 0 | I22: =COUNTIF(#REF!,"*"&$B22&"*") -> #REF! | J22: =SUM(C22:I22) -> #REF!
B23: WR | C23: =COUNTIF(ORARIO_GENERALE!D$5:D$53,"*"&$B23&"*") -> 0 | D23: =COUNTIF(ORARIO_GENERALE!E$5:E$53,"*"&$B23&"*") -> 0 | E23: =COUNTIF(ORARIO_GENERALE!F$4:F$53,"*"&$B23&"*") -> 0 | F23: =COUNTIF(ORARIO_GENERALE!G$4:G$53,"*"&$B23&"*") -> 0 | G23: =COUNTIF(ORARIO_GENERALE!I$4:I$53,"*"&$B23&"*") -> 0 | H23: =COUNTIF(ORARIO_GENERALE!K$4:K$53,"*"&$B23&"*") -> 0 | I23: =COUNTIF(#REF!,"*"&$B23&"*") -> #REF! | J23: =SUM(C23:I23) -> #REF!
B24: ING. | C24: =COUNTIF(ORARIO_GENERALE!D$5:D$53,"*"&$B24&"*") -> 0 | D24: =COUNTIF(ORARIO_GENERALE!E$5:E$53,"*"&$B24&"*") -> 0 | E24: =COUNTIF(ORARIO_GENERALE!F$4:F$53,"*"&$B24&"*") -> 0 | F24: =COUNTIF(ORARIO_GENERALE!G$4:G$53,"*"&$B24&"*") -> 0 | G24: =COUNTIF(ORARIO_GENERALE!I$4:I$53,"*"&$B24&"*") -> 0 | H24: =COUNTIF(ORARIO_GENERALE!K$4:K$53,"*"&$B24&"*") -> 0 | I24: =COUNTIF(#REF!,"*"&$B24&"*") -> #REF! | J24: =SUM(C24:I24) -> #REF!
B25: SOLARO | C25: =COUNTIF(ORARIO_GENERALE!D$5:D$53,"*"&$B25&"*") -> 0 | D25: =COUNTIF(ORARIO_GENERALE!E$5:E$53,"*"&$B25&"*") -> 0 | E25: =COUNTIF(ORARIO_GENERALE!F$4:F$53,"*"&$B25&"*") -> 0 | F25: =COUNTIF(ORARIO_GENERALE!G$4:G$53,"*"&$B25&"*") -> 0 | G25: =COUNTIF(ORARIO_GENERALE!I$4:I$53,"*"&$B25&"*") -> 0 | H25: =COUNTIF(ORARIO_GENERALE!K$4:K$53,"*"&$B25&"*") -> 0 | I25: =COUNTIF(#REF!,"*"&$B25&"*") -> #REF! | J25: =SUM(C25:I25) -> #REF!
B26: PUECHER1 | C26: =COUNTIF(ORARIO_GENERALE!D$5:D$53,"*"&$B26&"*") -> 0 | D26: =COUNTIF(ORARIO_GENERALE!E$5:E$53,"*"&$B26&"*") -> 0 | E26: =COUNTIF(ORARIO_GENERALE!F$4:F$53,"*"&$B26&"*") -> 0 | F26: =COUNTIF(ORARIO_GENERALE!G$4:G$53,"*"&$B26&"*") -> 0 | G26: =COUNTIF(ORARIO_GENERALE!I$4:I$53,"*"&$B26&"*") -> 0 | H26: =COUNTIF(ORARIO_GENERALE!J$4:J$53,"*"&$B26&"*") -> 0 | I26: =COUNTIF(#REF!,"*"&$B26&"*") -> #REF! | J26: =SUM(C26:I26) -> #REF!
B27: PUECHER2 | C27: =COUNTIF(ORARIO_GENERALE!D$5:D$53,"*"&$B27&"*") -> 0 | D27: =COUNTIF(ORARIO_GENERALE!E$5:E$53,"*"&$B27&"*") -> 0 | E27: =COUNTIF(ORARIO_GENERALE!F$4:F$53,"*"&$B27&"*") -> 0 | F27: =COUNTIF(ORARIO_GENERALE!G$4:G$53,"*"&$B27&"*") -> 0 | G27: =COUNTIF(ORARIO_GENERALE!I$4:I$53,"*"&$B27&"*") -> 0 | H27: =COUNTIF(ORARIO_GENERALE!J$4:J$53,"*"&$B27&"*") -> 0 | I27: =COUNTIF(#REF!,"*"&$B27&"*") -> #REF!
B28: PONTE | C28: =COUNTIF(ORARIO_GENERALE!D$5:D$53,"*"&$B28&"*") -> 0 | D28: =COUNTIF(ORARIO_GENERALE!E$5:E$53,"*"&$B28&"*") -> 0 | E28: =COUNTIF(ORARIO_GENERALE!F$4:F$53,"*"&$B28&"*") -> 0 | F28: =COUNTIF(ORARIO_GENERALE!G$4:G$53,"*"&$B28&"*") -> 0 | G28: =COUNTIF(ORARIO_GENERALE!I$4:I$53,"*"&$B28&"*") -> 0 | H28: =COUNTIF(ORARIO_GENERALE!J$4:J$53,"*"&$B28&"*") -> 0 | I28: =COUNTIF(#REF!,"*"&$B28&"*") -> #REF!
B29: MATTEI1 | C29: =COUNTIF(ORARIO_GENERALE!D$5:D$53,"*"&$B29&"*") -> 0 | D29: =COUNTIF(ORARIO_GENERALE!E$5:E$53,"*"&$B29&"*") -> 0 | E29: =COUNTIF(ORARIO_GENERALE!F$4:F$53,"*"&$B29&"*") -> 0 | F29: =COUNTIF(ORARIO_GENERALE!G$4:G$53,"*"&$B29&"*") -> 0 | G29: =COUNTIF(ORARIO_GENERALE!I$4:I$53,"*"&$B29&"*") -> 0 | H29: =COUNTIF(ORARIO_GENERALE!J$4:J$53,"*"&$B29&"*") -> 0 | I29: =COUNTIF(ORARIO_GENERALE!K$4:K$53,"*"&$B29&"*") -> 0
B30: R/P | C30: =COUNTIF(ORARIO_GENERALE!D$5:D$53,"*"&$B30&"*") -> 2 | D30: =COUNTIF(ORARIO_GENERALE!E$5:E$53,"*"&$B30&"*") -> 1 | E30: =COUNTIF(ORARIO_GENERALE!F$4:F$53,"*"&$B30&"*") -> 4 | F30: =COUNTIF(ORARIO_GENERALE!G$4:G$53,"*"&$B30&"*") -> 1 | G30: =COUNTIF(ORARIO_GENERALE!I$4:I$53,"*"&$B30&"*") -> 0 | H30: =COUNTIF(ORARIO_GENERALE!J$4:J$53,"*"&$B30&"*") -> 0 | I30: =COUNTIF(ORARIO_GENERALE!K$4:K$53,"*"&$B30&"*") -> 4
B31: POT | C31: =COUNTIF(ORARIO_GENERALE!D$5:D$53,"*"&$B31&"*") -> 0 | D31: =COUNTIF(ORARIO_GENERALE!E$5:E$53,"*"&$B31&"*") -> 0 | E31: =COUNTIF(ORARIO_GENERALE!F$4:F$53,"*"&$B31&"*") -> 0 | F31: =COUNTIF(ORARIO_GENERALE!G$4:G$53,"*"&B31&"*") -> 0 | G31: =COUNTIF(ORARIO_GENERALE!I$4:I$53,"*"&$B31&"*") -> 6 | H31: =COUNTIF(ORARIO_GENERALE!J$4:J$53,"*"&$B31&"*") -> 0 | I31: =COUNTIF(#REF!,"*"&$B31&"*") -> #REF! | J31: =SUM(C31:I31) -> #REF!
B32: LAB | C32: =COUNTIF(ORARIO_GENERALE!D$5:D$53,"*"&$B32&"*") -> 0 | D32: =COUNTIF(ORARIO_GENERALE!E$5:E$53,"*"&$B32&"*") -> 1 | E32: =COUNTIF(ORARIO_GENERALE!F$4:F$53,"*"&$B32&"*") -> 0 | F32: =COUNTIF(ORARIO_GENERALE!G$4:G$53,"*"&$B32&"*") -> 2 | G32: =COUNTIF(ORARIO_GENERALE!I$4:I$53,"*"&$B32&"*") -> 0 | H32: =COUNTIF(ORARIO_GENERALE!K$4:K$53,"*"&$B32&"*") -> 0 | I32: =COUNTIF(#REF!,"*"&$B32&"*") -> #REF! | J32: =SUM(C32:I32) -> #REF!
B33: D/A | C33: =COUNTIF(ORARIO_GENERALE!D$5:D$53,B33) -> 1 | D33: =COUNTIF(ORARIO_GENERALE!E$4:E$53,B33) -> 2 | E33: =COUNTIF(ORARIO_GENERALE!F$4:F$53,$B33) -> 1 | F33: =COUNTIF(ORARIO_GENERALE!G$4:G$53,$B33) -> 1 | G33: =COUNTIF(ORARIO_GENERALE!I$4:I$53,$B33) -> 1 | H33: =COUNTIF(ORARIO_GENERALE!K$4:K$53,$B33) -> 1 | I33: =COUNTIF(#REF!,$B33) -> #REF! | J33: =SUM(C33:I33) -> #REF!
B34: P | C34: =COUNTIF(ORARIO_GENERALE!D$5:D$53,B34) -> 0 | D34: =COUNTIF(ORARIO_GENERALE!E$4:E$53,B34) -> 0 | E34: =COUNTIF(ORARIO_GENERALE!F$4:F$53,B34) -> 0 | F34: =COUNTIF(ORARIO_GENERALE!G$4:G$53,B34) -> 0 | G34: =COUNTIF(ORARIO_GENERALE!I$4:I$53,B34) -> 0 | H34: =COUNTIF(ORARIO_GENERALE!K$4:K$53,$B34) -> 2 | I34: =COUNTIF(#REF!,$B34) -> #REF! | J34: =SUM(C34:I34) -> #REF!
B35: C | C35: =COUNTIF(ORARIO_GENERALE!D$5:D$53,B35) -> 2 | D35: =COUNTIF(ORARIO_GENERALE!E$4:E$53,B35) -> 2 | E35: =COUNTIF(ORARIO_GENERALE!F$4:F$53,B35) -> 2 | F35: =COUNTIF(ORARIO_GENERALE!G$4:G$53,B35) -> 2 | G35: =COUNTIF(ORARIO_GENERALE!I$4:I$53,B35) -> 2 | H35: =COUNTIF(ORARIO_GENERALE!K$4:K$53,$B35) -> 2 | I35: =COUNTIF(#REF!,$B35) -> #REF! | J35: =SUM(C35:I35) -> #REF!
B36: TOTALE DOCENTE | C36: =SUM(C2:C35) -> 18 | D36: =SUM(D2:D35) -> 18 | E36: =SUM(E2:E35) -> 18 | F36: =SUM(F2:F35) -> 20 | G36: =SUM(G2:G35) -> 24 | H36: =SUM(H2:H35) -> 18 | I36: =SUM(I2:I35) -> #REF!
B37: TOTALE LEZIONI | C37: =SUM(C2:C24) -> 13 | D37: =SUM(D2:D24) -> 12 | E37: =SUM(E2:E24) -> 11 | F37: =SUM(F2:F24) -> 14 | G37: =SUM(G2:G24) -> 15 | H37: =SUM(H2:H24) -> 13 | I37: =SUM(I2:I24) -> #REF!

Sheet INSEGNANTI
AF1: g
B2: =ORARIO_GENERALE!D3 -> ITALIANO R | C2: LUN | D2: MAR | E2: MER | F2: GIO | G2: VEN | I2: =ORARIO_GENERALE!E3 -> ITALIANO P | J2: LUN | K2: MAR | L2: MER | M2: GIO | N2: VEN | P2: =#REF! -> #REF! | Q2: LUN | R2: MAR | S2: MER | T2: GIO | U2: VEN | W2: =ORARIO_GENERALE!F3 -> INGLESE | X2: LUN | Y2: MAR | Z2: MER | AA2: GIO | AB2: VEN | AD2: =#REF! -> #REF! | AE2: LUN | AF2: MAR | AG2: MER | AH2: GIO | AI2: VEN | AK2: =ORARIO_GENERALE!G3 -> MAT/SCIENZE | AL2: LUN | AM2: MAR | AN2: MER | AO2: GIO | AP2: VEN | AR2: =ORARIO_GENERALE!I3 -> POTENZIAMENTO | AS2: LUN | AT2: MAR | AU2: MER | AV2: GIO | AW2: VEN | AY2: =#REF! -> #REF! | AZ2: LUN | BA2: MAR | BB2: MER | BC2: GIO | BD2: VEN | BF2: =ORARIO_GENERALE!K3 -> ALFABETIZZAZIONE M | BG2: LUN | BH2: MAR | BI2: MER | BJ2: GIO | BK2: VEN | BM2: =#REF! -> #REF! | BN2: LUN | BO2: MAR | BP2: MER | BQ2: GIO | BR2: VEN | BT2: =#REF! -> #REF! | BU2: LUN | BV2: MAR | BW2: MER | BX2: GIO | BY2: VEN | CA2: =#REF! -> #REF! | CB2: LUN | CC2: MAR | CD2: MER | CE2: GIO | CF2: VEN | CH2: =#REF! -> #REF! | CI2: LUN | CJ2: MAR | CK2: MER | CL2: GIO | CM2: VEN
B3: 08:30-09:30 | C3: =#REF! -> #REF! | D3: =#REF! -> #REF! | E3: =#REF! -> #REF! | F3: =#REF! -> #REF! | G3: =#REF! -> #REF! | I3: 08:30-09:30 | J3: =#REF! -> #REF! | K3: =#REF! -> #REF! | L3: =#REF! -> #REF! | M3: =#REF! -> #REF! | N3: =#REF! -> #REF! | P3: 08:30-09:30 | Q3: =#REF! -> #REF! | R3: =#REF! -> #REF! | S3: =#REF! -> #REF! | T3: =#REF! -> #REF! | U3: =#REF! -> #REF! | W3: 08:30-09:30 | X3: =#REF! -> #REF! | Y3: =#REF! -> #REF! | Z3: =#REF! -> #REF! | AA3: =#REF! -> #REF! | AB3: =#REF! -> #REF! | AD3: 08:30-09:30 | AE3: =#REF! -> #REF! | AF3: =#REF! -> #REF! | AG3: =#REF! -> #REF! | AH3: =#REF! -> #REF! | AI3: =#REF! -> #REF! | AK3: 08:30-09:30 | AL3: =#REF! -> #REF! | AM3: =#REF! -> #REF! | AN3: =#REF! -> #REF! | AO3: =#REF! -> #REF! | AP3: =#REF! -> #REF! | AR3: 08:30-09:30 | AS3: =#REF! -> #REF! | AT3: =#REF! -> #REF! | AU3: =#REF! -> #REF! | AV3: =#REF! -> #REF! | AW3: =#REF! -> #REF! | AY3: 08:30-09:30 | AZ3: =#REF! -> #REF! | BA3: =#REF! -> #REF! | BB3: =#REF! -> #REF! | BC3: =#REF! -> #REF! | BD3: =#REF! -> #REF! | BF3: 08:30-09:30 | BG3: =#REF! -> #REF! | BH3: =#REF! -> #REF! | BI3: =#REF! -> #REF! | BJ3: =#REF! -> #REF! | BK3: =#REF! -> #REF! | BM3: 08:30-09:30 | BN3: =#REF! -> #REF! | BO3: =#REF! -> #REF! | BP3: =#REF! -> #REF! | BQ3: =#REF! -> #REF! | BR3: =#REF! -> #REF! | BT3: 08:30-09:30 | BU3: =#REF! -> #REF! | BV3: =#REF! -> #REF! | BW3: =#REF! -> #REF! | BX3: =#REF! -> #REF! | BY3: =#REF! -> #REF! | CA3: 08:30-09:30 | CB3: =#REF! -> #REF! | CC3: =#REF! -> #REF! | CD3: =#REF! -> #REF! | CE3: =#REF! -> #REF! | CF3: =#REF! -> #REF! | CH3: 08:30-09:30 | CI3: =#REF! -> #REF! | CJ3: =#REF! -> #REF! | CK3: =#REF! -> #REF! | CL3: =#REF! -> #REF! | CM3: =#REF! -> #REF!
B4: 09:30-10:30 | C4: =ORARIO_GENERALE!D7 | D4: =#REF! -> #REF! | E4: =#REF! -> #REF! | F4: =#REF! -> #REF! | G4: =ORARIO_GENERALE!D48 -> MPPA 7 | I4: 09:30-10:30 | J4: =ORARIO_GENERALE!E7 | K4: =#REF! -> #REF! | L4: =#REF! -> #REF! | M4: =#REF! -> #REF! | N4: =ORARIO_GENERALE!E48 -> D/A | P4: 09:30-10:30 | Q4: =#REF! -> #REF! | R4: =#REF! -> #REF! | S4: =#REF! -> #REF! | T4: =#REF! -> #REF! | U4: =#REF! -> #REF! | W4: 09:30-10:30 | X4: =ORARIO_GENERALE!F4 | Y4: =#REF! -> #REF! | Z4: =#REF! -> #REF! | AA4: =#REF! -> #REF! | AB4: =ORARIO_GENERALE!F48 | AD4: 09:30-10:30 | AE4: =#REF! -> #REF! | AF4: =#REF! -> #REF! | AG4: =#REF! -> #REF! | AH4: =#REF! -> #REF! | AI4: =#REF! -> #REF! | AK4: 09:30-10:30 | AL4: =ORARIO_GENERALE!G4 | AM4: =#REF! -> #REF! | AN4: =#REF! -> #REF! | AO4: =#REF! -> #REF! | AP4: =ORARIO_GENERALE!G48 -> LAB | AR4: 09:30-10:30 | AS4: =#REF! -> #REF! | AT4: =#REF! -> #REF! | AU4: =#REF! -> #REF! | AV4: =#REF! -> #REF! | AW4: =ORARIO_GENERALE!I48 | AY4: 09:30-10:30 | AZ4: =#REF! -> #REF! | BA4: =#REF! -> #REF! | BB4: =#REF! -> #REF! | BC4: =#REF! -> #REF! | BD4: =#REF! -> #REF! | BF4: 09:30-10:30 | BG4: =#REF! -> #REF! | BH4: =#REF! -> #REF! | BI4: =#REF! -> #REF! | BJ4: =#REF! -> #REF! | BK4: =#REF! -> #REF! | BM4: 09:30-10:30 | BN4: =#REF! -> #REF! | BO4: =#REF! -> #REF! | BP4: =#REF! -> #REF! | BQ4: =#REF! -> #REF! | BR4: =#REF! -> #REF! | BT4: 09:30-10:30 | BU4: =#REF! -> #REF! | BV4: =#REF! -> #REF! | BW4: =#REF! -> #REF! | BX4: =#REF! -> #REF! | BY4: =#REF! -> #REF! | CA4: 09:30-10:30 | CB4: =#REF! -> #REF! | CC4: =#REF! -> #REF! | CD4: =#REF! -> #REF! | CE4: =#REF! -> #REF! | CF4: =#REF! -> #REF! | CH4: 09:30-10:30 | CI4: =#REF! -> #REF! | CJ4: =#REF! -> #REF! | CK4: =#REF! -> #REF! | CL4: =ORARIO_GENERALE!K38 -> MA2A 3 | CM4: =ORARIO_GENERALE!K48 -> MA2B L
B5: 10:30-11:30 | C5: =ORARIO_GENERALE!D5 -> MPPA 4 | D5: =ORARIO_GENERALE!D15 | E5: =#REF! -> #REF! | F5: =#REF! -> #REF! | G5: =ORARIO_GENERALE!D49 -> MPPA 7 | I5: 10:30-11:30 | J5: =ORARIO_GENERALE!E5 -> MPPC 7 | K5: =ORARIO_GENERALE!E15 | L5: =#REF! -> #REF! | M5: =#REF! -> #REF! | N5: =ORARIO_GENERALE!E49 -> LAB | P5: 10:30-11:30 | Q5: =#REF! -> #REF! | R5: =#REF! -> #REF! | S5: =#REF! -> #REF! | T5: =#REF! -> #REF! | U5: =#REF! -> #REF! | W5: 10:30-11:30 | X5: =ORARIO_GENERALE!F5 | Y5: =ORARIO_GENERALE!F15 -> MPPC 7 | Z5: =#REF! -> #REF! | AA5: =#REF! -> #REF! | AB5: =ORARIO_GENERALE!F49 -> D/A | AD5: 10:30-11:30 | AE5: =#REF! -> #REF! | AF5: =#REF! -> #REF! | AG5: =#REF! -> #REF! | AH5: =#REF! -> #REF! | AI5: =#REF! -> #REF! | AK5: 10:30-11:30 | AL5: =ORARIO_GENERALE!G5 | AM5: =ORARIO_GENERALE!G15 -> MPPA 4 | AN5: =#REF! -> #REF! | AO5: =#REF! -> #REF! | AP5: =ORARIO_GENERALE!G49 -> LAB | AR5: 10:30-11:30 | AS5: =#REF! -> #REF! | AT5: =ORARIO_GENERALE!D37 -> R/P D | AU5: =#REF! -> #REF! | AV5: =#REF! -> #REF! | AW5: =ORARIO_GENERALE!I49 -> D/A | AY5: 10:30-11:30 | AZ5: =#REF! -> #REF! | BA5: =#REF! -> #REF! | BB5: =#REF! -> #REF! | BC5: =#REF! -> #REF! | BD5: =#REF! -> #REF! | BF5: 10:30-11:30 | BG5: =#REF! -> #REF! | BH5: =#REF! -> #REF! | BI5: =#REF! -> #REF! | BJ5: =#REF! -> #REF! | BK5: =#REF! -> #REF! | BM5: 10:30-11:30 | BN5: =#REF! -> #REF! | BO5: =#REF! -> #REF! | BP5: =#REF! -> #REF! | BQ5: =#REF! -> #REF! | BR5: =#REF! -> #REF! | BT5: 10:30-11:30 | BU5: =#REF! -> #REF! | BV5: =#REF! -> #REF! | BW5: =#REF! -> #REF! | BX5: =#REF! -> #REF! | BY5: =#REF! -> #REF! | CA5: 10:30-11:30 | CB5: =#REF! -> #REF! | CC5: =#REF! -> #REF! | CD5: =#REF! -> #REF! | CE5: =#REF! -> #REF! | CF5: =#REF! -> #REF! | CH5: 10:30-11:30 | CI5: =#REF! -> #REF! | CJ5: =#REF! -> #REF! | CK5: =#REF! -> #REF! | CL5: =#REF! -> #REF! | CM5: =ORARIO_GENERALE!K49 -> MA2B L
B6: 11:30-12:30 | C6: =ORARIO_GENERALE!D6 -> MPPA 4 | D6: =ORARIO_GENERALE!D16 | E6: =#REF! -> #REF! | F6: =#REF! -> #REF! | G6: =ORARIO_GENERALE!D50 -> C | I6: 11:30-12:30 | J6: =ORARIO_GENERALE!E6 -> MPPC 7 | K6: =ORARIO_GENERALE!E16 | L6: =ORARIO_GENERALE!E26 | M6: =#REF! -> #REF! | N6: =ORARIO_GENERALE!E50 -> C | P6: 11:30-12:30 | Q6: =#REF! -> #REF! | R6: =#REF! -> #REF! | S6: =#REF! -> #REF! | T6: =#REF! -> #REF! | U6: =#REF! -> #REF! | W6: 11:30-12:30 | X6: =ORARIO_GENERALE!F6 | Y6: =ORARIO_GENERALE!F16 -> MPPC 7 | Z6: =#REF! -> #REF! | AA6: =#REF! -> #REF! | AB6: =ORARIO_GENERALE!F50 -> C | AD6: 11:30-12:30 | AE6: =#REF! -> #REF! | AF6: =#REF! -> #REF! | AG6: =#REF! -> #REF! | AH6: =#REF! -> #REF! | AI6: =#REF! -> #REF! | AK6: 11:30-12:30 | AL6: =#REF! -> #REF! | AM6: =ORARIO_GENERALE!G16 -> MPPA 4 | AN6: =ORARIO_GENERALE!F26 -> MPPA 4 | AO6: =#REF! -> #REF! | AP6: =ORARIO_GENERALE!G50 -> C | AR6: 11:30-12:30 | AS6: =#REF! -> #REF! | AT6: =ORARIO_GENERALE!D38 -> D/A | AU6: =ORARIO_GENERALE!K15 -> MA1D 3 | AV6: =#REF! -> #REF! | AW6: =ORARIO_GENERALE!I50 -> C | AY6: 11:30-12:30 | AZ6: =#REF! -> #REF! | BA6: =#REF! -> #REF! | BB6: =#REF! -> #REF! | BC6: =#REF! -> #REF! | BD6: =#REF! -> #REF! | BF6: 11:30-12:30 | BG6: =#REF! -> #REF! | BH6: =#REF! -> #REF! | BI6: =#REF! -> #REF! | BJ6: =#REF! -> #REF! | BK6: =ORARIO_GENERALE!K50 -> C | BM6: 11:30-12:30 | BN6: =#REF! -> #REF! | BO6: =#REF! -> #REF! | BP6: =#REF! -> #REF! | BQ6: =#REF! -> #REF! | BR6: =#REF! -> #REF! | BT6: 11:30-12:30 | BU6: =#REF! -> #REF! | BV6: =#REF! -> #REF! | BW6: =#REF! -> #REF! | BX6: =#REF! -> #REF! | BY6: =#REF! -> #REF! | CA6: 11:30-12:30 | CB6: =#REF! -> #REF! | CC6: =#REF! -> #REF! | CD6: =#REF! -> #REF! | CE6: =#REF! -> #REF! | CF6: =#REF! -> #REF! | CH6: 11:30-12:30 | CI6: =#REF! -> #REF! | CJ6: =#REF! -> #REF! | CK6: =#REF! -> #REF! | CL6: =ORARIO_GENERALE!K39 -> R/P D | CM6: =#REF! -> #REF!
B7: 12:30-13:30 | C7: =#REF! -> #REF! | D7: =ORARIO_GENERALE!D17 | E7: =#REF! -> #REF! | F7: =#REF! -> #REF! | G7: =ORARIO_GENERALE!D51 -> C | I7: 12:30-13:30 | J7: =#REF! -> #REF! | K7: =#REF! -> #REF! | L7: =ORARIO_GENERALE!E33 | M7: =#REF! -> #REF! | N7: =ORARIO_GENERALE!E51 -> C | P7: 12:30-13:30 | Q7: =#REF! -> #REF! | R7: =#REF! -> #REF! | S7: =#REF! -> #REF! | T7: =#REF! -> #REF! | U7: =#REF! -> #REF! | W7: 12:30-13:30 | X7: =ORARIO_GENERALE!F18 -> MPPD 1 | Y7: =ORARIO_GENERALE!E18 -> MPPB 7 | Z7: =ORARIO_GENERALE!F27 -> MPPA 4 | AA7: =ORARIO_GENERALE!F37 | AB7: =ORARIO_GENERALE!F51 -> C | AD7: 12:30-13:30 | AE7: =#REF! -> #REF! | AF7: =#REF! -> #REF! | AG7: =#REF! -> #REF! | AH7: =#REF! -> #REF! | AI7: =#REF! -> #REF! | AK7: 12:30-13:30 | AL7: =ORARIO_GENERALE!G6 -> D/A | AM7: =ORARIO_GENERALE!G17 -> MPPC 7 | AN7: =ORARIO_GENERALE!G27 -> MPPC 7 | AO7: =ORARIO_GENERALE!E37 -> MPPC 7 | AP7: =ORARIO_GENERALE!G51 -> C | AR7: 12:30-13:30 | AS7: =ORARIO_GENERALE!I6 -> MA0A 3 | AT7: =#REF! -> #REF! | AU7: =ORARIO_GENERALE!K16 -> MA1D 3 | AV7: =ORARIO_GENERALE!I27 | AW7: =ORARIO_GENERALE!I51 -> C | AY7: 12:30-13:30 | AZ7: =#REF! -> #REF! | BA7: =#REF! -> #REF! | BB7: =#REF! -> #REF! | BC7: =#REF! -> #REF! | BD7: =#REF! -> #REF! | BF7: 12:30-13:30 | BG7: =#REF! -> #REF! | BH7: =#REF! -> #REF! | BI7: =#REF! -> #REF! | BJ7: =#REF! -> #REF! | BK7: =ORARIO_GENERALE!K51 -> C | BM7: 12:30-13:30 | BN7: =#REF! -> #REF! | BO7: =#REF! -> #REF! | BP7: =#REF! -> #REF! | BQ7: =#REF! -> #REF! | BR7: =#REF! -> #REF! | BT7: 12:30-13:30 | BU7: =#REF! -> #REF! | BV7: =#REF! -> #REF! | BW7: =#REF! -> #REF! | BX7: =#REF! -> #REF! | BY7: =#REF! -> #REF! | CA7: 12:30-13:30 | CB7: =#REF! -> #REF! | CC7: =#REF! -> #REF! | CD7: =#REF! -> #REF! | CE7: =#REF! -> #REF! | CF7: =#REF! -> #REF! | CH7: 12:30-13:30 | CI7: =#REF! -> #REF! | CJ7: =#REF! -> #REF! | CK7: =#REF! -> #REF! | CL7: =#REF! -> #REF! | CM7: =#REF! -> #REF!
B8: 13:30-14:30 | C8: =ORARIO_GENERALE!D8 | D8: =#REF! -> #REF! | E8: =#REF! -> #REF! | F8: =#REF! -> #REF! | G8: =ORARIO_GENERALE!D53 | I8: 13:30-14:30 | J8: =ORARIO_GENERALE!E8 | K8: =#REF! -> #REF! | L8: =ORARIO_GENERALE!F28 -> MPPC 7 | M8: =ORARIO_GENERALE!E38 -> MPPC 7 | N8: =ORARIO_GENERALE!E53 | P8: 13:30-14:30 | Q8: =#REF! -> #REF! | R8: =#REF! -> #REF! | S8: =#REF! -> #REF! | T8: =#REF! -> #REF! | U8: =#REF! -> #REF! | W8: 13:30-14:30 | X8: =ORARIO_GENERALE!F8 -> R/P D | Y8: =#REF! -> #REF! | Z8: =#REF! -> #REF! | AA8: =ORARIO_GENERALE!F38 | AB8: =ORARIO_GENERALE!F53 | AD8: 13:30-14:30 | AE8: =#REF! -> #REF! | AF8: =#REF! -> #REF! | AG8: =#REF! -> #REF! | AH8: =#REF! -> #REF! | AI8: =#REF! -> #REF! | AK8: 13:30-14:30 | AL8: =ORARIO_GENERALE!G8 -> MPPB 4 | AM8: =ORARIO_GENERALE!G18 | AN8: =ORARIO_GENERALE!G28 -> MPPA 4 | AO8: =ORARIO_GENERALE!G38 | AP8: =ORARIO_GENERALE!G53 | AR8: 13:30-14:30 | AS8: =ORARIO_GENERALE!I29 | AT8: =ORARIO_GENERALE!I18 | AU8: =ORARIO_GENERALE!K17 -> R/P A0B | AV8: =ORARIO_GENERALE!I15 -> MA1E L | AW8: =ORARIO_GENERALE!I53 | AY8: 13:30-14:30 | AZ8: =#REF! -> #REF! | BA8: =#REF! -> #REF! | BB8: =#REF! -> #REF! | BC8: =#REF! -> #REF! | BD8: =#REF! -> #REF! | BF8: 13:30-14:30 | BG8: =#REF! -> #REF! | BH8: =#REF! -> #REF! | BI8: =#REF! -> #REF! | BJ8: =#REF! -> #REF! | BK8: =#REF! -> #REF! | BM8: 13:30-14:30 | BN8: =#REF! -> #REF! | BO8: =#REF! -> #REF! | BP8: =#REF! -> #REF! | BQ8: =#REF! -> #REF! | BR8: =#REF! -> #REF! | BT8: 13:30-14:30 | BU8: =#REF! -> #REF! | BV8: =#REF! -> #REF! | BW8: =#REF! -> #REF! | BX8: =#REF! -> #REF! | BY8: =#REF! -> #REF! | CA8: 13:30-14:30 | CB8: =#REF! -> #REF! | CC8: =#REF! -> #REF! | CD8: =#REF! -> #REF! | CE8: =#REF! -> #REF! | CF8: =#REF! -> #REF! | CH8: 13:30-14:30 | CI8: =#REF! -> #REF! | CJ8: =ORARIO_GENERALE!Q18 -> PERCORSI DI PRIMO PERIODO | CK8: =#REF! -> #REF! | CL8: =#REF! -> #REF! | CM8: =#REF! -> #REF!
B9: 14:00-15:00 | C9: =ORARIO_GENERALE!D9 | D9: =ORARIO_GENERALE!D18 -> R/P D | E9: =#REF! -> #REF! | F9: =#REF! -> #REF! | G9: =ORARIO_GENERALE!D54 | I9: 14:00-15:00 | J9: =ORARIO_GENERALE!E9 | K9: =ORARIO_GENERALE!G19 | L9: =ORARIO_GENERALE!E35 | M9: =#REF! -> #REF! | N9: =ORARIO_GENERALE!E54 | P9: 14:00-15:00 | Q9: =#REF! -> #REF! | R9: =#REF! -> #REF! | S9: =#REF! -> #REF! | T9: =#REF! -> #REF! | U9: =#REF! -> #REF! | W9: 14:00-15:00 | X9: =ORARIO_GENERALE!F9 -> MPPD 7 | Y9: =ORARIO_GENERALE!F19 -> R/P B | Z9: =ORARIO_GENERALE!F29 -> MPPB 7 | AA9: =ORARIO_GENERALE!F39 | AB9: =ORARIO_GENERALE!F54 | AD9: 14:00-15:00 | AE9: =#REF! -> #REF! | AF9: =#REF! -> #REF! | AG9: =#REF! -> #REF! | AH9: =#REF! -> #REF! | AI9: =#REF! -> #REF! | AK9: 14:00-15:00 | AL9: =ORARIO_GENERALE!G9 -> R/P D | AM9: =#REF! -> #REF! | AN9: =#REF! -> #REF! | AO9: =ORARIO_GENERALE!G39 | AP9: =ORARIO_GENERALE!G54 | AR9: 14:00-15:00 | AS9: =ORARIO_GENERALE!I9 | AT9: =ORARIO_GENERALE!I19 | AU9: =ORARIO_GENERALE!D27 | AV9: =ORARIO_GENERALE!I16 -> MA1E L | AW9: =ORARIO_GENERALE!I54 | AY9: 14:00-15:00 | AZ9: =#REF! -> #REF! | BA9: =#REF! -> #REF! | BB9: =#REF! -> #REF! | BC9: =#REF! -> #REF! | BD9: =#REF! -> #REF! | BF9: 14:00-15:00 | BG9: =ORARIO_GENERALE!K7 | BH9: =#REF! -> #REF! | BI9: =ORARIO_GENERALE!K43 | BJ9: =#REF! -> #REF! | BK9: =ORARIO_GENERALE!K54 | BM9: 14:00-15:00 | BN9: =#REF! -> #REF! | BO9: =#REF! -> #REF! | BP9: =#REF! -> #REF! | BQ9: =#REF! -> #REF! | BR9: =#REF! -> #REF! | BT9: 14:00-15:00 | BU9: =#REF! -> #REF! | BV9: =#REF! -> #REF! | BW9: =#REF! -> #REF! | BX9: =#REF! -> #REF! | BY9: =#REF! -> #REF! | CA9: 14:00-15:00 | CB9: =#REF! -> #REF! | CC9: =#REF! -> #REF! | CD9: =#REF! -> #REF! | CE9: =#REF! -> #REF! | CF9: =#REF! -> #REF! | CH9: 14:00-15:00 | CI9: =#REF! -> #REF! | CJ9: =#REF! -> #REF! | CK9: =#REF! -> #REF! | CL9: =#REF! -> #REF! | CM9: =#REF! -> #REF!
B10: 15:00-16:00 | C10: =ORARIO_GENERALE!D28 | D10: =ORARIO_GENERALE!D20 -> MPPD 1 | E10: =ORARIO_GENERALE!D30 -> MPPD 4 | F10: =ORARIO_GENERALE!D40 -> MPPD 1 | G10: =ORARIO_GENERALE!D55 | I10: 15:00-16:00 | J10: =ORARIO_GENERALE!E10 | K10: =ORARIO_GENERALE!E20 -> MPPB 7 | L10: =ORARIO_GENERALE!E30 -> MPPB 7 | M10: =ORARIO_GENERALE!E40 -> MPPB 7 | N10: =ORARIO_GENERALE!E55 | P10: 15:00-16:00 | Q10: =#REF! -> #REF! | R10: =#REF! -> #REF! | S10: =#REF! -> #REF! | T10: =#REF! -> #REF! | U10: =#REF! -> #REF! | W10: 15:00-16:00 | X10: =ORARIO_GENERALE!F10 -> R/P B | Y10: =ORARIO_GENERALE!F20 | Z10: =ORARIO_GENERALE!F30 | AA10: =#REF! -> #REF! | AB10: =ORARIO_GENERALE!F55 | AD10: 15:00-16:00 | AE10: =#REF! -> #REF! | AF10: =#REF! -> #REF! | AG10: =#REF! -> #REF! | AH10: =#REF! -> #REF! | AI10: =#REF! -> #REF! | AK10: 15:00-16:00 | AL10: =#REF! -> #REF! | AM10: =ORARIO_GENERALE!G20 | AN10: =ORARIO_GENERALE!G30 | AO10: =ORARIO_GENERALE!G40 | AP10: =ORARIO_GENERALE!G55 | AR10: 15:00-16:00 | AS10: =ORARIO_GENERALE!I10 | AT10: =#REF! -> #REF! | AU10: =#REF! -> #REF! | AV10: =ORARIO_GENERALE!I41 -> POT C L | AW10: =ORARIO_GENERALE!I55 | AY10: 15:00-16:00 | AZ10: =#REF! -> #REF! | BA10: =#REF! -> #REF! | BB10: =#REF! -> #REF! | BC10: =#REF! -> #REF! | BD10: =#REF! -> #REF! | BF10: 15:00-16:00 | BG10: =ORARIO_GENERALE!K8 | BH10: =ORARIO_GENERALE!K21 | BI10: =ORARIO_GENERALE!K44 | BJ10: =#REF! -> #REF! | BK10: =ORARIO_GENERALE!K55 | BM10: 15:00-16:00 | BN10: =#REF! -> #REF! | BO10: =#REF! -> #REF! | BP10: =#REF! -> #REF! | BQ10: =#REF! -> #REF! | BR10: =#REF! -> #REF! | BT10: 15:00-16:00 | BU10: =#REF! -> #REF! | BV10: =#REF! -> #REF! | BW10: =#REF! -> #REF! | BX10: =#REF! -> #REF! | BY10: =#REF! -> #REF! | CA10: 15:00-16:00 | CB10: =#REF! -> #REF! | CC10: =#REF! -> #REF! | CD10: =#REF! -> #REF! | CE10: =#REF! -> #REF! | CF10: =#REF! -> #REF! | CH10: 15:00-16:00 | CI10: =#REF! -> #REF! | CJ10: =#REF! -> #REF! | CK10: =#REF! -> #REF! | CL10: =#REF! -> #REF! | CM10: =#REF! -> #REF!
B11: 16:00-17:00 | C11: =ORARIO_GENERALE!D11 | D11: =ORARIO_GENERALE!D21 | E11: =ORARIO_GENERALE!D39 -> MPPA 4 | F11: =ORARIO_GENERALE!D41 -> MPPD 1 | G11: =ORARIO_GENERALE!D56 | I11: 16:00-17:00 | J11: =ORARIO_GENERALE!E11 | K11: =ORARIO_GENERALE!E21 | L11: =ORARIO_GENERALE!E17 | M11: =ORARIO_GENERALE!E41 | N11: =ORARIO_GENERALE!E56 | P11: 16:00-17:00 | Q11: =#REF! -> #REF! | R11: =#REF! -> #REF! | S11: =#REF! -> #REF! | T11: =#REF! -> #REF! | U11: =#REF! -> #REF! | W11: 16:00-17:00 | X11: =ORARIO_GENERALE!F11 | Y11: =ORARIO_GENERALE!F21 | Z11: =ORARIO_GENERALE!F31 | AA11: =ORARIO_GENERALE!F40 | AB11: =ORARIO_GENERALE!F56 | AD11: 16:00-17:00 | AE11: =#REF! -> #REF! | AF11: =#REF! -> #REF! | AG11: =#REF! -> #REF! | AH11: =#REF! -> #REF! | AI11: =#REF! -> #REF! | AK11: 16:00-17:00 | AL11: =ORARIO_GENERALE!G11 | AM11: =ORARIO_GENERALE!G21 | AN11: =ORARIO_GENERALE!G31 | AO11: =ORARIO_GENERALE!G41 -> MPPB 7 | AP11: =ORARIO_GENERALE!G56 | AR11: 16:00-17:00 | AS11: =ORARIO_GENERALE!I11 | AT11: =ORARIO_GENERALE!I21 | AU11: =ORARIO_GENERALE!I31 | AV11: =ORARIO_GENERALE!I42 | AW11: =ORARIO_GENERALE!I56 | AY11: 16:00-17:00 | AZ11: =#REF! -> #REF! | BA11: =#REF! -> #REF! | BB11: =#REF! -> #REF! | BC11: =#REF! -> #REF! | BD11: =#REF! -> #REF! | BF11: 16:00-17:00 | BG11: =ORARIO_GENERALE!K9 | BH11: =ORARIO_GENERALE!K22 | BI11: =ORARIO_GENERALE!K45 | BJ11: =#REF! -> #REF! | BK11: =ORARIO_GENERALE!K56 | BM11: 16:00-17:00 | BN11: =#REF! -> #REF! | BO11: =#REF! -> #REF! | BP11: =#REF! -> #REF! | BQ11: =#REF! -> #REF! | BR11: =#REF! -> #REF! | BT11: 16:00-17:00 | BU11: =#REF! -> #REF! | BV11: =#REF! -> #REF! | BW11: =#REF! -> #REF! | BX11: =#REF! -> #REF! | BY11: =#REF! -> #REF! | CA11: 16:00-17:00 | CB11: =#REF! -> #REF! | CC11: =#REF! -> #REF! | CD11: =#REF! -> #REF! | CE11: =#REF! -> #REF! | CF11: =#REF! -> #REF! | CH11: 16:00-17:00 | CI11: =#REF! -> #REF! | CJ11: =#REF! -> #REF! | CK11: =#REF! -> #REF! | CL11: =#REF! -> #REF! | CM11: =#REF! -> #REF!
B12: 17:00-18-00 | C12: =ORARIO_GENERALE!D12 | D12: =ORARIO_GENERALE!D23 | E12: =ORARIO_GENERALE!D34 | F12: =ORARIO_GENERALE!D42 | G12: =ORARIO_GENERALE!D57 | I12: 17:00-18-00 | J12: =ORARIO_GENERALE!E12 | K12: =ORARIO_GENERALE!E23 | L12: =#REF! -> #REF! | M12: =ORARIO_GENERALE!E39 -> MPPC 7 | N12: =ORARIO_GENERALE!E57 | P12: 17:00-18-00 | Q12: =#REF! -> #REF! | R12: =#REF! -> #REF! | S12: =#REF! -> #REF! | T12: =#REF! -> #REF! | U12: =#REF! -> #REF! | W12: 17:00-18-00 | X12: =ORARIO_GENERALE!F12 | Y12: =ORARIO_GENERALE!F23 | Z12: =ORARIO_GENERALE!G23 | AA12: =ORARIO_GENERALE!F42 -> MPPB 7 | AB12: =ORARIO_GENERALE!F57 | AD12: 17:00-18-00 | AE12: =#REF! -> #REF! | AF12: =#REF! -> #REF! | AG12: =#REF! -> #REF! | AH12: =#REF! -> #REF! | AI12: =#REF! -> #REF! | AK12: 17:00-18-00 | AL12: =ORARIO_GENERALE!G12 | AM12: =#REF! -> #REF! | AN12: =ORARIO_GENERALE!G34 | AO12: =ORARIO_GENERALE!O43 | AP12: =ORARIO_GENERALE!G57 | AR12: 17:00-18-00 | AS12: =#REF! -> #REF! | AT12: =ORARIO_GENERALE!I23 | AU12: =#REF! -> #REF! | AV12: =#REF! -> #REF! | AW12: =ORARIO_GENERALE!I57 | AY12: 17:00-18-00 | AZ12: =#REF! -> #REF! | BA12: =#REF! -> #REF! | BB12: =#REF! -> #REF! | BC12: =#REF! -> #REF! | BD12: =#REF! -> #REF! | BF12: 17:00-18-00 | BG12: =ORARIO_GENERALE!K10 -> R/P D | BH12: =ORARIO_GENERALE!K23 | BI12: =#REF! -> #REF! | BJ12: =#REF! -> #REF! | BK12: =ORARIO_GENERALE!K57 | BM12: 17:00-18-00 | BN12: =#REF! -> #REF! | BO12: =#REF! -> #REF! | BP12: =#REF! -> #REF! | BQ12: =#REF! -> #REF! | BR12: =#REF! -> #REF! | BT12: 17:00-18-00 | BU12: =#REF! -> #REF! | BV12: =#REF! -> #REF! | BW12: =#REF! -> #REF! | BX12: =#REF! -> #REF! | BY12: =#REF! -> #REF! | CA12: 17:00-18-00 | CB12: =#REF! -> #REF! | CC12: =#REF! -> #REF! | CD12: =#REF! -> #REF! | CE12: =#REF! -> #REF! | CF12: =#REF! -> #REF! | CH12: 17:00-18-00 | CI12: =#REF! -> #REF! | CJ12: =#REF! -> #REF! | CK12: =ORARIO_GENERALE!K46 | CL12: =#REF! -> #REF! | CM12: =#REF! -> #REF!
B13: 18:00-19:00 | C13: =ORARIO_GENERALE!D13 | D13: =ORARIO_GENERALE!D24 | E13: =ORARIO_GENERALE!D35 | F13: =ORARIO_GENERALE!D43 | G13: =ORARIO_GENERALE!D58 | I13: 18:00-19:00 | J13: =ORARIO_GENERALE!E13 | K13: =ORARIO_GENERALE!E24 | L13: =#REF! -> #REF! | M13: =ORARIO_GENERALE!E43 | N13: =ORARIO_GENERALE!E58 | P13: 18:00-19:00 | Q13: =#REF! -> #REF! | R13: =#REF! -> #REF! | S13: =#REF! -> #REF! | T13: =#REF! -> #REF! | U13: =#REF! -> #REF! | W13: 18:00-19:00 | X13: =ORARIO_GENERALE!Q36 | Y13: =ORARIO_GENERALE!F24 | Z13: =ORARIO_GENERALE!F35 | AA13: =ORARIO_GENERALE!F43 -> MPPB 7 | AB13: =ORARIO_GENERALE!F58 | AD13: 18:00-19:00 | AE13: =#REF! -> #REF! | AF13: =#REF! -> #REF! | AG13: =#REF! -> #REF! | AH13: =#REF! -> #REF! | AI13: =#REF! -> #REF! | AK13: 18:00-19:00 | AL13: =ORARIO_GENERALE!G13 | AM13: =ORARIO_GENERALE!G24 | AN13: =ORARIO_GENERALE!G35 | AO13: =ORARIO_GENERALE!G43 -> MPPD 1 | AP13: =ORARIO_GENERALE!G58 | AR13: 18:00-19:00 | AS13: =#REF! -> #REF! | AT13: =ORARIO_GENERALE!I24 | AU13: =ORARIO_GENERALE!I35 -> MA1C 3 | AV13: =ORARIO_GENERALE!I43 | AW13: =ORARIO_GENERALE!I58 | AY13: 18:00-19:00 | AZ13: =#REF! -> #REF! | BA13: =#REF! -> #REF! | BB13: =#REF! -> #REF! | BC13: =#REF! -> #REF! | BD13: =#REF! -> #REF! | BF13: 18:00-19:00 | BG13: =ORARIO_GENERALE!K11 -> D/A | BH13: =ORARIO_GENERALE!K24 | BI13: =#REF! -> #REF! | BJ13: =#REF! -> #REF! | BK13: =ORARIO_GENERALE!K58 | BM13: 18:00-19:00 | BN13: =#REF! -> #REF! | BO13: =#REF! -> #REF! | BP13: =#REF! -> #REF! | BQ13: =#REF! -> #REF! | BR13: =#REF! -> #REF! | BT13: 18:00-19:00 | BU13: =#REF! -> #REF! | BV13: =#REF! -> #REF! | BW13: =#REF! -> #REF! | BX13: =#REF! -> #REF! | BY13: =#REF! -> #REF! | CA13: 18:00-19:00 | CB13: =#REF! -> #REF! | CC13: =#REF! -> #REF! | CD13: =#REF! -> #REF! | CE13: =#REF! -> #REF! | CF13: =#REF! -> #REF! | CH13: 18:00-19:00 | CI13: =#REF! -> #REF! | CJ13: =#REF! -> #REF! | CK13: =ORARIO_GENERALE!K47 | CL13: =#REF! -> #REF! | CM13: =#REF! -> #REF!
B14: 19:00-20:00 | C14: =ORARIO_GENERALE!D14 | D14: =ORARIO_GENERALE!D25 | E14: =#REF! -> #REF! | F14: =ORARIO_GENERALE!D47 | G14: =#REF! -> #REF! | I14: 19:00-20:00 | J14: =ORARIO_GENERALE!E14 | K14: =ORARIO_GENERALE!E25 | L14: =ORARIO_GENERALE!D36 | M14: =ORARIO_GENERALE!E47 | N14: =#REF! -> #REF! | P14: 19:00-20:00 | Q14: =#REF! -> #REF! | R14: =#REF! -> #REF! | S14: =#REF! -> #REF! | T14: =#REF! -> #REF! | U14: =#REF! -> #REF! | W14: 19:00-20:00 | X14: =ORARIO_GENERALE!F14 | Y14: =ORARIO_GENERALE!F25 | Z14: =ORARIO_GENERALE!F36 | AA14: =ORARIO_GENERALE!F47 | AB14: =#REF! -> #REF! | AD14: 19:00-20:00 | AE14: =#REF! -> #REF! | AF14: =#REF! -> #REF! | AG14: =#REF! -> #REF! | AH14: =#REF! -> #REF! | AI14: =#REF! -> #REF! | AK14: 19:00-20:00 | AL14: =ORARIO_GENERALE!G14 | AM14: =ORARIO_GENERALE!G25 | AN14: =ORARIO_GENERALE!G36 | AO14: =ORARIO_GENERALE!G47 | AP14: =#REF! -> #REF! | AR14: 19:00-20:00 | AS14: =#REF! -> #REF! | AT14: =#REF! -> #REF! | AU14: =ORARIO_GENERALE!I36 -> MA1C 3 | AV14: =ORARIO_GENERALE!I47 | AW14: =#REF! -> #REF! | AY14: 19:00-20:00 | AZ14: =#REF! -> #REF! | BA14: =#REF! -> #REF! | BB14: =#REF! -> #REF! | BC14: =#REF! -> #REF! | BD14: =#REF! -> #REF! | BF14: 19:00-20:00 | BG14: =ORARIO_GENERALE!K12 -> MA1C | BH14: =ORARIO_GENERALE!K27 -> MA2A 3 | BI14: =#REF! -> #REF! | BJ14: =#REF! -> #REF! | BK14: =#REF! -> #REF! | BM14: 19:00-20:00 | BN14: =#REF! -> #REF! | BO14: =#REF! -> #REF! | BP14: =#REF! -> #REF! | BQ14: =#REF! -> #REF! | BR14: =#REF! -> #REF! | BT14: 19:00-20:00 | BU14: =#REF! -> #REF! | BV14: =#REF! -> #REF! | BW14: =#REF! -> #REF! | BX14: =#REF! -> #REF! | BY14: =#REF! -> #REF! | CA14: 19:00-20:00 | CB14: =#REF! -> #REF! | CC14: =#REF! -> #REF! | CD14: =#REF! -> #REF! | CE14: =#REF! -> #REF! | CF14: =#REF! -> #REF! | CH14: 19:00-20:00 | CI14: =ORARIO_GENERALE!I12 | CJ14: =#REF! -> #REF! | CK14: =ORARIO_GENERALE!K37 -> MA2A 3 | CL14: =#REF! -> #REF! | CM14: =#REF! -> #REF!
B15: 20:00-21:00 | C15: =#REF! -> #REF! | D15: =#REF! -> #REF! | E15: =#REF! -> #REF! | F15: =#REF! -> #REF! | G15: =#REF! -> #REF! | I15: 20:00-21:00 | J15: =#REF! -> #REF! | K15: =#REF! -> #REF! | L15: =#REF! -> #REF! | M15: =#REF! -> #REF! | N15: =#REF! -> #REF! | P15: 20:00-21:00 | Q15: =#REF! -> #REF! | R15: =#REF! -> #REF! | S15: =#REF! -> #REF! | T15: =#REF! -> #REF! | U15: =#REF! -> #REF! | W15: 20:00-21:00 | X15: =#REF! -> #REF! | Y15: =#REF! -> #REF! | Z15: =#REF! -> #REF! | AA15: =#REF! -> #REF! | AB15: =#REF! -> #REF! | AD15: 20:00-21:00 | AE15: =#REF! -> #REF! | AF15: =#REF! -> #REF! | AG15: =#REF! -> #REF! | AH15: =#REF! -> #REF! | AI15: =#REF! -> #REF! | AK15: 20:00-21:00 | AL15: =#REF! -> #REF! | AM15: =#REF! -> #REF! | AN15: =#REF! -> #REF! | AO15: =#REF! -> #REF! | AP15: =#REF! -> #REF! | AR15: 20:00-21:00 | AS15: =#REF! -> #REF! | AT15: =#REF! -> #REF! | AU15: =#REF! -> #REF! | AV15: =#REF! -> #REF! | AW15: =#REF! -> #REF! | AY15: 20:00-21:00 | AZ15: =#REF! -> #REF! | BA15: =#REF! -> #REF! | BB15: =#REF! -> #REF! | BC15: =#REF! -> #REF! | BD15: =#REF! -> #REF! | BF15: 20:00-21:00 | BG15: =#REF! -> #REF! | BH15: =#REF! -> #REF! | BI15: =#REF! -> #REF! | BJ15: =#REF! -> #REF! | BK15: =#REF! -> #REF! | BM15: 20:00-21:00 | BN15: =#REF! -> #REF! | BO15: =#REF! -> #REF! | BP15: =#REF! -> #REF! | BQ15: =#REF! -> #REF! | BR15: =#REF! -> #REF! | BT15: 20:00-21:00 | BU15: =#REF! -> #REF! | BV15: =#REF! -> #REF! | BW15: =#REF! -> #REF! | BX15: =#REF! -> #REF! | BY15: =#REF! -> #REF! | CA15: 20:00-21:00 | CB15: =#REF! -> #REF! | CC15: =#REF! -> #REF! | CD15: =#REF! -> #REF! | CE15: =#REF! -> #REF! | CF15: =#REF! -> #REF! | CH15: 20:00-21:00 | CI15: =#REF! -> #REF! | CJ15: =#REF! -> #REF! | CK15: =#REF! -> #REF! | CL15: =#REF! -> #REF! | CM15: =#REF! -> #REF!

Sheet PIANO AULE
G1: PIANO AULE SEDE DI RHO A.S. 2021-2022
B2: LUN | C2: =#REF! -> #REF! | D2: =IFERROR(RIGHT(#REF!,LEN(#REF!)-SEARCH(" ",#REF!)),"") | E2: =IFERROR(RIGHT(#REF!,LEN(#REF!)-SEARCH(" ",#REF!)),"") | F2: =IFERROR(RIGHT(#REF!,LEN(#REF!)-SEARCH(" ",#REF!)),"") | G2: =IFERROR(RIGHT(#REF!,LEN(#REF!)-SEARCH(" ",#REF!)),"") | H2: =IFERROR(RIGHT(#REF!,LEN(#REF!)-SEARCH(" ",#REF!)),"") | I2: =IFERROR(RIGHT(#REF!,LEN(#REF!)-SEARCH(" ",#REF!)),"") | J2: =#REF! -> #REF! | Q2: MAR
C3: =ORARIO_GENERALE!C4 -> 09:00-10:00 | D3: =IFERROR(RIGHT(ORARIO_GENERALE!D7,LEN(ORARIO_GENERALE!D7)+SEARCH(" ",ORARIO_GENERALE!D7)),"") | E3: =IFERROR(RIGHT(ORARIO_GENERALE!E7,LEN(ORARIO_GENERALE!E7)+SEARCH(" ",ORARIO_GENERALE!E7)),"") | F3: =IFERROR(RIGHT(ORARIO_GENERALE!F4,LEN(ORARIO_GENERALE!F4)+SEARCH(" ",ORARIO_GENERALE!F4)),"") | G3: =IFERROR(RIGHT(ORARIO_GENERALE!G4,LEN(ORARIO_GENERALE!G4)+SEARCH(" ",ORARIO_GENERALE!G4)),"") | H3: =IFERROR(RIGHT(#REF!,LEN(#REF!)+SEARCH(" ",#REF!)),"") | I3: =IFERROR(RIGHT(#REF!,LEN(#REF!)+SEARCH(" ",#REF!)),"") | J3: =ORARIO_GENERALE!J4 | K3: =IFERROR(RIGHT(#REF!,LEN(#REF!)+SEARCH(" ",#REF!)),"") | L3: =IFERROR(RIGHT(#REF!,LEN(#REF!)+SEARCH(" ",#REF!)),"") | M3: =IFERROR(RIGHT(#REF!,LEN(#REF!)+SEARCH(" ",#REF!)),"") | N3: =IFERROR(RIGHT(#REF!,LEN(#REF!)+SEARCH(" ",#REF!)),"") | O3: =IFERROR(RIGHT(#REF!,LEN(#REF!)+SEARCH(" ",#REF!)),"") | P3: =IFERROR(RIGHT(#REF!,LEN(#REF!)+SEARCH(" ",#REF!)),"")
C4: =ORARIO_GENERALE!C5 -> 10:00-11:00 | D4: =IFERROR(RIGHT(ORARIO_GENERALE!D5,LEN(ORARIO_GENERALE!D5)+SEARCH(" ",ORARIO_GENERALE!D5)),"") -> MPPA 4 | E4: =IFERROR(RIGHT(ORARIO_GENERALE!E5,LEN(ORARIO_GENERALE!E5)+SEARCH(" ",ORARIO_GENERALE!E5)),"") -> MPPC 7 | F4: =IFERROR(RIGHT(ORARIO_GENERALE!F5,LEN(ORARIO_GENERALE!F5)+SEARCH(" ",ORARIO_GENERALE!F5)),"") | G4: =IFERROR(RIGHT(ORARIO_GENERALE!G5,LEN(ORARIO_GENERALE!G5)+SEARCH(" ",ORARIO_GENERALE!G5)),"") | H4: =IFERROR(RIGHT(#REF!,LEN(#REF!)+SEARCH(" ",#REF!)),"") | I4: =IFERROR(RIGHT(#REF!,LEN(#REF!)+SEARCH(" ",#REF!)),"") | J4: =ORARIO_GENERALE!J5 | K4: =IFERROR(RIGHT(#REF!,LEN(#REF!)+SEARCH(" ",#REF!)),"") | L4: =IFERROR(RIGHT(#REF!,LEN(#REF!)+SEARCH(" ",#REF!)),"") | M4: =IFERROR(RIGHT(#REF!,LEN(#REF!)+SEARCH(" ",#REF!)),"") | N4: =IFERROR(RIGHT(#REF!,LEN(#REF!)+SEARCH(" ",#REF!)),"") | O4: =IFERROR(RIGHT(#REF!,LEN(#REF!)+SEARCH(" ",#REF!)),"") | P4: =IFERROR(RIGHT(#REF!,LEN(#REF!)+SEARCH(" ",#REF!)),"")
C5: =ORARIO_GENERALE!C6 -> 11:00-12:00 | D5: =IFERROR(RIGHT(ORARIO_GENERALE!D6,LEN(ORARIO_GENERALE!D6)+SEARCH(" ",ORARIO_GENERALE!D6)),"") -> MPPA 4 | E5: =IFERROR(RIGHT(ORARIO_GENERALE!E6,LEN(ORARIO_GENERALE!E6)+SEARCH(" ",ORARIO_GENERALE!E6)),"") -> MPPC 7 | F5: =IFERROR(RIGHT(ORARIO_GENERALE!F6,LEN(ORARIO_GENERALE!F6)+SEARCH(" ",ORARIO_GENERALE!F6)),"") | G5: =IFERROR(RIGHT(#REF!,LEN(#REF!)+SEARCH(" ",#REF!)),"") | H5: =IFERROR(RIGHT(#REF!,LEN(#REF!)+SEARCH(" ",#REF!)),"") | I5: =IFERROR(RIGHT(#REF!,LEN(#REF!)+SEARCH(" ",#REF!)),"") | J5: =ORARIO_GENERALE!J6 | K5: =IFERROR(RIGHT(#REF!,LEN(#REF!)+SEARCH(" ",#REF!)),"") | L5: =IFERROR(RIGHT(#REF!,LEN(#REF!)+SEARCH(" ",#REF!)),"") | M5: =IFERROR(RIGHT(#REF!,LEN(#REF!)+SEARCH(" ",#REF!)),"") | N5: =IFERROR(RIGHT(#REF!,LEN(#REF!)+SEARCH(" ",#REF!)),"") | O5: =IFERROR(RIGHT(#REF!,LEN(#REF!)+SEARCH(" ",#REF!)),"") | P5: =IFERROR(RIGHT(#REF!,LEN(#REF!)+SEARCH(" ",#REF!)),"")
C6: =ORARIO_GENERALE!C7 -> 12:00-13:00 | D6: =IFERROR(RIGHT(#REF!,LEN(#REF!)+SEARCH(" ",#REF!)),"") | E6: =IFERROR(RIGHT(#REF!,LEN(#REF!)+SEARCH(" ",#REF!)),"") | F6: =IFERROR(RIGHT(ORARIO_GENERALE!F18,LEN(ORARIO_GENERALE!F18)+SEARCH(" ",ORARIO_GENERALE!F18)),"") -> MPPD 1 | G6: =IFERROR(RIGHT(ORARIO_GENERALE!G6,LEN(ORARIO_GENERALE!G6)+SEARCH(" ",ORARIO_GENERALE!G6)),"") | H6: =IFERROR(RIGHT(ORARIO_GENERALE!I6,LEN(ORARIO_GENERALE!I6)+SEARCH(" ",ORARIO_GENERALE!I6)),"") -> MA0A 3 | I6: =IFERROR(RIGHT(#REF!,LEN(#REF!)+SEARCH(" ",#REF!)),"") | J6: =ORARIO_GENERALE!J7 | K6: =IFERROR(RIGHT(#REF!,LEN(#REF!)+SEARCH(" ",#REF!)),"") | L6: =IFERROR(RIGHT(#REF!,LEN(#REF!)+SEARCH(" ",#REF!)),"") | M6: =IFERROR(RIGHT(#REF!,LEN(#REF!)+SEARCH(" ",#REF!)),"") | N6: =IFERROR(RIGHT(#REF!,LEN(#REF!)+SEARCH(" ",#REF!)),"") | O6: =IFERROR(RIGHT(#REF!,LEN(#REF!)+SEARCH(" ",#REF!)),"") | P6: =IFERROR(RIGHT(#REF!,LEN(#REF!)+SEARCH(" ",#REF!)),"")
C7: =ORARIO_GENERALE!C8 -> 13:00-14:00 | D7: =IFERROR(RIGHT(ORARIO_GENERALE!D8,LEN(ORARIO_GENERALE!D8)+SEARCH(" ",ORARIO_GENERALE!D8)),"") | E7: =IFERROR(RIGHT(ORARIO_GENERALE!E8,LEN(ORARIO_GENERALE!E8)+SEARCH(" ",ORARIO_GENERALE!E8)),"") | F7: =IFERROR(RIGHT(ORARIO_GENERALE!F8,LEN(ORARIO_GENERALE!F8)+SEARCH(" ",ORARIO_GENERALE!F8)),"") -> R/P D | G7: =IFERROR(RIGHT(ORARIO_GENERALE!G8,LEN(ORARIO_GENERALE!G8)+SEARCH(" ",ORARIO_GENERALE!G8)),"") -> MPPB 4 | H7: =IFERROR(RIGHT(ORARIO_GENERALE!I29,LEN(ORARIO_GENERALE!I29)+SEARCH(" ",ORARIO_GENERALE!I29)),"") | I7: =IFERROR(RIGHT(#REF!,LEN(#REF!)+SEARCH(" ",#REF!)),"") | J7: =ORARIO_GENERALE!J8 | K7: =IFERROR(RIGHT(#REF!,LEN(#REF!)+SEARCH(" ",#REF!)),"") | L7: =IFERROR(RIGHT(#REF!,LEN(#REF!)+SEARCH(" ",#REF!)),"") | M7: =IFERROR(RIGHT(#REF!,LEN(#REF!)+SEARCH(" ",#REF!)),"") | N7: =IFERROR(RIGHT(#REF!,LEN(#REF!)+SEARCH(" ",#REF!)),"") | O7: =IFERROR(RIGHT(#REF!,LEN(#REF!)+SEARCH(" ",#REF!)),"") | P7: =IFERROR(RIGHT(#REF!,LEN(#REF!)+SEARCH(" ",#REF!)),"")
C8: =ORARIO_GENERALE!C9 -> 14:00-15:00 | D8: =IFERROR(RIGHT(ORARIO_GENERALE!D9,LEN(ORARIO_GENERALE!D9)+SEARCH(" ",ORARIO_GENERALE!D9)),"") | E8: =IFERROR(RIGHT(ORARIO_GENERALE!E9,LEN(ORARIO_GENERALE!E9)+SEARCH(" ",ORARIO_GENERALE!E9)),"") | F8: =IFERROR(RIGHT(ORARIO_GENERALE!F9,LEN(ORARIO_GENERALE!F9)+SEARCH(" ",ORARIO_GENERALE!F9)),"") -> MPPD 7 | G8: =IFERROR(RIGHT(ORARIO_GENERALE!G9,LEN(ORARIO_GENERALE!G9)+SEARCH(" ",ORARIO_GENERALE!G9)),"") -> R/P D | H8: =IFERROR(RIGHT(ORARIO_GENERALE!I9,LEN(ORARIO_GENERALE!I9)+SEARCH(" ",ORARIO_GENERALE!I9)),"") | I8: =IFERROR(RIGHT(#REF!,LEN(#REF!)+SEARCH(" ",#REF!)),"") | J8: =ORARIO_GENERALE!J9 | K8: =IFERROR(RIGHT(ORARIO_GENERALE!K7,LEN(ORARIO_GENERALE!K7)+SEARCH(" ",ORARIO_GENERALE!K7)),"") | L8: =IFERROR(RIGHT(#REF!,LEN(#REF!)+SEARCH(" ",#REF!)),"") | M8: =IFERROR(RIGHT(#REF!,LEN(#REF!)+SEARCH(" ",#REF!)),"") | N8: =IFERROR(RIGHT(#REF!,LEN(#REF!)+SEARCH(" ",#REF!)),"") | O8: =IFERROR(RIGHT(#REF!,LEN(#REF!)+SEARCH(" ",#REF!)),"") | P8: =IFERROR(RIGHT(#REF!,LEN(#REF!)+SEARCH(" ",#REF!)),"")
C9: =ORARIO_GENERALE!C10 -> 15:00-16:00 | D9: =IFERROR(RIGHT(ORARIO_GENERALE!D28,LEN(ORARIO_GENERALE!D28)+SEARCH(" ",ORARIO_GENERALE!D28)),"") | E9: =IFERROR(RIGHT(ORARIO_GENERALE!E10,LEN(ORARIO_GENERALE!E10)+SEARCH(" ",ORARIO_GENERALE!E10)),"") | F9: =IFERROR(RIGHT(ORARIO_GENERALE!F10,LEN(ORARIO_GENERALE!F10)+SEARCH(" ",ORARIO_GENERALE!F10)),"") -> R/P B | G9: =IFERROR(RIGHT(#REF!,LEN(#REF!)+SEARCH(" ",#REF!)),"") | H9: =IFERROR(RIGHT(ORARIO_GENERALE!I10,LEN(ORARIO_GENERALE!I10)+SEARCH(" ",ORARIO_GENERALE!I10)),"") | I9: =IFERROR(RIGHT(#REF!,LEN(#REF!)+SEARCH(" ",#REF!)),"") | J9: =ORARIO_GENERALE!J10 | K9: =IFERROR(RIGHT(ORARIO_GENERALE!K8,LEN(ORARIO_GENERALE!K8)+SEARCH(" ",ORARIO_GENERALE!K8)),"") | L9: =IFERROR(RIGHT(#REF!,LEN(#REF!)+SEARCH(" ",#REF!)),"") | M9: =IFERROR(RIGHT(#REF!,LEN(#REF!)+SEARCH(" ",#REF!)),"") | N9: =IFERROR(RIGHT(#REF!,LEN(#REF!)+SEARCH(" ",#REF!)),"") | O9: =IFERROR(RIGHT(#REF!,LEN(#REF!)+SEARCH(" ",#REF!)),"") | P9: =IFERROR(RIGHT(#REF!,LEN(#REF!)+SEARCH(" ",#REF!)),"")
C10: =ORARIO_GENERALE!C11 -> 16:00-17:00 | D10: =IFERROR(RIGHT(ORARIO_GENERALE!D11,LEN(ORARIO_GENERALE!D11)+SEARCH(" ",ORARIO_GENERALE!D11)),"") | E10: =IFERROR(RIGHT(ORARIO_GENERALE!E11,LEN(ORARIO_GENERALE!E11)+SEARCH(" ",ORARIO_GENERALE!E11)),"") | F10: =IFERROR(RIGHT(ORARIO_GENERALE!F11,LEN(ORARIO_GENERALE!F11)+SEARCH(" ",ORARIO_GENERALE!F11)),"") | G10: =IFERROR(RIGHT(ORARIO_GENERALE!G11,LEN(ORARIO_GENERALE!G11)+SEARCH(" ",ORARIO_GENERALE!G11)),"") | H10: =IFERROR(RIGHT(ORARIO_GENERALE!I11,LEN(ORARIO_GENERALE!I11)+SEARCH(" ",ORARIO_GENERALE!I11)),"") | I10: =IFERROR(RIGHT(#REF!,LEN(#REF!)+SEARCH(" ",#REF!)),"") | J10: =ORARIO_GENERALE!J11 | K10: =IFERROR(RIGHT(ORARIO_GENERALE!K9,LEN(ORARIO_GENERALE!K9)+SEARCH(" ",ORARIO_GENERALE!K9)),"") | L10: =IFERROR(RIGHT(#REF!,LEN(#REF!)+SEARCH(" ",#REF!)),"") | M10: =IFERROR(RIGHT(#REF!,LEN(#REF!)+SEARCH(" ",#REF!)),"") | N10: =IFERROR(RIGHT(#REF!,LEN(#REF!)+SEARCH(" ",#REF!)),"") | O10: =IFERROR(RIGHT(#REF!,LEN(#REF!)+SEARCH(" ",#REF!)),"") | P10: =IFERROR(RIGHT(#REF!,LEN(#REF!)+SEARCH(" ",#REF!)),"")
C11: =ORARIO_GENERALE!C12 -> 17:00-18:00 | D11: =IFERROR(RIGHT(ORARIO_GENERALE!D12,LEN(ORARIO_GENERALE!D12)+SEARCH(" ",ORARIO_GENERALE!D12)),"") | E11: =IFERROR(RIGHT(ORARIO_GENERALE!E12,LEN(ORARIO_GENERALE!E12)+SEARCH(" ",ORARIO_GENERALE!E12)),"") | F11: =IFERROR(RIGHT(ORARIO_GENERALE!F12,LEN(ORARIO_GENERALE!F12)+SEARCH(" ",ORARIO_GENERALE!F12)),"") | G11: =IFERROR(RIGHT(ORARIO_GENERALE!G12,LEN(ORARIO_GENERALE!G12)+SEARCH(" ",ORARIO_GENERALE!G12)),"") | H11: =IFERROR(RIGHT(#REF!,LEN(#REF!)+SEARCH(" ",#REF!)),"") | I11: =IFERROR(RIGHT(#REF!,LEN(#REF!)+SEARCH(" ",#REF!)),"") | J11: =ORARIO_GENERALE!J12 | K11: =IFERROR(RIGHT(ORARIO_GENERALE!K10,LEN(ORARIO_GENERALE!K10)+SEARCH(" ",ORARIO_GENERALE!K10)),"") -> R/P D | L11: =IFERROR(RIGHT(#REF!,LEN(#REF!)+SEARCH(" ",#REF!)),"") | M11: =IFERROR(RIGHT(#REF!,LEN(#REF!)+SEARCH(" ",#REF!)),"") | N11: =IFERROR(RIGHT(#REF!,LEN(#REF!)+SEARCH(" ",#REF!)),"") | O11: =IFERROR(RIGHT(#REF!,LEN(#REF!)+SEARCH(" ",#REF!)),"") | P11: =IFERROR(RIGHT(#REF!,LEN(#REF!)+SEARCH(" ",#REF!)),"")
C12: =ORARIO_GENERALE!C13 -> 18:00-19:00 | D12: =IFERROR(RIGHT(ORARIO_GENERALE!D13,LEN(ORARIO_GENERALE!D13)+SEARCH(" ",ORARIO_GENERALE!D13)),"") | E12: =IFERROR(RIGHT(ORARIO_GENERALE!E13,LEN(ORARIO_GENERALE!E13)+SEARCH(" ",ORARIO_GENERALE!E13)),"") | F12: =IFERROR(RIGHT(ORARIO_GENERALE!Q36,LEN(ORARIO_GENERALE!Q36)+SEARCH(" ",ORARIO_GENERALE!Q36)),"") | G12: =IFERROR(RIGHT(ORARIO_GENERALE!G13,LEN(ORARIO_GENERALE!G13)+SEARCH(" ",ORARIO_GENERALE!G13)),"") | H12: =IFERROR(RIGHT(#REF!,LEN(#REF!)+SEARCH(" ",#REF!)),"") | I12: =IFERROR(RIGHT(#REF!,LEN(#REF!)+SEARCH(" ",#REF!)),"") | J12: =ORARIO_GENERALE!J13 | K12: =IFERROR(RIGHT(ORARIO_GENERALE!K11,LEN(ORARIO_GENERALE!K11)+SEARCH(" ",ORARIO_GENERALE!K11)),"") | L12: =IFERROR(RIGHT(#REF!,LEN(#REF!)+SEARCH(" ",#REF!)),"") | M12: =IFERROR(RIGHT(#REF!,LEN(#REF!)+SEARCH(" ",#REF!)),"") | N12: =IFERROR(RIGHT(#REF!,LEN(#REF!)+SEARCH(" ",#REF!)),"") | O12: =IFERROR(RIGHT(#REF!,LEN(#REF!)+SEARCH(" ",#REF!)),"") | P12: =IFERROR(RIGHT(#REF!,LEN(#REF!)+SEARCH(" ",#REF!)),"")
C13: =ORARIO_GENERALE!C14 -> 19:00-20:00 | D13: =IFERROR(RIGHT(ORARIO_GENERALE!D14,LEN(ORARIO_GENERALE!D14)+SEARCH(" ",ORARIO_GENERALE!D14)),"") | E13: =IFERROR(RIGHT(ORARIO_GENERALE!E14,LEN(ORARIO_GENERALE!E14)+SEARCH(" ",ORARIO_GENERALE!E14)),"") | F13: =IFERROR(RIGHT(ORARIO_GENERALE!F14,LEN(ORARIO_GENERALE!F14)+SEARCH(" ",ORARIO_GENERALE!F14)),"") | G13: =IFERROR(RIGHT(ORARIO_GENERALE!G14,LEN(ORARIO_GENERALE!G14)+SEARCH(" ",ORARIO_GENERALE!G14)),"") | H13: =IFERROR(RIGHT(#REF!,LEN(#REF!)+SEARCH(" ",#REF!)),"") | I13: =IFERROR(RIGHT(#REF!,LEN(#REF!)+SEARCH(" ",#REF!)),"") | J13: =ORARIO_GENERALE!J14 | K13: =IFERROR(RIGHT(ORARIO_GENERALE!K12,LEN(ORARIO_GENERALE!K12)+SEARCH(" ",ORARIO_GENERALE!K12)),"") | L13: =IFERROR(RIGHT(#REF!,LEN(#REF!)+SEARCH(" ",#REF!)),"") | M13: =IFERROR(RIGHT(#REF!,LEN(#REF!)+SEARCH(" ",#REF!)),"") | N13: =IFERROR(RIGHT(#REF!,LEN(#REF!)+SEARCH(" ",#REF!)),"") | O13: =IFERROR(RIGHT(#REF!,LEN(#REF!)+SEARCH(" ",#REF!)),"") | P13: =IFERROR(RIGHT(#REF!,LEN(#REF!)+SEARCH(" ",#REF!)),"")
C14: =#REF! -> #REF! | D14: =IFERROR(RIGHT(#REF!,LEN(#REF!)+SEARCH(" ",#REF!)),"") | E14: =IFERROR(RIGHT(#REF!,LEN(#REF!)+SEARCH(" ",#REF!)),"") | F14: =IFERROR(RIGHT(#REF!,LEN(#REF!)+SEARCH(" ",#REF!)),"") | G14: =IFERROR(RIGHT(#REF!,LEN(#REF!)+SEARCH(" ",#REF!)),"") | H14: =IFERROR(RIGHT(#REF!,LEN(#REF!)+SEARCH(" ",#REF!)),"") | I14: =IFERROR(RIGHT(#REF!,LEN(#REF!)+SEARCH(" ",#REF!)),"") | J14: =#REF! -> #REF! | K14: =IFERROR(RIGHT(#REF!,LEN(#REF!)+SEARCH(" ",#REF!)),"") | L14: =IFERROR(RIGHT(#REF!,LEN(#REF!)+SEARCH(" ",#REF!)),"") | M14: =IFERROR(RIGHT(#REF!,LEN(#REF!)+SEARCH(" ",#REF!)),"") | N14: =IFERROR(RIGHT(#REF!,LEN(#REF!)+SEARCH(" ",#REF!)),"") | O14: =IFERROR(RIGHT(#REF!,LEN(#REF!)+SEARCH(" ",#REF!)),"") | P14: =IFERROR(RIGHT(#REF!,LEN(#REF!)+SEARCH(" ",#REF!)),"")
B15: MAR | C15: =#REF! -> #REF! | D15: =IFERROR(RIGHT(#REF!,LEN(#REF!)+SEARCH(" ",#REF!)),"") | E15: =IFERROR(RIGHT(#REF!,LEN(#REF!)+SEARCH(" ",#REF!)),"") | F15: =IFERROR(RIGHT(#REF!,LEN(#REF!)+SEARCH(" ",#REF!)),"") | G15: =IFERROR(RIGHT(#REF!,LEN(#REF!)+SEARCH(" ",#REF!)),"") | H15: =IFERROR(RIGHT(#REF!,LEN(#REF!)+SEARCH(" ",#REF!)),"") | I15: =IFERROR(RIGHT(#REF!,LEN(#REF!)+SEARCH(" ",#REF!)),"") | J15: =#REF! -> #REF! | K15: =IFERROR(RIGHT(#REF!,LEN(#REF!)+SEARCH(" ",#REF!)),"") | L15: =IFERROR(RIGHT(#REF!,LEN(#REF!)+SEARCH(" ",#REF!)),"") | M15: =IFERROR(RIGHT(#REF!,LEN(#REF!)+SEARCH(" ",#REF!)),"") | N15: =IFERROR(RIGHT(#REF!,LEN(#REF!)+SEARCH(" ",#REF!)),"") | O15: =IFERROR(RIGHT(#REF!,LEN(#REF!)+SEARCH(" ",#REF!)),"") | P15: =IFERROR(RIGHT(#REF!,LEN(#REF!)+SEARCH(" ",#REF!)),"") | Q15: =IFERROR(RIGHT(#REF!,LEN(#REF!)-SEARCH(" ",#REF!)),"")
C16: =ORARIO_GENERALE!C15 -> 09:00-10:00 | D16: =IFERROR(RIGHT(#REF!,LEN(#REF!)+SEARCH(" ",#REF!)),"") | E16: =IFERROR(RIGHT(#REF!,LEN(#REF!)+SEARCH(" ",#REF!)),"") | F16: =IFERROR(RIGHT(#REF!,LEN(#REF!)+SEARCH(" ",#REF!)),"") | G16: =IFERROR(RIGHT(#REF!,LEN(#REF!)+SEARCH(" ",#REF!)),"") | H16: =IFERROR(RIGHT(#REF!,LEN(#REF!)+SEARCH(" ",#REF!)),"") | I16: =IFERROR(RIGHT(#REF!,LEN(#REF!)+SEARCH(" ",#REF!)),"") | J16: =ORARIO_GENERALE!J15 | K16: =IFERROR(RIGHT(#REF!,LEN(#REF!)+SEARCH(" ",#REF!)),"") | L16: =IFERROR(RIGHT(#REF!,LEN(#REF!)+SEARCH(" ",#REF!)),"") | M16: =IFERROR(RIGHT(#REF!,LEN(#REF!)+SEARCH(" ",#REF!)),"") | N16: =IFERROR(RIGHT(#REF!,LEN(#REF!)+SEARCH(" ",#REF!)),"") | O16: =IFERROR(RIGHT(#REF!,LEN(#REF!)+SEARCH(" ",#REF!)),"") | P16: =IFERROR(RIGHT(#REF!,LEN(#REF!)+SEARCH(" ",#REF!)),"") | Q16: =IFERROR(RIGHT(#REF!,LEN(#REF!)-SEARCH(" ",#REF!)),"") | R16: =IFERROR(RIGHT(ORARIO_GENERALE!N15,LEN(ORARIO_GENERALE!N15)-SEARCH(" ",ORARIO_GENERALE!N15)),"")
C17: =ORARIO_GENERALE!C16 -> 10:00-11:00 | D17: =IFERROR(RIGHT(ORARIO_GENERALE!D15,LEN(ORARIO_GENERALE!D15)+SEARCH(" ",ORARIO_GENERALE!D15)),"") | E17: =IFERROR(RIGHT(ORARIO_GENERALE!E15,LEN(ORARIO_GENERALE!E15)+SEARCH(" ",ORARIO_GENERALE!E15)),"") | F17: =IFERROR(RIGHT(ORARIO_GENERALE!F15,LEN(ORARIO_GENERALE!F15)+SEARCH(" ",ORARIO_GENERALE!F15)),"") -> MPPC 7 | G17: =IFERROR(RIGHT(ORARIO_GENERALE!G15,LEN(ORARIO_GENERALE!G15)+SEARCH(" ",ORARIO_GENERALE!G15)),"") -> MPPA 4 | H17: =IFERROR(RIGHT(ORARIO_GENERALE!D37,LEN(ORARIO_GENERALE!D37)+SEARCH(" ",ORARIO_GENERALE!D37)),"") -> R/P D | I17: =IFERROR(RIGHT(#REF!,LEN(#REF!)+SEARCH(" ",#REF!)),"") | J17: =ORARIO_GENERALE!J16 | K17: =IFERROR(RIGHT(#REF!,LEN(#REF!)+SEARCH(" ",#REF!)),"") | L17: =IFERROR(RIGHT(#REF!,LEN(#REF!)+SEARCH(" ",#REF!)),"") | M17: =IFERROR(RIGHT(#REF!,LEN(#REF!)+SEARCH(" ",#REF!)),"") | N17: =IFERROR(RIGHT(#REF!,LEN(#REF!)+SEARCH(" ",#REF!)),"") | O17: =IFERROR(RIGHT(#REF!,LEN(#REF!)+SEARCH(" ",#REF!)),"") | P17: =IFERROR(RIGHT(#REF!,LEN(#REF!)+SEARCH(" ",#REF!)),"") | Q17: =IFERROR(RIGHT(#REF!,LEN(#REF!)-SEARCH(" ",#REF!)),"") | R17: =IFERROR(RIGHT(ORARIO_GENERALE!N16,LEN(ORARIO_GENERALE!N16)-SEARCH(" ",ORARIO_GENERALE!N16)),"")
C18: =ORARIO_GENERALE!C17 -> 11:00-12:00 | D18: =IFERROR(RIGHT(ORARIO_GENERALE!D16,LEN(ORARIO_GENERALE!D16)+SEARCH(" ",ORARIO_GENERALE!D16)),"") | E18: =IFERROR(RIGHT(ORARIO_GENERALE!E16,LEN(ORARIO_GENERALE!E16)+SEARCH(" ",ORARIO_GENERALE!E16)),"") | F18: =IFERROR(RIGHT(ORARIO_GENERALE!F16,LEN(ORARIO_GENERALE!F16)+SEARCH(" ",ORARIO_GENERALE!F16)),"") -> MPPC 7 | G18: =IFERROR(RIGHT(ORARIO_GENERALE!G16,LEN(ORARIO_GENERALE!G16)+SEARCH(" ",ORARIO_GENERALE!G16)),"") -> MPPA 4 | H18: =IFERROR(RIGHT(ORARIO_GENERALE!D38,LEN(ORARIO_GENERALE!D38)+SEARCH(" ",ORARIO_GENERALE!D38)),"") | I18: =IFERROR(RIGHT(#REF!,LEN(#REF!)+SEARCH(" ",#REF!)),"") | J18: =ORARIO_GENERALE!J17 | K18: =IFERROR(RIGHT(#REF!,LEN(#REF!)+SEARCH(" ",#REF!)),"") | L18: =IFERROR(RIGHT(#REF!,LEN(#REF!)+SEARCH(" ",#REF!)),"") | M18: =IFERROR(RIGHT(#REF!,LEN(#REF!)+SEARCH(" ",#REF!)),"") | N18: =IFERROR(RIGHT(#REF!,LEN(#REF!)+SEARCH(" ",#REF!)),"") | O18: =IFERROR(RIGHT(#REF!,LEN(#REF!)+SEARCH(" ",#REF!)),"") | P18: =IFERROR(RIGHT(#REF!,LEN(#REF!)+SEARCH(" ",#REF!)),"") | Q18: =IFERROR(RIGHT(#REF!,LEN(#REF!)-SEARCH(" ",#REF!)),"") | R18: =IFERROR(RIGHT(ORARIO_GENERALE!N17,LEN(ORARIO_GENERALE!N17)-SEARCH(" ",ORARIO_GENERALE!N17)),"")
C19: =ORARIO_GENERALE!C18 -> 12:00-13:00 | D19: =IFERROR(RIGHT(ORARIO_GENERALE!D17,LEN(ORARIO_GENERALE!D17)+SEARCH(" ",ORARIO_GENERALE!D17)),"") | E19: =IFERROR(RIGHT(#REF!,LEN(#REF!)+SEARCH(" ",#REF!)),"") | F19: =IFERROR(RIGHT(ORARIO_GENERALE!E18,LEN(ORARIO_GENERALE!E18)+SEARCH(" ",ORARIO_GENERALE!E18)),"") -> MPPB 7 | G19: =IFERROR(RIGHT(ORARIO_GENERALE!G17,LEN(ORARIO_GENERALE!G17)+SEARCH(" ",ORARIO_GENERALE!G17)),"") -> MPPC 7 | H19: =IFERROR(RIGHT(#REF!,LEN(#REF!)+SEARCH(" ",#REF!)),"") | I19: =IFERROR(RIGHT(#REF!,LEN(#REF!)+SEARCH(" ",#REF!)),"") | J19: =ORARIO_GENERALE!J18 | K19: =IFERROR(RIGHT(#REF!,LEN(#REF!)+SEARCH(" ",#REF!)),"") | L19: =IFERROR(RIGHT(#REF!,LEN(#REF!)+SEARCH(" ",#REF!)),"") | M19: =IFERROR(RIGHT(#REF!,LEN(#REF!)+SEARCH(" ",#REF!)),"") | N19: =IFERROR(RIGHT(#REF!,LEN(#REF!)+SEARCH(" ",#REF!)),"") | O19: =IFERROR(RIGHT(#REF!,LEN(#REF!)+SEARCH(" ",#REF!)),"") | P19: =IFERROR(RIGHT(#REF!,LEN(#REF!)+SEARCH(" ",#REF!)),"") | Q19: =IFERROR(RIGHT(#REF!,LEN(#REF!)-SEARCH(" ",#REF!)),"") | R19: =IFERROR(RIGHT(ORARIO_GENERALE!N18,LEN(ORARIO_GENERALE!N18)-SEARCH(" ",ORARIO_GENERALE!N18)),"")
C20: =ORARIO_GENERALE!C19 -> 13:00-14:00 | D20: =IFERROR(RIGHT(#REF!,LEN(#REF!)+SEARCH(" ",#REF!)),"") | E20: =IFERROR(RIGHT(#REF!,LEN(#REF!)+SEARCH(" ",#REF!)),"") | F20: =IFERROR(RIGHT(#REF!,LEN(#REF!)+SEARCH(" ",#REF!)),"") | G20: =IFERROR(RIGHT(ORARIO_GENERALE!G18,LEN(ORARIO_GENERALE!G18)+SEARCH(" ",ORARIO_GENERALE!G18)),"") | H20: =IFERROR(RIGHT(ORARIO_GENERALE!I18,LEN(ORARIO_GENERALE!I18)+SEARCH(" ",ORARIO_GENERALE!I18)),"") | I20: =IFERROR(RIGHT(#REF!,LEN(#REF!)+SEARCH(" ",#REF!)),"") | J20: =ORARIO_GENERALE!J19 | K20: =IFERROR(RIGHT(#REF!,LEN(#REF!)+SEARCH(" ",#REF!)),"") | L20: =IFERROR(RIGHT(#REF!,LEN(#REF!)+SEARCH(" ",#REF!)),"") | M20: =IFERROR(RIGHT(#REF!,LEN(#REF!)+SEARCH(" ",#REF!)),"") | N20: =IFERROR(RIGHT(#REF!,LEN(#REF!)+SEARCH(" ",#REF!)),"") | O20: =IFERROR(RIGHT(#REF!,LEN(#REF!)+SEARCH(" ",#REF!)),"") | P20: =IFERROR(RIGHT(#REF!,LEN(#REF!)+SEARCH(" ",#REF!)),"") | Q20: =IFERROR(RIGHT(ORARIO_GENERALE!Q18,LEN(ORARIO_GENERALE!Q18)-SEARCH(" ",ORARIO_GENERALE!Q18)),"") -> DI PRIMO PERIODO | R20: =IFERROR(RIGHT(ORARIO_GENERALE!N19,LEN(ORARIO_GENERALE!N19)-SEARCH(" ",ORARIO_GENERALE!N19)),"")
C21: =ORARIO_GENERALE!C20 -> 14:00-15:00 | D21: =IFERROR(RIGHT(ORARIO_GENERALE!D18,LEN(ORARIO_GENERALE!D18)+SEARCH(" ",ORARIO_GENERALE!D18)),"") -> R/P D | E21: =IFERROR(RIGHT(ORARIO_GENERALE!G19,LEN(ORARIO_GENERALE!G19)+SEARCH(" ",ORARIO_GENERALE!G19)),"") | F21: =IFERROR(RIGHT(ORARIO_GENERALE!F19,LEN(ORARIO_GENERALE!F19)+SEARCH(" ",ORARIO_GENERALE!F19)),"") -> R/P B | G21: =IFERROR(RIGHT(#REF!,LEN(#REF!)+SEARCH(" ",#REF!)),"") | H21: =IFERROR(RIGHT(ORARIO_GENERALE!I19,LEN(ORARIO_GENERALE!I19)+SEARCH(" ",ORARIO_GENERALE!I19)),"") | I21: =IFERROR(RIGHT(#REF!,LEN(#REF!)+SEARCH(" ",#REF!)),"") | J21: =ORARIO_GENERALE!J20 | K21: =IFERROR(RIGHT(#REF!,LEN(#REF!)+SEARCH(" ",#REF!)),"") | L21: =IFERROR(RIGHT(#REF!,LEN(#REF!)+SEARCH(" ",#REF!)),"") | M21: =IFERROR(RIGHT(#REF!,LEN(#REF!)+SEARCH(" ",#REF!)),"") | N21: =IFERROR(RIGHT(#REF!,LEN(#REF!)+SEARCH(" ",#REF!)),"") | O21: =IFERROR(RIGHT(#REF!,LEN(#REF!)+SEARCH(" ",#REF!)),"") | P21: =IFERROR(RIGHT(#REF!,LEN(#REF!)+SEARCH(" ",#REF!)),"") | Q21: =IFERROR(RIGHT(#REF!,LEN(#REF!)-SEARCH(" ",#REF!)),"") | R21: =IFERROR(RIGHT(ORARIO_GENERALE!N20,LEN(ORARIO_GENERALE!N20)-SEARCH(" ",ORARIO_GENERALE!N20)),"")
C22: =ORARIO_GENERALE!C21 -> 15:00-16:00 | D22: =IFERROR(RIGHT(ORARIO_GENERALE!D20,LEN(ORARIO_GENERALE!D20)+SEARCH(" ",ORARIO_GENERALE!D20)),"") -> MPPD 1 | E22: =IFERROR(RIGHT(ORARIO_GENERALE!E20,LEN(ORARIO_GENERALE!E20)+SEARCH(" ",ORARIO_GENERALE!E20)),"") -> MPPB 7 | F22: =IFERROR(RIGHT(ORARIO_GENERALE!F20,LEN(ORARIO_GENERALE!F20)+SEARCH(" ",ORARIO_GENERALE!F20)),"") | G22: =IFERROR(RIGHT(ORARIO_GENERALE!G20,LEN(ORARIO_GENERALE!G20)+SEARCH(" ",ORARIO_GENERALE!G20)),"") | H22: =IFERROR(RIGHT(#REF!,LEN(#REF!)+SEARCH(" ",#REF!)),"") | I22: =IFERROR(RIGHT(#REF!,LEN(#REF!)+SEARCH(" ",#REF!)),"") | J22: =ORARIO_GENERALE!J21 | K22: =IFERROR(RIGHT(ORARIO_GENERALE!K21,LEN(ORARIO_GENERALE!K21)+SEARCH(" ",ORARIO_GENERALE!K21)),"") | L22: =IFERROR(RIGHT(#REF!,LEN(#REF!)+SEARCH(" ",#REF!)),"") | M22: =IFERROR(RIGHT(#REF!,LEN(#REF!)+SEARCH(" ",#REF!)),"") | N22: =IFERROR(RIGHT(#REF!,LEN(#REF!)+SEARCH(" ",#REF!)),"") | O22: =IFERROR(RIGHT(#REF!,LEN(#REF!)+SEARCH(" ",#REF!)),"") | P22: =IFERROR(RIGHT(#REF!,LEN(#REF!)+SEARCH(" ",#REF!)),"") | Q22: =IFERROR(RIGHT(#REF!,LEN(#REF!)-SEARCH(" ",#REF!)),"") | R22: =IFERROR(RIGHT(ORARIO_GENERALE!N21,LEN(ORARIO_GENERALE!N21)-SEARCH(" ",ORARIO_GENERALE!N21)),"")
C23: =ORARIO_GENERALE!C22 -> 16:00-17:00 | D23: =IFERROR(RIGHT(ORARIO_GENERALE!D21,LEN(ORARIO_GENERALE!D21)+SEARCH(" ",ORARIO_GENERALE!D21)),"") | E23: =IFERROR(RIGHT(ORARIO_GENERALE!E21,LEN(ORARIO_GENERALE!E21)+SEARCH(" ",ORARIO_GENERALE!E21)),"") | F23: =IFERROR(RIGHT(ORARIO_GENERALE!F21,LEN(ORARIO_GENERALE!F21)+SEARCH(" ",ORARIO_GENERALE!F21)),"") | G23: =IFERROR(RIGHT(ORARIO_GENERALE!G21,LEN(ORARIO_GENERALE!G21)+SEARCH(" ",ORARIO_GENERALE!G21)),"") | H23: =IFERROR(RIGHT(ORARIO_GENERALE!I21,LEN(ORARIO_GENERALE!I21)+SEARCH(" ",ORARIO_GENERALE!I21)),"") | I23: =IFERROR(RIGHT(#REF!,LEN(#REF!)+SEARCH(" ",#REF!)),"") | J23: =ORARIO_GENERALE!J22 | K23: =IFERROR(RIGHT(ORARIO_GENERALE!K22,LEN(ORARIO_GENERALE!K22)+SEARCH(" ",ORARIO_GENERALE!K22)),"") | L23: =IFERROR(RIGHT(#REF!,LEN(#REF!)+SEARCH(" ",#REF!)),"") | M23: =IFERROR(RIGHT(#REF!,LEN(#REF!)+SEARCH(" ",#REF!)),"") | N23: =IFERROR(RIGHT(#REF!,LEN(#REF!)+SEARCH(" ",#REF!)),"") | O23: =IFERROR(RIGHT(#REF!,LEN(#REF!)+SEARCH(" ",#REF!)),"") | P23: =IFERROR(RIGHT(#REF!,LEN(#REF!)+SEARCH(" ",#REF!)),"") | Q23: =IFERROR(RIGHT(#REF!,LEN(#REF!)-SEARCH(" ",#REF!)),"") | R23: =IFERROR(RIGHT(ORARIO_GENERALE!N22,LEN(ORARIO_GENERALE!N22)-SEARCH(" ",ORARIO_GENERALE!N22)),"")
C24: =ORARIO_GENERALE!C23 -> 17:00-18:00 | D24: =IFERROR(RIGHT(ORARIO_GENERALE!D23,LEN(ORARIO_GENERALE!D23)+SEARCH(" ",ORARIO_GENERALE!D23)),"") | E24: =IFERROR(RIGHT(ORARIO_GENERALE!E23,LEN(ORARIO_GENERALE!E23)+SEARCH(" ",ORARIO_GENERALE!E23)),"") | F24: =IFERROR(RIGHT(ORARIO_GENERALE!F23,LEN(ORARIO_GENERALE!F23)+SEARCH(" ",ORARIO_GENERALE!F23)),"") | G24: =IFERROR(RIGHT(#REF!,LEN(#REF!)+SEARCH(" ",#REF!)),"") | H24: =IFERROR(RIGHT(ORARIO_GENERALE!I23,LEN(ORARIO_GENERALE!I23)+SEARCH(" ",ORARIO_GENERALE!I23)),"") | I24: =IFERROR(RIGHT(#REF!,LEN(#REF!)+SEARCH(" ",#REF!)),"") | J24: =ORARIO_GENERALE!J23 | K24: =IFERROR(RIGHT(ORARIO_GENERALE!K23,LEN(ORARIO_GENERALE!K23)+SEARCH(" ",ORARIO_GENERALE!K23)),"") | L24: =IFERROR(RIGHT(#REF!,LEN(#REF!)+SEARCH(" ",#REF!)),"") | M24: =IFERROR(RIGHT(#REF!,LEN(#REF!)+SEARCH(" ",#REF!)),"") | N24: =IFERROR(RIGHT(#REF!,LEN(#REF!)+SEARCH(" ",#REF!)),"") | O24: =IFERROR(RIGHT(#REF!,LEN(#REF!)+SEARCH(" ",#REF!)),"") | P24: =IFERROR(RIGHT(#REF!,LEN(#REF!)+SEARCH(" ",#REF!)),"") | Q24: =IFERROR(RIGHT(#REF!,LEN(#REF!)-SEARCH(" ",#REF!)),"") | R24: =IFERROR(RIGHT(ORARIO_GENERALE!N23,LEN(ORARIO_GENERALE!N23)-SEARCH(" ",ORARIO_GENERALE!N23)),"")
C25: =ORARIO_GENERALE!C24 -> 18:00-19:00 | D25: =IFERROR(RIGHT(ORARIO_GENERALE!D24,LEN(ORARIO_GENERALE!D24)+SEARCH(" ",ORARIO_GENERALE!D24)),"") | E25: =IFERROR(RIGHT(ORARIO_GENERALE!E24,LEN(ORARIO_GENERALE!E24)+SEARCH(" ",ORARIO_GENERALE!E24)),"") | F25: =IFERROR(RIGHT(ORARIO_GENERALE!F24,LEN(ORARIO_GENERALE!F24)+SEARCH(" ",ORARIO_GENERALE!F24)),"") | G25: =IFERROR(RIGHT(ORARIO_GENERALE!G24,LEN(ORARIO_GENERALE!G24)+SEARCH(" ",ORARIO_GENERALE!G24)),"") | H25: =IFERROR(RIGHT(ORARIO_GENERALE!I24,LEN(ORARIO_GENERALE!I24)+SEARCH(" ",ORARIO_GENERALE!I24)),"") | I25: =IFERROR(RIGHT(#REF!,LEN(#REF!)+SEARCH(" ",#REF!)),"") | J25: =ORARIO_GENERALE!J24 | K25: =IFERROR(RIGHT(ORARIO_GENERALE!K24,LEN(ORARIO_GENERALE!K24)+SEARCH(" ",ORARIO_GENERALE!K24)),"") | L25: =IFERROR(RIGHT(#REF!,LEN(#REF!)+SEARCH(" ",#REF!)),"") | M25: =IFERROR(RIGHT(#REF!,LEN(#REF!)+SEARCH(" ",#REF!)),"") | N25: =IFERROR(RIGHT(#REF!,LEN(#REF!)+SEARCH(" ",#REF!)),"") | O25: =IFERROR(RIGHT(#REF!,LEN(#REF!)+SEARCH(" ",#REF!)),"") | P25: =IFERROR(RIGHT(#REF!,LEN(#REF!)+SEARCH(" ",#REF!)),"") | Q25: =IFERROR(RIGHT(#REF!,LEN(#REF!)-SEARCH(" ",#REF!)),"") | R25: =IFERROR(RIGHT(ORARIO_GENERALE!N24,LEN(ORARIO_GENERALE!N24)-SEARCH(" ",ORARIO_GENERALE!N24)),"")
C26: =ORARIO_GENERALE!C25 -> 19:00-20:00 | D26: =IFERROR(RIGHT(ORARIO_GENERALE!D25,LEN(ORARIO_GENERALE!D25)+SEARCH(" ",ORARIO_GENERALE!D25)),"") | E26: =IFERROR(RIGHT(ORARIO_GENERALE!E25,LEN(ORARIO_GENERALE!E25)+SEARCH(" ",ORARIO_GENERALE!E25)),"") | F26: =IFERROR(RIGHT(ORARIO_GENERALE!F25,LEN(ORARIO_GENERALE!F25)+SEARCH(" ",ORARIO_GENERALE!F25)),"") | G26: =IFERROR(RIGHT(ORARIO_GENERALE!G25,LEN(ORARIO_GENERALE!G25)+SEARCH(" ",ORARIO_GENERALE!G25)),"") | H26: =IFERROR(RIGHT(#REF!,LEN(#REF!)+SEARCH(" ",#REF!)),"") | I26: =IFERROR(RIGHT(#REF!,LEN(#REF!)+SEARCH(" ",#REF!)),"") | J26: =ORARIO_GENERALE!J25 | K26: =IFERROR(RIGHT(ORARIO_GENERALE!K27,LEN(ORARIO_GENERALE!K27)+SEARCH(" ",ORARIO_GENERALE!K27)),"") -> MA2A 3 | L26: =IFERROR(RIGHT(#REF!,LEN(#REF!)+SEARCH(" ",#REF!)),"") | M26: =IFERROR(RIGHT(#REF!,LEN(#REF!)+SEARCH(" ",#REF!)),"") | N26: =IFERROR(RIGHT(#REF!,LEN(#REF!)+SEARCH(" ",#REF!)),"") | O26: =IFERROR(RIGHT(#REF!,LEN(#REF!)+SEARCH(" ",#REF!)),"") | P26: =IFERROR(RIGHT(#REF!,LEN(#REF!)+SEARCH(" ",#REF!)),"") | Q26: =IFERROR(RIGHT(#REF!,LEN(#REF!)-SEARCH(" ",#REF!)),"") | R26: =IFERROR(RIGHT(ORARIO_GENERALE!N25,LEN(ORARIO_GENERALE!N25)-SEARCH(" ",ORARIO_GENERALE!N25)),"")
C27: =#REF! -> #REF! | D27: =IFERROR(RIGHT(#REF!,LEN(#REF!)+SEARCH(" ",#REF!)),"") | E27: =IFERROR(RIGHT(#REF!,LEN(#REF!)+SEARCH(" ",#REF!)),"") | F27: =IFERROR(RIGHT(#REF!,LEN(#REF!)+SEARCH(" ",#REF!)),"") | G27: =IFERROR(RIGHT(#REF!,LEN(#REF!)+SEARCH(" ",#REF!)),"") | H27: =IFERROR(RIGHT(#REF!,LEN(#REF!)+SEARCH(" ",#REF!)),"") | I27: =IFERROR(RIGHT(#REF!,LEN(#REF!)+SEARCH(" ",#REF!)),"") | J27: =#REF! -> #REF! | K27: =IFERROR(RIGHT(#REF!,LEN(#REF!)+SEARCH(" ",#REF!)),"") | L27: =IFERROR(RIGHT(#REF!,LEN(#REF!)+SEARCH(" ",#REF!)),"") | M27: =IFERROR(RIGHT(#REF!,LEN(#REF!)+SEARCH(" ",#REF!)),"") | N27: =IFERROR(RIGHT(#REF!,LEN(#REF!)+SEARCH(" ",#REF!)),"") | O27: =IFERROR(RIGHT(#REF!,LEN(#REF!)+SEARCH(" ",#REF!)),"") | P27: =IFERROR(RIGHT(#REF!,LEN(#REF!)+SEARCH(" ",#REF!)),"") | Q27: =IFERROR(RIGHT(#REF!,LEN(#REF!)-SEARCH(" ",#REF!)),"") | R27: =IFERROR(RIGHT(#REF!,LEN(#REF!)-SEARCH(" ",#REF!)),"")
B28: MER | C28: =#REF! -> #REF! | D28: =IFERROR(RIGHT(#REF!,LEN(#REF!)+SEARCH(" ",#REF!)),"") | E28: =IFERROR(RIGHT(#REF!,LEN(#REF!)+SEARCH(" ",#REF!)),"") | F28: =IFERROR(RIGHT(#REF!,LEN(#REF!)+SEARCH(" ",#REF!)),"") | G28: =IFERROR(RIGHT(#REF!,LEN(#REF!)+SEARCH(" ",#REF!)),"") | H28: =IFERROR(RIGHT(#REF!,LEN(#REF!)+SEARCH(" ",#REF!)),"") | I28: =IFERROR(RIGHT(#REF!,LEN(#REF!)+SEARCH(" ",#REF!)),"") | J28: =#REF! -> #REF! | K28: =IFERROR(RIGHT(#REF!,LEN(#REF!)+SEARCH(" ",#REF!)),"") | L28: =IFERROR(RIGHT(#REF!,LEN(#REF!)+SEARCH(" ",#REF!)),"") | M28: =IFERROR(RIGHT(#REF!,LEN(#REF!)+SEARCH(" ",#REF!)),"") | N28: =IFERROR(RIGHT(#REF!,LEN(#REF!)+SEARCH(" ",#REF!)),"") | O28: =IFERROR(RIGHT(#REF!,LEN(#REF!)+SEARCH(" ",#REF!)),"") | P28: =IFERROR(RIGHT(#REF!,LEN(#REF!)+SEARCH(" ",#REF!)),"") | Q28: =IFERROR(RIGHT(#REF!,LEN(#REF!)-SEARCH(" ",#REF!)),"") | R28: =IFERROR(RIGHT(#REF!,LEN(#REF!)-SEARCH(" ",#REF!)),"")
C29: =ORARIO_GENERALE!C26 -> 09:00-10:00 | D29: =IFERROR(RIGHT(#REF!,LEN(#REF!)+SEARCH(" ",#REF!)),"") | E29: =IFERROR(RIGHT(#REF!,LEN(#REF!)+SEARCH(" ",#REF!)),"") | F29: =IFERROR(RIGHT(#REF!,LEN(#REF!)+SEARCH(" ",#REF!)),"") | G29: =IFERROR(RIGHT(#REF!,LEN(#REF!)+SEARCH(" ",#REF!)),"") | H29: =IFERROR(RIGHT(#REF!,LEN(#REF!)+SEARCH(" ",#REF!)),"") | I29: =IFERROR(RIGHT(#REF!,LEN(#REF!)+SEARCH(" ",#REF!)),"") | J29: =ORARIO_GENERALE!J26 | K29: =IFERROR(RIGHT(#REF!,LEN(#REF!)+SEARCH(" ",#REF!)),"") | L29: =IFERROR(RIGHT(#REF!,LEN(#REF!)+SEARCH(" ",#REF!)),"") | M29: =IFERROR(RIGHT(#REF!,LEN(#REF!)+SEARCH(" ",#REF!)),"") | N29: =IFERROR(RIGHT(#REF!,LEN(#REF!)+SEARCH(" ",#REF!)),"") | O29: =IFERROR(RIGHT(#REF!,LEN(#REF!)+SEARCH(" ",#REF!)),"") | P29: =IFERROR(RIGHT(#REF!,LEN(#REF!)+SEARCH(" ",#REF!)),"") | Q29: =IFERROR(RIGHT(#REF!,LEN(#REF!)-SEARCH(" ",#REF!)),"") | R29: =IFERROR(RIGHT(ORARIO_GENERALE!N26,LEN(ORARIO_GENERALE!N26)-SEARCH(" ",ORARIO_GENERALE!N26)),"")
C30: =ORARIO_GENERALE!C27 -> 10:00-11:00 | D30: =IFERROR(RIGHT(#REF!,LEN(#REF!)+SEARCH(" ",#REF!)),"") | E30: =IFERROR(RIGHT(#REF!,LEN(#REF!)+SEARCH(" ",#REF!)),"") | F30: =IFERROR(RIGHT(#REF!,LEN(#REF!)+SEARCH(" ",#REF!)),"") | G30: =IFERROR(RIGHT(#REF!,LEN(#REF!)+SEARCH(" ",#REF!)),"") | H30: =IFERROR(RIGHT(#REF!,LEN(#REF!)+SEARCH(" ",#REF!)),"") | I30: =IFERROR(RIGHT(#REF!,LEN(#REF!)+SEARCH(" ",#REF!)),"") | J30: =ORARIO_GENERALE!J27 | K30: =IFERROR(RIGHT(#REF!,LEN(#REF!)+SEARCH(" ",#REF!)),"") | L30: =IFERROR(RIGHT(#REF!,LEN(#REF!)+SEARCH(" ",#REF!)),"") | M30: =IFERROR(RIGHT(#REF!,LEN(#REF!)+SEARCH(" ",#REF!)),"") | N30: =IFERROR(RIGHT(#REF!,LEN(#REF!)+SEARCH(" ",#REF!)),"") | O30: =IFERROR(RIGHT(#REF!,LEN(#REF!)+SEARCH(" ",#REF!)),"") | P30: =IFERROR(RIGHT(#REF!,LEN(#REF!)+SEARCH(" ",#REF!)),"") | Q30: =IFERROR(RIGHT(#REF!,LEN(#REF!)-SEARCH(" ",#REF!)),"") | R30: =IFERROR(RIGHT(ORARIO_GENERALE!N27,LEN(ORARIO_GENERALE!N27)-SEARCH(" ",ORARIO_GENERALE!N27)),"")
C31: =ORARIO_GENERALE!C28 -> 11:00-12:00 | D31: =IFERROR(RIGHT(#REF!,LEN(#REF!)+SEARCH(" ",#REF!)),"") | E31: =IFERROR(RIGHT(ORARIO_GENERALE!E26,LEN(ORARIO_GENERALE!E26)+SEARCH(" ",ORARIO_GENERALE!E26)),"") | F31: =IFERROR(RIGHT(#REF!,LEN(#REF!)+SEARCH(" ",#REF!)),"") | G31: =IFERROR(RIGHT(ORARIO_GENERALE!F26,LEN(ORARIO_GENERALE!F26)+SEARCH(" ",ORARIO_GENERALE!F26)),"") -> MPPA 4 | H31: =IFERROR(RIGHT(ORARIO_GENERALE!K15,LEN(ORARIO_GENERALE!K15)+SEARCH(" ",ORARIO_GENERALE!K15)),"") -> MA1D 3 | I31: =IFERROR(RIGHT(#REF!,LEN(#REF!)+SEARCH(" ",#REF!)),"") | J31: =ORARIO_GENERALE!J28 | K31: =IFERROR(RIGHT(#REF!,LEN(#REF!)+SEARCH(" ",#REF!)),"") | L31: =IFERROR(RIGHT(#REF!,LEN(#REF!)+SEARCH(" ",#REF!)),"") | M31: =IFERROR(RIGHT(#REF!,LEN(#REF!)+SEARCH(" ",#REF!)),"") | N31: =IFERROR(RIGHT(#REF!,LEN(#REF!)+SEARCH(" ",#REF!)),"") | O31: =IFERROR(RIGHT(#REF!,LEN(#REF!)+SEARCH(" ",#REF!)),"") | P31: =IFERROR(RIGHT(#REF!,LEN(#REF!)+SEARCH(" ",#REF!)),"") | Q31: =IFERROR(RIGHT(#REF!,LEN(#REF!)-SEARCH(" ",#REF!)),"") | R31: =IFERROR(RIGHT(ORARIO_GENERALE!N28,LEN(ORARIO_GENERALE!N28)-SEARCH(" ",ORARIO_GENERALE!N28)),"")
C32: =ORARIO_GENERALE!C29 -> 12:00-13:00 | D32: =IFERROR(RIGHT(#REF!,LEN(#REF!)+SEARCH(" ",#REF!)),"") | E32: =IFERROR(RIGHT(ORARIO_GENERALE!E33,LEN(ORARIO_GENERALE!E33)+SEARCH(" ",ORARIO_GENERALE!E33)),"") | F32: =IFERROR(RIGHT(ORARIO_GENERALE!F27,LEN(ORARIO_GENERALE!F27)+SEARCH(" ",ORARIO_GENERALE!F27)),"") -> MPPA 4 | G32: =IFERROR(RIGHT(ORARIO_GENERALE!G27,LEN(ORARIO_GENERALE!G27)+SEARCH(" ",ORARIO_GENERALE!G27)),"") -> MPPC 7 | H32: =IFERROR(RIGHT(ORARIO_GENERALE!K16,LEN(ORARIO_GENERALE!K16)+SEARCH(" ",ORARIO_GENERALE!K16)),"") -> MA1D 3 | I32: =IFERROR(RIGHT(#REF!,LEN(#REF!)+SEARCH(" ",#REF!)),"") | J32: =ORARIO_GENERALE!J29 | K32: =IFERROR(RIGHT(#REF!,LEN(#REF!)+SEARCH(" ",#REF!)),"") | L32: =IFERROR(RIGHT(#REF!,LEN(#REF!)+SEARCH(" ",#REF!)),"") | M32: =IFERROR(RIGHT(#REF!,LEN(#REF!)+SEARCH(" ",#REF!)),"") | N32: =IFERROR(RIGHT(#REF!,LEN(#REF!)+SEARCH(" ",#REF!)),"") | O32: =IFERROR(RIGHT(#REF!,LEN(#REF!)+SEARCH(" ",#REF!)),"") | P32: =IFERROR(RIGHT(#REF!,LEN(#REF!)+SEARCH(" ",#REF!)),"") | Q32: =IFERROR(RIGHT(#REF!,LEN(#REF!)-SEARCH(" ",#REF!)),"") | R32: =IFERROR(RIGHT(ORARIO_GENERALE!N29,LEN(ORARIO_GENERALE!N29)-SEARCH(" ",ORARIO_GENERALE!N29)),"")
C33: =ORARIO_GENERALE!C30 -> 13:00-14:00 | D33: =IFERROR(RIGHT(#REF!,LEN(#REF!)+SEARCH(" ",#REF!)),"") | E33: =IFERROR(RIGHT(ORARIO_GENERALE!F28,LEN(ORARIO_GENERALE!F28)+SEARCH(" ",ORARIO_GENERALE!F28)),"") -> MPPC 7 | F33: =IFERROR(RIGHT(#REF!,LEN(#REF!)+SEARCH(" ",#REF!)),"") | G33: =IFERROR(RIGHT(ORARIO_GENERALE!G28,LEN(ORARIO_GENERALE!G28)+SEARCH(" ",ORARIO_GENERALE!G28)),"") -> MPPA 4 | H33: =IFERROR(RIGHT(ORARIO_GENERALE!K17,LEN(ORARIO_GENERALE!K17)+SEARCH(" ",ORARIO_GENERALE!K17)),"") -> R/P A0B | I33: =IFERROR(RIGHT(#REF!,LEN(#REF!)+SEARCH(" ",#REF!)),"") | J33: =ORARIO_GENERALE!J30 | K33: =IFERROR(RIGHT(#REF!,LEN(#REF!)+SEARCH(" ",#REF!)),"") | L33: =IFERROR(RIGHT(#REF!,LEN(#REF!)+SEARCH(" ",#REF!)),"") | M33: =IFERROR(RIGHT(#REF!,LEN(#REF!)+SEARCH(" ",#REF!)),"") | N33: =IFERROR(RIGHT(#REF!,LEN(#REF!)+SEARCH(" ",#REF!)),"") | O33: =IFERROR(RIGHT(#REF!,LEN(#REF!)+SEARCH(" ",#REF!)),"") | P33: =IFERROR(RIGHT(#REF!,LEN(#REF!)+SEARCH(" ",#REF!)),"") | Q33: =IFERROR(RIGHT(#REF!,LEN(#REF!)-SEARCH(" ",#REF!)),"") | R33: =IFERROR(RIGHT(ORARIO_GENERALE!N30,LEN(ORARIO_GENERALE!N30)-SEARCH(" ",ORARIO_GENERALE!N30)),"")
C34: =ORARIO_GENERALE!C31 -> 14:00-15:00 | D34: =IFERROR(RIGHT(#REF!,LEN(#REF!)+SEARCH(" ",#REF!)),"") | E34: =IFERROR(RIGHT(ORARIO_GENERALE!E35,LEN(ORARIO_GENERALE!E35)+SEARCH(" ",ORARIO_GENERALE!E35)),"") | F34: =IFERROR(RIGHT(ORARIO_GENERALE!F29,LEN(ORARIO_GENERALE!F29)+SEARCH(" ",ORARIO_GENERALE!F29)),"") -> MPPB 7 | G34: =IFERROR(RIGHT(#REF!,LEN(#REF!)+SEARCH(" ",#REF!)),"") | H34: =IFERROR(RIGHT(ORARIO_GENERALE!D27,LEN(ORARIO_GENERALE!D27)+SEARCH(" ",ORARIO_GENERALE!D27)),"") | I34: =IFERROR(RIGHT(#REF!,LEN(#REF!)+SEARCH(" ",#REF!)),"") | J34: =ORARIO_GENERALE!J31 | K34: =IFERROR(RIGHT(ORARIO_GENERALE!K43,LEN(ORARIO_GENERALE!K43)+SEARCH(" ",ORARIO_GENERALE!K43)),"") | L34: =IFERROR(RIGHT(#REF!,LEN(#REF!)+SEARCH(" ",#REF!)),"") | M34: =IFERROR(RIGHT(#REF!,LEN(#REF!)+SEARCH(" ",#REF!)),"") | N34: =IFERROR(RIGHT(#REF!,LEN(#REF!)+SEARCH(" ",#REF!)),"") | O34: =IFERROR(RIGHT(#REF!,LEN(#REF!)+SEARCH(" ",#REF!)),"") | P34: =IFERROR(RIGHT(#REF!,LEN(#REF!)+SEARCH(" ",#REF!)),"") | Q34: =IFERROR(RIGHT(#REF!,LEN(#REF!)-SEARCH(" ",#REF!)),"") | R34: =IFERROR(RIGHT(ORARIO_GENERALE!N31,LEN(ORARIO_GENERALE!N31)-SEARCH(" ",ORARIO_GENERALE!N31)),"")
C35: =ORARIO_GENERALE!C32 -> 15:00-16:00 | D35: =IFERROR(RIGHT(ORARIO_GENERALE!D30,LEN(ORARIO_GENERALE!D30)+SEARCH(" ",ORARIO_GENERALE!D30)),"") -> MPPD 4 | E35: =IFERROR(RIGHT(ORARIO_GENERALE!E30,LEN(ORARIO_GENERALE!E30)+SEARCH(" ",ORARIO_GENERALE!E30)),"") -> MPPB 7 | F35: =IFERROR(RIGHT(ORARIO_GENERALE!F30,LEN(ORARIO_GENERALE!F30)+SEARCH(" ",ORARIO_GENERALE!F30)),"") | G35: =IFERROR(RIGHT(ORARIO_GENERALE!G30,LEN(ORARIO_GENERALE!G30)+SEARCH(" ",ORARIO_GENERALE!G30)),"") | H35: =IFERROR(RIGHT(#REF!,LEN(#REF!)+SEARCH(" ",#REF!)),"") | I35: =IFERROR(RIGHT(#REF!,LEN(#REF!)+SEARCH(" ",#REF!)),"") | J35: =ORARIO_GENERALE!J32 | K35: =IFERROR(RIGHT(ORARIO_GENERALE!K44,LEN(ORARIO_GENERALE!K44)+SEARCH(" ",ORARIO_GENERALE!K44)),"") | L35: =IFERROR(RIGHT(#REF!,LEN(#REF!)+SEARCH(" ",#REF!)),"") | M35: =IFERROR(RIGHT(#REF!,LEN(#REF!)+SEARCH(" ",#REF!)),"") | N35: =IFERROR(RIGHT(#REF!,LEN(#REF!)+SEARCH(" ",#REF!)),"") | O35: =IFERROR(RIGHT(#REF!,LEN(#REF!)+SEARCH(" ",#REF!)),"") | P35: =IFERROR(RIGHT(#REF!,LEN(#REF!)+SEARCH(" ",#REF!)),"") | Q35: =IFERROR(RIGHT(#REF!,LEN(#REF!)-SEARCH(" ",#REF!)),"") | R35: =IFERROR(RIGHT(ORARIO_GENERALE!N32,LEN(ORARIO_GENERALE!N32)-SEARCH(" ",ORARIO_GENERALE!N32)),"")
C36: =ORARIO_GENERALE!C33 -> 16:00-17:00 | D36: =IFERROR(RIGHT(ORARIO_GENERALE!D39,LEN(ORARIO_GENERALE!D39)+SEARCH(" ",ORARIO_GENERALE!D39)),"") -> MPPA 4 | E36: =IFERROR(RIGHT(ORARIO_GENERALE!E17,LEN(ORARIO_GENERALE!E17)+SEARCH(" ",ORARIO_GENERALE!E17)),"") | F36: =IFERROR(RIGHT(ORARIO_GENERALE!F31,LEN(ORARIO_GENERALE!F31)+SEARCH(" ",ORARIO_GENERALE!F31)),"") | G36: =IFERROR(RIGHT(ORARIO_GENERALE!G31,LEN(ORARIO_GENERALE!G31)+SEARCH(" ",ORARIO_GENERALE!G31)),"") | H36: =IFERROR(RIGHT(ORARIO_GENERALE!I31,LEN(ORARIO_GENERALE!I31)+SEARCH(" ",ORARIO_GENERALE!I31)),"") | I36: =IFERROR(RIGHT(#REF!,LEN(#REF!)+SEARCH(" ",#REF!)),"") | J36: =ORARIO_GENERALE!J33 | K36: =IFERROR(RIGHT(ORARIO_GENERALE!K45,LEN(ORARIO_GENERALE!K45)+SEARCH(" ",ORARIO_GENERALE!K45)),"") | L36: =IFERROR(RIGHT(#REF!,LEN(#REF!)+SEARCH(" ",#REF!)),"") | M36: =IFERROR(RIGHT(#REF!,LEN(#REF!)+SEARCH(" ",#REF!)),"") | N36: =IFERROR(RIGHT(#REF!,LEN(#REF!)+SEARCH(" ",#REF!)),"") | O36: =IFERROR(RIGHT(#REF!,LEN(#REF!)+SEARCH(" ",#REF!)),"") | P36: =IFERROR(RIGHT(#REF!,LEN(#REF!)+SEARCH(" ",#REF!)),"") | Q36: =IFERROR(RIGHT(#REF!,LEN(#REF!)-SEARCH(" ",#REF!)),"") | R36: =IFERROR(RIGHT(ORARIO_GENERALE!N33,LEN(ORARIO_GENERALE!N33)-SEARCH(" ",ORARIO_GENERALE!N33)),"")
C37: =ORARIO_GENERALE!C34 -> 17:00-18:00 | D37: =IFERROR(RIGHT(ORARIO_GENERALE!D34,LEN(ORARIO_GENERALE!D34)+SEARCH(" ",ORARIO_GENERALE!D34)),"") | E37: =IFERROR(RIGHT(#REF!,LEN(#REF!)+SEARCH(" ",#REF!)),"") | F37: =IFERROR(RIGHT(ORARIO_GENERALE!G23,LEN(ORARIO_GENERALE!G23)+SEARCH(" ",ORARIO_GENERALE!G23)),"") | G37: =IFERROR(RIGHT(ORARIO_GENERALE!G34,LEN(ORARIO_GENERALE!G34)+SEARCH(" ",ORARIO_GENERALE!G34)),"") | H37: =IFERROR(RIGHT(#REF!,LEN(#REF!)+SEARCH(" ",#REF!)),"") | I37: =IFERROR(RIGHT(#REF!,LEN(#REF!)+SEARCH(" ",#REF!)),"") | J37: =ORARIO_GENERALE!J34 | K37: =IFERROR(RIGHT(#REF!,LEN(#REF!)+SEARCH(" ",#REF!)),"") | L37: =IFERROR(RIGHT(#REF!,LEN(#REF!)+SEARCH(" ",#REF!)),"") | M37: =IFERROR(RIGHT(#REF!,LEN(#REF!)+SEARCH(" ",#REF!)),"") | N37: =IFERROR(RIGHT(#REF!,LEN(#REF!)+SEARCH(" ",#REF!)),"") | O37: =IFERROR(RIGHT(#REF!,LEN(#REF!)+SEARCH(" ",#REF!)),"") | P37: =IFERROR(RIGHT(#REF!,LEN(#REF!)+SEARCH(" ",#REF!)),"") | Q37: =IFERROR(RIGHT(ORARIO_GENERALE!K46,LEN(ORARIO_GENERALE!K46)-SEARCH(" ",ORARIO_GENERALE!K46)),"") | R37: =IFERROR(RIGHT(ORARIO_GENERALE!N34,LEN(ORARIO_GENERALE!N34)-SEARCH(" ",ORARIO_GENERALE!N34)),"")
C38: =ORARIO_GENERALE!C35 -> 18:00-19:00 | D38: =IFERROR(RIGHT(ORARIO_GENERALE!D35,LEN(ORARIO_GENERALE!D35)+SEARCH(" ",ORARIO_GENERALE!D35)),"") | E38: =IFERROR(RIGHT(#REF!,LEN(#REF!)+SEARCH(" ",#REF!)),"") | F38: =IFERROR(RIGHT(ORARIO_GENERALE!F35,LEN(ORARIO_GENERALE!F35)+SEARCH(" ",ORARIO_GENERALE!F35)),"") | G38: =IFERROR(RIGHT(ORARIO_GENERALE!G35,LEN(ORARIO_GENERALE!G35)+SEARCH(" ",ORARIO_GENERALE!G35)),"") | H38: =IFERROR(RIGHT(ORARIO_GENERALE!I35,LEN(ORARIO_GENERALE!I35)+SEARCH(" ",ORARIO_GENERALE!I35)),"") -> MA1C 3 | I38: =IFERROR(RIGHT(#REF!,LEN(#REF!)+SEARCH(" ",#REF!)),"") | J38: =ORARIO_GENERALE!J35 | K38: =IFERROR(RIGHT(#REF!,LEN(#REF!)+SEARCH(" ",#REF!)),"") | L38: =IFERROR(RIGHT(#REF!,LEN(#REF!)+SEARCH(" ",#REF!)),"") | M38: =IFERROR(RIGHT(#REF!,LEN(#REF!)+SEARCH(" ",#REF!)),"") | N38: =IFERROR(RIGHT(#REF!,LEN(#REF!)+SEARCH(" ",#REF!)),"") | O38: =IFERROR(RIGHT(#REF!,LEN(#REF!)+SEARCH(" ",#REF!)),"") | P38: =IFERROR(RIGHT(#REF!,LEN(#REF!)+SEARCH(" ",#REF!)),"") | Q38: =IFERROR(RIGHT(ORARIO_GENERALE!K47,LEN(ORARIO_GENERALE!K47)-SEARCH(" ",ORARIO_GENERALE!K47)),"") | R38: =IFERROR(RIGHT(ORARIO_GENERALE!N35,LEN(ORARIO_GENERALE!N35)-SEARCH(" ",ORARIO_GENERALE!N35)),"")
C39: =ORARIO_GENERALE!C36 -> 19:00-20:00 | D39: =IFERROR(RIGHT(#REF!,LEN(#REF!)+SEARCH(" ",#REF!)),"") | E39: =IFERROR(RIGHT(ORARIO_GENERALE!D36,LEN(ORARIO_GENERALE!D36)+SEARCH(" ",ORARIO_GENERALE!D36)),"") | F39: =IFERROR(RIGHT(ORARIO_GENERALE!F36,LEN(ORARIO_GENERALE!F36)+SEARCH(" ",ORARIO_GENERALE!F36)),"") | G39: =IFERROR(RIGHT(ORARIO_GENERALE!G36,LEN(ORARIO_GENERALE!G36)+SEARCH(" ",ORARIO_GENERALE!G36)),"") | H39: =IFERROR(RIGHT(ORARIO_GENERALE!I36,LEN(ORARIO_GENERALE!I36)+SEARCH(" ",ORARIO_GENERALE!I36)),"") -> MA1C 3 | I39: =IFERROR(RIGHT(#REF!,LEN(#REF!)+SEARCH(" ",#REF!)),"") | J39: =ORARIO_GENERALE!J36 | K39: =IFERROR(RIGHT(#REF!,LEN(#REF!)+SEARCH(" ",#REF!)),"") | L39: =IFERROR(RIGHT(#REF!,LEN(#REF!)+SEARCH(" ",#REF!)),"") | M39: =IFERROR(RIGHT(#REF!,LEN(#REF!)+SEARCH(" ",#REF!)),"") | N39: =IFERROR(RIGHT(#REF!,LEN(#REF!)+SEARCH(" ",#REF!)),"") | O39: =IFERROR(RIGHT(#REF!,LEN(#REF!)+SEARCH(" ",#REF!)),"") | P39: =IFERROR(RIGHT(#REF!,LEN(#REF!)+SEARCH(" ",#REF!)),"") | Q39: =IFERROR(RIGHT(ORARIO_GENERALE!K37,LEN(ORARIO_GENERALE!K37)-SEARCH(" ",ORARIO_GENERALE!K37)),"") -> 3 | R39: =IFERROR(RIGHT(ORARIO_GENERALE!N36,LEN(ORARIO_GENERALE!N36)-SEARCH(" ",ORARIO_GENERALE!N36)),"")
C40: =#REF! -> #REF! | D40: =IFERROR(RIGHT(#REF!,LEN(#REF!)+SEARCH(" ",#REF!)),"") | E40: =IFERROR(RIGHT(#REF!,LEN(#REF!)+SEARCH(" ",#REF!)),"") | F40: =IFERROR(RIGHT(#REF!,LEN(#REF!)+SEARCH(" ",#REF!)),"") | G40: =IFERROR(RIGHT(#REF!,LEN(#REF!)+SEARCH(" ",#REF!)),"") | H40: =IFERROR(RIGHT(#REF!,LEN(#REF!)+SEARCH(" ",#REF!)),"") | I40: =IFERROR(RIGHT(#REF!,LEN(#REF!)+SEARCH(" ",#REF!)),"") | J40: =#REF! -> #REF! | K40: =IFERROR(RIGHT(#REF!,LEN(#REF!)+SEARCH(" ",#REF!)),"") | L40: =IFERROR(RIGHT(#REF!,LEN(#REF!)+SEARCH(" ",#REF!)),"") | M40: =IFERROR(RIGHT(#REF!,LEN(#REF!)+SEARCH(" ",#REF!)),"") | N40: =IFERROR(RIGHT(#REF!,LEN(#REF!)+SEARCH(" ",#REF!)),"") | O40: =IFERROR(RIGHT(#REF!,LEN(#REF!)+SEARCH(" ",#REF!)),"") | P40: =IFERROR(RIGHT(#REF!,LEN(#REF!)+SEARCH(" ",#REF!)),"") | Q40: =IFERROR(RIGHT(#REF!,LEN(#REF!)-SEARCH(" ",#REF!)),"") | R40: =IFERROR(RIGHT(#REF!,LEN(#REF!)-SEARCH(" ",#REF!)),"")
B41: GIO | C41: =#REF! -> #REF! | D41: =IFERROR(RIGHT(#REF!,LEN(#REF!)+SEARCH(" ",#REF!)),"") | E41: =IFERROR(RIGHT(#REF!,LEN(#REF!)+SEARCH(" ",#REF!)),"") | F41: =IFERROR(RIGHT(#REF!,LEN(#REF!)+SEARCH(" ",#REF!)),"") | G41: =IFERROR(RIGHT(#REF!,LEN(#REF!)+SEARCH(" ",#REF!)),"") | H41: =IFERROR(RIGHT(#REF!,LEN(#REF!)+SEARCH(" ",#REF!)),"") | I41: =IFERROR(RIGHT(#REF!,LEN(#REF!)+SEARCH(" ",#REF!)),"") | J41: =#REF! -> #REF! | K41: =IFERROR(RIGHT(#REF!,LEN(#REF!)+SEARCH(" ",#REF!)),"") | L41: =IFERROR(RIGHT(#REF!,LEN(#REF!)+SEARCH(" ",#REF!)),"") | M41: =IFERROR(RIGHT(#REF!,LEN(#REF!)+SEARCH(" ",#REF!)),"") | N41: =IFERROR(RIGHT(#REF!,LEN(#REF!)+SEARCH(" ",#REF!)),"") | O41: =IFERROR(RIGHT(#REF!,LEN(#REF!)+SEARCH(" ",#REF!)),"") | P41: =IFERROR(RIGHT(#REF!,LEN(#REF!)+SEARCH(" ",#REF!)),"") | Q41: =IFERROR(RIGHT(#REF!,LEN(#REF!)-SEARCH(" ",#REF!)),"") | R41: =IFERROR(RIGHT(#REF!,LEN(#REF!)-SEARCH(" ",#REF!)),"")
C42: =ORARIO_GENERALE!C37 -> 09:00-10:00 | D42: =IFERROR(RIGHT(#REF!,LEN(#REF!)+SEARCH(" ",#REF!)),"") | E42: =IFERROR(RIGHT(#REF!,LEN(#REF!)+SEARCH(" ",#REF!)),"") | F42: =IFERROR(RIGHT(#REF!,LEN(#REF!)+SEARCH(" ",#REF!)),"") | G42: =IFERROR(RIGHT(#REF!,LEN(#REF!)+SEARCH(" ",#REF!)),"") | H42: =IFERROR(RIGHT(#REF!,LEN(#REF!)+SEARCH(" ",#REF!)),"") | I42: =IFERROR(RIGHT(#REF!,LEN(#REF!)+SEARCH(" ",#REF!)),"") | J42: =ORARIO_GENERALE!J37 | K42: =IFERROR(RIGHT(#REF!,LEN(#REF!)+SEARCH(" ",#REF!)),"") | L42: =IFERROR(RIGHT(#REF!,LEN(#REF!)+SEARCH(" ",#REF!)),"") | M42: =IFERROR(RIGHT(#REF!,LEN(#REF!)+SEARCH(" ",#REF!)),"") | N42: =IFERROR(RIGHT(#REF!,LEN(#REF!)+SEARCH(" ",#REF!)),"") | O42: =IFERROR(RIGHT(#REF!,LEN(#REF!)+SEARCH(" ",#REF!)),"") | P42: =IFERROR(RIGHT(#REF!,LEN(#REF!)+SEARCH(" ",#REF!)),"") | Q42: =IFERROR(RIGHT(ORARIO_GENERALE!K38,LEN(ORARIO_GENERALE!K38)-SEARCH(" ",ORARIO_GENERALE!K38)),"") -> 3 | R42: =IFERROR(RIGHT(ORARIO_GENERALE!N37,LEN(ORARIO_GENERALE!N37)-SEARCH(" ",ORARIO_GENERALE!N37)),"")
C43: =ORARIO_GENERALE!C38 -> 10:00-11:00 | D43: =IFERROR(RIGHT(#REF!,LEN(#REF!)+SEARCH(" ",#REF!)),"") | E43: =IFERROR(RIGHT(#REF!,LEN(#REF!)+SEARCH(" ",#REF!)),"") | F43: =IFERROR(RIGHT(#REF!,LEN(#REF!)+SEARCH(" ",#REF!)),"") | G43: =IFERROR(RIGHT(#REF!,LEN(#REF!)+SEARCH(" ",#REF!)),"") | H43: =IFERROR(RIGHT(#REF!,LEN(#REF!)+SEARCH(" ",#REF!)),"") | I43: =IFERROR(RIGHT(#REF!,LEN(#REF!)+SEARCH(" ",#REF!)),"") | J43: =ORARIO_GENERALE!J38 | K43: =IFERROR(RIGHT(#REF!,LEN(#REF!)+SEARCH(" ",#REF!)),"") | L43: =IFERROR(RIGHT(#REF!,LEN(#REF!)+SEARCH(" ",#REF!)),"") | M43: =IFERROR(RIGHT(#REF!,LEN(#REF!)+SEARCH(" ",#REF!)),"") | N43: =IFERROR(RIGHT(#REF!,LEN(#REF!)+SEARCH(" ",#REF!)),"") | O43: =IFERROR(RIGHT(#REF!,LEN(#REF!)+SEARCH(" ",#REF!)),"") | P43: =IFERROR(RIGHT(#REF!,LEN(#REF!)+SEARCH(" ",#REF!)),"") | Q43: =IFERROR(RIGHT(#REF!,LEN(#REF!)-SEARCH(" ",#REF!)),"") | R43: =IFERROR(RIGHT(ORARIO_GENERALE!N38,LEN(ORARIO_GENERALE!N38)-SEARCH(" ",ORARIO_GENERALE!N38)),"")
C44: =ORARIO_GENERALE!C39 -> 11:00-12:00 | D44: =IFERROR(RIGHT(#REF!,LEN(#REF!)+SEARCH(" ",#REF!)),"") | E44: =IFERROR(RIGHT(#REF!,LEN(#REF!)+SEARCH(" ",#REF!)),"") | F44: =IFERROR(RIGHT(#REF!,LEN(#REF!)+SEARCH(" ",#REF!)),"") | G44: =IFERROR(RIGHT(#REF!,LEN(#REF!)+SEARCH(" ",#REF!)),"") | H44: =IFERROR(RIGHT(#REF!,LEN(#REF!)+SEARCH(" ",#REF!)),"") | I44: =IFERROR(RIGHT(#REF!,LEN(#REF!)+SEARCH(" ",#REF!)),"") | J44: =ORARIO_GENERALE!J39 | K44: =IFERROR(RIGHT(#REF!,LEN(#REF!)+SEARCH(" ",#REF!)),"") | L44: =IFERROR(RIGHT(#REF!,LEN(#REF!)+SEARCH(" ",#REF!)),"") | M44: =IFERROR(RIGHT(#REF!,LEN(#REF!)+SEARCH(" ",#REF!)),"") | N44: =IFERROR(RIGHT(#REF!,LEN(#REF!)+SEARCH(" ",#REF!)),"") | O44: =IFERROR(RIGHT(#REF!,LEN(#REF!)+SEARCH(" ",#REF!)),"") | P44: =IFERROR(RIGHT(#REF!,LEN(#REF!)+SEARCH(" ",#REF!)),"") | Q44: =IFERROR(RIGHT(ORARIO_GENERALE!K39,LEN(ORARIO_GENERALE!K39)-SEARCH(" ",ORARIO_GENERALE!K39)),"") -> D | R44: =IFERROR(RIGHT(ORARIO_GENERALE!N39,LEN(ORARIO_GENERALE!N39)-SEARCH(" ",ORARIO_GENERALE!N39)),"")
C45: =ORARIO_GENERALE!C40 -> 12:00-13:00 | D45: =IFERROR(RIGHT(#REF!,LEN(#REF!)+SEARCH(" ",#REF!)),"") | E45: =IFERROR(RIGHT(#REF!,LEN(#REF!)+SEARCH(" ",#REF!)),"") | F45: =IFERROR(RIGHT(ORARIO_GENERALE!F37,LEN(ORARIO_GENERALE!F37)+SEARCH(" ",ORARIO_GENERALE!F37)),"") | G45: =IFERROR(RIGHT(ORARIO_GENERALE!E37,LEN(ORARIO_GENERALE!E37)+SEARCH(" ",ORARIO_GENERALE!E37)),"") -> MPPC 7 | H45: =IFERROR(RIGHT(ORARIO_GENERALE!I27,LEN(ORARIO_GENERALE!I27)+SEARCH(" ",ORARIO_GENERALE!I27)),"") | I45: =IFERROR(RIGHT(#REF!,LEN(#REF!)+SEARCH(" ",#REF!)),"") | J45: =ORARIO_GENERALE!J40 | K45: =IFERROR(RIGHT(#REF!,LEN(#REF!)+SEARCH(" ",#REF!)),"") | L45: =IFERROR(RIGHT(#REF!,LEN(#REF!)+SEARCH(" ",#REF!)),"") | M45: =IFERROR(RIGHT(#REF!,LEN(#REF!)+SEARCH(" ",#REF!)),"") | N45: =IFERROR(RIGHT(#REF!,LEN(#REF!)+SEARCH(" ",#REF!)),"") | O45: =IFERROR(RIGHT(#REF!,LEN(#REF!)+SEARCH(" ",#REF!)),"") | P45: =IFERROR(RIGHT(#REF!,LEN(#REF!)+SEARCH(" ",#REF!)),"") | Q45: =IFERROR(RIGHT(#REF!,LEN(#REF!)-SEARCH(" ",#REF!)),"") | R45: =IFERROR(RIGHT(ORARIO_GENERALE!N40,LEN(ORARIO_GENERALE!N40)-SEARCH(" ",ORARIO_GENERALE!N40)),"")
C46: =ORARIO_GENERALE!C41 -> 13:00-14:00 | D46: =IFERROR(RIGHT(#REF!,LEN(#REF!)+SEARCH(" ",#REF!)),"") | E46: =IFERROR(RIGHT(ORARIO_GENERALE!E38,LEN(ORARIO_GENERALE!E38)+SEARCH(" ",ORARIO_GENERALE!E38)),"") -> MPPC 7 | F46: =IFERROR(RIGHT(ORARIO_GENERALE!F38,LEN(ORARIO_GENERALE!F38)+SEARCH(" ",ORARIO_GENERALE!F38)),"") | G46: =IFERROR(RIGHT(ORARIO_GENERALE!G38,LEN(ORARIO_GENERALE!G38)+SEARCH(" ",ORARIO_GENERALE!G38)),"") | H46: =IFERROR(RIGHT(ORARIO_GENERALE!I15,LEN(ORARIO_GENERALE!I15)+SEARCH(" ",ORARIO_GENERALE!I15)),"") -> MA1E L | I46: =IFERROR(RIGHT(#REF!,LEN(#REF!)+SEARCH(" ",#REF!)),"") | J46: =ORARIO_GENERALE!J41 | K46: =IFERROR(RIGHT(#REF!,LEN(#REF!)+SEARCH(" ",#REF!)),"") | L46: =IFERROR(RIGHT(#REF!,LEN(#REF!)+SEARCH(" ",#REF!)),"") | M46: =IFERROR(RIGHT(#REF!,LEN(#REF!)+SEARCH(" ",#REF!)),"") | N46: =IFERROR(RIGHT(#REF!,LEN(#REF!)+SEARCH(" ",#REF!)),"") | O46: =IFERROR(RIGHT(#REF!,LEN(#REF!)+SEARCH(" ",#REF!)),"") | P46: =IFERROR(RIGHT(#REF!,LEN(#REF!)+SEARCH(" ",#REF!)),"") | Q46: =IFERROR(RIGHT(#REF!,LEN(#REF!)-SEARCH(" ",#REF!)),"") | R46: =IFERROR(RIGHT(ORARIO_GENERALE!N41,LEN(ORARIO_GENERALE!N41)-SEARCH(" ",ORARIO_GENERALE!N41)),"")
C47: =ORARIO_GENERALE!C42 -> 14:00-15:00 | D47: =IFERROR(RIGHT(#REF!,LEN(#REF!)+SEARCH(" ",#REF!)),"") | E47: =IFERROR(RIGHT(#REF!,LEN(#REF!)+SEARCH(" ",#REF!)),"") | F47: =IFERROR(RIGHT(ORARIO_GENERALE!F39,LEN(ORARIO_GENERALE!F39)+SEARCH(" ",ORARIO_GENERALE!F39)),"") | G47: =IFERROR(RIGHT(ORARIO_GENERALE!G39,LEN(ORARIO_GENERALE!G39)+SEARCH(" ",ORARIO_GENERALE!G39)),"") | H47: =IFERROR(RIGHT(ORARIO_GENERALE!I16,LEN(ORARIO_GENERALE!I16)+SEARCH(" ",ORARIO_GENERALE!I16)),"") -> MA1E L | I47: =IFERROR(RIGHT(#REF!,LEN(#REF!)+SEARCH(" ",#REF!)),"") | J47: =ORARIO_GENERALE!J42 | K47: =IFERROR(RIGHT(#REF!,LEN(#REF!)+SEARCH(" ",#REF!)),"") | L47: =IFERROR(RIGHT(#REF!,LEN(#REF!)+SEARCH(" ",#REF!)),"") | M47: =IFERROR(RIGHT(#REF!,LEN(#REF!)+SEARCH(" ",#REF!)),"") | N47: =IFERROR(RIGHT(#REF!,LEN(#REF!)+SEARCH(" ",#REF!)),"") | O47: =IFERROR(RIGHT(#REF!,LEN(#REF!)+SEARCH(" ",#REF!)),"") | P47: =IFERROR(RIGHT(#REF!,LEN(#REF!)+SEARCH(" ",#REF!)),"") | Q47: =IFERROR(RIGHT(#REF!,LEN(#REF!)-SEARCH(" ",#REF!)),"") | R47: =IFERROR(RIGHT(ORARIO_GENERALE!N42,LEN(ORARIO_GENERALE!N42)-SEARCH(" ",ORARIO_GENERALE!N42)),"")
C48: =ORARIO_GENERALE!C43 -> 15:00-16:00 | D48: =IFERROR(RIGHT(ORARIO_GENERALE!D40,LEN(ORARIO_GENERALE!D40)+SEARCH(" ",ORARIO_GENERALE!D40)),"") -> MPPD 1 | E48: =IFERROR(RIGHT(ORARIO_GENERALE!E40,LEN(ORARIO_GENERALE!E40)+SEARCH(" ",ORARIO_GENERALE!E40)),"") -> MPPB 7 | F48: =IFERROR(RIGHT(#REF!,LEN(#REF!)+SEARCH(" ",#REF!)),"") | G48: =IFERROR(RIGHT(ORARIO_GENERALE!G40,LEN(ORARIO_GENERALE!G40)+SEARCH(" ",ORARIO_GENERALE!G40)),"") | H48: =IFERROR(RIGHT(ORARIO_GENERALE!I41,LEN(ORARIO_GENERALE!I41)+SEARCH(" ",ORARIO_GENERALE!I41)),"") -> POT C L | I48: =IFERROR(RIGHT(#REF!,LEN(#REF!)+SEARCH(" ",#REF!)),"") | J48: =ORARIO_GENERALE!J43 | K48: =IFERROR(RIGHT(#REF!,LEN(#REF!)+SEARCH(" ",#REF!)),"") | L48: =IFERROR(RIGHT(#REF!,LEN(#REF!)+SEARCH(" ",#REF!)),"") | M48: =IFERROR(RIGHT(#REF!,LEN(#REF!)+SEARCH(" ",#REF!)),"") | N48: =IFERROR(RIGHT(#REF!,LEN(#REF!)+SEARCH(" ",#REF!)),"") | O48: =IFERROR(RIGHT(#REF!,LEN(#REF!)+SEARCH(" ",#REF!)),"") | P48: =IFERROR(RIGHT(#REF!,LEN(#REF!)+SEARCH(" ",#REF!)),"") | Q48: =IFERROR(RIGHT(#REF!,LEN(#REF!)-SEARCH(" ",#REF!)),"") | R48: =IFERROR(RIGHT(ORARIO_GENERALE!N43,LEN(ORARIO_GENERALE!N43)-SEARCH(" ",ORARIO_GENERALE!N43)),"")
C49: =ORARIO_GENERALE!C44 -> 16:00-17:00 | D49: =IFERROR(RIGHT(ORARIO_GENERALE!D41,LEN(ORARIO_GENERALE!D41)+SEARCH(" ",ORARIO_GENERALE!D41)),"") -> MPPD 1 | E49: =IFERROR(RIGHT(ORARIO_GENERALE!E41,LEN(ORARIO_GENERALE!E41)+SEARCH(" ",ORARIO_GENERALE!E41)),"") | F49: =IFERROR(RIGHT(ORARIO_GENERALE!F40,LEN(ORARIO_GENERALE!F40)+SEARCH(" ",ORARIO_GENERALE!F40)),"") | G49: =IFERROR(RIGHT(ORARIO_GENERALE!G41,LEN(ORARIO_GENERALE!G41)+SEARCH(" ",ORARIO_GENERALE!G41)),"") -> MPPB 7 | H49: =IFERROR(RIGHT(ORARIO_GENERALE!I42,LEN(ORARIO_GENERALE!I42)+SEARCH(" ",ORARIO_GENERALE!I42)),"") | I49: =IFERROR(RIGHT(#REF!,LEN(#REF!)+SEARCH(" ",#REF!)),"") | J49: =ORARIO_GENERALE!J44 | K49: =IFERROR(RIGHT(#REF!,LEN(#REF!)+SEARCH(" ",#REF!)),"") | L49: =IFERROR(RIGHT(#REF!,LEN(#REF!)+SEARCH(" ",#REF!)),"") | M49: =IFERROR(RIGHT(#REF!,LEN(#REF!)+SEARCH(" ",#REF!)),"") | N49: =IFERROR(RIGHT(#REF!,LEN(#REF!)+SEARCH(" ",#REF!)),"") | O49: =IFERROR(RIGHT(#REF!,LEN(#REF!)+SEARCH(" ",#REF!)),"") | P49: =IFERROR(RIGHT(#REF!,LEN(#REF!)+SEARCH(" ",#REF!)),"") | Q49: =IFERROR(RIGHT(#REF!,LEN(#REF!)-SEARCH(" ",#REF!)),"") | R49: =IFERROR(RIGHT(ORARIO_GENERALE!N44,LEN(ORARIO_GENERALE!N44)-SEARCH(" ",ORARIO_GENERALE!N44)),"")
C50: =ORARIO_GENERALE!C45 -> 17:00-18:00 | D50: =IFERROR(RIGHT(ORARIO_GENERALE!D42,LEN(ORARIO_GENERALE!D42)+SEARCH(" ",ORARIO_GENERALE!D42)),"") | E50: =IFERROR(RIGHT(ORARIO_GENERALE!E39,LEN(ORARIO_GENERALE!E39)+SEARCH(" ",ORARIO_GENERALE!E39)),"") -> MPPC 7 | F50: =IFERROR(RIGHT(ORARIO_GENERALE!F42,LEN(ORARIO_GENERALE!F42)+SEARCH(" ",ORARIO_GENERALE!F42)),"") -> MPPB 7 | G50: =IFERROR(RIGHT(ORARIO_GENERALE!O43,LEN(ORARIO_GENERALE!O43)+SEARCH(" ",ORARIO_GENERALE!O43)),"") | H50: =IFERROR(RIGHT(#REF!,LEN(#REF!)+SEARCH(" ",#REF!)),"") | I50: =IFERROR(RIGHT(#REF!,LEN(#REF!)+SEARCH(" ",#REF!)),"") | J50: =ORARIO_GENERALE!J45 | K50: =IFERROR(RIGHT(#REF!,LEN(#REF!)+SEARCH(" ",#REF!)),"") | L50: =IFERROR(RIGHT(#REF!,LEN(#REF!)+SEARCH(" ",#REF!)),"") | M50: =IFERROR(RIGHT(#REF!,LEN(#REF!)+SEARCH(" ",#REF!)),"") | N50: =IFERROR(RIGHT(#REF!,LEN(#REF!)+SEARCH(" ",#REF!)),"") | O50: =IFERROR(RIGHT(#REF!,LEN(#REF!)+SEARCH(" ",#REF!)),"") | P50: =IFERROR(RIGHT(#REF!,LEN(#REF!)+SEARCH(" ",#REF!)),"") | Q50: =IFERROR(RIGHT(#REF!,LEN(#REF!)-SEARCH(" ",#REF!)),"") | R50: =IFERROR(RIGHT(ORARIO_GENERALE!N45,LEN(ORARIO_GENERALE!N45)-SEARCH(" ",ORARIO_GENERALE!N45)),"")
C51: =ORARIO_GENERALE!C46 -> 18:00-19:00 | D51: =IFERROR(RIGHT(ORARIO_GENERALE!D43,LEN(ORARIO_GENERALE!D43)+SEARCH(" ",ORARIO_GENERALE!D43)),"") | E51: =IFERROR(RIGHT(ORARIO_GENERALE!E43,LEN(ORARIO_GENERALE!E43)+SEARCH(" ",ORARIO_GENERALE!E43)),"") | F51: =IFERROR(RIGHT(ORARIO_GENERALE!F43,LEN(ORARIO_GENERALE!F43)+SEARCH(" ",ORARIO_GENERALE!F43)),"") -> MPPB 7 | G51: =IFERROR(RIGHT(ORARIO_GENERALE!G43,LEN(ORARIO_GENERALE!G43)+SEARCH(" ",ORARIO_GENERALE!G43)),"") -> MPPD 1 | H51: =IFERROR(RIGHT(ORARIO_GENERALE!I43,LEN(ORARIO_GENERALE!I43)+SEARCH(" ",ORARIO_GENERALE!I43)),"") | I51: =IFERROR(RIGHT(#REF!,LEN(#REF!)+SEARCH(" ",#REF!)),"") | J51: =ORARIO_GENERALE!J46 | K51: =IFERROR(RIGHT(#REF!,LEN(#REF!)+SEARCH(" ",#REF!)),"") | L51: =IFERROR(RIGHT(#REF!,LEN(#REF!)+SEARCH(" ",#REF!)),"") | M51: =IFERROR(RIGHT(#REF!,LEN(#REF!)+SEARCH(" ",#REF!)),"") | N51: =IFERROR(RIGHT(#REF!,LEN(#REF!)+SEARCH(" ",#REF!)),"") | O51: =IFERROR(RIGHT(#REF!,LEN(#REF!)+SEARCH(" ",#REF!)),"") | P51: =IFERROR(RIGHT(#REF!,LEN(#REF!)+SEARCH(" ",#REF!)),"") | Q51: =IFERROR(RIGHT(#REF!,LEN(#REF!)-SEARCH(" ",#REF!)),"") | R51: =IFERROR(RIGHT(ORARIO_GENERALE!N46,LEN(ORARIO_GENERALE!N46)-SEARCH(" ",ORARIO_GENERALE!N46)),"")
C52: =ORARIO_GENERALE!C47 -> 19:00-20:00 | D52: =IFERROR(RIGHT(ORARIO_GENERALE!D47,LEN(ORARIO_GENERALE!D47)+SEARCH(" ",ORARIO_GENERALE!D47)),"") | E52: =IFERROR(RIGHT(ORARIO_GENERALE!E47,LEN(ORARIO_GENERALE!E47)+SEARCH(" ",ORARIO_GENERALE!E47)),"") | F52: =IFERROR(RIGHT(ORARIO_GENERALE!F47,LEN(ORARIO_GENERALE!F47)+SEARCH(" ",ORARIO_GENERALE!F47)),"") | G52: =IFERROR(RIGHT(ORARIO_GENERALE!G47,LEN(ORARIO_GENERALE!G47)+SEARCH(" ",ORARIO_GENERALE!G47)),"") | H52: =IFERROR(RIGHT(ORARIO_GENERALE!I47,LEN(ORARIO_GENERALE!I47)+SEARCH(" ",ORARIO_GENERALE!I47)),"") | I52: =IFERROR(RIGHT(#REF!,LEN(#REF!)+SEARCH(" ",#REF!)),"") | J52: =ORARIO_GENERALE!J47 | K52: =IFERROR(RIGHT(#REF!,LEN(#REF!)+SEARCH(" ",#REF!)),"") | L52: =IFERROR(RIGHT(#REF!,LEN(#REF!)+SEARCH(" ",#REF!)),"") | M52: =IFERROR(RIGHT(#REF!,LEN(#REF!)+SEARCH(" ",#REF!)),"") | N52: =IFERROR(RIGHT(#REF!,LEN(#REF!)+SEARCH(" ",#REF!)),"") | O52: =IFERROR(RIGHT(#REF!,LEN(#REF!)+SEARCH(" ",#REF!)),"") | P52: =IFERROR(RIGHT(#REF!,LEN(#REF!)+SEARCH(" ",#REF!)),"") | Q52: =IFERROR(RIGHT(#REF!,LEN(#REF!)-SEARCH(" ",#REF!)),"") | R52: =IFERROR(RIGHT(ORARIO_GENERALE!N47,LEN(ORARIO_GENERALE!N47)-SEARCH(" ",ORARIO_GENERALE!N47)),"")
C53: =#REF! -> #REF! | D53: =IFERROR(RIGHT(#REF!,LEN(#REF!)+SEARCH(" ",#REF!)),"") | E53: =IFERROR(RIGHT(#REF!,LEN(#REF!)+SEARCH(" ",#REF!)),"") | F53: =IFERROR(RIGHT(#REF!,LEN(#REF!)+SEARCH(" ",#REF!)),"") | G53: =IFERROR(RIGHT(#REF!,LEN(#REF!)+SEARCH(" ",#REF!)),"") | H53: =IFERROR(RIGHT(#REF!,LEN(#REF!)+SEARCH(" ",#REF!)),"") | I53: =IFERROR(RIGHT(#REF!,LEN(#REF!)+SEARCH(" ",#REF!)),"") | J53: =#REF! -> #REF! | K53: =IFERROR(RIGHT(#REF!,LEN(#REF!)+SEARCH(" ",#REF!)),"") | L53: =IFERROR(RIGHT(#REF!,LEN(#REF!)+SEARCH(" ",#REF!)),"") | M53: =IFERROR(RIGHT(#REF!,LEN(#REF!)+SEARCH(" ",#REF!)),"") | N53: =IFERROR(RIGHT(#REF!,LEN(#REF!)+SEARCH(" ",#REF!)),"") | O53: =IFERROR(RIGHT(#REF!,LEN(#REF!)+SEARCH(" ",#REF!)),"") | P53: =IFERROR(RIGHT(#REF!,LEN(#REF!)+SEARCH(" ",#REF!)),"") | Q53: =IFERROR(RIGHT(#REF!,LEN(#REF!)-SEARCH(" ",#REF!)),"") | R53: =IFERROR(RIGHT(#REF!,LEN(#REF!)-SEARCH(" ",#REF!)),"")
B54: VEN | C54: =#REF! -> #REF! | D54: =IFERROR(RIGHT(#REF!,LEN(#REF!)-SEARCH(" ",#REF!)),"") | E54: =IFERROR(RIGHT(#REF!,LEN(#REF!)-SEARCH(" ",#REF!)),"") | F54: =IFERROR(RIGHT(#REF!,LEN(#REF!)-SEARCH(" ",#REF!)),"") | G54: =IFERROR(RIGHT(#REF!,LEN(#REF!)-SEARCH(" ",#REF!)),"") | H54: =IFERROR(RIGHT(#REF!,LEN(#REF!)-SEARCH(" ",#REF!)),"") | I54: =IFERROR(RIGHT(#REF!,LEN(#REF!)-SEARCH(" ",#REF!)),"") | J54: =#REF! -> #REF! | K54: =IFERROR(RIGHT(#REF!,LEN(#REF!)+SEARCH(" ",#REF!)),"") | L54: =IFERROR(RIGHT(#REF!,LEN(#REF!)+SEARCH(" ",#REF!)),"") | M54: =IFERROR(RIGHT(#REF!,LEN(#REF!)+SEARCH(" ",#REF!)),"") | N54: =IFERROR(RIGHT(#REF!,LEN(#REF!)+SEARCH(" ",#REF!)),"") | O54: =IFERROR(RIGHT(#REF!,LEN(#REF!)+SEARCH(" ",#REF!)),"") | P54: =IFERROR(RIGHT(#REF!,LEN(#REF!)+SEARCH(" ",#REF!)),"") | Q54: =IFERROR(RIGHT(#REF!,LEN(#REF!)-SEARCH(" ",#REF!)),"") | R54: =IFERROR(RIGHT(#REF!,LEN(#REF!)-SEARCH(" ",#REF!)),"")
C55: =ORARIO_GENERALE!C48 -> 09:00-10:00 | D55: =IFERROR(RIGHT(ORARIO_GENERALE!D48,LEN(ORARIO_GENERALE!D48)-SEARCH(" ",ORARIO_GENERALE!D48)),"") -> 7 | E55: =IFERROR(RIGHT(ORARIO_GENERALE!E48,LEN(ORARIO_GENERALE!E48)-SEARCH(" ",ORARIO_GENERALE!E48)),"") | F55: =IFERROR(RIGHT(ORARIO_GENERALE!F48,LEN(ORARIO_GENERALE!F48)-SEARCH(" ",ORARIO_GENERALE!F48)),"") | G55: =IFERROR(RIGHT(ORARIO_GENERALE!G48,LEN(ORARIO_GENERALE!G48)-SEARCH(" ",ORARIO_GENERALE!G48)),"") | H55: =IFERROR(RIGHT(ORARIO_GENERALE!I48,LEN(ORARIO_GENERALE!I48)-SEARCH(" ",ORARIO_GENERALE!I48)),"") | I55: =IFERROR(RIGHT(#REF!,LEN(#REF!)-SEARCH(" ",#REF!)),"") | J55: =ORARIO_GENERALE!J48 | K55: =IFERROR(RIGHT(#REF!,LEN(#REF!)+SEARCH(" ",#REF!)),"") | L55: =IFERROR(RIGHT(#REF!,LEN(#REF!)+SEARCH(" ",#REF!)),"") | M55: =IFERROR(RIGHT(#REF!,LEN(#REF!)+SEARCH(" ",#REF!)),"") | N55: =IFERROR(RIGHT(#REF!,LEN(#REF!)+SEARCH(" ",#REF!)),"") | O55: =IFERROR(RIGHT(#REF!,LEN(#REF!)+SEARCH(" ",#REF!)),"") | P55: =IFERROR(RIGHT(#REF!,LEN(#REF!)+SEARCH(" ",#REF!)),"") | Q55: =IFERROR(RIGHT(ORARIO_GENERALE!K48,LEN(ORARIO_GENERALE!K48)-SEARCH(" ",ORARIO_GENERALE!K48)),"") -> L | R55: =IFERROR(RIGHT(ORARIO_GENERALE!N48,LEN(ORARIO_GENERALE!N48)-SEARCH(" ",ORARIO_GENERALE!N48)),"")
C56: =ORARIO_GENERALE!C49 -> 10:00-11:00 | D56: =IFERROR(RIGHT(ORARIO_GENERALE!D49,LEN(ORARIO_GENERALE!D49)-SEARCH(" ",ORARIO_GENERALE!D49)),"") -> 7 | E56: =IFERROR(RIGHT(ORARIO_GENERALE!E49,LEN(ORARIO_GENERALE!E49)-SEARCH(" ",ORARIO_GENERALE!E49)),"") | F56: =IFERROR(RIGHT(ORARIO_GENERALE!F49,LEN(ORARIO_GENERALE!F49)-SEARCH(" ",ORARIO_GENERALE!F49)),"") | G56: =IFERROR(RIGHT(ORARIO_GENERALE!G49,LEN(ORARIO_GENERALE!G49)-SEARCH(" ",ORARIO_GENERALE!G49)),"") | H56: =IFERROR(RIGHT(ORARIO_GENERALE!I49,LEN(ORARIO_GENERALE!I49)-SEARCH(" ",ORARIO_GENERALE!I49)),"") | I56: =IFERROR(RIGHT(#REF!,LEN(#REF!)-SEARCH(" ",#REF!)),"") | J56: =ORARIO_GENERALE!J49 | K56: =IFERROR(RIGHT(#REF!,LEN(#REF!)+SEARCH(" ",#REF!)),"") | L56: =IFERROR(RIGHT(#REF!,LEN(#REF!)+SEARCH(" ",#REF!)),"") | M56: =IFERROR(RIGHT(#REF!,LEN(#REF!)+SEARCH(" ",#REF!)),"") | N56: =IFERROR(RIGHT(#REF!,LEN(#REF!)+SEARCH(" ",#REF!)),"") | O56: =IFERROR(RIGHT(#REF!,LEN(#REF!)+SEARCH(" ",#REF!)),"") | P56: =IFERROR(RIGHT(#REF!,LEN(#REF!)+SEARCH(" ",#REF!)),"") | Q56: =IFERROR(RIGHT(ORARIO_GENERALE!K49,LEN(ORARIO_GENERALE!K49)-SEARCH(" ",ORARIO_GENERALE!K49)),"") -> L | R56: =IFERROR(RIGHT(ORARIO_GENERALE!N49,LEN(ORARIO_GENERALE!N49)-SEARCH(" ",ORARIO_GENERALE!N49)),"")
C57: =ORARIO_GENERALE!C50 -> 11:00-12:00 | D57: =IFERROR(RIGHT(ORARIO_GENERALE!D50,LEN(ORARIO_GENERALE!D50)-SEARCH(" ",ORARIO_GENERALE!D50)),"") | E57: =IFERROR(RIGHT(ORARIO_GENERALE!E50,LEN(ORARIO_GENERALE!E50)-SEARCH(" ",ORARIO_GENERALE!E50)),"") | F57: =IFERROR(RIGHT(ORARIO_GENERALE!F50,LEN(ORARIO_GENERALE!F50)-SEARCH(" ",ORARIO_GENERALE!F50)),"") | G57: =IFERROR(RIGHT(ORARIO_GENERALE!G50,LEN(ORARIO_GENERALE!G50)-SEARCH(" ",ORARIO_GENERALE!G50)),"") | H57: =IFERROR(RIGHT(ORARIO_GENERALE!I50,LEN(ORARIO_GENERALE!I50)-SEARCH(" ",ORARIO_GENERALE!I50)),"") | I57: =IFERROR(RIGHT(#REF!,LEN(#REF!)-SEARCH(" ",#REF!)),"") | J57: =ORARIO_GENERALE!J50 | K57: =IFERROR(RIGHT(ORARIO_GENERALE!K50,LEN(ORARIO_GENERALE!K50)+SEARCH(" ",ORARIO_GENERALE!K50)),"") | L57: =IFERROR(RIGHT(#REF!,LEN(#REF!)+SEARCH(" ",#REF!)),"") | M57: =IFERROR(RIGHT(#REF!,LEN(#REF!)+SEARCH(" ",#REF!)),"") | N57: =IFERROR(RIGHT(#REF!,LEN(#REF!)+SEARCH(" ",#REF!)),"") | O57: =IFERROR(RIGHT(#REF!,LEN(#REF!)+SEARCH(" ",#REF!)),"") | P57: =IFERROR(RIGHT(#REF!,LEN(#REF!)+SEARCH(" ",#REF!)),"") | Q57: =IFERROR(RIGHT(#REF!,LEN(#REF!)-SEARCH(" ",#REF!)),"") | R57: =IFERROR(RIGHT(ORARIO_GENERALE!N50,LEN(ORARIO_GENERALE!N50)-SEARCH(" ",ORARIO_GENERALE!N50)),"")
C58: =ORARIO_GENERALE!C51 -> 12:00-13:00 | D58: =IFERROR(RIGHT(ORARIO_GENERALE!D51,LEN(ORARIO_GENERALE!D51)-SEARCH(" ",ORARIO_GENERALE!D51)),"") | E58: =IFERROR(RIGHT(ORARIO_GENERALE!E51,LEN(ORARIO_GENERALE!E51)-SEARCH(" ",ORARIO_GENERALE!E51)),"") | F58: =IFERROR(RIGHT(ORARIO_GENERALE!F51,LEN(ORARIO_GENERALE!F51)-SEARCH(" ",ORARIO_GENERALE!F51)),"") | G58: =IFERROR(RIGHT(ORARIO_GENERALE!G51,LEN(ORARIO_GENERALE!G51)-SEARCH(" ",ORARIO_GENERALE!G51)),"") | H58: =IFERROR(RIGHT(ORARIO_GENERALE!I51,LEN(ORARIO_GENERALE!I51)-SEARCH(" ",ORARIO_GENERALE!I51)),"") | I58: =IFERROR(RIGHT(#REF!,LEN(#REF!)-SEARCH(" ",#REF!)),"") | J58: =ORARIO_GENERALE!J51 | K58: =IFERROR(RIGHT(ORARIO_GENERALE!K51,LEN(ORARIO_GENERALE!K51)+SEARCH(" ",ORARIO_GENERALE!K51)),"") | L58: =IFERROR(RIGHT(#REF!,LEN(#REF!)+SEARCH(" ",#REF!)),"") | M58: =IFERROR(RIGHT(#REF!,LEN(#REF!)+SEARCH(" ",#REF!)),"") | N58: =IFERROR(RIGHT(#REF!,LEN(#REF!)+SEARCH(" ",#REF!)),"") | O58: =IFERROR(RIGHT(#REF!,LEN(#REF!)+SEARCH(" ",#REF!)),"") | P58: =IFERROR(RIGHT(#REF!,LEN(#REF!)+SEARCH(" ",#REF!)),"") | Q58: =IFERROR(RIGHT(#REF!,LEN(#REF!)-SEARCH(" ",#REF!)),"") | R58: =IFERROR(RIGHT(ORARIO_GENERALE!N51,LEN(ORARIO_GENERALE!N51)-SEARCH(" ",ORARIO_GENERALE!N51)),"")
C59: =ORARIO_GENERALE!C53 -> 14:00-15:00 | D59: =IFERROR(RIGHT(ORARIO_GENERALE!D53,LEN(ORARIO_GENERALE!D53)-SEARCH(" ",ORARIO_GENERALE!D53)),"") | E59: =IFERROR(RIGHT(ORARIO_GENERALE!E53,LEN(ORARIO_GENERALE!E53)-SEARCH(" ",ORARIO_GENERALE!E53)),"") | F59: =IFERROR(RIGHT(ORARIO_GENERALE!F53,LEN(ORARIO_GENERALE!F53)-SEARCH(" ",ORARIO_GENERALE!F53)),"") | G59: =IFERROR(RIGHT(ORARIO_GENERALE!G53,LEN(ORARIO_GENERALE!G53)-SEARCH(" ",ORARIO_GENERALE!G53)),"") | H59: =IFERROR(RIGHT(ORARIO_GENERALE!I53,LEN(ORARIO_GENERALE!I53)-SEARCH(" ",ORARIO_GENERALE!I53)),"") | I59: =IFERROR(RIGHT(#REF!,LEN(#REF!)-SEARCH(" ",#REF!)),"") | J59: =ORARIO_GENERALE!J53 | K59: =IFERROR(RIGHT(#REF!,LEN(#REF!)+SEARCH(" ",#REF!)),"") | L59: =IFERROR(RIGHT(#REF!,LEN(#REF!)+SEARCH(" ",#REF!)),"") | M59: =IFERROR(RIGHT(#REF!,LEN(#REF!)+SEARCH(" ",#REF!)),"") | N59: =IFERROR(RIGHT(#REF!,LEN(#REF!)+SEARCH(" ",#REF!)),"") | O59: =IFERROR(RIGHT(#REF!,LEN(#REF!)+SEARCH(" ",#REF!)),"") | P59: =IFERROR(RIGHT(#REF!,LEN(#REF!)+SEARCH(" ",#REF!)),"") | Q59: =IFERROR(RIGHT(#REF!,LEN(#REF!)-SEARCH(" ",#REF!)),"") | R59: =IFERROR(RIGHT(ORARIO_GENERALE!N53,LEN(ORARIO_GENERALE!N53)-SEARCH(" ",ORARIO_GENERALE!N53)),"")
C60: =ORARIO_GENERALE!C54 | D60: =IFERROR(RIGHT(ORARIO_GENERALE!D54,LEN(ORARIO_GENERALE!D54)-SEARCH(" ",ORARIO_GENERALE!D54)),"") | E60: =IFERROR(RIGHT(ORARIO_GENERALE!F54,LEN(ORARIO_GENERALE!F54)-SEARCH(" ",ORARIO_GENERALE!F54)),"") | F60: =IFERROR(RIGHT(ORARIO_GENERALE!G54,LEN(ORARIO_GENERALE!G54)-SEARCH(" ",ORARIO_GENERALE!G54)),"") | K60: =IFERROR(RIGHT(ORARIO_GENERALE!K54,LEN(ORARIO_GENERALE!K54)-SEARCH(" ",ORARIO_GENERALE!K54)),"") | L60: =IFERROR(RIGHT(#REF!,LEN(#REF!)-SEARCH(" ",#REF!)),"") | M60: =IFERROR(RIGHT(#REF!,LEN(#REF!)-SEARCH(" ",#REF!)),"") | N60: =IFERROR(RIGHT(#REF!,LEN(#REF!)-SEARCH(" ",#REF!)),"") | O60: =IFERROR(RIGHT(#REF!,LEN(#REF!)-SEARCH(" ",#REF!)),"") | P60: =IFERROR(RIGHT(#REF!,LEN(#REF!)-SEARCH(" ",#REF!)),"") | Q60: =IFERROR(RIGHT(#REF!,LEN(#REF!)-SEARCH(" ",#REF!)),"") | R60: =IFERROR(RIGHT(ORARIO_GENERALE!N54,LEN(ORARIO_GENERALE!N54)-SEARCH(" ",ORARIO_GENERALE!N54)),"")
C61: =ORARIO_GENERALE!C54 | K61: =IFERROR(RIGHT(ORARIO_GENERALE!K55,LEN(ORARIO_GENERALE!K55)-SEARCH(" ",ORARIO_GENERALE!K55)),"") | L61: =IFERROR(RIGHT(#REF!,LEN(#REF!)-SEARCH(" ",#REF!)),"") | M61: =IFERROR(RIGHT(#REF!,LEN(#REF!)-SEARCH(" ",#REF!)),"") | N61: =IFERROR(RIGHT(#REF!,LEN(#REF!)-SEARCH(" ",#REF!)),"") | O61: =IFERROR(RIGHT(#REF!,LEN(#REF!)-SEARCH(" ",#REF!)),"") | P61: =IFERROR(RIGHT(#REF!,LEN(#REF!)-SEARCH(" ",#REF!)),"") | Q61: =IFERROR(RIGHT(#REF!,LEN(#REF!)-SEARCH(" ",#REF!)),"") | R61: =IFERROR(RIGHT(ORARIO_GENERALE!N55,LEN(ORARIO_GENERALE!N55)-SEARCH(" ",ORARIO_GENERALE!N55)),"")
C62: =ORARIO_GENERALE!C55 | K62: =IFERROR(RIGHT(ORARIO_GENERALE!K56,LEN(ORARIO_GENERALE!K56)-SEARCH(" ",ORARIO_GENERALE!K56)),"") | L62: =IFERROR(RIGHT(#REF!,LEN(#REF!)-SEARCH(" ",#REF!)),"") | M62: =IFERROR(RIGHT(#REF!,LEN(#REF!)-SEARCH(" ",#REF!)),"") | N62: =IFERROR(RIGHT(#REF!,LEN(#REF!)-SEARCH(" ",#REF!)),"") | O62: =IFERROR(RIGHT(#REF!,LEN(#REF!)-SEARCH(" ",#REF!)),"") | P62: =IFERROR(RIGHT(#REF!,LEN(#REF!)-SEARCH(" ",#REF!)),"") | Q62: =IFERROR(RIGHT(#REF!,LEN(#REF!)-SEARCH(" ",#REF!)),"") | R62: =IFERROR(RIGHT(ORARIO_GENERALE!N56,LEN(ORARIO_GENERALE!N56)-SEARCH(" ",ORARIO_GENERALE!N56)),"")
C63: =ORARIO_GENERALE!C56 | K63: =IFERROR(RIGHT(ORARIO_GENERALE!K57,LEN(ORARIO_GENERALE!K57)-SEARCH(" ",ORARIO_GENERALE!K57)),"") | L63: =IFERROR(RIGHT(#REF!,LEN(#REF!)-SEARCH(" ",#REF!)),"") | M63: =IFERROR(RIGHT(#REF!,LEN(#REF!)-SEARCH(" ",#REF!)),"") | N63: =IFERROR(RIGHT(#REF!,LEN(#REF!)-SEARCH(" ",#REF!)),"") | O63: =IFERROR(RIGHT(#REF!,LEN(#REF!)-SEARCH(" ",#REF!)),"") | P63: =IFERROR(RIGHT(#REF!,LEN(#REF!)-SEARCH(" ",#REF!)),"") | Q63: =IFERROR(RIGHT(#REF!,LEN(#REF!)-SEARCH(" ",#REF!)),"") | R63: =IFERROR(RIGHT(ORARIO_GENERALE!N57,LEN(ORARIO_GENERALE!N57)-SEARCH(" ",ORARIO_GENERALE!N57)),"")
K64: =IFERROR(RIGHT(ORARIO_GENERALE!K58,LEN(ORARIO_GENERALE!K58)-SEARCH(" ",ORARIO_GENERALE!K58)),"") | L64: =IFERROR(RIGHT(#REF!,LEN(#REF!)-SEARCH(" ",#REF!)),"") | M64: =IFERROR(RIGHT(#REF!,LEN(#REF!)-SEARCH(" ",#REF!)),"") | N64: =IFERROR(RIGHT(#REF!,LEN(#REF!)-SEARCH(" ",#REF!)),"") | O64: =IFERROR(RIGHT(#REF!,LEN(#REF!)-SEARCH(" ",#REF!)),"") | P64: =IFERROR(RIGHT(#REF!,LEN(#REF!)-SEARCH(" ",#REF!)),"") | Q64: =IFERROR(RIGHT(#REF!,LEN(#REF!)-SEARCH(" ",#REF!)),"") | R64: =IFERROR(RIGHT(ORARIO_GENERALE!N58,LEN(ORARIO_GENERALE!N58)-SEARCH(" ",ORARIO_GENERALE!N58)),"")
K65: =IFERROR(RIGHT(#REF!,LEN(#REF!)-SEARCH(" ",#REF!)),"") | L65: =IFERROR(RIGHT(#REF!,LEN(#REF!)-SEARCH(" ",#REF!)),"") | M65: =IFERROR(RIGHT(#REF!,LEN(#REF!)-SEARCH(" ",#REF!)),"") | N65: =IFERROR(RIGHT(#REF!,LEN(#REF!)-SEARCH(" ",#REF!)),"") | O65: =IFERROR(RIGHT(#REF!,LEN(#REF!)-SEARCH(" ",#REF!)),"") | P65: =IFERROR(RIGHT(#REF!,LEN(#REF!)-SEARCH(" ",#REF!)),"") | Q65: =IFERROR(RIGHT(#REF!,LEN(#REF!)-SEARCH(" ",#REF!)),"") | R65: =IFERROR(RIGHT(#REF!,LEN(#REF!)-SEARCH(" ",#REF!)),"")
K66: =IFERROR(RIGHT(#REF!,LEN(#REF!)-SEARCH(" ",#REF!)),"") | L66: =IFERROR(RIGHT(#REF!,LEN(#REF!)-SEARCH(" ",#REF!)),"") | M66: =IFERROR(RIGHT(#REF!,LEN(#REF!)-SEARCH(" ",#REF!)),"") | N66: =IFERROR(RIGHT(#REF!,LEN(#REF!)-SEARCH(" ",#REF!)),"") | O66: =IFERROR(RIGHT(#REF!,LEN(#REF!)-SEARCH(" ",#REF!)),"") | P66: =IFERROR(RIGHT(#REF!,LEN(#REF!)-SEARCH(" ",#REF!)),"") | Q66: =IFERROR(RIGHT(#REF!,LEN(#REF!)-SEARCH(" ",#REF!)),"") | R66: =IFERROR(RIGHT(#REF!,LEN(#REF!)-SEARCH(" ",#REF!)),"")
K67: =IFERROR(RIGHT(#REF!,LEN(#REF!)-SEARCH(" ",#REF!)),"") | L67: =IFERROR(RIGHT(#REF!,LEN(#REF!)-SEARCH(" ",#REF!)),"") | M67: =IFERROR(RIGHT(#REF!,LEN(#REF!)-SEARCH(" ",#REF!)),"") | N67: =IFERROR(RIGHT(#REF!,LEN(#REF!)-SEARCH(" ",#REF!)),"") | O67: =IFERROR(RIGHT(#REF!,LEN(#REF!)-SEARCH(" ",#REF!)),"") | P67: =IFERROR(RIGHT(#REF!,LEN(#REF!)-SEARCH(" ",#REF!)),"") | Q67: =IFERROR(RIGHT(#REF!,LEN(#REF!)-SEARCH(" ",#REF!)),"") | R67: =IFERROR(RIGHT(#REF!,LEN(#REF!)-SEARCH(" ",#REF!)),"")

Sheet CORSI
B3: RPPA | H3: RPPB | N3: RA2A
C4: LUN | D4: MAR | E4: MER | F4: GIO | I4: LUN | J4: MAR | K4: MER | L4: GIO | O4: LUN | P4: MAR | Q4: MER | R4: GIO | S4: VEN
B5: =ORARIO_GENERALE!C4 -> 09:00-10:00 | C5: {=IFERROR(INDEX(ORARIO_GENERALE!$D$3:$I$3,MATCH("*"&$B$3&"*",ORARIO_GENERALE!D4:M4,0)),"")} | D5: {=IFERROR(INDEX(ORARIO_GENERALE!$D$3:$I$3,MATCH("*"&$B$3&"*",#REF!,0)),"")} | E5: {=IFERROR(INDEX(ORARIO_GENERALE!$D$3:$I$3,MATCH("*"&$B$3&"*",#REF!,0)),"")} | F5: {=IFERROR(INDEX(ORARIO_GENERALE!$D$3:$I$3,MATCH("*"&$B$3&"*",#REF!,0)),"")} | H5: =ORARIO_GENERALE!C4 -> 09:00-10:00 | I5: {=IFERROR(INDEX(ORARIO_GENERALE!$D$3:$I$3,MATCH("*"&$H$3&"*",ORARIO_GENERALE!D4:M4,0)),"")} | J5: {=IFERROR(INDEX(ORARIO_GENERALE!$D$3:$I$3,MATCH("*"&$H$3&"*",#REF!,0)),"")} | K5: {=IFERROR(INDEX(ORARIO_GENERALE!$D$3:$I$3,MATCH("*"&$H$3&"*",#REF!,0)),"")} | L5: {=IFERROR(INDEX(ORARIO_GENERALE!$D$3:$I$3,MATCH("*"&$H$3&"*",#REF!,0)),"")} | N5: =ORARIO_GENERALE!J4 | O5: {=IFERROR(INDEX(ORARIO_GENERALE!$K$3:$M$3,MATCH("*"&$N$3&"*",#REF!,0)),"")} | P5: {=IFERROR(INDEX(ORARIO_GENERALE!$K$3:$M$3,MATCH("*"&$N$3&"*",ORARIO_GENERALE!K15:M15,0)),"")} | Q5: {=IFERROR(INDEX(ORARIO_GENERALE!$K$3:$M$3,MATCH("*"&$N$3&"*",#REF!,0)),"")} | R5: {=IFERROR(INDEX(ORARIO_GENERALE!$K$3:$M$3,MATCH("*"&$N$3&"*",ORARIO_GENERALE!N38:O38,0)),"")} | S5: {=IFERROR(INDEX(ORARIO_GENERALE!$K$3:$M$3,MATCH("*"&$N$3&"*",ORARIO_GENERALE!K48,0)),"")}
B6: =ORARIO_GENERALE!C5 -> 10:00-11:00 | C6: {=IFERROR(INDEX(ORARIO_GENERALE!$D$3:$I$3,MATCH("*"&$B$3&"*",ORARIO_GENERALE!D5:M5,0)),"")} | D6: {=IFERROR(INDEX(ORARIO_GENERALE!$D$3:$I$3,MATCH("*"&$B$3&"*",ORARIO_GENERALE!D15:K15,0)),"")} | E6: {=IFERROR(INDEX(ORARIO_GENERALE!$D$3:$I$3,MATCH("*"&$B$3&"*",#REF!,0)),"")} | F6: {=IFERROR(INDEX(ORARIO_GENERALE!$D$3:$I$3,MATCH("*"&$B$3&"*",#REF!,0)),"")} | H6: =ORARIO_GENERALE!C5 -> 10:00-11:00 | I6: {=IFERROR(INDEX(ORARIO_GENERALE!$D$3:$I$3,MATCH("*"&$H$3&"*",ORARIO_GENERALE!D5:M5,0)),"")} | J6: {=IFERROR(INDEX(ORARIO_GENERALE!$D$3:$I$3,MATCH("*"&$H$3&"*",ORARIO_GENERALE!D15:K15,0)),"")} | K6: {=IFERROR(INDEX(ORARIO_GENERALE!$D$3:$I$3,MATCH("*"&$H$3&"*",#REF!,0)),"")} | L6: {=IFERROR(INDEX(ORARIO_GENERALE!$D$3:$I$3,MATCH("*"&$H$3&"*",#REF!,0)),"")} | N6: =ORARIO_GENERALE!J5 | O6: {=IFERROR(INDEX(ORARIO_GENERALE!$K$3:$M$3,MATCH("*"&$N$3&"*",#REF!,0)),"")} | P6: {=IFERROR(INDEX(ORARIO_GENERALE!$K$3:$M$3,MATCH("*"&$N$3&"*",ORARIO_GENERALE!K16:M16,0)),"")} | Q6: {=IFERROR(INDEX(ORARIO_GENERALE!$K$3:$M$3,MATCH("*"&$N$3&"*",#REF!,0)),"")} | R6: {=IFERROR(INDEX(ORARIO_GENERALE!$K$3:$M$3,MATCH("*"&$N$3&"*",ORARIO_GENERALE!N39:O39,0)),"")} | S6: {=IFERROR(INDEX(ORARIO_GENERALE!$K$3:$M$3,MATCH("*"&$N$3&"*",ORARIO_GENERALE!K49,0)),"")}
B7: =ORARIO_GENERALE!C6 -> 11:00-12:00 | C7: {=IFERROR(INDEX(ORARIO_GENERALE!$D$3:$I$3,MATCH("*"&$B$3&"*",ORARIO_GENERALE!D6:M6,0)),"")} | D7: {=IFERROR(INDEX(ORARIO_GENERALE!$D$3:$I$3,MATCH("*"&$B$3&"*",ORARIO_GENERALE!D16:K16,0)),"")} | E7: {=IFERROR(INDEX(ORARIO_GENERALE!$D$3:$I$3,MATCH("*"&$B$3&"*",ORARIO_GENERALE!E26:I26,0)),"")} | F7: {=IFERROR(INDEX(ORARIO_GENERALE!$D$3:$I$3,MATCH("*"&$B$3&"*",#REF!,0)),"")} | H7: =ORARIO_GENERALE!C6 -> 11:00-12:00 | I7: {=IFERROR(INDEX(ORARIO_GENERALE!$D$3:$I$3,MATCH("*"&$H$3&"*",ORARIO_GENERALE!D6:M6,0)),"")} | J7: {=IFERROR(INDEX(ORARIO_GENERALE!$D$3:$I$3,MATCH("*"&$H$3&"*",ORARIO_GENERALE!D16:K16,0)),"")} | K7: {=IFERROR(INDEX(ORARIO_GENERALE!$D$3:$I$3,MATCH("*"&$H$3&"*",ORARIO_GENERALE!E26:I26,0)),"")} | L7: {=IFERROR(INDEX(ORARIO_GENERALE!$D$3:$I$3,MATCH("*"&$H$3&"*",#REF!,0)),"")} | N7: =ORARIO_GENERALE!J6 | O7: {=IFERROR(INDEX(ORARIO_GENERALE!$K$3:$M$3,MATCH("*"&$N$3&"*",#REF!,0)),"")} | P7: {=IFERROR(INDEX(ORARIO_GENERALE!$K$3:$M$3,MATCH("*"&$N$3&"*",ORARIO_GENERALE!K17:M17,0)),"")} | Q7: {=IFERROR(INDEX(ORARIO_GENERALE!$K$3:$M$3,MATCH("*"&$N$3&"*",#REF!,0)),"")} | R7: {=IFERROR(INDEX(ORARIO_GENERALE!$K$3:$M$3,MATCH("*"&$N$3&"*",ORARIO_GENERALE!K41:M41,0)),"")} | S7: {=IFERROR(INDEX(ORARIO_GENERALE!$K$3:$M$3,MATCH("*"&$N$3&"*",ORARIO_GENERALE!K50:M50,0)),"")}
B8: =ORARIO_GENERALE!C7 -> 12:00-13:00 | C8: {=IFERROR(INDEX(ORARIO_GENERALE!$D$3:$I$3,MATCH("*"&$B$3&"*",ORARIO_GENERALE!D7:I7,0)),"")} | D8: {=IFERROR(INDEX(ORARIO_GENERALE!$D$3:$I$3,MATCH("*"&$B$3&"*",ORARIO_GENERALE!D17:K17,0)),"")} | E8: {=IFERROR(INDEX(ORARIO_GENERALE!$D$3:$I$3,MATCH("*"&$B$3&"*",ORARIO_GENERALE!E27:I27,0)),"")} | F8: {=IFERROR(INDEX(ORARIO_GENERALE!$D$3:$I$3,MATCH("*"&$B$3&"*",ORARIO_GENERALE!D37:I37,0)),"")} | H8: =ORARIO_GENERALE!C7 -> 12:00-13:00 | I8: {=IFERROR(INDEX(ORARIO_GENERALE!$D$3:$I$3,MATCH("*"&$H$3&"*",ORARIO_GENERALE!D7:I7,0)),"")} | J8: {=IFERROR(INDEX(ORARIO_GENERALE!$D$3:$I$3,MATCH("*"&$H$3&"*",ORARIO_GENERALE!D17:K17,0)),"")} | K8: {=IFERROR(INDEX(ORARIO_GENERALE!$D$3:$I$3,MATCH("*"&$H$3&"*",ORARIO_GENERALE!E27:I27,0)),"")} | L8: {=IFERROR(INDEX(ORARIO_GENERALE!$D$3:$I$3,MATCH("*"&$H$3&"*",ORARIO_GENERALE!D37:I37,0)),"")} | N8: =ORARIO_GENERALE!J7 | O8: {=IFERROR(INDEX(ORARIO_GENERALE!$K$3:$M$3,MATCH("*"&$N$3&"*",ORARIO_GENERALE!K7:M7,0)),"")} | P8: {=IFERROR(INDEX(ORARIO_GENERALE!$K$3:$M$3,MATCH("*"&$N$3&"*",ORARIO_GENERALE!K18:M18,0)),"")} | Q8: {=IFERROR(INDEX(ORARIO_GENERALE!$K$3:$M$3,MATCH("*"&$N$3&"*",#REF!,0)),"")} | R8: {=IFERROR(INDEX(ORARIO_GENERALE!$K$3:$M$3,MATCH("*"&$N$3&"*",ORARIO_GENERALE!K42:M42,0)),"")} | S8: {=IFERROR(INDEX(ORARIO_GENERALE!$K$3:$M$3,MATCH("*"&$N$3&"*",ORARIO_GENERALE!K51:M51,0)),"")}
B9: =ORARIO_GENERALE!C8 -> 13:00-14:00 | C9: {=IFERROR(INDEX(ORARIO_GENERALE!$D$3:$I$3,MATCH("*"&$B$3&"*",ORARIO_GENERALE!D8:I8,0)),"")} | D9: {=IFERROR(INDEX(ORARIO_GENERALE!$D$3:$I$3,MATCH("*"&$B$3&"*",ORARIO_GENERALE!D18:I18,0)),"")} | E9: {=IFERROR(INDEX(ORARIO_GENERALE!$D$3:$I$3,MATCH("*"&$B$3&"*",ORARIO_GENERALE!D28:I28,0)),"")} | F9: {=IFERROR(INDEX(ORARIO_GENERALE!$D$3:$I$3,MATCH("*"&$B$3&"*",ORARIO_GENERALE!D38:I38,0)),"")} | H9: =ORARIO_GENERALE!C8 -> 13:00-14:00 | I9: {=IFERROR(INDEX(ORARIO_GENERALE!$D$3:$I$3,MATCH("*"&$H$3&"*",ORARIO_GENERALE!D8:I8,0)),"")} | J9: {=IFERROR(INDEX(ORARIO_GENERALE!$D$3:$I$3,MATCH("*"&$H$3&"*",ORARIO_GENERALE!D18:I18,0)),"")} | K9: {=IFERROR(INDEX(ORARIO_GENERALE!$D$3:$I$3,MATCH("*"&$H$3&"*",ORARIO_GENERALE!D28:I28,0)),"")} | L9: {=IFERROR(INDEX(ORARIO_GENERALE!$D$3:$I$3,MATCH("*"&$H$3&"*",ORARIO_GENERALE!D38:I38,0)),"")} | N9: =ORARIO_GENERALE!J8 | O9: {=IFERROR(INDEX(ORARIO_GENERALE!$K$3:$M$3,MATCH("*"&$N$3&"*",ORARIO_GENERALE!K8:M8,0)),"")} | P9: {=IFERROR(INDEX(ORARIO_GENERALE!$K$3:$M$3,MATCH("*"&$N$3&"*",ORARIO_GENERALE!K19:M19,0)),"")} | Q9: {=IFERROR(INDEX(ORARIO_GENERALE!$K$3:$M$3,MATCH("*"&$N$3&"*",#REF!,0)),"")} | R9: {=IFERROR(INDEX(ORARIO_GENERALE!$K$3:$M$3,MATCH("*"&$N$3&"*",#REF!,0)),"")} | S9: {=IFERROR(INDEX(ORARIO_GENERALE!$K$3:$M$3,MATCH("*"&$N$3&"*",#REF!,0)),"")}
B10: =ORARIO_GENERALE!C9 -> 14:00-15:00 | C10: {=IFERROR(INDEX(ORARIO_GENERALE!$D$3:$I$3,MATCH("*"&$B$3&"*",ORARIO_GENERALE!D9:I9,0)),"")} | D10: {=IFERROR(INDEX(ORARIO_GENERALE!$D$3:$I$3,MATCH("*"&$B$3&"*",ORARIO_GENERALE!D19:I19,0)),"")} | E10: {=IFERROR(INDEX(ORARIO_GENERALE!$D$3:$I$3,MATCH("*"&$B$3&"*",ORARIO_GENERALE!D29:I29,0)),"")} | F10: {=IFERROR(INDEX(ORARIO_GENERALE!$D$3:$I$3,MATCH("*"&$B$3&"*",ORARIO_GENERALE!D39:I39,0)),"")} | H10: =ORARIO_GENERALE!C9 -> 14:00-15:00 | I10: {=IFERROR(INDEX(ORARIO_GENERALE!$D$3:$I$3,MATCH("*"&$H$3&"*",ORARIO_GENERALE!D9:I9,0)),"")} | J10: {=IFERROR(INDEX(ORARIO_GENERALE!$D$3:$I$3,MATCH("*"&$H$3&"*",ORARIO_GENERALE!D19:I19,0)),"")} | K10: {=IFERROR(INDEX(ORARIO_GENERALE!$D$3:$I$3,MATCH("*"&$H$3&"*",ORARIO_GENERALE!D29:I29,0)),"")} | L10: {=IFERROR(INDEX(ORARIO_GENERALE!$D$3:$I$3,MATCH("*"&$H$3&"*",ORARIO_GENERALE!D39:I39,0)),"")} | N10: =ORARIO_GENERALE!J9 | O10: {=IFERROR(INDEX(ORARIO_GENERALE!$K$3:$M$3,MATCH("*"&$N$3&"*",ORARIO_GENERALE!K9:M9,0)),"")} | P10: {=IFERROR(INDEX(ORARIO_GENERALE!$K$3:$M$3,MATCH("*"&$N$3&"*",ORARIO_GENERALE!K20:M20,0)),"")} | Q10: {=IFERROR(INDEX(ORARIO_GENERALE!$K$3:$M$3,MATCH("*"&$N$3&"*",ORARIO_GENERALE!K43:M43,0)),"")} | R10: {=IFERROR(INDEX(ORARIO_GENERALE!$K$3:$M$3,MATCH("*"&$N$3&"*",#REF!,0)),"")} | S10: {=IFERROR(INDEX(ORARIO_GENERALE!$K$3:$M$3,MATCH("*"&$N$3&"*",ORARIO_GENERALE!K54:M54,0)),"")}
B11: =ORARIO_GENERALE!C10 -> 15:00-16:00 | C11: {=IFERROR(INDEX(ORARIO_GENERALE!$D$3:$I$3,MATCH("*"&$B$3&"*",ORARIO_GENERALE!D10:I10,0)),"")} | D11: {=IFERROR(INDEX(ORARIO_GENERALE!$D$3:$I$3,MATCH("*"&$B$3&"*",ORARIO_GENERALE!D20:I20,0)),"")} | E11: {=IFERROR(INDEX(ORARIO_GENERALE!$D$3:$I$3,MATCH("*"&$B$3&"*",ORARIO_GENERALE!D30:I30,0)),"")} | F11: {=IFERROR(INDEX(ORARIO_GENERALE!$D$3:$I$3,MATCH("*"&$B$3&"*",ORARIO_GENERALE!D40:I40,0)),"")} | H11: =ORARIO_GENERALE!C10 -> 15:00-16:00 | I11: {=IFERROR(INDEX(ORARIO_GENERALE!$D$3:$I$3,MATCH("*"&$H$3&"*",ORARIO_GENERALE!D10:I10,0)),"")} | J11: {=IFERROR(INDEX(ORARIO_GENERALE!$D$3:$I$3,MATCH("*"&$H$3&"*",ORARIO_GENERALE!D20:I20,0)),"")} | K11: {=IFERROR(INDEX(ORARIO_GENERALE!$D$3:$I$3,MATCH("*"&$H$3&"*",ORARIO_GENERALE!D30:I30,0)),"")} | L11: {=IFERROR(INDEX(ORARIO_GENERALE!$D$3:$I$3,MATCH("*"&$H$3&"*",ORARIO_GENERALE!D40:I40,0)),"")} | N11: =ORARIO_GENERALE!J10 | O11: {=IFERROR(INDEX(ORARIO_GENERALE!$K$3:$M$3,MATCH("*"&$N$3&"*",ORARIO_GENERALE!K10:M10,0)),"")} | P11: {=IFERROR(INDEX(ORARIO_GENERALE!$K$3:$M$3,MATCH("*"&$N$3&"*",ORARIO_GENERALE!K21:M21,0)),"")} | Q11: {=IFERROR(INDEX(ORARIO_GENERALE!$K$3:$M$3,MATCH("*"&$N$3&"*",ORARIO_GENERALE!K44:M44,0)),"")} | R11: {=IFERROR(INDEX(ORARIO_GENERALE!$K$3:$M$3,MATCH("*"&$N$3&"*",#REF!,0)),"")} | S11: {=IFERROR(INDEX(ORARIO_GENERALE!$K$3:$M$3,MATCH("*"&$N$3&"*",ORARIO_GENERALE!K55:M55,0)),"")}
B12: =ORARIO_GENERALE!C11 -> 16:00-17:00 | C12: {=IFERROR(INDEX(ORARIO_GENERALE!$D$3:$I$3,MATCH("*"&$B$3&"*",ORARIO_GENERALE!D11:I11,0)),"")} | D12: {=IFERROR(INDEX(ORARIO_GENERALE!$D$3:$I$3,MATCH("*"&$B$3&"*",ORARIO_GENERALE!D21:I21,0)),"")} | E12: {=IFERROR(INDEX(ORARIO_GENERALE!$D$3:$I$3,MATCH("*"&$B$3&"*",ORARIO_GENERALE!D31:I31,0)),"")} | F12: {=IFERROR(INDEX(ORARIO_GENERALE!$D$3:$I$3,MATCH("*"&$B$3&"*",ORARIO_GENERALE!D41:I41,0)),"")} | H12: =ORARIO_GENERALE!C11 -> 16:00-17:00 | I12: {=IFERROR(INDEX(ORARIO_GENERALE!$D$3:$I$3,MATCH("*"&$H$3&"*",ORARIO_GENERALE!D11:I11,0)),"")} | J12: {=IFERROR(INDEX(ORARIO_GENERALE!$D$3:$I$3,MATCH("*"&$H$3&"*",ORARIO_GENERALE!D21:I21,0)),"")} | K12: {=IFERROR(INDEX(ORARIO_GENERALE!$D$3:$I$3,MATCH("*"&$H$3&"*",ORARIO_GENERALE!D31:I31,0)),"")} | L12: {=IFERROR(INDEX(ORARIO_GENERALE!$D$3:$I$3,MATCH("*"&$H$3&"*",ORARIO_GENERALE!D41:I41,0)),"")} | N12: =ORARIO_GENERALE!J11 | O12: {=IFERROR(INDEX(ORARIO_GENERALE!$K$3:$M$3,MATCH("*"&$N$3&"*",ORARIO_GENERALE!K11:M11,0)),"")} | P12: {=IFERROR(INDEX(ORARIO_GENERALE!$K$3:$M$3,MATCH("*"&$N$3&"*",ORARIO_GENERALE!K22:M22,0)),"")} | Q12: {=IFERROR(INDEX(ORARIO_GENERALE!$K$3:$M$3,MATCH("*"&$N$3&"*",ORARIO_GENERALE!K45:M45,0)),"")} | R12: {=IFERROR(INDEX(ORARIO_GENERALE!$K$3:$M$3,MATCH("*"&$N$3&"*",#REF!,0)),"")} | S12: {=IFERROR(INDEX(ORARIO_GENERALE!$K$3:$M$3,MATCH("*"&$N$3&"*",ORARIO_GENERALE!K56:M56,0)),"")}
B13: =ORARIO_GENERALE!C12 -> 17:00-18:00 | C13: {=IFERROR(INDEX(ORARIO_GENERALE!$D$3:$I$3,MATCH("*"&$B$3&"*",ORARIO_GENERALE!D12:I12,0)),"")} | D13: {=IFERROR(INDEX(ORARIO_GENERALE!$D$3:$I$3,MATCH("*"&$B$3&"*",ORARIO_GENERALE!D23:I23,0)),"")} | E13: {=IFERROR(INDEX(ORARIO_GENERALE!$D$3:$I$3,MATCH("*"&$B$3&"*",ORARIO_GENERALE!D34:I34,0)),"")} | F13: {=IFERROR(INDEX(ORARIO_GENERALE!$D$3:$I$3,MATCH("*"&$B$3&"*",ORARIO_GENERALE!D42:I42,0)),"")} | H13: =ORARIO_GENERALE!C12 -> 17:00-18:00 | I13: {=IFERROR(INDEX(ORARIO_GENERALE!$D$3:$I$3,MATCH("*"&$H$3&"*",ORARIO_GENERALE!D12:I12,0)),"")} | J13: {=IFERROR(INDEX(ORARIO_GENERALE!$D$3:$I$3,MATCH("*"&$H$3&"*",ORARIO_GENERALE!D23:I23,0)),"")} | K13: {=IFERROR(INDEX(ORARIO_GENERALE!$D$3:$I$3,MATCH("*"&$H$3&"*",ORARIO_GENERALE!D34:I34,0)),"")} | L13: {=IFERROR(INDEX(ORARIO_GENERALE!$D$3:$I$3,MATCH("*"&$H$3&"*",ORARIO_GENERALE!D42:I42,0)),"")} | N13: =ORARIO_GENERALE!J12 | O13: {=IFERROR(INDEX(ORARIO_GENERALE!$K$3:$M$3,MATCH("*"&$N$3&"*",ORARIO_GENERALE!K12,0)),"")} | P13: {=IFERROR(INDEX(ORARIO_GENERALE!$K$3:$M$3,MATCH("*"&$N$3&"*",ORARIO_GENERALE!K23:M23,0)),"")} | Q13: {=IFERROR(INDEX(ORARIO_GENERALE!$K$3:$M$3,MATCH("*"&$N$3&"*",#REF!,0)),"")} | R13: {=IFERROR(INDEX(ORARIO_GENERALE!$K$3:$M$3,MATCH("*"&$N$3&"*",#REF!,0)),"")} | S13: {=IFERROR(INDEX(ORARIO_GENERALE!$K$3:$M$3,MATCH("*"&$N$3&"*",ORARIO_GENERALE!K57:M57,0)),"")}
B14: =ORARIO_GENERALE!C13 -> 18:00-19:00 | C14: {=IFERROR(INDEX(ORARIO_GENERALE!$D$3:$I$3,MATCH("*"&$B$3&"*",ORARIO_GENERALE!D13:I13,0)),"")} | D14: {=IFERROR(INDEX(ORARIO_GENERALE!$D$3:$I$3,MATCH("*"&$B$3&"*",ORARIO_GENERALE!D24:I24,0)),"")} | E14: {=IFERROR(INDEX(ORARIO_GENERALE!$D$3:$I$3,MATCH("*"&$B$3&"*",ORARIO_GENERALE!D35:I35,0)),"")} | F14: {=IFERROR(INDEX(ORARIO_GENERALE!$D$3:$I$3,MATCH("*"&$B$3&"*",ORARIO_GENERALE!D43:I43,0)),"")} | H14: =ORARIO_GENERALE!C13 -> 18:00-19:00 | I14: {=IFERROR(INDEX(ORARIO_GENERALE!$D$3:$I$3,MATCH("*"&$H$3&"*",ORARIO_GENERALE!D13:I13,0)),"")} | J14: {=IFERROR(INDEX(ORARIO_GENERALE!$D$3:$I$3,MATCH("*"&$H$3&"*",ORARIO_GENERALE!D24:I24,0)),"")} | K14: {=IFERROR(INDEX(ORARIO_GENERALE!$D$3:$I$3,MATCH("*"&$H$3&"*",ORARIO_GENERALE!D35:I35,0)),"")} | L14: {=IFERROR(INDEX(ORARIO_GENERALE!$D$3:$I$3,MATCH("*"&$H$3&"*",ORARIO_GENERALE!D43:I43,0)),"")} | N14: =ORARIO_GENERALE!J13 | O14: {=IFERROR(INDEX(ORARIO_GENERALE!$K$3:$M$3,MATCH("*"&$N$3&"*",ORARIO_GENERALE!K13,0)),"")} | P14: {=IFERROR(INDEX(ORARIO_GENERALE!$K$3:$M$3,MATCH("*"&$N$3&"*",ORARIO_GENERALE!K24:M24,0)),"")} | Q14: {=IFERROR(INDEX(ORARIO_GENERALE!$K$3:$M$3,MATCH("*"&$N$3&"*",#REF!,0)),"")} | R14: {=IFERROR(INDEX(ORARIO_GENERALE!$K$3:$M$3,MATCH("*"&$N$3&"*",#REF!,0)),"")} | S14: {=IFERROR(INDEX(ORARIO_GENERALE!$K$3:$M$3,MATCH("*"&$N$3&"*",ORARIO_GENERALE!K58:M58,0)),"")}
B15: =ORARIO_GENERALE!C14 -> 19:00-20:00 | C15: {=IFERROR(INDEX(ORARIO_GENERALE!$D$3:$I$3,MATCH("*"&$B$3&"*",ORARIO_GENERALE!D14:I14,0)),"")} | D15: {=IFERROR(INDEX(ORARIO_GENERALE!$D$3:$I$3,MATCH("*"&$B$3&"*",ORARIO_GENERALE!D25:I25,0)),"")} | E15: {=IFERROR(INDEX(ORARIO_GENERALE!$D$3:$I$3,MATCH("*"&$B$3&"*",ORARIO_GENERALE!D36:I36,0)),"")} | F15: {=IFERROR(INDEX(ORARIO_GENERALE!$D$3:$I$3,MATCH("*"&$B$3&"*",ORARIO_GENERALE!D47:I47,0)),"")} | H15: =ORARIO_GENERALE!C14 -> 19:00-20:00 | I15: {=IFERROR(INDEX(ORARIO_GENERALE!$D$3:$I$3,MATCH("*"&$H$3&"*",ORARIO_GENERALE!D14:I14,0)),"")} | J15: {=IFERROR(INDEX(ORARIO_GENERALE!$D$3:$I$3,MATCH("*"&$H$3&"*",ORARIO_GENERALE!D25:I25,0)),"")} | K15: {=IFERROR(INDEX(ORARIO_GENERALE!$D$3:$I$3,MATCH("*"&$H$3&"*",ORARIO_GENERALE!D36:I36,0)),"")} | L15: {=IFERROR(INDEX(ORARIO_GENERALE!$D$3:$I$3,MATCH("*"&$H$3&"*",ORARIO_GENERALE!D47:I47,0)),"")} | N15: =ORARIO_GENERALE!J14 | O15: {=IFERROR(INDEX(ORARIO_GENERALE!$K$3:$M$3,MATCH("*"&$N$3&"*",ORARIO_GENERALE!K14,0)),"")} | P15: {=IFERROR(INDEX(ORARIO_GENERALE!$K$3:$M$3,MATCH("*"&$N$3&"*",ORARIO_GENERALE!K27:M27,0)),"")} | Q15: {=IFERROR(INDEX(ORARIO_GENERALE!$K$3:$M$3,MATCH("*"&$N$3&"*",#REF!,0)),"")} | R15: {=IFERROR(INDEX(ORARIO_GENERALE!$K$3:$M$3,MATCH("*"&$N$3&"*",#REF!,0)),"")} | S15: {=IFERROR(INDEX(ORARIO_GENERALE!$K$3:$M$3,MATCH("*"&$N$3&"*",#REF!,0)),"")}
B16: =#REF! -> #REF! | C16: {=IFERROR(INDEX(ORARIO_GENERALE!$D$3:$I$3,MATCH("*"&$B$3&"*",#REF!,0)),"")} | D16: {=IFERROR(INDEX(ORARIO_GENERALE!$D$3:$I$3,MATCH("*"&$B$3&"*",#REF!,0)),"")} | E16: {=IFERROR(INDEX(ORARIO_GENERALE!$D$3:$I$3,MATCH("*"&$B$3&"*",#REF!,0)),"")} | F16: {=IFERROR(INDEX(ORARIO_GENERALE!$D$3:$I$3,MATCH("*"&$B$3&"*",#REF!,0)),"")} | H16: =#REF! -> #REF! | I16: {=IFERROR(INDEX(ORARIO_GENERALE!$D$3:$I$3,MATCH("*"&$H$3&"*",#REF!,0)),"")} | J16: {=IFERROR(INDEX(ORARIO_GENERALE!$D$3:$I$3,MATCH("*"&$H$3&"*",#REF!,0)),"")} | K16: {=IFERROR(INDEX(ORARIO_GENERALE!$D$3:$I$3,MATCH("*"&$H$3&"*",#REF!,0)),"")} | L16: {=IFERROR(INDEX(ORARIO_GENERALE!$D$3:$I$3,MATCH("*"&$H$3&"*",#REF!,0)),"")} | N16: =#REF! -> #REF! | O16: {=IFERROR(INDEX(ORARIO_GENERALE!$K$3:$M$3,MATCH("*"&$N$3&"*",#REF!,0)),"")} | P16: {=IFERROR(INDEX(ORARIO_GENERALE!$K$3:$M$3,MATCH("*"&$N$3&"*",#REF!,0)),"")} | Q16: {=IFERROR(INDEX(ORARIO_GENERALE!$K$3:$M$3,MATCH("*"&$N$3&"*",#REF!,0)),"")} | R16: {=IFERROR(INDEX(ORARIO_GENERALE!$K$3:$M$3,MATCH("*"&$N$3&"*",#REF!,0)),"")} | S16: {=IFERROR(INDEX(ORARIO_GENERALE!$K$3:$M$3,MATCH("*"&$N$3&"*",#REF!,0)),"")}
B19: RPPC | H19: RPPD | N19: RA2B
C20: LUN | D20: MAR | E20: MER | F20: GIO | I20: LUN | J20: MAR | K20: MER | L20: GIO | O20: LUN | P20: MAR | Q20: MER | R20: GIO | S20: VEN
B21: =ORARIO_GENERALE!C4 -> 09:00-10:00 | C21: {=IFERROR(INDEX(ORARIO_GENERALE!$D$3:$I$3,MATCH("*"&$B$19&"*",ORARIO_GENERALE!D4:M4,0)),"")} | D21: {=IFERROR(INDEX(ORARIO_GENERALE!$D$3:$I$3,MATCH("*"&$B$19&"*",#REF!,0)),"")} | E21: {=IFERROR(INDEX(ORARIO_GENERALE!$D$3:$I$3,MATCH("*"&$B$19&"*",#REF!,0)),"")} | F21: {=IFERROR(INDEX(ORARIO_GENERALE!$D$3:$I$3,MATCH("*"&$B$19&"*",#REF!,0)),"")} | H21: =ORARIO_GENERALE!C4 -> 09:00-10:00 | I21: {=IFERROR(INDEX(ORARIO_GENERALE!$D$3:$I$3,MATCH("*"&$H$19&"*",ORARIO_GENERALE!D4:M4,0)),"")} | J21: {=IFERROR(INDEX(ORARIO_GENERALE!$D$3:$I$3,MATCH("*"&$H$19&"*",#REF!,0)),"")} | K21: {=IFERROR(INDEX(ORARIO_GENERALE!$D$3:$I$3,MATCH("*"&$H$19&"*",#REF!,0)),"")} | L21: {=IFERROR(INDEX(ORARIO_GENERALE!$D$3:$I$3,MATCH("*"&$H$19&"*",#REF!,0)),"")} | N21: =ORARIO_GENERALE!J4 | O21: {=IFERROR(INDEX(ORARIO_GENERALE!$K$3:$M$3,MATCH("*"&$N$19&"*",#REF!,0)),"")} | P21: {=IFERROR(INDEX(ORARIO_GENERALE!$K$3:$M$3,MATCH("*"&$N$19&"*",ORARIO_GENERALE!K15:M15,0)),"")} | Q21: {=IFERROR(INDEX(ORARIO_GENERALE!$K$3:$M$3,MATCH("*"&$N$19&"*",#REF!,0)),"")} | R21: {=IFERROR(INDEX(ORARIO_GENERALE!$K$3:$M$3,MATCH("*"&$N$19&"*",ORARIO_GENERALE!N38:O38,0)),"")} | S21: {=IFERROR(INDEX(ORARIO_GENERALE!$K$3:$M$3,MATCH("*"&$N$19&"*",ORARIO_GENERALE!K48,0)),"")}
B22: =ORARIO_GENERALE!C5 -> 10:00-11:00 | C22: {=IFERROR(INDEX(ORARIO_GENERALE!$D$3:$I$3,MATCH("*"&$B$19&"*",ORARIO_GENERALE!D5:M5,0)),"")} | D22: {=IFERROR(INDEX(ORARIO_GENERALE!$D$3:$I$3,MATCH("*"&$B$19&"*",ORARIO_GENERALE!D15:K15,0)),"")} | E22: {=IFERROR(INDEX(ORARIO_GENERALE!$D$3:$I$3,MATCH("*"&$B$19&"*",#REF!,0)),"")} | F22: {=IFERROR(INDEX(ORARIO_GENERALE!$D$3:$I$3,MATCH("*"&$B$19&"*",#REF!,0)),"")} | H22: =ORARIO_GENERALE!C5 -> 10:00-11:00 | I22: {=IFERROR(INDEX(ORARIO_GENERALE!$D$3:$I$3,MATCH("*"&$H$19&"*",ORARIO_GENERALE!D5:M5,0)),"")} | J22: {=IFERROR(INDEX(ORARIO_GENERALE!$D$3:$I$3,MATCH("*"&$H$19&"*",ORARIO_GENERALE!D15:K15,0)),"")} | K22: {=IFERROR(INDEX(ORARIO_GENERALE!$D$3:$I$3,MATCH("*"&$H$19&"*",#REF!,0)),"")} | L22: {=IFERROR(INDEX(ORARIO_GENERALE!$D$3:$I$3,MATCH("*"&$H$19&"*",#REF!,0)),"")} | N22: =ORARIO_GENERALE!J5 | O22: {=IFERROR(INDEX(ORARIO_GENERALE!$K$3:$M$3,MATCH("*"&$N$19&"*",#REF!,0)),"")} | P22: {=IFERROR(INDEX(ORARIO_GENERALE!$K$3:$M$3,MATCH("*"&$N$19&"*",ORARIO_GENERALE!K16:M16,0)),"")} | Q22: {=IFERROR(INDEX(ORARIO_GENERALE!$K$3:$M$3,MATCH("*"&$N$19&"*",#REF!,0)),"")} | R22: {=IFERROR(INDEX(ORARIO_GENERALE!$K$3:$M$3,MATCH("*"&$N$19&"*",ORARIO_GENERALE!N39:O39,0)),"")} | S22: {=IFERROR(INDEX(ORARIO_GENERALE!$K$3:$M$3,MATCH("*"&$N$19&"*",ORARIO_GENERALE!K49,0)),"")}
B23: =ORARIO_GENERALE!C6 -> 11:00-12:00 | C23: {=IFERROR(INDEX(ORARIO_GENERALE!$D$3:$I$3,MATCH("*"&$B$19&"*",ORARIO_GENERALE!D6:M6,0)),"")} | D23: {=IFERROR(INDEX(ORARIO_GENERALE!$D$3:$I$3,MATCH("*"&$B$19&"*",ORARIO_GENERALE!D16:K16,0)),"")} | E23: {=IFERROR(INDEX(ORARIO_GENERALE!$D$3:$I$3,MATCH("*"&$B$19&"*",ORARIO_GENERALE!E26:I26,0)),"")} | F23: {=IFERROR(INDEX(ORARIO_GENERALE!$D$3:$I$3,MATCH("*"&$B$19&"*",#REF!,0)),"")} | H23: =ORARIO_GENERALE!C6 -> 11:00-12:00 | I23: {=IFERROR(INDEX(ORARIO_GENERALE!$D$3:$I$3,MATCH("*"&$H$19&"*",ORARIO_GENERALE!D6:M6,0)),"")} | J23: {=IFERROR(INDEX(ORARIO_GENERALE!$D$3:$I$3,MATCH("*"&$H$19&"*",ORARIO_GENERALE!D16:K16,0)),"")} | K23: {=IFERROR(INDEX(ORARIO_GENERALE!$D$3:$I$3,MATCH("*"&$H$19&"*",ORARIO_GENERALE!E26:I26,0)),"")} | L23: {=IFERROR(INDEX(ORARIO_GENERALE!$D$3:$I$3,MATCH("*"&$H$19&"*",#REF!,0)),"")} | N23: =ORARIO_GENERALE!J6 | O23: {=IFERROR(INDEX(ORARIO_GENERALE!$K$3:$M$3,MATCH("*"&$N$19&"*",#REF!,0)),"")} | P23: {=IFERROR(INDEX(ORARIO_GENERALE!$K$3:$M$3,MATCH("*"&$N$19&"*",ORARIO_GENERALE!K17:M17,0)),"")} | Q23: {=IFERROR(INDEX(ORARIO_GENERALE!$K$3:$M$3,MATCH("*"&$N$19&"*",#REF!,0)),"")} | R23: {=IFERROR(INDEX(ORARIO_GENERALE!$K$3:$M$3,MATCH("*"&$N$19&"*",ORARIO_GENERALE!K41:M41,0)),"")} | S23: {=IFERROR(INDEX(ORARIO_GENERALE!$K$3:$M$3,MATCH("*"&$N$19&"*",ORARIO_GENERALE!K50:M50,0)),"")}
B24: =ORARIO_GENERALE!C7 -> 12:00-13:00 | C24: {=IFERROR(INDEX(ORARIO_GENERALE!$D$3:$I$3,MATCH("*"&$B$19&"*",ORARIO_GENERALE!D7:I7,0)),"")} | D24: {=IFERROR(INDEX(ORARIO_GENERALE!$D$3:$I$3,MATCH("*"&$B$19&"*",ORARIO_GENERALE!D17:K17,0)),"")} | E24: {=IFERROR(INDEX(ORARIO_GENERALE!$D$3:$I$3,MATCH("*"&$B$19&"*",ORARIO_GENERALE!E27:I27,0)),"")} | F24: {=IFERROR(INDEX(ORARIO_GENERALE!$D$3:$I$3,MATCH("*"&$B$19&"*",ORARIO_GENERALE!D37:I37,0)),"")} | H24: =ORARIO_GENERALE!C7 -> 12:00-13:00 | I24: {=IFERROR(INDEX(ORARIO_GENERALE!$D$3:$I$3,MATCH("*"&$H$19&"*",ORARIO_GENERALE!D7:I7,0)),"")} | J24: {=IFERROR(INDEX(ORARIO_GENERALE!$D$3:$I$3,MATCH("*"&$H$19&"*",ORARIO_GENERALE!D17:K17,0)),"")} | K24: {=IFERROR(INDEX(ORARIO_GENERALE!$D$3:$I$3,MATCH("*"&$H$19&"*",ORARIO_GENERALE!E27:I27,0)),"")} | L24: {=IFERROR(INDEX(ORARIO_GENERALE!$D$3:$I$3,MATCH("*"&$H$19&"*",ORARIO_GENERALE!D37:I37,0)),"")} | N24: =ORARIO_GENERALE!J7 | O24: {=IFERROR(INDEX(ORARIO_GENERALE!$K$3:$M$3,MATCH("*"&$N$19&"*",ORARIO_GENERALE!K7:M7,0)),"")} | P24: {=IFERROR(INDEX(ORARIO_GENERALE!$K$3:$M$3,MATCH("*"&$N$19&"*",ORARIO_GENERALE!K18:M18,0)),"")} | Q24: {=IFERROR(INDEX(ORARIO_GENERALE!$K$3:$M$3,MATCH("*"&$N$19&"*",#REF!,0)),"")} | R24: {=IFERROR(INDEX(ORARIO_GENERALE!$K$3:$M$3,MATCH("*"&$N$19&"*",ORARIO_GENERALE!K42:M42,0)),"")} | S24: {=IFERROR(INDEX(ORARIO_GENERALE!$K$3:$M$3,MATCH("*"&$N$19&"*",ORARIO_GENERALE!K51:M51,0)),"")}
B25: =ORARIO_GENERALE!C8 -> 13:00-14:00 | C25: {=IFERROR(INDEX(ORARIO_GENERALE!$D$3:$I$3,MATCH("*"&$B$19&"*",ORARIO_GENERALE!D8:I8,0)),"")} | D25: {=IFERROR(INDEX(ORARIO_GENERALE!$D$3:$I$3,MATCH("*"&$B$19&"*",ORARIO_GENERALE!D18:I18,0)),"")} | E25: {=IFERROR(INDEX(ORARIO_GENERALE!$D$3:$I$3,MATCH("*"&$B$19&"*",ORARIO_GENERALE!D28:I28,0)),"")} | F25: {=IFERROR(INDEX(ORARIO_GENERALE!$D$3:$I$3,MATCH("*"&$B$19&"*",ORARIO_GENERALE!D38:I38,0)),"")} | H25: =ORARIO_GENERALE!C8 -> 13:00-14:00 | I25: {=IFERROR(INDEX(ORARIO_GENERALE!$D$3:$I$3,MATCH("*"&$H$19&"*",ORARIO_GENERALE!D8:I8,0)),"")} | J25: {=IFERROR(INDEX(ORARIO_GENERALE!$D$3:$I$3,MATCH("*"&$H$19&"*",ORARIO_GENERALE!D18:I18,0)),"")} | K25: {=IFERROR(INDEX(ORARIO_GENERALE!$D$3:$I$3,MATCH("*"&$H$19&"*",ORARIO_GENERALE!D28:I28,0)),"")} | L25: {=IFERROR(INDEX(ORARIO_GENERALE!$D$3:$I$3,MATCH("*"&$H$19&"*",ORARIO_GENERALE!D38:I38,0)),"")} | N25: =ORARIO_GENERALE!J8 | O25: {=IFERROR(INDEX(ORARIO_GENERALE!$K$3:$M$3,MATCH("*"&$N$19&"*",ORARIO_GENERALE!K8:M8,0)),"")} | P25: {=IFERROR(INDEX(ORARIO_GENERALE!$K$3:$M$3,MATCH("*"&$N$19&"*",ORARIO_GENERALE!K19:M19,0)),"")} | Q25: {=IFERROR(INDEX(ORARIO_GENERALE!$K$3:$M$3,MATCH("*"&$N$19&"*",#REF!,0)),"")} | R25: {=IFERROR(INDEX(ORARIO_GENERALE!$K$3:$M$3,MATCH("*"&$N$19&"*",#REF!,0)),"")} | S25: {=IFERROR(INDEX(ORARIO_GENERALE!$K$3:$M$3,MATCH("*"&$N$19&"*",#REF!,0)),"")}
B26: =ORARIO_GENERALE!C9 -> 14:00-15:00 | C26: {=IFERROR(INDEX(ORARIO_GENERALE!$D$3:$I$3,MATCH("*"&$B$19&"*",ORARIO_GENERALE!D9:I9,0)),"")} | D26: {=IFERROR(INDEX(ORARIO_GENERALE!$D$3:$I$3,MATCH("*"&$B$19&"*",ORARIO_GENERALE!D19:I19,0)),"")} | E26: {=IFERROR(INDEX(ORARIO_GENERALE!$D$3:$I$3,MATCH("*"&$B$19&"*",ORARIO_GENERALE!D29:I29,0)),"")} | F26: {=IFERROR(INDEX(ORARIO_GENERALE!$D$3:$I$3,MATCH("*"&$B$19&"*",ORARIO_GENERALE!D39:I39,0)),"")} | H26: =ORARIO_GENERALE!C9 -> 14:00-15:00 | I26: {=IFERROR(INDEX(ORARIO_GENERALE!$D$3:$I$3,MATCH("*"&$H$19&"*",ORARIO_GENERALE!D9:I9,0)),"")} | J26: {=IFERROR(INDEX(ORARIO_GENERALE!$D$3:$I$3,MATCH("*"&$H$19&"*",ORARIO_GENERALE!D19:I19,0)),"")} | K26: {=IFERROR(INDEX(ORARIO_GENERALE!$D$3:$I$3,MATCH("*"&$H$19&"*",ORARIO_GENERALE!D29:I29,0)),"")} | L26: {=IFERROR(INDEX(ORARIO_GENERALE!$D$3:$I$3,MATCH("*"&$H$19&"*",ORARIO_GENERALE!D39:I39,0)),"")} | N26: =ORARIO_GENERALE!J9 | O26: {=IFERROR(INDEX(ORARIO_GENERALE!$K$3:$M$3,MATCH("*"&$N$19&"*",ORARIO_GENERALE!K9:M9,0)),"")} | P26: {=IFERROR(INDEX(ORARIO_GENERALE!$K$3:$M$3,MATCH("*"&$N$19&"*",ORARIO_GENERALE!K20:M20,0)),"")} | Q26: {=IFERROR(INDEX(ORARIO_GENERALE!$K$3:$M$3,MATCH("*"&$N$19&"*",ORARIO_GENERALE!K43:M43,0)),"")} | R26: {=IFERROR(INDEX(ORARIO_GENERALE!$K$3:$M$3,MATCH("*"&$N$19&"*",#REF!,0)),"")} | S26: {=IFERROR(INDEX(ORARIO_GENERALE!$K$3:$M$3,MATCH("*"&$N$19&"*",ORARIO_GENERALE!K54:M54,0)),"")}
B27: =ORARIO_GENERALE!C10 -> 15:00-16:00 | C27: {=IFERROR(INDEX(ORARIO_GENERALE!$D$3:$I$3,MATCH("*"&$B$19&"*",ORARIO_GENERALE!D10:I10,0)),"")} | D27: {=IFERROR(INDEX(ORARIO_GENERALE!$D$3:$I$3,MATCH("*"&$B$19&"*",ORARIO_GENERALE!D20:I20,0)),"")} | E27: {=IFERROR(INDEX(ORARIO_GENERALE!$D$3:$I$3,MATCH("*"&$B$19&"*",ORARIO_GENERALE!D30:I30,0)),"")} | F27: {=IFERROR(INDEX(ORARIO_GENERALE!$D$3:$I$3,MATCH("*"&$B$19&"*",ORARIO_GENERALE!D40:I40,0)),"")} | H27: =ORARIO_GENERALE!C10 -> 15:00-16:00 | I27: {=IFERROR(INDEX(ORARIO_GENERALE!$D$3:$I$3,MATCH("*"&$H$19&"*",ORARIO_GENERALE!D10:I10,0)),"")} | J27: {=IFERROR(INDEX(ORARIO_GENERALE!$D$3:$I$3,MATCH("*"&$H$19&"*",ORARIO_GENERALE!D20:I20,0)),"")} | K27: {=IFERROR(INDEX(ORARIO_GENERALE!$D$3:$I$3,MATCH("*"&$H$19&"*",ORARIO_GENERALE!D30:I30,0)),"")} | L27: {=IFERROR(INDEX(ORARIO_GENERALE!$D$3:$I$3,MATCH("*"&$H$19&"*",ORARIO_GENERALE!D40:I40,0)),"")} | N27: =ORARIO_GENERALE!J10 | O27: {=IFERROR(INDEX(ORARIO_GENERALE!$K$3:$M$3,MATCH("*"&$N$19&"*",ORARIO_GENERALE!K10:M10,0)),"")} | P27: {=IFERROR(INDEX(ORARIO_GENERALE!$K$3:$M$3,MATCH("*"&$N$19&"*",ORARIO_GENERALE!K21:M21,0)),"")} | Q27: {=IFERROR(INDEX(ORARIO_GENERALE!$K$3:$M$3,MATCH("*"&$N$19&"*",ORARIO_GENERALE!K44:M44,0)),"")} | R27: {=IFERROR(INDEX(ORARIO_GENERALE!$K$3:$M$3,MATCH("*"&$N$19&"*",#REF!,0)),"")} | S27: {=IFERROR(INDEX(ORARIO_GENERALE!$K$3:$M$3,MATCH("*"&$N$19&"*",ORARIO_GENERALE!K55:M55,0)),"")}
B28: =ORARIO_GENERALE!C11 -> 16:00-17:00 | C28: {=IFERROR(INDEX(ORARIO_GENERALE!$D$3:$I$3,MATCH("*"&$B$19&"*",ORARIO_GENERALE!D11:I11,0)),"")} | D28: {=IFERROR(INDEX(ORARIO_GENERALE!$D$3:$I$3,MATCH("*"&$B$19&"*",ORARIO_GENERALE!D21:I21,0)),"")} | E28: {=IFERROR(INDEX(ORARIO_GENERALE!$D$3:$I$3,MATCH("*"&$B$19&"*",ORARIO_GENERALE!D31:I31,0)),"")} | F28: {=IFERROR(INDEX(ORARIO_GENERALE!$D$3:$I$3,MATCH("*"&$B$19&"*",ORARIO_GENERALE!D41:I41,0)),"")} | H28: =ORARIO_GENERALE!C11 -> 16:00-17:00 | I28: {=IFERROR(INDEX(ORARIO_GENERALE!$D$3:$I$3,MATCH("*"&$H$19&"*",ORARIO_GENERALE!D11:I11,0)),"")} | J28: {=IFERROR(INDEX(ORARIO_GENERALE!$D$3:$I$3,MATCH("*"&$H$19&"*",ORARIO_GENERALE!D21:I21,0)),"")} | K28: {=IFERROR(INDEX(ORARIO_GENERALE!$D$3:$I$3,MATCH("*"&$H$19&"*",ORARIO_GENERALE!D31:I31,0)),"")} | L28: {=IFERROR(INDEX(ORARIO_GENERALE!$D$3:$I$3,MATCH("*"&$H$19&"*",ORARIO_GENERALE!D41:I41,0)),"")} | N28: =ORARIO_GENERALE!J11 | O28: {=IFERROR(INDEX(ORARIO_GENERALE!$K$3:$M$3,MATCH("*"&$N$19&"*",ORARIO_GENERALE!K11:M11,0)),"")} | P28: {=IFERROR(INDEX(ORARIO_GENERALE!$K$3:$M$3,MATCH("*"&$N$19&"*",ORARIO_GENERALE!K22:M22,0)),"")} | Q28: {=IFERROR(INDEX(ORARIO_GENERALE!$K$3:$M$3,MATCH("*"&$N$19&"*",ORARIO_GENERALE!K45:M45,0)),"")} | R28: {=IFERROR(INDEX(ORARIO_GENERALE!$K$3:$M$3,MATCH("*"&$N$19&"*",#REF!,0)),"")} | S28: {=IFERROR(INDEX(ORARIO_GENERALE!$K$3:$M$3,MATCH("*"&$N$19&"*",ORARIO_GENERALE!K56:M56,0)),"")}
B29: =ORARIO_GENERALE!C12 -> 17:00-18:00 | C29: {=IFERROR(INDEX(ORARIO_GENERALE!$D$3:$I$3,MATCH("*"&$B$19&"*",ORARIO_GENERALE!D12:I12,0)),"")} | D29: {=IFERROR(INDEX(ORARIO_GENERALE!$D$3:$I$3,MATCH("*"&$B$19&"*",ORARIO_GENERALE!D23:I23,0)),"")} | E29: {=IFERROR(INDEX(ORARIO_GENERALE!$D$3:$I$3,MATCH("*"&$B$19&"*",ORARIO_GENERALE!D34:I34,0)),"")} | F29: {=IFERROR(INDEX(ORARIO_GENERALE!$D$3:$I$3,MATCH("*"&$B$19&"*",ORARIO_GENERALE!D42:I42,0)),"")} | H29: =ORARIO_GENERALE!C12 -> 17:00-18:00 | I29: {=IFERROR(INDEX(ORARIO_GENERALE!$D$3:$I$3,MATCH("*"&$H$19&"*",ORARIO_GENERALE!D12:I12,0)),"")} | J29: {=IFERROR(INDEX(ORARIO_GENERALE!$D$3:$I$3,MATCH("*"&$H$19&"*",ORARIO_GENERALE!D23:I23,0)),"")} | K29: {=IFERROR(INDEX(ORARIO_GENERALE!$D$3:$I$3,MATCH("*"&$H$19&"*",ORARIO_GENERALE!D34:I34,0)),"")} | L29: {=IFERROR(INDEX(ORARIO_GENERALE!$D$3:$I$3,MATCH("*"&$H$19&"*",ORARIO_GENERALE!D42:I42,0)),"")} | N29: =ORARIO_GENERALE!J12 | O29: {=IFERROR(INDEX(ORARIO_GENERALE!$K$3:$M$3,MATCH("*"&$N$19&"*",ORARIO_GENERALE!K12,0)),"")} | P29: {=IFERROR(INDEX(ORARIO_GENERALE!$K$3:$M$3,MATCH("*"&$N$19&"*",ORARIO_GENERALE!K23:M23,0)),"")} | Q29: {=IFERROR(INDEX(ORARIO_GENERALE!$K$3:$M$3,MATCH("*"&$N$19&"*",#REF!,0)),"")} | R29: {=IFERROR(INDEX(ORARIO_GENERALE!$K$3:$M$3,MATCH("*"&$N$19&"*",#REF!,0)),"")} | S29: {=IFERROR(INDEX(ORARIO_GENERALE!$K$3:$M$3,MATCH("*"&$N$19&"*",ORARIO_GENERALE!K57:M57,0)),"")}
B30: =ORARIO_GENERALE!C13 -> 18:00-19:00 | C30: {=IFERROR(INDEX(ORARIO_GENERALE!$D$3:$I$3,MATCH("*"&$B$19&"*",ORARIO_GENERALE!D13:I13,0)),"")} | D30: {=IFERROR(INDEX(ORARIO_GENERALE!$D$3:$I$3,MATCH("*"&$B$19&"*",ORARIO_GENERALE!D24:I24,0)),"")} | E30: {=IFERROR(INDEX(ORARIO_GENERALE!$D$3:$I$3,MATCH("*"&$B$19&"*",ORARIO_GENERALE!D35:I35,0)),"")} | F30: {=IFERROR(INDEX(ORARIO_GENERALE!$D$3:$I$3,MATCH("*"&$B$19&"*",ORARIO_GENERALE!D43:I43,0)),"")} | H30: =ORARIO_GENERALE!C13 -> 18:00-19:00 | I30: {=IFERROR(INDEX(ORARIO_GENERALE!$D$3:$I$3,MATCH("*"&$H$19&"*",ORARIO_GENERALE!D13:I13,0)),"")} | J30: {=IFERROR(INDEX(ORARIO_GENERALE!$D$3:$I$3,MATCH("*"&$H$19&"*",ORARIO_GENERALE!D24:I24,0)),"")} | K30: {=IFERROR(INDEX(ORARIO_GENERALE!$D$3:$I$3,MATCH("*"&$H$19&"*",ORARIO_GENERALE!D35:I35,0)),"")} | L30: {=IFERROR(INDEX(ORARIO_GENERALE!$D$3:$I$3,MATCH("*"&$H$19&"*",ORARIO_GENERALE!D43:I43,0)),"")} | N30: =ORARIO_GENERALE!J13 | O30: {=IFERROR(INDEX(ORARIO_GENERALE!$K$3:$M$3,MATCH("*"&$N$19&"*",ORARIO_GENERALE!K13,0)),"")} | P30: {=IFERROR(INDEX(ORARIO_GENERALE!$K$3:$M$3,MATCH("*"&$N$19&"*",ORARIO_GENERALE!K24:M24,0)),"")} | Q30: {=IFERROR(INDEX(ORARIO_GENERALE!$K$3:$M$3,MATCH("*"&$N$19&"*",#REF!,0)),"")} | R30: {=IFERROR(INDEX(ORARIO_GENERALE!$K$3:$M$3,MATCH("*"&$N$19&"*",#REF!,0)),"")} | S30: {=IFERROR(INDEX(ORARIO_GENERALE!$K$3:$M$3,MATCH("*"&$N$19&"*",ORARIO_GENERALE!K58:M58,0)),"")}
B31: =ORARIO_GENERALE!C14 -> 19:00-20:00 | C31: {=IFERROR(INDEX(ORARIO_GENERALE!$D$3:$I$3,MATCH("*"&$B$19&"*",ORARIO_GENERALE!D14:I14,0)),"")} | D31: {=IFERROR(INDEX(ORARIO_GENERALE!$D$3:$I$3,MATCH("*"&$B$19&"*",ORARIO_GENERALE!D25:I25,0)),"")} | E31: {=IFERROR(INDEX(ORARIO_GENERALE!$D$3:$I$3,MATCH("*"&$B$19&"*",ORARIO_GENERALE!D36:I36,0)),"")} | F31: {=IFERROR(INDEX(ORARIO_GENERALE!$D$3:$I$3,MATCH("*"&$B$19&"*",ORARIO_GENERALE!D47:I47,0)),"")} | H31: =ORARIO_GENERALE!C14 -> 19:00-20:00 | I31: {=IFERROR(INDEX(ORARIO_GENERALE!$D$3:$I$3,MATCH("*"&$H$19&"*",ORARIO_GENERALE!D14:I14,0)),"")} | J31: {=IFERROR(INDEX(ORARIO_GENERALE!$D$3:$I$3,MATCH("*"&$H$19&"*",ORARIO_GENERALE!D25:I25,0)),"")} | K31: {=IFERROR(INDEX(ORARIO_GENERALE!$D$3:$I$3,MATCH("*"&$H$19&"*",ORARIO_GENERALE!D36:I36,0)),"")} | L31: {=IFERROR(INDEX(ORARIO_GENERALE!$D$3:$I$3,MATCH("*"&$H$19&"*",ORARIO_GENERALE!D47:I47,0)),"")} | N31: =ORARIO_GENERALE!J14 | O31: {=IFERROR(INDEX(ORARIO_GENERALE!$K$3:$M$3,MATCH("*"&$N$19&"*",ORARIO_GENERALE!K14,0)),"")} | P31: {=IFERROR(INDEX(ORARIO_GENERALE!$K$3:$M$3,MATCH("*"&$N$19&"*",ORARIO_GENERALE!K27:M27,0)),"")} | Q31: {=IFERROR(INDEX(ORARIO_GENERALE!$K$3:$M$3,MATCH("*"&$N$19&"*",#REF!,0)),"")} | R31: {=IFERROR(INDEX(ORARIO_GENERALE!$K$3:$M$3,MATCH("*"&$N$19&"*",#REF!,0)),"")} | S31: {=IFERROR(INDEX(ORARIO_GENERALE!$K$3:$M$3,MATCH("*"&$N$19&"*",#REF!,0)),"")}
B32: =#REF! -> #REF! | C32: {=IFERROR(INDEX(ORARIO_GENERALE!$D$3:$I$3,MATCH("*"&$B$19&"*",#REF!,0)),"")} | D32: {=IFERROR(INDEX(ORARIO_GENERALE!$D$3:$I$3,MATCH("*"&$B$19&"*",#REF!,0)),"")} | E32: {=IFERROR(INDEX(ORARIO_GENERALE!$D$3:$I$3,MATCH("*"&$B$19&"*",#REF!,0)),"")} | F32: {=IFERROR(INDEX(ORARIO_GENERALE!$D$3:$I$3,MATCH("*"&$B$19&"*",#REF!,0)),"")} | H32: =#REF! -> #REF! | I32: {=IFERROR(INDEX(ORARIO_GENERALE!$D$3:$I$3,MATCH("*"&$H$19&"*",#REF!,0)),"")} | J32: {=IFERROR(INDEX(ORARIO_GENERALE!$D$3:$I$3,MATCH("*"&$H$19&"*",#REF!,0)),"")} | K32: {=IFERROR(INDEX(ORARIO_GENERALE!$D$3:$I$3,MATCH("*"&$H$19&"*",#REF!,0)),"")} | L32: {=IFERROR(INDEX(ORARIO_GENERALE!$D$3:$I$3,MATCH("*"&$H$19&"*",#REF!,0)),"")} | N32: =#REF! -> #REF! | O32: {=IFERROR(INDEX(ORARIO_GENERALE!$K$3:$M$3,MATCH("*"&$N$19&"*",#REF!,0)),"")} | P32: {=IFERROR(INDEX(ORARIO_GENERALE!$K$3:$M$3,MATCH("*"&$N$19&"*",#REF!,0)),"")} | Q32: {=IFERROR(INDEX(ORARIO_GENERALE!$K$3:$M$3,MATCH("*"&$N$19&"*",#REF!,0)),"")} | R32: {=IFERROR(INDEX(ORARIO_GENERALE!$K$3:$M$3,MATCH("*"&$N$19&"*",#REF!,0)),"")} | S32: {=IFERROR(INDEX(ORARIO_GENERALE!$K$3:$M$3,MATCH("*"&$N$19&"*",#REF!,0)),"")}
B35: RA1A | I35: RA1B | P35: RA2C
C36: LUN | D36: MAR | E36: MER | F36: GIO | G36: VEN | J36: LUN | K36: MAR | L36: MER | M36: GIO | N36: VEN | Q36: LUN | R36: MAR | S36: MER | T36: GIO | U36: VEN
B37: =ORARIO_GENERALE!J4 | C37: {=IFERROR(INDEX(ORARIO_GENERALE!$K$3:$M$3,MATCH("*"&$B$35&"*",#REF!,0)),"")} | D37: {=IFERROR(INDEX(ORARIO_GENERALE!$K$3:$M$3,MATCH("*"&$B$35&"*",ORARIO_GENERALE!K15:M15,0)),"")} | E37: {=IFERROR(INDEX(ORARIO_GENERALE!$K$3:$M$3,MATCH("*"&$B$35&"*",#REF!,0)),"")} | F37: {=IFERROR(INDEX(ORARIO_GENERALE!$K$3:$M$3,MATCH("*"&$B$35&"*",ORARIO_GENERALE!N38:O38,0)),"")} | G37: {=IFERROR(INDEX(ORARIO_GENERALE!$K$3:$M$3,MATCH("*"&$B$35&"*",ORARIO_GENERALE!K48,0)),"")} | I37: =ORARIO_GENERALE!J4 | J37: {=IFERROR(INDEX(ORARIO_GENERALE!$K$3:$M$3,MATCH("*"&$I$35&"*",#REF!,0)),"")} | K37: {=IFERROR(INDEX(ORARIO_GENERALE!$K$3:$M$3,MATCH("*"&$I$35&"*",ORARIO_GENERALE!K15:M15,0)),"")} | L37: {=IFERROR(INDEX(ORARIO_GENERALE!$K$3:$M$3,MATCH("*"&$I$35&"*",#REF!,0)),"")} | M37: {=IFERROR(INDEX(ORARIO_GENERALE!$K$3:$M$3,MATCH("*"&$I$35&"*",ORARIO_GENERALE!N38:O38,0)),"")} | N37: {=IFERROR(INDEX(ORARIO_GENERALE!$K$3:$M$3,MATCH("*"&$I$35&"*",ORARIO_GENERALE!K48,0)),"")} | P37: =ORARIO_GENERALE!J4 | Q37: {=IFERROR(INDEX(ORARIO_GENERALE!$K$3:$M$3,MATCH("*"&$P$35&"*",#REF!,0)),"")} | R37: {=IFERROR(INDEX(ORARIO_GENERALE!$K$3:$M$3,MATCH("*"&$P$35&"*",ORARIO_GENERALE!K15:M15,0)),"")} | S37: {=IFERROR(INDEX(ORARIO_GENERALE!$K$3:$M$3,MATCH("*"&$P$35&"*",#REF!,0)),"")} | T37: {=IFERROR(INDEX(ORARIO_GENERALE!$K$3:$M$3,MATCH("*"&$P$35&"*",ORARIO_GENERALE!N38:O38,0)),"")} | U37: {=IFERROR(INDEX(ORARIO_GENERALE!$K$3:$M$3,MATCH("*"&$P$35&"*",ORARIO_GENERALE!K48,0)),"")}
B38: =ORARIO_GENERALE!J5 | C38: {=IFERROR(INDEX(ORARIO_GENERALE!$K$3:$M$3,MATCH("*"&$B$35&"*",#REF!,0)),"")} | D38: {=IFERROR(INDEX(ORARIO_GENERALE!$K$3:$M$3,MATCH("*"&$B$35&"*",ORARIO_GENERALE!K16:M16,0)),"")} | E38: {=IFERROR(INDEX(ORARIO_GENERALE!$K$3:$M$3,MATCH("*"&$B$35&"*",#REF!,0)),"")} | F38: {=IFERROR(INDEX(ORARIO_GENERALE!$K$3:$M$3,MATCH("*"&$B$35&"*",ORARIO_GENERALE!N39:O39,0)),"")} | G38: {=IFERROR(INDEX(ORARIO_GENERALE!$K$3:$M$3,MATCH("*"&$B$35&"*",ORARIO_GENERALE!K49,0)),"")} | I38: =ORARIO_GENERALE!J5 | J38: {=IFERROR(INDEX(ORARIO_GENERALE!$K$3:$M$3,MATCH("*"&$I$35&"*",#REF!,0)),"")} | K38: {=IFERROR(INDEX(ORARIO_GENERALE!$K$3:$M$3,MATCH("*"&$I$35&"*",ORARIO_GENERALE!K16:M16,0)),"")} | L38: {=IFERROR(INDEX(ORARIO_GENERALE!$K$3:$M$3,MATCH("*"&$I$35&"*",#REF!,0)),"")} | M38: {=IFERROR(INDEX(ORARIO_GENERALE!$K$3:$M$3,MATCH("*"&$I$35&"*",ORARIO_GENERALE!N39:O39,0)),"")} | N38: {=IFERROR(INDEX(ORARIO_GENERALE!$K$3:$M$3,MATCH("*"&$I$35&"*",ORARIO_GENERALE!K49,0)),"")} | P38: =ORARIO_GENERALE!J5 | Q38: {=IFERROR(INDEX(ORARIO_GENERALE!$K$3:$M$3,MATCH("*"&$P$35&"*",#REF!,0)),"")} | R38: {=IFERROR(INDEX(ORARIO_GENERALE!$K$3:$M$3,MATCH("*"&$P$35&"*",ORARIO_GENERALE!K16:M16,0)),"")} | S38: {=IFERROR(INDEX(ORARIO_GENERALE!$K$3:$M$3,MATCH("*"&$P$35&"*",#REF!,0)),"")} | T38: {=IFERROR(INDEX(ORARIO_GENERALE!$K$3:$M$3,MATCH("*"&$P$35&"*",ORARIO_GENERALE!N39:O39,0)),"")} | U38: {=IFERROR(INDEX(ORARIO_GENERALE!$K$3:$M$3,MATCH("*"&$P$35&"*",ORARIO_GENERALE!K49,0)),"")}
B39: =ORARIO_GENERALE!J6 | C39: {=IFERROR(INDEX(ORARIO_GENERALE!$K$3:$M$3,MATCH("*"&$B$35&"*",#REF!,0)),"")} | D39: {=IFERROR(INDEX(ORARIO_GENERALE!$K$3:$M$3,MATCH("*"&$B$35&"*",ORARIO_GENERALE!K17:M17,0)),"")} | E39: {=IFERROR(INDEX(ORARIO_GENERALE!$K$3:$M$3,MATCH("*"&$B$35&"*",#REF!,0)),"")} | F39: {=IFERROR(INDEX(ORARIO_GENERALE!$K$3:$M$3,MATCH("*"&$B$35&"*",ORARIO_GENERALE!K41:M41,0)),"")} | G39: {=IFERROR(INDEX(ORARIO_GENERALE!$K$3:$M$3,MATCH("*"&$B$35&"*",ORARIO_GENERALE!K50:M50,0)),"")} | I39: =ORARIO_GENERALE!J6 | J39: {=IFERROR(INDEX(ORARIO_GENERALE!$K$3:$M$3,MATCH("*"&$I$35&"*",#REF!,0)),"")} | K39: {=IFERROR(INDEX(ORARIO_GENERALE!$K$3:$M$3,MATCH("*"&$I$35&"*",ORARIO_GENERALE!K17:M17,0)),"")} | L39: {=IFERROR(INDEX(ORARIO_GENERALE!$K$3:$M$3,MATCH("*"&$I$35&"*",#REF!,0)),"")} | M39: {=IFERROR(INDEX(ORARIO_GENERALE!$K$3:$M$3,MATCH("*"&$I$35&"*",ORARIO_GENERALE!K41:M41,0)),"")} | N39: {=IFERROR(INDEX(ORARIO_GENERALE!$K$3:$M$3,MATCH("*"&$I$35&"*",ORARIO_GENERALE!K50:M50,0)),"")} | P39: =ORARIO_GENERALE!J6 | Q39: {=IFERROR(INDEX(ORARIO_GENERALE!$K$3:$M$3,MATCH("*"&$P$35&"*",#REF!,0)),"")} | R39: {=IFERROR(INDEX(ORARIO_GENERALE!$K$3:$M$3,MATCH("*"&$P$35&"*",ORARIO_GENERALE!K17:M17,0)),"")} | S39: {=IFERROR(INDEX(ORARIO_GENERALE!$K$3:$M$3,MATCH("*"&$P$35&"*",#REF!,0)),"")} | T39: {=IFERROR(INDEX(ORARIO_GENERALE!$K$3:$M$3,MATCH("*"&$P$35&"*",ORARIO_GENERALE!K41:M41,0)),"")} | U39: {=IFERROR(INDEX(ORARIO_GENERALE!$K$3:$M$3,MATCH("*"&$P$35&"*",ORARIO_GENERALE!K50:M50,0)),"")}
B40: =ORARIO_GENERALE!J7 | C40: {=IFERROR(INDEX(ORARIO_GENERALE!$K$3:$M$3,MATCH("*"&$B$35&"*",ORARIO_GENERALE!K7:M7,0)),"")} | D40: {=IFERROR(INDEX(ORARIO_GENERALE!$K$3:$M$3,MATCH("*"&$B$35&"*",ORARIO_GENERALE!K18:M18,0)),"")} | E40: {=IFERROR(INDEX(ORARIO_GENERALE!$K$3:$M$3,MATCH("*"&$B$35&"*",#REF!,0)),"")} | F40: {=IFERROR(INDEX(ORARIO_GENERALE!$K$3:$M$3,MATCH("*"&$B$35&"*",ORARIO_GENERALE!K42:M42,0)),"")} | G40: {=IFERROR(INDEX(ORARIO_GENERALE!$K$3:$M$3,MATCH("*"&$B$35&"*",ORARIO_GENERALE!K51:M51,0)),"")} | I40: =ORARIO_GENERALE!J7 | J40: {=IFERROR(INDEX(ORARIO_GENERALE!$K$3:$M$3,MATCH("*"&$I$35&"*",ORARIO_GENERALE!K7:M7,0)),"")} | K40: {=IFERROR(INDEX(ORARIO_GENERALE!$K$3:$M$3,MATCH("*"&$I$35&"*",ORARIO_GENERALE!K18:M18,0)),"")} | L40: {=IFERROR(INDEX(ORARIO_GENERALE!$K$3:$M$3,MATCH("*"&$I$35&"*",#REF!,0)),"")} | M40: {=IFERROR(INDEX(ORARIO_GENERALE!$K$3:$M$3,MATCH("*"&$I$35&"*",ORARIO_GENERALE!K42:M42,0)),"")} | N40: {=IFERROR(INDEX(ORARIO_GENERALE!$K$3:$M$3,MATCH("*"&$I$35&"*",ORARIO_GENERALE!K51:M51,0)),"")} | P40: =ORARIO_GENERALE!J7 | Q40: {=IFERROR(INDEX(ORARIO_GENERALE!$K$3:$M$3,MATCH("*"&$P$35&"*",ORARIO_GENERALE!K7:M7,0)),"")} | R40: {=IFERROR(INDEX(ORARIO_GENERALE!$K$3:$M$3,MATCH("*"&$P$35&"*",ORARIO_GENERALE!K18:M18,0)),"")} | S40: {=IFERROR(INDEX(ORARIO_GENERALE!$K$3:$M$3,MATCH("*"&$P$35&"*",#REF!,0)),"")} | T40: {=IFERROR(INDEX(ORARIO_GENERALE!$K$3:$M$3,MATCH("*"&$P$35&"*",ORARIO_GENERALE!K42:M42,0)),"")} | U40: {=IFERROR(INDEX(ORARIO_GENERALE!$K$3:$M$3,MATCH("*"&$P$35&"*",ORARIO_GENERALE!K51:M51,0)),"")}
B41: =ORARIO_GENERALE!J8 | C41: {=IFERROR(INDEX(ORARIO_GENERALE!$K$3:$M$3,MATCH("*"&$B$35&"*",ORARIO_GENERALE!K8:M8,0)),"")} | D41: {=IFERROR(INDEX(ORARIO_GENERALE!$K$3:$M$3,MATCH("*"&$B$35&"*",ORARIO_GENERALE!K19:M19,0)),"")} | E41: {=IFERROR(INDEX(ORARIO_GENERALE!$K$3:$M$3,MATCH("*"&$B$35&"*",#REF!,0)),"")} | F41: {=IFERROR(INDEX(ORARIO_GENERALE!$K$3:$M$3,MATCH("*"&$B$35&"*",#REF!,0)),"")} | G41: {=IFERROR(INDEX(ORARIO_GENERALE!$K$3:$M$3,MATCH("*"&$B$35&"*",#REF!,0)),"")} | I41: =ORARIO_GENERALE!J8 | J41: {=IFERROR(INDEX(ORARIO_GENERALE!$K$3:$M$3,MATCH("*"&$I$35&"*",ORARIO_GENERALE!K8:M8,0)),"")} | K41: {=IFERROR(INDEX(ORARIO_GENERALE!$K$3:$M$3,MATCH("*"&$I$35&"*",ORARIO_GENERALE!K19:M19,0)),"")} | L41: {=IFERROR(INDEX(ORARIO_GENERALE!$K$3:$M$3,MATCH("*"&$I$35&"*",#REF!,0)),"")} | M41: {=IFERROR(INDEX(ORARIO_GENERALE!$K$3:$M$3,MATCH("*"&$I$35&"*",#REF!,0)),"")} | N41: {=IFERROR(INDEX(ORARIO_GENERALE!$K$3:$M$3,MATCH("*"&$I$35&"*",#REF!,0)),"")} | P41: =ORARIO_GENERALE!J8 | Q41: {=IFERROR(INDEX(ORARIO_GENERALE!$K$3:$M$3,MATCH("*"&$P$35&"*",ORARIO_GENERALE!K8:M8,0)),"")} | R41: {=IFERROR(INDEX(ORARIO_GENERALE!$K$3:$M$3,MATCH("*"&$P$35&"*",ORARIO_GENERALE!K19:M19,0)),"")} | S41: {=IFERROR(INDEX(ORARIO_GENERALE!$K$3:$M$3,MATCH("*"&$P$35&"*",#REF!,0)),"")} | T41: {=IFERROR(INDEX(ORARIO_GENERALE!$K$3:$M$3,MATCH("*"&$P$35&"*",#REF!,0)),"")} | U41: {=IFERROR(INDEX(ORARIO_GENERALE!$K$3:$M$3,MATCH("*"&$P$35&"*",#REF!,0)),"")}
B42: =ORARIO_GENERALE!J9 | C42: {=IFERROR(INDEX(ORARIO_GENERALE!$K$3:$M$3,MATCH("*"&$B$35&"*",ORARIO_GENERALE!K9:M9,0)),"")} | D42: {=IFERROR(INDEX(ORARIO_GENERALE!$K$3:$M$3,MATCH("*"&$B$35&"*",ORARIO_GENERALE!K20:M20,0)),"")} | E42: {=IFERROR(INDEX(ORARIO_GENERALE!$K$3:$M$3,MATCH("*"&$B$35&"*",ORARIO_GENERALE!K43:M43,0)),"")} | F42: {=IFERROR(INDEX(ORARIO_GENERALE!$K$3:$M$3,MATCH("*"&$B$35&"*",#REF!,0)),"")} | G42: {=IFERROR(INDEX(ORARIO_GENERALE!$K$3:$M$3,MATCH("*"&$B$35&"*",ORARIO_GENERALE!K54:M54,0)),"")} | I42: =ORARIO_GENERALE!J9 | J42: {=IFERROR(INDEX(ORARIO_GENERALE!$K$3:$M$3,MATCH("*"&$I$35&"*",ORARIO_GENERALE!K9:M9,0)),"")} | K42: {=IFERROR(INDEX(ORARIO_GENERALE!$K$3:$M$3,MATCH("*"&$I$35&"*",ORARIO_GENERALE!K20:M20,0)),"")} | L42: {=IFERROR(INDEX(ORARIO_GENERALE!$K$3:$M$3,MATCH("*"&$I$35&"*",ORARIO_GENERALE!K43:M43,0)),"")} | M42: {=IFERROR(INDEX(ORARIO_GENERALE!$K$3:$M$3,MATCH("*"&$I$35&"*",#REF!,0)),"")} | N42: {=IFERROR(INDEX(ORARIO_GENERALE!$K$3:$M$3,MATCH("*"&$I$35&"*",ORARIO_GENERALE!K54:M54,0)),"")} | P42: =ORARIO_GENERALE!J9 | Q42: {=IFERROR(INDEX(ORARIO_GENERALE!$K$3:$M$3,MATCH("*"&$P$35&"*",ORARIO_GENERALE!K9:M9,0)),"")} | R42: {=IFERROR(INDEX(ORARIO_GENERALE!$K$3:$M$3,MATCH("*"&$P$35&"*",ORARIO_GENERALE!K20:M20,0)),"")} | S42: {=IFERROR(INDEX(ORARIO_GENERALE!$K$3:$M$3,MATCH("*"&$P$35&"*",ORARIO_GENERALE!K43:M43,0)),"")} | T42: {=IFERROR(INDEX(ORARIO_GENERALE!$K$3:$M$3,MATCH("*"&$P$35&"*",#REF!,0)),"")} | U42: {=IFERROR(INDEX(ORARIO_GENERALE!$K$3:$M$3,MATCH("*"&$P$35&"*",ORARIO_GENERALE!K54:M54,0)),"")}
B43: =ORARIO_GENERALE!J10 | C43: {=IFERROR(INDEX(ORARIO_GENERALE!$K$3:$M$3,MATCH("*"&$B$35&"*",ORARIO_GENERALE!K10:M10,0)),"")} | D43: {=IFERROR(INDEX(ORARIO_GENERALE!$K$3:$M$3,MATCH("*"&$B$35&"*",ORARIO_GENERALE!K21:M21,0)),"")} | E43: {=IFERROR(INDEX(ORARIO_GENERALE!$K$3:$M$3,MATCH("*"&$B$35&"*",ORARIO_GENERALE!K44:M44,0)),"")} | F43: {=IFERROR(INDEX(ORARIO_GENERALE!$K$3:$M$3,MATCH("*"&$B$35&"*",#REF!,0)),"")} | G43: {=IFERROR(INDEX(ORARIO_GENERALE!$K$3:$M$3,MATCH("*"&$B$35&"*",ORARIO_GENERALE!K55:M55,0)),"")} | I43: =ORARIO_GENERALE!J10 | J43: {=IFERROR(INDEX(ORARIO_GENERALE!$K$3:$M$3,MATCH("*"&$I$35&"*",ORARIO_GENERALE!K10:M10,0)),"")} | K43: {=IFERROR(INDEX(ORARIO_GENERALE!$K$3:$M$3,MATCH("*"&$I$35&"*",ORARIO_GENERALE!K21:M21,0)),"")} | L43: {=IFERROR(INDEX(ORARIO_GENERALE!$K$3:$M$3,MATCH("*"&$I$35&"*",ORARIO_GENERALE!K44:M44,0)),"")} | M43: {=IFERROR(INDEX(ORARIO_GENERALE!$K$3:$M$3,MATCH("*"&$I$35&"*",#REF!,0)),"")} | N43: {=IFERROR(INDEX(ORARIO_GENERALE!$K$3:$M$3,MATCH("*"&$I$35&"*",ORARIO_GENERALE!K55:M55,0)),"")} | P43: =ORARIO_GENERALE!J10 | Q43: {=IFERROR(INDEX(ORARIO_GENERALE!$K$3:$M$3,MATCH("*"&$P$35&"*",ORARIO_GENERALE!K10:M10,0)),"")} | R43: {=IFERROR(INDEX(ORARIO_GENERALE!$K$3:$M$3,MATCH("*"&$P$35&"*",ORARIO_GENERALE!K21:M21,0)),"")} | S43: {=IFERROR(INDEX(ORARIO_GENERALE!$K$3:$M$3,MATCH("*"&$P$35&"*",ORARIO_GENERALE!K44:M44,0)),"")} | T43: {=IFERROR(INDEX(ORARIO_GENERALE!$K$3:$M$3,MATCH("*"&$P$35&"*",#REF!,0)),"")} | U43: {=IFERROR(INDEX(ORARIO_GENERALE!$K$3:$M$3,MATCH("*"&$P$35&"*",ORARIO_GENERALE!K55:M55,0)),"")}
B44: =ORARIO_GENERALE!J11 | C44: {=IFERROR(INDEX(ORARIO_GENERALE!$K$3:$M$3,MATCH("*"&$B$35&"*",ORARIO_GENERALE!K11:M11,0)),"")} | D44: {=IFERROR(INDEX(ORARIO_GENERALE!$K$3:$M$3,MATCH("*"&$B$35&"*",ORARIO_GENERALE!K22:M22,0)),"")} | E44: {=IFERROR(INDEX(ORARIO_GENERALE!$K$3:$M$3,MATCH("*"&$B$35&"*",ORARIO_GENERALE!K45:M45,0)),"")} | F44: {=IFERROR(INDEX(ORARIO_GENERALE!$K$3:$M$3,MATCH("*"&$B$35&"*",#REF!,0)),"")} | G44: {=IFERROR(INDEX(ORARIO_GENERALE!$K$3:$M$3,MATCH("*"&$B$35&"*",ORARIO_GENERALE!K56:M56,0)),"")} | I44: =ORARIO_GENERALE!J11 | J44: {=IFERROR(INDEX(ORARIO_GENERALE!$K$3:$M$3,MATCH("*"&$I$35&"*",ORARIO_GENERALE!K11:M11,0)),"")} | K44: {=IFERROR(INDEX(ORARIO_GENERALE!$K$3:$M$3,MATCH("*"&$I$35&"*",ORARIO_GENERALE!K22:M22,0)),"")} | L44: {=IFERROR(INDEX(ORARIO_GENERALE!$K$3:$M$3,MATCH("*"&$I$35&"*",ORARIO_GENERALE!K45:M45,0)),"")} | M44: {=IFERROR(INDEX(ORARIO_GENERALE!$K$3:$M$3,MATCH("*"&$I$35&"*",#REF!,0)),"")} | N44: {=IFERROR(INDEX(ORARIO_GENERALE!$K$3:$M$3,MATCH("*"&$I$35&"*",ORARIO_GENERALE!K56:M56,0)),"")} | P44: =ORARIO_GENERALE!J11 | Q44: {=IFERROR(INDEX(ORARIO_GENERALE!$K$3:$M$3,MATCH("*"&$P$35&"*",ORARIO_GENERALE!K11:M11,0)),"")} | R44: {=IFERROR(INDEX(ORARIO_GENERALE!$K$3:$M$3,MATCH("*"&$P$35&"*",ORARIO_GENERALE!K22:M22,0)),"")} | S44: {=IFERROR(INDEX(ORARIO_GENERALE!$K$3:$M$3,MATCH("*"&$P$35&"*",ORARIO_GENERALE!K45:M45,0)),"")} | T44: {=IFERROR(INDEX(ORARIO_GENERALE!$K$3:$M$3,MATCH("*"&$P$35&"*",#REF!,0)),"")} | U44: {=IFERROR(INDEX(ORARIO_GENERALE!$K$3:$M$3,MATCH("*"&$P$35&"*",ORARIO_GENERALE!K56:M56,0)),"")}
B45: =ORARIO_GENERALE!J12 | C45: {=IFERROR(INDEX(ORARIO_GENERALE!$K$3:$M$3,MATCH("*"&$B$35&"*",ORARIO_GENERALE!K12,0)),"")} | D45: {=IFERROR(INDEX(ORARIO_GENERALE!$K$3:$M$3,MATCH("*"&$B$35&"*",ORARIO_GENERALE!K23:M23,0)),"")} | E45: {=IFERROR(INDEX(ORARIO_GENERALE!$K$3:$M$3,MATCH("*"&$B$35&"*",#REF!,0)),"")} | F45: {=IFERROR(INDEX(ORARIO_GENERALE!$K$3:$M$3,MATCH("*"&$B$35&"*",#REF!,0)),"")} | G45: {=IFERROR(INDEX(ORARIO_GENERALE!$K$3:$M$3,MATCH("*"&$B$35&"*",ORARIO_GENERALE!K57:M57,0)),"")} | I45: =ORARIO_GENERALE!J12 | J45: {=IFERROR(INDEX(ORARIO_GENERALE!$K$3:$M$3,MATCH("*"&$I$35&"*",ORARIO_GENERALE!K12,0)),"")} | K45: {=IFERROR(INDEX(ORARIO_GENERALE!$K$3:$M$3,MATCH("*"&$I$35&"*",ORARIO_GENERALE!K23:M23,0)),"")} | L45: {=IFERROR(INDEX(ORARIO_GENERALE!$K$3:$M$3,MATCH("*"&$I$35&"*",#REF!,0)),"")} | M45: {=IFERROR(INDEX(ORARIO_GENERALE!$K$3:$M$3,MATCH("*"&$I$35&"*",#REF!,0)),"")} | N45: {=IFERROR(INDEX(ORARIO_GENERALE!$K$3:$M$3,MATCH("*"&$I$35&"*",ORARIO_GENERALE!K57:M57,0)),"")} | P45: =ORARIO_GENERALE!J12 | Q45: {=IFERROR(INDEX(ORARIO_GENERALE!$K$3:$M$3,MATCH("*"&$P$35&"*",ORARIO_GENERALE!K12,0)),"")} | R45: {=IFERROR(INDEX(ORARIO_GENERALE!$K$3:$M$3,MATCH("*"&$P$35&"*",ORARIO_GENERALE!K23:M23,0)),"")} | S45: {=IFERROR(INDEX(ORARIO_GENERALE!$K$3:$M$3,MATCH("*"&$P$35&"*",#REF!,0)),"")} | T45: {=IFERROR(INDEX(ORARIO_GENERALE!$K$3:$M$3,MATCH("*"&$P$35&"*",#REF!,0)),"")} | U45: {=IFERROR(INDEX(ORARIO_GENERALE!$K$3:$M$3,MATCH("*"&$P$35&"*",ORARIO_GENERALE!K57:M57,0)),"")}
B46: =ORARIO_GENERALE!J13 | C46: {=IFERROR(INDEX(ORARIO_GENERALE!$K$3:$M$3,MATCH("*"&$B$35&"*",ORARIO_GENERALE!K13,0)),"")} | D46: {=IFERROR(INDEX(ORARIO_GENERALE!$K$3:$M$3,MATCH("*"&$B$35&"*",ORARIO_GENERALE!K24:M24,0)),"")} | E46: {=IFERROR(INDEX(ORARIO_GENERALE!$K$3:$M$3,MATCH("*"&$B$35&"*",#REF!,0)),"")} | F46: {=IFERROR(INDEX(ORARIO_GENERALE!$K$3:$M$3,MATCH("*"&$B$35&"*",#REF!,0)),"")} | G46: {=IFERROR(INDEX(ORARIO_GENERALE!$K$3:$M$3,MATCH("*"&$B$35&"*",ORARIO_GENERALE!K58:M58,0)),"")} | I46: =ORARIO_GENERALE!J13 | J46: {=IFERROR(INDEX(ORARIO_GENERALE!$K$3:$M$3,MATCH("*"&$I$35&"*",ORARIO_GENERALE!K13,0)),"")} | K46: {=IFERROR(INDEX(ORARIO_GENERALE!$K$3:$M$3,MATCH("*"&$I$35&"*",ORARIO_GENERALE!K24:M24,0)),"")} | L46: {=IFERROR(INDEX(ORARIO_GENERALE!$K$3:$M$3,MATCH("*"&$I$35&"*",#REF!,0)),"")} | M46: {=IFERROR(INDEX(ORARIO_GENERALE!$K$3:$M$3,MATCH("*"&$I$35&"*",#REF!,0)),"")} | N46: {=IFERROR(INDEX(ORARIO_GENERALE!$K$3:$M$3,MATCH("*"&$I$35&"*",ORARIO_GENERALE!K58:M58,0)),"")} | P46: =ORARIO_GENERALE!J13 | Q46: {=IFERROR(INDEX(ORARIO_GENERALE!$K$3:$M$3,MATCH("*"&$P$35&"*",ORARIO_GENERALE!K13,0)),"")} | R46: {=IFERROR(INDEX(ORARIO_GENERALE!$K$3:$M$3,MATCH("*"&$P$35&"*",ORARIO_GENERALE!K24:M24,0)),"")} | S46: {=IFERROR(INDEX(ORARIO_GENERALE!$K$3:$M$3,MATCH("*"&$P$35&"*",#REF!,0)),"")} | T46: {=IFERROR(INDEX(ORARIO_GENERALE!$K$3:$M$3,MATCH("*"&$P$35&"*",#REF!,0)),"")} | U46: {=IFERROR(INDEX(ORARIO_GENERALE!$K$3:$M$3,MATCH("*"&$P$35&"*",ORARIO_GENERALE!K58:M58,0)),"")}
B47: =ORARIO_GENERALE!J14 | C47: {=IFERROR(INDEX(ORARIO_GENERALE!$K$3:$M$3,MATCH("*"&$B$35&"*",ORARIO_GENERALE!K14,0)),"")} | D47: {=IFERROR(INDEX(ORARIO_GENERALE!$K$3:$M$3,MATCH("*"&$B$35&"*",ORARIO_GENERALE!K27:M27,0)),"")} | E47: {=IFERROR(INDEX(ORARIO_GENERALE!$K$3:$M$3,MATCH("*"&$B$35&"*",#REF!,0)),"")} | F47: {=IFERROR(INDEX(ORARIO_GENERALE!$K$3:$M$3,MATCH("*"&$B$35&"*",#REF!,0)),"")} | G47: {=IFERROR(INDEX(ORARIO_GENERALE!$K$3:$M$3,MATCH("*"&$B$35&"*",#REF!,0)),"")} | I47: =ORARIO_GENERALE!J14 | J47: {=IFERROR(INDEX(ORARIO_GENERALE!$K$3:$M$3,MATCH("*"&$I$35&"*",ORARIO_GENERALE!K14,0)),"")} | K47: {=IFERROR(INDEX(ORARIO_GENERALE!$K$3:$M$3,MATCH("*"&$I$35&"*",ORARIO_GENERALE!K27:M27,0)),"")} | L47: {=IFERROR(INDEX(ORARIO_GENERALE!$K$3:$M$3,MATCH("*"&$I$35&"*",#REF!,0)),"")} | M47: {=IFERROR(INDEX(ORARIO_GENERALE!$K$3:$M$3,MATCH("*"&$I$35&"*",#REF!,0)),"")} | N47: {=IFERROR(INDEX(ORARIO_GENERALE!$K$3:$M$3,MATCH("*"&$I$35&"*",#REF!,0)),"")} | P47: =ORARIO_GENERALE!J14 | Q47: {=IFERROR(INDEX(ORARIO_GENERALE!$K$3:$M$3,MATCH("*"&$P$35&"*",ORARIO_GENERALE!K14,0)),"")} | R47: {=IFERROR(INDEX(ORARIO_GENERALE!$K$3:$M$3,MATCH("*"&$P$35&"*",ORARIO_GENERALE!K27:M27,0)),"")} | S47: {=IFERROR(INDEX(ORARIO_GENERALE!$K$3:$M$3,MATCH("*"&$P$35&"*",#REF!,0)),"")} | T47: {=IFERROR(INDEX(ORARIO_GENERALE!$K$3:$M$3,MATCH("*"&$P$35&"*",#REF!,0)),"")} | U47: {=IFERROR(INDEX(ORARIO_GENERALE!$K$3:$M$3,MATCH("*"&$P$35&"*",#REF!,0)),"")}
B48: =#REF! -> #REF! | C48: {=IFERROR(INDEX(ORARIO_GENERALE!$K$3:$M$3,MATCH("*"&$B$35&"*",#REF!,0)),"")} | D48: {=IFERROR(INDEX(ORARIO_GENERALE!$K$3:$M$3,MATCH("*"&$B$35&"*",#REF!,0)),"")} | E48: {=IFERROR(INDEX(ORARIO_GENERALE!$K$3:$M$3,MATCH("*"&$B$35&"*",#REF!,0)),"")} | F48: {=IFERROR(INDEX(ORARIO_GENERALE!$K$3:$M$3,MATCH("*"&$B$35&"*",#REF!,0)),"")} | G48: {=IFERROR(INDEX(ORARIO_GENERALE!$K$3:$M$3,MATCH("*"&$B$35&"*",#REF!,0)),"")} | I48: =#REF! -> #REF! | J48: {=IFERROR(INDEX(ORARIO_GENERALE!$K$3:$M$3,MATCH("*"&$I$35&"*",#REF!,0)),"")} | K48: {=IFERROR(INDEX(ORARIO_GENERALE!$K$3:$M$3,MATCH("*"&$I$35&"*",#REF!,0)),"")} | L48: {=IFERROR(INDEX(ORARIO_GENERALE!$K$3:$M$3,MATCH("*"&$I$35&"*",#REF!,0)),"")} | M48: {=IFERROR(INDEX(ORARIO_GENERALE!$K$3:$M$3,MATCH("*"&$I$35&"*",#REF!,0)),"")} | N48: {=IFERROR(INDEX(ORARIO_GENERALE!$K$3:$M$3,MATCH("*"&$I$35&"*",#REF!,0)),"")} | P48: =#REF! -> #REF! | Q48: {=IFERROR(INDEX(ORARIO_GENERALE!$K$3:$M$3,MATCH("*"&$P$35&"*",#REF!,0)),"")} | R48: {=IFERROR(INDEX(ORARIO_GENERALE!$K$3:$M$3,MATCH("*"&$P$35&"*",#REF!,0)),"")} | S48: {=IFERROR(INDEX(ORARIO_GENERALE!$K$3:$M$3,MATCH("*"&$P$35&"*",#REF!,0)),"")} | T48: {=IFERROR(INDEX(ORARIO_GENERALE!$K$3:$M$3,MATCH("*"&$P$35&"*",#REF!,0)),"")} | U48: {=IFERROR(INDEX(ORARIO_GENERALE!$K$3:$M$3,MATCH("*"&$P$35&"*",#REF!,0)),"")}
B50: RA1C | I50: RA1D | P50: RA0B
C51: LUN | D51: MAR | E51: MER | F51: GIO | G51: VEN | J51: LUN | K51: MAR | L51: MER | M51: GIO | N51: VEN | Q51: LUN | R51: MAR | S51: MER | T51: GIO | U51: VEN
B52: =ORARIO_GENERALE!J4 | C52: {=IFERROR(INDEX(ORARIO_GENERALE!$K$3:$M$3,MATCH("*"&$B$50&"*",#REF!,0)),"")} | D52: {=IFERROR(INDEX(ORARIO_GENERALE!$K$3:$M$3,MATCH("*"&$B$50&"*",ORARIO_GENERALE!K15:M15,0)),"")} | E52: {=IFERROR(INDEX(ORARIO_GENERALE!$K$3:$M$3,MATCH("*"&$B$50&"*",#REF!,0)),"")} | F52: {=IFERROR(INDEX(ORARIO_GENERALE!$K$3:$M$3,MATCH("*"&$B$50&"*",ORARIO_GENERALE!N38:O38,0)),"")} | G52: {=IFERROR(INDEX(ORARIO_GENERALE!$K$3:$M$3,MATCH("*"&$B$50&"*",ORARIO_GENERALE!K48,0)),"")} | I52: =ORARIO_GENERALE!J4 | J52: {=IFERROR(INDEX(ORARIO_GENERALE!$K$3:$M$3,MATCH("*"&$I$50&"*",#REF!,0)),"")} | K52: {=IFERROR(INDEX(ORARIO_GENERALE!$K$3:$M$3,MATCH("*"&$I$50&"*",ORARIO_GENERALE!K15:M15,0)),"")} | L52: {=IFERROR(INDEX(ORARIO_GENERALE!$K$3:$M$3,MATCH("*"&$I$50&"*",#REF!,0)),"")} | M52: {=IFERROR(INDEX(ORARIO_GENERALE!$K$3:$M$3,MATCH("*"&$I$50&"*",ORARIO_GENERALE!N38:O38,0)),"")} | N52: {=IFERROR(INDEX(ORARIO_GENERALE!$K$3:$M$3,MATCH("*"&$I$50&"*",ORARIO_GENERALE!K48,0)),"")} | P52: =ORARIO_GENERALE!J4 | Q52: {=IFERROR(INDEX(ORARIO_GENERALE!$K$3:$M$3,MATCH("*"&$P$50&"*",#REF!,0)),"")} | R52: {=IFERROR(INDEX(ORARIO_GENERALE!$K$3:$M$3,MATCH("*"&$P$50&"*",ORARIO_GENERALE!K15:M15,0)),"")} | S52: {=IFERROR(INDEX(ORARIO_GENERALE!$K$3:$M$3,MATCH("*"&$P$50&"*",#REF!,0)),"")} | T52: {=IFERROR(INDEX(ORARIO_GENERALE!$K$3:$M$3,MATCH("*"&$P$50&"*",ORARIO_GENERALE!N38:O38,0)),"")} | U52: {=IFERROR(INDEX(ORARIO_GENERALE!$K$3:$M$3,MATCH("*"&$P$50&"*",ORARIO_GENERALE!K48,0)),"")}
B53: =ORARIO_GENERALE!J5 | C53: {=IFERROR(INDEX(ORARIO_GENERALE!$K$3:$M$3,MATCH("*"&$B$50&"*",#REF!,0)),"")} | D53: {=IFERROR(INDEX(ORARIO_GENERALE!$K$3:$M$3,MATCH("*"&$B$50&"*",ORARIO_GENERALE!K16:M16,0)),"")} | E53: {=IFERROR(INDEX(ORARIO_GENERALE!$K$3:$M$3,MATCH("*"&$B$50&"*",#REF!,0)),"")} | F53: {=IFERROR(INDEX(ORARIO_GENERALE!$K$3:$M$3,MATCH("*"&$B$50&"*",ORARIO_GENERALE!N39:O39,0)),"")} | G53: {=IFERROR(INDEX(ORARIO_GENERALE!$K$3:$M$3,MATCH("*"&$B$50&"*",ORARIO_GENERALE!K49,0)),"")} | I53: =ORARIO_GENERALE!J5 | J53: {=IFERROR(INDEX(ORARIO_GENERALE!$K$3:$M$3,MATCH("*"&$I$50&"*",#REF!,0)),"")} | K53: {=IFERROR(INDEX(ORARIO_GENERALE!$K$3:$M$3,MATCH("*"&$I$50&"*",ORARIO_GENERALE!K16:M16,0)),"")} | L53: {=IFERROR(INDEX(ORARIO_GENERALE!$K$3:$M$3,MATCH("*"&$I$50&"*",#REF!,0)),"")} | M53: {=IFERROR(INDEX(ORARIO_GENERALE!$K$3:$M$3,MATCH("*"&$I$50&"*",ORARIO_GENERALE!N39:O39,0)),"")} | N53: {=IFERROR(INDEX(ORARIO_GENERALE!$K$3:$M$3,MATCH("*"&$I$50&"*",ORARIO_GENERALE!K49,0)),"")} | P53: =ORARIO_GENERALE!J5 | Q53: {=IFERROR(INDEX(ORARIO_GENERALE!$K$3:$M$3,MATCH("*"&$P$50&"*",#REF!,0)),"")} | R53: {=IFERROR(INDEX(ORARIO_GENERALE!$K$3:$M$3,MATCH("*"&$P$50&"*",ORARIO_GENERALE!K16:M16,0)),"")} | S53: {=IFERROR(INDEX(ORARIO_GENERALE!$K$3:$M$3,MATCH("*"&$P$50&"*",#REF!,0)),"")} | T53: {=IFERROR(INDEX(ORARIO_GENERALE!$K$3:$M$3,MATCH("*"&$P$50&"*",ORARIO_GENERALE!N39:O39,0)),"")} | U53: {=IFERROR(INDEX(ORARIO_GENERALE!$K$3:$M$3,MATCH("*"&$P$50&"*",ORARIO_GENERALE!K49,0)),"")}
B54: =ORARIO_GENERALE!J6 | C54: {=IFERROR(INDEX(ORARIO_GENERALE!$K$3:$M$3,MATCH("*"&$B$50&"*",#REF!,0)),"")} | D54: {=IFERROR(INDEX(ORARIO_GENERALE!$K$3:$M$3,MATCH("*"&$B$50&"*",ORARIO_GENERALE!K17:M17,0)),"")} | E54: {=IFERROR(INDEX(ORARIO_GENERALE!$K$3:$M$3,MATCH("*"&$B$50&"*",#REF!,0)),"")} | F54: {=IFERROR(INDEX(ORARIO_GENERALE!$K$3:$M$3,MATCH("*"&$B$50&"*",ORARIO_GENERALE!K41:M41,0)),"")} | G54: {=IFERROR(INDEX(ORARIO_GENERALE!$K$3:$M$3,MATCH("*"&$B$50&"*",ORARIO_GENERALE!K50:M50,0)),"")} | I54: =ORARIO_GENERALE!J6 | J54: {=IFERROR(INDEX(ORARIO_GENERALE!$K$3:$M$3,MATCH("*"&$I$50&"*",#REF!,0)),"")} | K54: {=IFERROR(INDEX(ORARIO_GENERALE!$K$3:$M$3,MATCH("*"&$I$50&"*",ORARIO_GENERALE!K17:M17,0)),"")} | L54: {=IFERROR(INDEX(ORARIO_GENERALE!$K$3:$M$3,MATCH("*"&$I$50&"*",#REF!,0)),"")} | M54: {=IFERROR(INDEX(ORARIO_GENERALE!$K$3:$M$3,MATCH("*"&$I$50&"*",ORARIO_GENERALE!K41:M41,0)),"")} | N54: {=IFERROR(INDEX(ORARIO_GENERALE!$K$3:$M$3,MATCH("*"&$I$50&"*",ORARIO_GENERALE!K50:M50,0)),"")} | P54: =ORARIO_GENERALE!J6 | Q54: {=IFERROR(INDEX(ORARIO_GENERALE!$K$3:$M$3,MATCH("*"&$P$50&"*",#REF!,0)),"")} | R54: {=IFERROR(INDEX(ORARIO_GENERALE!$K$3:$M$3,MATCH("*"&$P$50&"*",ORARIO_GENERALE!K17:M17,0)),"")} | S54: {=IFERROR(INDEX(ORARIO_GENERALE!$K$3:$M$3,MATCH("*"&$P$50&"*",#REF!,0)),"")} | T54: {=IFERROR(INDEX(ORARIO_GENERALE!$K$3:$M$3,MATCH("*"&$P$50&"*",ORARIO_GENERALE!K41:M41,0)),"")} | U54: {=IFERROR(INDEX(ORARIO_GENERALE!$K$3:$M$3,MATCH("*"&$P$50&"*",ORARIO_GENERALE!K50:M50,0)),"")}
B55: =ORARIO_GENERALE!J7 | C55: {=IFERROR(INDEX(ORARIO_GENERALE!$K$3:$M$3,MATCH("*"&$B$50&"*",ORARIO_GENERALE!K7:M7,0)),"")} | D55: {=IFERROR(INDEX(ORARIO_GENERALE!$K$3:$M$3,MATCH("*"&$B$50&"*",ORARIO_GENERALE!K18:M18,0)),"")} | E55: {=IFERROR(INDEX(ORARIO_GENERALE!$K$3:$M$3,MATCH("*"&$B$50&"*",#REF!,0)),"")} | F55: {=IFERROR(INDEX(ORARIO_GENERALE!$K$3:$M$3,MATCH("*"&$B$50&"*",ORARIO_GENERALE!K42:M42,0)),"")} | G55: {=IFERROR(INDEX(ORARIO_GENERALE!$K$3:$M$3,MATCH("*"&$B$50&"*",ORARIO_GENERALE!K51:M51,0)),"")} | I55: =ORARIO_GENERALE!J7 | J55: {=IFERROR(INDEX(ORARIO_GENERALE!$K$3:$M$3,MATCH("*"&$I$50&"*",ORARIO_GENERALE!K7:M7,0)),"")} | K55: {=IFERROR(INDEX(ORARIO_GENERALE!$K$3:$M$3,MATCH("*"&$I$50&"*",ORARIO_GENERALE!K18:M18,0)),"")} | L55: {=IFERROR(INDEX(ORARIO_GENERALE!$K$3:$M$3,MATCH("*"&$I$50&"*",#REF!,0)),"")} | M55: {=IFERROR(INDEX(ORARIO_GENERALE!$K$3:$M$3,MATCH("*"&$I$50&"*",ORARIO_GENERALE!K42:M42,0)),"")} | N55: {=IFERROR(INDEX(ORARIO_GENERALE!$K$3:$M$3,MATCH("*"&$I$50&"*",ORARIO_GENERALE!K51:M51,0)),"")} | P55: =ORARIO_GENERALE!J7 | Q55: {=IFERROR(INDEX(ORARIO_GENERALE!$K$3:$M$3,MATCH("*"&$P$50&"*",ORARIO_GENERALE!K7:M7,0)),"")} | R55: {=IFERROR(INDEX(ORARIO_GENERALE!$K$3:$M$3,MATCH("*"&$P$50&"*",ORARIO_GENERALE!K18:M18,0)),"")} | S55: {=IFERROR(INDEX(ORARIO_GENERALE!$K$3:$M$3,MATCH("*"&$P$50&"*",#REF!,0)),"")} | T55: {=IFERROR(INDEX(ORARIO_GENERALE!$K$3:$M$3,MATCH("*"&$P$50&"*",ORARIO_GENERALE!K42:M42,0)),"")} | U55: {=IFERROR(INDEX(ORARIO_GENERALE!$K$3:$M$3,MATCH("*"&$P$50&"*",ORARIO_GENERALE!K51:M51,0)),"")}
B56: =ORARIO_GENERALE!J8 | C56: {=IFERROR(INDEX(ORARIO_GENERALE!$K$3:$M$3,MATCH("*"&$B$50&"*",ORARIO_GENERALE!K8:M8,0)),"")} | D56: {=IFERROR(INDEX(ORARIO_GENERALE!$K$3:$M$3,MATCH("*"&$B$50&"*",ORARIO_GENERALE!K19:M19,0)),"")} | E56: {=IFERROR(INDEX(ORARIO_GENERALE!$K$3:$M$3,MATCH("*"&$B$50&"*",#REF!,0)),"")} | F56: {=IFERROR(INDEX(ORARIO_GENERALE!$K$3:$M$3,MATCH("*"&$B$50&"*",#REF!,0)),"")} | G56: {=IFERROR(INDEX(ORARIO_GENERALE!$K$3:$M$3,MATCH("*"&$B$50&"*",#REF!,0)),"")} | I56: =ORARIO_GENERALE!J8 | J56: {=IFERROR(INDEX(ORARIO_GENERALE!$K$3:$M$3,MATCH("*"&$I$50&"*",ORARIO_GENERALE!K8:M8,0)),"")} | K56: {=IFERROR(INDEX(ORARIO_GENERALE!$K$3:$M$3,MATCH("*"&$I$50&"*",ORARIO_GENERALE!K19:M19,0)),"")} | L56: {=IFERROR(INDEX(ORARIO_GENERALE!$K$3:$M$3,MATCH("*"&$I$50&"*",#REF!,0)),"")} | M56: {=IFERROR(INDEX(ORARIO_GENERALE!$K$3:$M$3,MATCH("*"&$I$50&"*",#REF!,0)),"")} | N56: {=IFERROR(INDEX(ORARIO_GENERALE!$K$3:$M$3,MATCH("*"&$I$50&"*",#REF!,0)),"")} | P56: =ORARIO_GENERALE!J8 | Q56: {=IFERROR(INDEX(ORARIO_GENERALE!$K$3:$M$3,MATCH("*"&$P$50&"*",ORARIO_GENERALE!K8:M8,0)),"")} | R56: {=IFERROR(INDEX(ORARIO_GENERALE!$K$3:$M$3,MATCH("*"&$P$50&"*",ORARIO_GENERALE!K19:M19,0)),"")} | S56: {=IFERROR(INDEX(ORARIO_GENERALE!$K$3:$M$3,MATCH("*"&$P$50&"*",#REF!,0)),"")} | T56: {=IFERROR(INDEX(ORARIO_GENERALE!$K$3:$M$3,MATCH("*"&$P$50&"*",#REF!,0)),"")} | U56: {=IFERROR(INDEX(ORARIO_GENERALE!$K$3:$M$3,MATCH("*"&$P$50&"*",#REF!,0)),"")}
B57: =ORARIO_GENERALE!J9 | C57: {=IFERROR(INDEX(ORARIO_GENERALE!$K$3:$M$3,MATCH("*"&$B$50&"*",ORARIO_GENERALE!K9:M9,0)),"")} | D57: {=IFERROR(INDEX(ORARIO_GENERALE!$K$3:$M$3,MATCH("*"&$B$50&"*",ORARIO_GENERALE!K20:M20,0)),"")} | E57: {=IFERROR(INDEX(ORARIO_GENERALE!$K$3:$M$3,MATCH("*"&$B$50&"*",ORARIO_GENERALE!K43:M43,0)),"")} | F57: {=IFERROR(INDEX(ORARIO_GENERALE!$K$3:$M$3,MATCH("*"&$B$50&"*",#REF!,0)),"")} | G57: {=IFERROR(INDEX(ORARIO_GENERALE!$K$3:$M$3,MATCH("*"&$B$50&"*",ORARIO_GENERALE!K54:M54,0)),"")} | I57: =ORARIO_GENERALE!J9 | J57: {=IFERROR(INDEX(ORARIO_GENERALE!$K$3:$M$3,MATCH("*"&$I$50&"*",ORARIO_GENERALE!K9:M9,0)),"")} | K57: {=IFERROR(INDEX(ORARIO_GENERALE!$K$3:$M$3,MATCH("*"&$I$50&"*",ORARIO_GENERALE!K20:M20,0)),"")} | L57: {=IFERROR(INDEX(ORARIO_GENERALE!$K$3:$M$3,MATCH("*"&$I$50&"*",ORARIO_GENERALE!K43:M43,0)),"")} | M57: {=IFERROR(INDEX(ORARIO_GENERALE!$K$3:$M$3,MATCH("*"&$I$50&"*",#REF!,0)),"")} | N57: {=IFERROR(INDEX(ORARIO_GENERALE!$K$3:$M$3,MATCH("*"&$I$50&"*",ORARIO_GENERALE!K54:M54,0)),"")} | P57: =ORARIO_GENERALE!J9 | Q57: {=IFERROR(INDEX(ORARIO_GENERALE!$K$3:$M$3,MATCH("*"&$P$50&"*",ORARIO_GENERALE!K9:M9,0)),"")} | R57: {=IFERROR(INDEX(ORARIO_GENERALE!$K$3:$M$3,MATCH("*"&$P$50&"*",ORARIO_GENERALE!K20:M20,0)),"")} | S57: {=IFERROR(INDEX(ORARIO_GENERALE!$K$3:$M$3,MATCH("*"&$P$50&"*",ORARIO_GENERALE!K43:M43,0)),"")} | T57: {=IFERROR(INDEX(ORARIO_GENERALE!$K$3:$M$3,MATCH("*"&$P$50&"*",#REF!,0)),"")} | U57: {=IFERROR(INDEX(ORARIO_GENERALE!$K$3:$M$3,MATCH("*"&$P$50&"*",ORARIO_GENERALE!K54:M54,0)),"")}
B58: =ORARIO_GENERALE!J10 | C58: {=IFERROR(INDEX(ORARIO_GENERALE!$K$3:$M$3,MATCH("*"&$B$50&"*",ORARIO_GENERALE!K10:M10,0)),"")} | D58: {=IFERROR(INDEX(ORARIO_GENERALE!$K$3:$M$3,MATCH("*"&$B$50&"*",ORARIO_GENERALE!K21:M21,0)),"")} | E58: {=IFERROR(INDEX(ORARIO_GENERALE!$K$3:$M$3,MATCH("*"&$B$50&"*",ORARIO_GENERALE!K44:M44,0)),"")} | F58: {=IFERROR(INDEX(ORARIO_GENERALE!$K$3:$M$3,MATCH("*"&$B$50&"*",#REF!,0)),"")} | G58: {=IFERROR(INDEX(ORARIO_GENERALE!$K$3:$M$3,MATCH("*"&$B$50&"*",ORARIO_GENERALE!K55:M55,0)),"")} | I58: =ORARIO_GENERALE!J10 | J58: {=IFERROR(INDEX(ORARIO_GENERALE!$K$3:$M$3,MATCH("*"&$I$50&"*",ORARIO_GENERALE!K10:M10,0)),"")} | K58: {=IFERROR(INDEX(ORARIO_GENERALE!$K$3:$M$3,MATCH("*"&$I$50&"*",ORARIO_GENERALE!K21:M21,0)),"")} | L58: {=IFERROR(INDEX(ORARIO_GENERALE!$K$3:$M$3,MATCH("*"&$I$50&"*",ORARIO_GENERALE!K44:M44,0)),"")} | M58: {=IFERROR(INDEX(ORARIO_GENERALE!$K$3:$M$3,MATCH("*"&$I$50&"*",#REF!,0)),"")} | N58: {=IFERROR(INDEX(ORARIO_GENERALE!$K$3:$M$3,MATCH("*"&$I$50&"*",ORARIO_GENERALE!K55:M55,0)),"")} | P58: =ORARIO_GENERALE!J10 | Q58: {=IFERROR(INDEX(ORARIO_GENERALE!$K$3:$M$3,MATCH("*"&$P$50&"*",ORARIO_GENERALE!K10:M10,0)),"")} | R58: {=IFERROR(INDEX(ORARIO_GENERALE!$K$3:$M$3,MATCH("*"&$P$50&"*",ORARIO_GENERALE!K21:M21,0)),"")} | S58: {=IFERROR(INDEX(ORARIO_GENERALE!$K$3:$M$3,MATCH("*"&$P$50&"*",ORARIO_GENERALE!K44:M44,0)),"")} | T58: {=IFERROR(INDEX(ORARIO_GENERALE!$K$3:$M$3,MATCH("*"&$P$50&"*",#REF!,0)),"")} | U58: {=IFERROR(INDEX(ORARIO_GENERALE!$K$3:$M$3,MATCH("*"&$P$50&"*",ORARIO_GENERALE!K55:M55,0)),"")}
B59: =ORARIO_GENERALE!J11 | C59: {=IFERROR(INDEX(ORARIO_GENERALE!$K$3:$M$3,MATCH("*"&$B$50&"*",ORARIO_GENERALE!K11:M11,0)),"")} | D59: {=IFERROR(INDEX(ORARIO_GENERALE!$K$3:$M$3,MATCH("*"&$B$50&"*",ORARIO_GENERALE!K22:M22,0)),"")} | E59: {=IFERROR(INDEX(ORARIO_GENERALE!$K$3:$M$3,MATCH("*"&$B$50&"*",ORARIO_GENERALE!K45:M45,0)),"")} | F59: {=IFERROR(INDEX(ORARIO_GENERALE!$K$3:$M$3,MATCH("*"&$B$50&"*",#REF!,0)),"")} | G59: {=IFERROR(INDEX(ORARIO_GENERALE!$K$3:$M$3,MATCH("*"&$B$50&"*",ORARIO_GENERALE!K56:M56,0)),"")} | I59: =ORARIO_GENERALE!J11 | J59: {=IFERROR(INDEX(ORARIO_GENERALE!$K$3:$M$3,MATCH("*"&$I$50&"*",ORARIO_GENERALE!K11:M11,0)),"")} | K59: {=IFERROR(INDEX(ORARIO_GENERALE!$K$3:$M$3,MATCH("*"&$I$50&"*",ORARIO_GENERALE!K22:M22,0)),"")} | L59: {=IFERROR(INDEX(ORARIO_GENERALE!$K$3:$M$3,MATCH("*"&$I$50&"*",ORARIO_GENERALE!K45:M45,0)),"")} | M59: {=IFERROR(INDEX(ORARIO_GENERALE!$K$3:$M$3,MATCH("*"&$I$50&"*",#REF!,0)),"")} | N59: {=IFERROR(INDEX(ORARIO_GENERALE!$K$3:$M$3,MATCH("*"&$I$50&"*",ORARIO_GENERALE!K56:M56,0)),"")} | P59: =ORARIO_GENERALE!J11 | Q59: {=IFERROR(INDEX(ORARIO_GENERALE!$K$3:$M$3,MATCH("*"&$P$50&"*",ORARIO_GENERALE!K11:M11,0)),"")} | R59: {=IFERROR(INDEX(ORARIO_GENERALE!$K$3:$M$3,MATCH("*"&$P$50&"*",ORARIO_GENERALE!K22:M22,0)),"")} | S59: {=IFERROR(INDEX(ORARIO_GENERALE!$K$3:$M$3,MATCH("*"&$P$50&"*",ORARIO_GENERALE!K45:M45,0)),"")} | T59: {=IFERROR(INDEX(ORARIO_GENERALE!$K$3:$M$3,MATCH("*"&$P$50&"*",#REF!,0)),"")} | U59: {=IFERROR(INDEX(ORARIO_GENERALE!$K$3:$M$3,MATCH("*"&$P$50&"*",ORARIO_GENERALE!K56:M56,0)),"")}
B60: =ORARIO_GENERALE!J12 | C60: {=IFERROR(INDEX(ORARIO_GENERALE!$K$3:$M$3,MATCH("*"&$B$50&"*",ORARIO_GENERALE!K12,0)),"")} | D60: {=IFERROR(INDEX(ORARIO_GENERALE!$K$3:$M$3,MATCH("*"&$B$50&"*",ORARIO_GENERALE!K23:M23,0)),"")} | E60: {=IFERROR(INDEX(ORARIO_GENERALE!$K$3:$M$3,MATCH("*"&$B$50&"*",#REF!,0)),"")} | F60: {=IFERROR(INDEX(ORARIO_GENERALE!$K$3:$M$3,MATCH("*"&$B$50&"*",#REF!,0)),"")} | G60: {=IFERROR(INDEX(ORARIO_GENERALE!$K$3:$M$3,MATCH("*"&$B$50&"*",ORARIO_GENERALE!K57:M57,0)),"")} | I60: =ORARIO_GENERALE!J12 | J60: {=IFERROR(INDEX(ORARIO_GENERALE!$K$3:$M$3,MATCH("*"&$I$50&"*",ORARIO_GENERALE!K12,0)),"")} | K60: {=IFERROR(INDEX(ORARIO_GENERALE!$K$3:$M$3,MATCH("*"&$I$50&"*",ORARIO_GENERALE!K23:M23,0)),"")} | L60: {=IFERROR(INDEX(ORARIO_GENERALE!$K$3:$M$3,MATCH("*"&$I$50&"*",#REF!,0)),"")} | M60: {=IFERROR(INDEX(ORARIO_GENERALE!$K$3:$M$3,MATCH("*"&$I$50&"*",#REF!,0)),"")} | N60: {=IFERROR(INDEX(ORARIO_GENERALE!$K$3:$M$3,MATCH("*"&$I$50&"*",ORARIO_GENERALE!K57:M57,0)),"")} | P60: =ORARIO_GENERALE!J12 | Q60: {=IFERROR(INDEX(ORARIO_GENERALE!$K$3:$M$3,MATCH("*"&$P$50&"*",ORARIO_GENERALE!K12,0)),"")} | R60: {=IFERROR(INDEX(ORARIO_GENERALE!$K$3:$M$3,MATCH("*"&$P$50&"*",ORARIO_GENERALE!K23:M23,0)),"")} | S60: {=IFERROR(INDEX(ORARIO_GENERALE!$K$3:$M$3,MATCH("*"&$P$50&"*",#REF!,0)),"")} | T60: {=IFERROR(INDEX(ORARIO_GENERALE!$K$3:$M$3,MATCH("*"&$P$50&"*",#REF!,0)),"")} | U60: {=IFERROR(INDEX(ORARIO_GENERALE!$K$3:$M$3,MATCH("*"&$P$50&"*",ORARIO_GENERALE!K57:M57,0)),"")}
B61: =ORARIO_GENERALE!J13 | C61: {=IFERROR(INDEX(ORARIO_GENERALE!$K$3:$M$3,MATCH("*"&$B$50&"*",ORARIO_GENERALE!K13,0)),"")} | D61: {=IFERROR(INDEX(ORARIO_GENERALE!$K$3:$M$3,MATCH("*"&$B$50&"*",ORARIO_GENERALE!K24:M24,0)),"")} | E61: {=IFERROR(INDEX(ORARIO_GENERALE!$K$3:$M$3,MATCH("*"&$B$50&"*",#REF!,0)),"")} | F61: {=IFERROR(INDEX(ORARIO_GENERALE!$K$3:$M$3,MATCH("*"&$B$50&"*",#REF!,0)),"")} | G61: {=IFERROR(INDEX(ORARIO_GENERALE!$K$3:$M$3,MATCH("*"&$B$50&"*",ORARIO_GENERALE!K58:M58,0)),"")} | I61: =ORARIO_GENERALE!J13 | J61: {=IFERROR(INDEX(ORARIO_GENERALE!$K$3:$M$3,MATCH("*"&$I$50&"*",ORARIO_GENERALE!K13,0)),"")} | K61: {=IFERROR(INDEX(ORARIO_GENERALE!$K$3:$M$3,MATCH("*"&$I$50&"*",ORARIO_GENERALE!K24:M24,0)),"")} | L61: {=IFERROR(INDEX(ORARIO_GENERALE!$K$3:$M$3,MATCH("*"&$I$50&"*",#REF!,0)),"")} | M61: {=IFERROR(INDEX(ORARIO_GENERALE!$K$3:$M$3,MATCH("*"&$I$50&"*",#REF!,0)),"")} | N61: {=IFERROR(INDEX(ORARIO_GENERALE!$K$3:$M$3,MATCH("*"&$I$50&"*",ORARIO_GENERALE!K58:M58,0)),"")} | P61: =ORARIO_GENERALE!J13 | Q61: {=IFERROR(INDEX(ORARIO_GENERALE!$K$3:$M$3,MATCH("*"&$P$50&"*",ORARIO_GENERALE!K13,0)),"")} | R61: {=IFERROR(INDEX(ORARIO_GENERALE!$K$3:$M$3,MATCH("*"&$P$50&"*",ORARIO_GENERALE!K24:M24,0)),"")} | S61: {=IFERROR(INDEX(ORARIO_GENERALE!$K$3:$M$3,MATCH("*"&$P$50&"*",#REF!,0)),"")} | T61: {=IFERROR(INDEX(ORARIO_GENERALE!$K$3:$M$3,MATCH("*"&$P$50&"*",#REF!,0)),"")} | U61: {=IFERROR(INDEX(ORARIO_GENERALE!$K$3:$M$3,MATCH("*"&$P$50&"*",ORARIO_GENERALE!K58:M58,0)),"")}
B62: =ORARIO_GENERALE!J14 | C62: {=IFERROR(INDEX(ORARIO_GENERALE!$K$3:$M$3,MATCH("*"&$B$50&"*",ORARIO_GENERALE!K14,0)),"")} | D62: {=IFERROR(INDEX(ORARIO_GENERALE!$K$3:$M$3,MATCH("*"&$B$50&"*",ORARIO_GENERALE!K27:M27,0)),"")} | E62: {=IFERROR(INDEX(ORARIO_GENERALE!$K$3:$M$3,MATCH("*"&$B$50&"*",#REF!,0)),"")} | F62: {=IFERROR(INDEX(ORARIO_GENERALE!$K$3:$M$3,MATCH("*"&$B$50&"*",#REF!,0)),"")} | G62: {=IFERROR(INDEX(ORARIO_GENERALE!$K$3:$M$3,MATCH("*"&$B$50&"*",#REF!,0)),"")} | I62: =ORARIO_GENERALE!J14 | J62: {=IFERROR(INDEX(ORARIO_GENERALE!$K$3:$M$3,MATCH("*"&$I$50&"*",ORARIO_GENERALE!K14,0)),"")} | K62: {=IFERROR(INDEX(ORARIO_GENERALE!$K$3:$M$3,MATCH("*"&$I$50&"*",ORARIO_GENERALE!K27:M27,0)),"")} | L62: {=IFERROR(INDEX(ORARIO_GENERALE!$K$3:$M$3,MATCH("*"&$I$50&"*",#REF!,0)),"")} | M62: {=IFERROR(INDEX(ORARIO_GENERALE!$K$3:$M$3,MATCH("*"&$I$50&"*",#REF!,0)),"")} | N62: {=IFERROR(INDEX(ORARIO_GENERALE!$K$3:$M$3,MATCH("*"&$I$50&"*",#REF!,0)),"")} | P62: =ORARIO_GENERALE!J14 | Q62: {=IFERROR(INDEX(ORARIO_GENERALE!$K$3:$M$3,MATCH("*"&$P$50&"*",ORARIO_GENERALE!K14,0)),"")} | R62: {=IFERROR(INDEX(ORARIO_GENERALE!$K$3:$M$3,MATCH("*"&$P$50&"*",ORARIO_GENERALE!K27:M27,0)),"")} | S62: {=IFERROR(INDEX(ORARIO_GENERALE!$K$3:$M$3,MATCH("*"&$P$50&"*",#REF!,0)),"")} | T62: {=IFERROR(INDEX(ORARIO_GENERALE!$K$3:$M$3,MATCH("*"&$P$50&"*",#REF!,0)),"")} | U62: {=IFERROR(INDEX(ORARIO_GENERALE!$K$3:$M$3,MATCH("*"&$P$50&"*",#REF!,0)),"")}
